{"text_format":"1","workbook":"xlsx","n_sheets":22,"sheets":["Титул","Руководство","Результаты","Предпосылки","График инвестирования","График финансирования","График локализации","Текущая деятельность","WACC","Для БП","DataBook","Капитальные вложения","Выручка и себестоимость","Операционные затраты","Оборотный капитал","Налоги","Финансирование","Отчетность (СПИК)","Эффективность (СПИК)","Анализ чувствительности (СПИК)","Отчетность (Без СПИК)","Эффективность (Без СПИК)"],"not_rendered":{"charts":0,"images":1,"macros":1,"external_links":0,"defined_names":15,"comments":8,"pivot_tables":0},"unopened":[],"bounds":{"document_bytes":16777216,"sheet_cells":100000,"rows_first":2000,"rows_last":500,"rows_between":2000,"halvings":0,"cell_chars":16384,"cell_head_chars":4096},"cells_cut":0,"cells_raw":0,"read":"whole","date_system":"1900"}

{"sheet":"Титул","index":0,"n_rows":27,"n_cols":25,"rows_kept":27,"cut":false,"hidden":false,"merged":[[2,0,3,14],[7,0,7,14],[25,0,25,13],[12,0,12,14],[13,0,13,14],[14,0,14,14],[15,0,15,14],[16,0,16,14],[10,21,10,23],[9,21,9,23],[8,21,8,23],[7,21,7,23],[5,0,6,14]]}
[]
["Наименование инвестора / ОГРН",null,null,null,null,null,null,null,null,null,null,null,null,null,null,null,"Содержание",null,null,null,null,"Данные для диспетчера имен"]
[null,null,null,null,null,null,null,null,null,null,null,null,null,null,null,null,1,"Руководство",null,null,null,"One",null,null,1]
[null,null,null,null,null,null,null,null,null,null,null,null,null,null,null,null,2,"Результаты ",null,null,null,"Thousand",null,null,1000]
["Полное наименование инвестиционного проекта",null,null,null,null,null,null,null,null,null,null,null,null,null,null,null,3,"Предпосылки",null,null,null,"Количество кварталов",null,null,4]
[null,null,null,null,null,null,null,null,null,null,null,null,null,null,null,null,4,"График инвестирования",null,null,null,"НДС_общая",null,null,{"$f":"MAX(Предпосылки!H294:AB294)","v":0.22}]
[null,null,null,null,null,null,null,null,null,null,null,null,null,null,null,null,5,"График финансирования",null,null,null,"Условные обозначения"]
["Данная финансово-экономическая модель подготовлена в рамках пакета документов в целях заключения специального инвестиционного контракта (СПИК) и является неотъемлемым приложением к бизнес-плану инвестиционного проекта",null,null,null,null,null,null,null,null,null,null,null,null,null,null,null,6,"График локализации",null,null,null,"Вводимые значения",null,null,1]
[null,null,null,null,null,null,null,null,null,null,null,null,null,null,null,null,7,"Текущая деятельность",null,null,null,"Расчетные показатели",null,null,1]
[null,null,null,null,null,null,null,null,null,null,null,null,null,null,null,null,8,"WACC",null,null,null,"Итоговые показатели",null,null,1]
[null,null,null,null,null,null,null,null,null,null,null,null,null,null,null,null,9,"Для БП",null,null,null,"Смена формулы в ячейке",null,null,1]
["Примечание:",null,null,null,null,null,null,null,null,null,null,null,null,null,null,null,10,"DataBook"]
["1) Данный шаблон финансовой модели является одним из возможных вариантов оформления финансовой модели и содержит полный набор расчетных и итоговых листов, показателей в соответствии с методическими рекомендациями ФРП, ПП РФ №708 от 16.07.2015;",null,null,null,null,null,null,null,null,null,null,null,null,null,null,null,11,"Капитальные вложения"]
["2) Отдельные блоки данной финансовой модели и формулы к ним могут быть модифицированы с учетом специфики конкретного инвестиционного проекта. Допускается добавление дополнительных и удаление незадействованных в расчете блоков;",null,null,null,null,null,null,null,null,null,null,null,null,null,null,null,12,"Выручка и себестоимость"]
["3) Ячейки для ввода исходных данных проекта выделены серым цветом в соответствии с условными обозначениями. Такие ячейки предусмотрены на листах \"Предпосылки\", \"График инвестирования\", \"Операционные затраты\" и \"Финансирование\"",null,null,null,null,null,null,null,null,null,null,null,null,null,null,null,13,"Операционные затраты"]
["4) Дополнительно к расчету отдельных показателей финансовой модели приведены пояснения в примечаниях к соответствующим ячейкам;",null,null,null,null,null,null,null,null,null,null,null,null,null,null,null,14,"Оборотный капитал"]
["5) На листе Финансирование реализована возможность разрыва циклических ссылок при помощи макроса. Макрос рекомендуется запускать исключительно в случае дополнительной потребности в краткосрочном финансировании операционной деятельности. Запуск макроса осуществляется нажатием на кнопку напротив соответствующего расчета с столбце Е. Привлечение долгосрочного кредита заносится в финансовую модель вручную, исходя из предпосылок",null,null,null,null,null,null,null,null,null,null,null,null,null,null,null,15,"Налоги"]
[null,null,null,null,null,null,null,null,null,null,null,null,null,null,null,null,16,"Финансирование"]
[null,null,null,null,null,null,null,null,null,null,null,null,null,null,null,null,17,"Отчетность (СПИК)"]
[null,null,null,null,null,null,null,null,null,null,null,null,null,null,null,null,18,"Эффективность (СПИК)"]
["Полезные ссылки:",null,null,null,null,null,null,null,null,null,null,null,null,null,null,null,19,"Анализ чувствительности (СПИК)"]
["Методические рекомендации СПИК 2.0 по подготовке и оформлению финансовой модели (раздел 12)",null,null,null,null,null,null,null,null,null,null,null,null,null,null,null,20,"Отчетность (Без СПИК)"]
["Методические рекомендации СПИК 1.0 по подготовке и оформлению финансовой модели (раздел 3)",null,null,null,null,null,null,null,null,null,null,null,null,null,null,null,21,"Эффективность (без СПИК)"]
["Раздел СПИК официального сайта Фонда развития промышленности"]
[]
["Контактное лицо по вопросам  работы с шаблоном финансовой модели: Герасимук Андрей (e-mail:  gerasimuk@frprf.ru )"]
["Версия №18, дата обновления: 24.06.2026"]

{"sheet":"Руководство","index":1,"n_rows":236,"n_cols":3,"rows_kept":236,"cut":false,"hidden":false,"merged":[[103,3,104,3],[100,0,101,0],[103,29,104,29],[103,5,104,5],[103,4,104,4],[3,29,4,29],[19,29,20,29],[3,0,4,0],[3,2,4,2],[19,0,20,0],[19,2,20,2],[19,3,20,3],[19,4,20,4],[19,5,20,5],[3,3,4,3],[3,4,4,4],[3,5,4,5],[96,29,97,29],[93,0,94,0],[96,3,97,3],[96,4,97,4],[96,5,97,5],[125,4,126,4],[125,5,126,5],[176,29,178,29],[125,29,126,29],[146,0,147,0],[149,3,150,3],[149,4,150,4],[149,5,150,5],[149,29,150,29],[187,29,188,29],[174,0,175,0],[174,2,175,2],[176,3,178,3],[176,4,178,4],[176,5,178,5],[183,0,184,0],[183,2,184,2],[187,3,188,3],[187,4,188,4],[187,5,188,5],[234,3,235,3],[234,4,235,4],[234,5,235,5],[234,29,235,29],[198,0,199,0],[198,2,199,2],[202,3,203,3],[202,4,203,4],[202,5,203,5],[202,29,203,29],[207,0,208,0],[207,2,208,2],[211,3,212,3],[211,4,212,4],[211,5,212,5],[211,29,212,29],[221,4,222,4],[221,5,222,5],[221,29,222,29],[230,0,231,0],[230,2,231,2],[108,0,109,0],[116,0,117,0],[217,0,218,0],[217,2,218,2],[221,3,222,3],[122,0,123,0],[125,3,126,3],[129,0,130,0],[140,0,141,0]]}
[]
["Руководство по заполнению финансовой модели"]
[]
["Лист \"Титул\""]
[]
["Содержангие проекта"]
["Пункт","Комментарии","Тип данных"]
["Наименование инвестора","Указывается полное наименование инвестора в соответсвтии с заявлением на заключение СПИК","Исходные данные"]
["Полное наименование инвестиционного проекта","Указывается наименование инвестиционного проекта в соответсвтии с заявлением на заключение СПИК","Расчетные значения"]
[]
["Лист \"Результаты\""]
["Целевые показатели и эффективность проекта"]
["Пункт","Комментарии","Тип данных"]
["Общая информация о проекте ","Указываются основные сведения о проекте, инвесторе, типе СПИК и его ключевых параметрах","Исходные данные"]
["Итоговые показатели","Выводятся целевые показатели реализации СПИК \n(приложение \"Сведения о результатах (показателях), которые планируется достигнуть в ходе реализации инвестиционного проекта\")","Расчетные значения"]
["Источники привлечения средств для финансирования инвестиционного проекта","Выводится структура финансирования проекта в целом","Расчетные значения"]
["Показатели эффективности проекта","Выводятся показатели инвестиционной привлекательности проекта, а также объем налогов к уплате","Расчетные значения"]
["Проверка корректности финансовой модели","Выводятся результаты ключевых проверой финансовой модели","Расчетные значения"]
[]
["Лист \"Предпосылки\""]
[]
["Исходные параметры и общие сведения"]
["Пункт","Комментарии","Тип данных"]
["Общие допущения"]
["Дата оценки","Указывается дата, на которую была составлена финансовая модель","Исходные данные"]
["Срок СПИК","Указываются периоды, в течение которых предлагается действие СПИК","Исходные данные"]
["Инвестиционная фаза проекта","Указываются периоды, в течение которых будут осуществляться инвестиции в проект","Исходные данные"]
["Эксплуатационная фаза проекта","Указываются периоды, в течение которых будет осуществляться производство и реализация продукции в рамках СПИК после осуществления плановых инвестиций","Исходные данные"]
["Действие налоговых льгот","Выводятся периоды, в течение которых допускается применение налоговых льгот в соответствии с расчетом объема недополученных доходов по проекту.","Расчетные значения"]
["Дней в отчетном периоде","Выводится количество дней в году для каждого отчетного периода.","Расчетные значения"]
["Ставка дисконтирования (WACC)","Выводится ставка дисконтирования по проекту, рассчитанная на листе \"WACC\"","Расчетные значения"]
["Ставка дисконтирования для расчета бюджетной эффективности","Указывается ставка для расчета BNPV \n(рекомендуется использовать ключевую ставка ЦБ РФ на дату составления финансовой модели)","Исходные данные"]
["Темп роста денежных потоков в постпрогнозном периоде (g)","Указывается предполагаемый темп роста денежных потоков в долгосрочном периоде, необходимый для расчета терминальной стоимости.","Исходные данные"]
["Макроэкономические допущения"]
["Инфляция в России (ИПЦ)","Указываются предпосылки по инфляции для индексации цен реализации продукции\n(с указанием источника информации)","Исходные данные"]
["Рост оплаты труда ","Указываются предпосылки по индексации заработной платы персонала, задействованного в проекте\n(с указанием источника информации)","Исходные данные"]
["Индекс цен производителей","Указываются предпосылки по индексации цен на сырье и материалы\n(с указанием источника информации)","Исходные данные"]
["Курс доллара США","Указываются предпосылки по курсу иностранной валюты (в случае наличия доходов/расходов в иностранной валюте).\nМожно указать информацию о любой валютной паре, задействованной в проекте","Исходные данные"]
["Предпосылки по расчету выручки"]
["Среднегодовые цены на реализуемую продукцию","Указываются исходные цены реализации продукции СПИК","Исходные данные"]
["Объем производства продукции","Указывается плановый объем производства продукции в рамках СПИК в натуральном выражении","Исходные данные"]
["Объем реализации продукции","Рассчитывается объем реализации продукции в рамках СПИК в натуральном выражении\n(по умолчанию объем реализации продукции равен объему производства)","Расчетные значения"]
["Изменение объема реализации продукции","Рассчитывается относительная динамика объема реализации продукции.","Расчетные значения"]
["Предпосылки по расчету себестоимости"]
["Среднегодовые цены удельных расходов","Указываются начальные цены 1 единицы удельных расходов.","Исходные данные"]
["Удельные расходы в расчете на единицу продукции","Указывается норма расхода статей удельных затрат на 1 единицу готовой продукции","Исходные данные"]
["Общехозяйственные расходы"]
["Общепроизводственные расходы","Указываются общепроизводственные расходы по проекту ","Исходные данные"]
["Коммерческие расходы","Указываются коммерческие расходы по проекту ","Исходные данные"]
["Управленческие расходы","Указываются управленческие расходы по проекту ","Исходные данные"]
["Прочие расходы"]
["Прочие расходы","Вводятся прочие расходы по проекту","Исходные данные"]
["Статьи, подлержащие обложению","Указывается, подлежат ли прочие расходы обложению НДС или нет","Исходные данные"]
["Расходы на персонал"]
["Численность рабочих мест в соответствии со штатным расписанием","Указывается количество работников, планируемых к привлечению в рамках СПИК.","Исходные данные"]
["Фонд оплаты трудна (на 1 сотрудника)","Указывается сумма расходов в год, выделяемая на 1 работника.","Исходные данные"]
["Ранее осуществленные инвестиции"]
["В рамках СПИК планируется реализация…","Укзываются, планируется ли в рамках СПИК реализация инвестиционного проекта или нового этапа инвестиционного проекта","Исходные данные"]
["Ранее понесенные расходы","Указывается сумма расходов, понесенных инвестором за 12 месяцев до подачи заявления\nлибо в календарный год подачи заявления (в случае реализации нового этапа инвестиционного проекта)","Исходные данные"]
["Параметры нового этапа инвестиционного проекта (заполяется в случае реализации нового эатпа инвестиционного проекта)","Указываются расходы, осуществленные ранее чем за 12 месяцев до даты подачи заявления,и рассчитывается доля, которую новый этап инвестиционного проекта составляет от совокупной стоимости проекта ","Исходные данные"]
["Капитальные затраты и амортизация"]
["Затраты на создание / модернизацию","Приводятся капитальные вложения на создание/приобретение/модернизацию основных средств (заполняются на листе \"График инвестирования\")","Расчетные значения"]
["Затраты на поддержание","Указываются планируемые капитальные вложения на поддержание","Исходные данные"]
["Принятие к учету объектов капитальных вложений","Указываются порядок принятия капитальных вложений к учета на бухгалтерском балансе","Исходные данные"]
["Срок полезного использования","Указывается срока полезного использования основных средств в зависимости от категории основных средств","Исходные данные"]
["Норма амортизации","Рассчитывается норма амортизации, используемая для расчета величины амортизации за период.","Расчетные значения"]
["Оборотный капитал"]
["Период оборачиваемости","Указывается период оборачиваемости запасов в днях","Исходные данные"]
["Источники финансирования проекта"]
["Ранее привлечено в проект","Указывается сумма собственных и заемных средств, которые были привлечены в проект до подачи заявки на СПИК","Исходные данные"]
["Финансирование в течение срока действия СПИК","Указывается график привлечения собственных средств, а также условия привлечения заемного финансирования в рамках СПИК","Исходные данные"]
["Получение государственных субсидий"]
["Получение государственных субсидий","Указывается плановое получение субсидий в рамках инвестиционного проекта по СПИК","Исходные данные"]
["Предпосылки по налогам и взносам в внебюджетные фонды"]
["Запрашиваемые по СПИК льготы по налогам","Указываются налоги, по которым планируется применение льгот в рамках СПИК","Исходные данные"]
["Стандартные налоговые ставки","Указываются налоговые ставки, применяемые инвестором без учета мер поддержки СПИК","Исходные данные"]
["Льготные налоговые ставки в сценарии Со СПИК","Указываются льготные налоговые ставки, планируемые к применению в сценарии \"Со СПИК\"","Исходные данные"]
["Перенос убытков на будущее","Указывается планируемое уменьшение налоговой базы по налогу ","Исходные данные"]
["Отчисления с ФОТ во внебюджетные фонды","Приводится единая предельная величина базы для исчисления страховых взносов","Расчетные значения"]
["Тарифы страховых взносов"]
["Тарифы страховых взносов","Указываются ставки страховых взносов без учета мер поддержки СПИК","Исходные данные"]
["Льготный тариф страховых взносов для участников СПИК 1.0, являющихся участниками промышленных кластеров"]
["Единый пониженный тариф","Указывается пониженная ставка по страховым взносам для участников СПИК 1.0","Исходные данные"]
["Единый пониженный тариф (свыше предельной величины базы)","Указываются льготная ставка по страховым взносам для участников СПИК 1.0 свыше предельной базы","Исходные данные"]
["Перечисление налогов по уровням бюджетов бюджетной системы РФ"]
["Перечисление налогов по уровням бюджетов бюджетной системы РФ","Указывается распределение налогов по уровням бюджетов бюджетной системы РФ","Исходные данные"]
["Предпосылки по расчетам с контрагентами"]
["Сотрудники (заработная плата)","Указываются процент уплаты начисленной заработной платы в отчетном периоде","Исходные данные"]
["Бюджетная система РФ","Указываются предпосылки по срокам уплаты/возмещения налогов","Исходные данные"]
["Расчеты с  покупателями","Указываются предпосылки по авансам/постоплатам с покупателями","Исходные данные"]
["Расчеты по кредитам и займам","Указывается период отсрочки платежей по кредитам и займам в каждом отчетном периоде","Исходные данные"]
["Расчеты с поставщиками и подрядчиками","Указываются предпосылки, касающиеся сроков расчетов по запасам, прямым расходам, общехозяйственным затратам, прочим расходам и капитальным вложениям","Исходные данные"]
[]
["Лист \"График инвестирования\""]
[]
["Структура инвестиционных затрат в рамках СПИК"]
["Пункт","Комментарии","Тип данных"]
["График инвестирования (расходования)","Указывается распределение инвестиций по СПИК в соответствии с направлениями расходования, предусмотренными Правилами заключения СПИК","Исходные данные"]
["Приложение к СПИК","Выводится график финансирования проекта в соответствии с аналогичным приложением к СПИК","Расчетные значения"]
[]
["Лист \"График финансирования\""]
[]
["Структура финансирования инвестиционных затрат проекта"]
["Пункт","Комментарии","Тип данных"]
["Источники финансирования проекта ","Указывается структура финансирования проекта по отчетным периодам СПИК.","Исходные данные"]
["График финансирования","Выводится график финансирования проекта в соответствии с аналогичным приложением к СПИК","Расчетные значения"]
["Проверки","Проводятся проверки достаточности финансирования для покрытия капитальных вложений и соответствия информации в Графике финансирования структуре финансирования проекта по иным расчетам финансовой модели","Расчетные значения"]
[]
["Лист \"График локализации\""]
[]
["Прогноз выполнения требований по локализации продукции СПИК"]
["Пункт","Комментарии","Тип данных"]
["Доля стоимости иностранных комплектующих в цене промышленной продукции (Таблица №1)","Указывается стоимость используемых материалов и компонентов иностранного происхождения и на её основе рассчитывается доля стоимости иностранных материалов и компонентов в цене промышленной продукции (при наличии соответствующего требования по локализации для продукции проекта)","Исходные данные"]
["Баллы локализации (Таблица №2)","Указываются планируемые к выполнению на территории Российской Федерации технологические и производственные операции и начисляемые за них баллы локализации (при наличии соответствующего требования по локализации для продукции проекта)","Исходные данные"]
["Процент от максимально возможного количества баллов локализации (Таблица №3)","Приводится расчет доли, которую планируемые баллы локализации составят от максимально возможного количества (при наличии соответствующего требования по локализации для продукции проекта)","Расчетные значения"]
[]
["Лист \"Текущая деятельность\""]
[]
["Финансовый анализ текущей деятельности инвестора"]
["Пункт","Комментарии","Тип данных"]
["Отчетность Инвестора","Указываются сведения из бухгалтерской (финансовой) отчетности Инвестора для расчета основных аналитических показателей.","Исходные данные"]
[]
["Лист \"WACC\""]
[]
["Расчет средневзвешенной стоимости капитала"]
["Пункт","Комментарии","Тип данных"]
["Расчет ставки дисконтирования","Приводится расчёт ставки дисконтирования по методу WACC","Расчетные значения"]
["Справочная информация","Приводятся предпосылки по расчету беты, премии за размер и инфляции","Расчетные значения"]
[]
["Лист \"Для БП\""]
[]
["Раскрытие информации, требуемой для отражения в бизнес-плане в соответсвтии с п. 16 Правил"]
["Пункт","Комментарии","Тип данных"]
["Планируемый размер ежегодной проектной операционной прибыли в течение реализации инвестиционного проекта (пп. \"з\")","Указывается планируемый размер проектной операционной прибыли за каждый год реализации СПИК","Расчетные значения"]
["Общая планируемая стоимость реализации инвестционного проекта \n(пп. \"м\")","Указывается общий планируемый объем инвестиций в проект","Расчетные значения"]
["Планируемый объем финансирования с выделением источников финансирования (пп. \"н\")","Указывается общий объем финансирования проекта с разбивкой на собственные и заемные средства, а также бюджетные инвестиции","Расчетные значения"]
["Планируемые основные показатели инвестиционного проекта (пп. \"о\")","Указываются показатели, требуемые в соответствии с пп. \"о\" п. 16 Правил","Расчетные значения"]
["Динамика целевых результатов (показателей) инвестиционного проекта (пп. \"р\")","Указываются целевые показатели проекта за каждый год реализации СПИК","Расчетные значения"]
["Анализ чувствительности инвестиционного проекта \n(пп. \"с\")","Указываются результаты анализа чувствительности показателей эффективности проекта к осонвным парамтерам","Расчетные значения"]
[]
["Лист \"DataBook\""]
[]
["Справочные расчеты предпосылок проекта"]
["Пункт","Комментарии","Тип данных"]
["DataBook","Приводятся расчеты, необходимые для обоснования используемых в проекте предпосылок (при необходимости)","Исходные данные"]
[]
["Лист \"Капитальные вложения\""]
[]
["Учет объектов капитальных вложений на балансе и их амортизация"]
["Пункт","Комментарии","Тип данных"]
["Капитальные вложения (без НДС)","Приводятся затраты по капитальным вложениям без учета НДС","Расчетные значения"]
["Капитальные вложения (с НДС)","Приводятся затраты по капитальным вложениям с учетом НДС","Расчетные значения"]
["Расчеты по капитальным вложениям","Приводятся расчеты по капитальным вложениям с учетом периода оплаты","Расчетные значения"]
["Входящий НДС по капитальным вложениям","Приводятся расчеты входящего НДС по капитальным вложениям","Расчетные значения"]
["Расчет амортизации","Приводятся расчет амортизации основных средств в рамках проекта","Расчетные значения"]
[]
["Лист \"Выручка и себестоимость\""]
["Параметры реализуемой продукции"]
["Пункт","Комментарии","Тип данных"]
["Выручка от продаж без НДС","Рассчитывается выручка от продаж продукции СПИК без НДС","Расчетные значения"]
["Исходящий НДС","Рассчитывается исходящий НДС по доходам от продаж продукции СПИК","Расчетные значения"]
["Выручка от продаж с НДС","Рассчитывается выручка от продаж с НДС","Расчетные значения"]
["Себестоимость продаж","Приводится расчет себестоимости производимой в рамках СПИК продукции с учетом применения льготного тарифа страховых взносов и без","Расчетные значения"]
[]
["Лист \"Операционные затраты\""]
["Прямые затраты"]
["Пункт","Комментарии","Тип данных"]
["Объем производства продукции в натуральном выражении","Рассчитывается объем производства продукции в натуральном выражении","Расчетные значения"]
["Прямые расходы на производство продукции","Рассчитывается расход прямых затрат на производство продукции в рамках СПИК в денежном выражении","Расчетные значения"]
["Расходы на ФОТ","Рассчитываются начисленные расходы по заработным платам работников, задействованных в СПИК","Расчетные значения"]
["Взносы во внебюджетные фонды","Рассчитывается начисленный объем страховых взносов по работникам, задействованным в СПИК","Расчетные значения"]
["Расчеты с сотрудниками по заработной плате","Рассчитывается оплата заработной платы по сотрудникам, задействованным в СПИК","Расчетные значения"]
["Расчеты по страховым взносам во внебюджетные фонды","Рассчитывается оплата страховых взносов по работникам, задействованным в СПИК","Расчетные значения"]
[]
["Лист \"Оборотный капитал\""]
[]
["Пункт","Комментарии","Тип данных"]
["Запасы (без НДС)","Рассчитывается величина запасов по продукции проекта","Расчетные значения"]
["Расчеты с покупателями","Рассчитываются поступления от покупателей с учетом авансовых платежей и постоплаты","Расчетные значения"]
["Расчеты с поставщиками и подрядчиками","Рассчитываются платежи от поставщиков и подрядчиков с учётомv авансов и постоплаты","Расчетные значения"]
["Дебиторская задолженность","Рассчитывается величина дебиторской задолженности на конец периода","Расчетные значения"]
["Кредиторская задолженность","Рассчитывается величина кредиторской задолженности на конец периода","Расчетные значения"]
[]
["Лист \"Налоги\""]
[]
["Расчет налоговой базы со СПИК и без СПИК, срока действия льгот"]
["Пункт","Комментарии","Тип данных"]
["НДС","Рассчитываются платежи по НДС","Расчетные значения"]
["НДФЛ","Рассчитываются платежи по НДФЛ","Расчетные значения"]
["Налог на прибыль","Рассчитываются платежи по налогу на прибыль","Расчетные значения"]
["Налог на имущество организаций","Рассчитываются платежи по налогу на имущество организаций","Расчетные значения"]
["Транспортный налог","Рассчитываются платежи по транспортному налогу с учетом мощности и количества транспортных средств","Исходные данные"]
["Земельный налог","Рассчитываются платежи по земельному налогу ","Расчетные значения"]
["Минимальный объем налогов, сборов, страховых взносов, которые будут уплачены инвестором с учетом применения мер стимулирования деятельности в сфере промышленности, предусмотренных СПИК","Производится разбивка уплачиваемых в рамках СПИК налогов по бюджетам бюджетной системы РФ.","Расчетные значения"]
["Объем недополученных доходов и расходов бюджетов бюджетной системы РФ","Рассчитывается объем недополученных доходов и расходов бюджетов бюджетной системы РФ с целью определения возможного срока применения льгот по СПИК","Расчетные значения"]
["Расчет срока действия налоговых льгот","Производится расчет периода действия налоговых льгот в рамках СПИК","Расчетные значения"]
["Действие налоговых льгот по отдельным налогам","Производится расчет периодов действия налоговх льгот по каждому налогу в рамках СПИК","Расчетные значения"]
[]
["Лист \"Финансирование\""]
[]
["Представление и расчет потребности финансирования проекта"]
["Пункт","Комментарии","Тип данных"]
["Долгосрочные кредиты и займы","Указываются условия привлекаемого заемного финансирования с графиком погашения тела долга","Исходные данные"]
["Потребность в финансировании","Рассчитывается итоговая потребность в денежных средствах на конец отчетного периода","Расчетные значения"]
["Краткосрочные кредиты и займы","Указываются условия привлекаемого краткосрочного заемного финансирования с возможностью автоматического подбора величины краткосрочного кредита, требуемого для покрытия потребности в финансировании.","Исходные данные"]
["Расчеты по кредитам и займам","Приводятся расчеты по уплате процентов по заемным источникам финансирования","Расчетные значения"]
[]
["Листы \"Отчетность (СПИК)\" \nи \"Отчетность (Без СПИК)\""]
[]
["Прогнозная отчетность проекта со СПИК и без СПИК"]
["Пункт","Комментарии","Тип данных"]
["Бухгалтерский баланс","Формируется прогнозный Бухгалтерский баланс проекта в рамках СПИК","Расчетные значения"]
["Приложение к балансу","Приводится расчет чистого оборотного капитала и чистого долга","Расчетные значения"]
["Отчет о финансовых результатах","Формируется прогнозный Отчет о финансовых результатах проекта в рамках СПИК","Расчетные значения"]
["Приложение к отчету о финансовых результатах","Приводится расчет проектной операционной прибыли ","Расчетные значения"]
["Отчет о движении денежных средств","Формируется прогнозный Отчет о движении денежных средств проекта в рамках СПИК","Расчетные значения"]
[]
["Листы \"Эффективность (СПИК)\"\nи \"Эффективность (Без СПИК)\""]
[]
["Расчет показателей эффективности проекта со СПИК и без СПИК"]
["Пункт","Комментарии","Тип данных"]
["Дисконтирование","Приводится расчет дисконт-фактора для показателей инвестиционной и бюджетной эффективности ","Расчетные значения"]
["Расчет свободного денежного потока","Приводится расчет FCFF","Расчетные значения"]
["Показатели эффективности инвестиционного проекта","Приводится расчет ключевых показателей эффективности инвестиционного проекта\n(NPV, IRR, PBP, DPBP, PI)","Расчетные значения"]
["Показатели бюджетной эффективности инвестиционного проекта","Приводится расчет BNPV","Расчетные значения"]
["Показатели финансовой устойчивости","Приводится расчет ICR, CFADS, DSCR, LLCR, Долг/Собственный капитал, Долг/EBIT, Чистый долг/EBITDA","Расчетные значения"]
["Показатели ликвидности (платежеспособности)","Приводится расчет коэффициентов текущей и быстрой ликвидности","Расчетные значения"]
["Показатели рентабельности","Приводится расчет ROA, ROE, ROIC, рентабельности по валовой прибыли, ROS, рентабельности по EBIT, EBITDA и чистой прибыли","Расчетные значения"]
["Показатели оборачиваемости","Приводится расчет показателей оборачиваемости дебиторской задолженности, кредиторской задолженности и запасов","Расчетные значения"]
[]
["Лист \"Анализ чувствительности\""]
[]
["Анализ чувствительности основных показателей эффективности инвестиционного проекта (NPV, IRR, PBP, DPBP и BNPV) к изменению параметров"]
["Пункт","Комментарии","Тип данных"]
["Однофакторный анализ","Заполняется таблица с результатами однофакторного анализа чувствительности ","Формируется инвестором"]
["Двухфакторный анализ","Формируется двухфакторный анализ чувствительности параметров проекта (при необходимости)","Формируется инвестором"]

{"sheet":"Результаты","index":2,"n_rows":77,"n_cols":28,"rows_kept":77,"cut":false,"hidden":false,"merged":[[76,2,76,3],[75,2,75,3],[73,2,73,3],[72,2,72,3],[65,2,65,3],[54,2,54,3],[58,2,58,3],[59,2,59,3],[60,2,60,3],[71,2,71,3],[70,2,70,3],[0,9,0,10],[0,11,0,16],[74,2,74,3],[66,4,66,5],[1,5,2,5],[6,3,6,21],[7,3,7,21],[8,3,8,21],[51,2,51,3],[50,2,50,3],[64,2,64,3],[52,2,52,3],[1,2,2,2],[1,3,2,3],[1,4,2,4],[53,2,53,3]]}
[null,null,null,null,{"$f":"\"Лист:  \" & RIGHT(CELL(\"filename\",A1),LEN(CELL(\"filename\",A1))-SEARCH(\"]\",CELL(\"filename\",A1)))","v":"Лист:  Результаты"},null,null,null,null,"Проверка:",null,{"$f":"IF(AND(E72=\"Верно\",E73=\"Верно\",E74=\"Верно\",E75=\"Верно\",E76=\"Верно\",E77=\"Верно\"), \"Верно\", \"Имеются некорректные данные\")","v":"Имеются некорректные данные"}]
[null,null,"Параметр","Ед. изм.","Источник","Итоговое значение",null,{"$f":"Предпосылки!H2","v":2026},{"$f":"Предпосылки!I2","v":2027},{"$f":"Предпосылки!J2","v":2028},{"$f":"Предпосылки!K2","v":2029},{"$f":"Предпосылки!L2","v":2030},{"$f":"Предпосылки!M2","v":2031},{"$f":"Предпосылки!N2","v":2032},{"$f":"Предпосылки!O2","v":2033},{"$f":"Предпосылки!P2","v":2034},{"$f":"Предпосылки!Q2","v":2035},{"$f":"Предпосылки!R2","v":2036},{"$f":"Предпосылки!S2","v":2037},{"$f":"Предпосылки!T2","v":2038},{"$f":"Предпосылки!U2","v":2039},{"$f":"Предпосылки!V2","v":2040},{"$f":"Предпосылки!W2","v":2041},{"$f":"Предпосылки!X2","v":2042},{"$f":"Предпосылки!Y2","v":2043},{"$f":"Предпосылки!Z2","v":2044},{"$f":"Предпосылки!AA2","v":2045},{"$f":"Предпосылки!AB2","v":2046}]
[null,null,null,null,null,null,null,1,2,3,4,5,6,7,8,9,10,11,12,13,14,15,16,17,18,19,20,21]
[]
[null,"Общая информация о проекте"]
[]
[null,null,"Наименование проекта",{"$f":"Титул!A6","v":0}]
[null,null,"Местонахождение производственной площадки"]
[null,null,"Заявитель",{"$f":"Титул!A3","v":0}]
[null,null,"Тип СПИК","СПИК 1.0"]
[null,null,"Срок СПИК",{"$f":"Предпосылки!F8 & \" лет\"","v":"1 лет"}]
[null,null,"Срок выхода на проектную операционную прибыль",{"$f":"INDEX(H2:AB2,,MATCH(1,'Отчетность (СПИК)'!H86:AA86,0))&\" год\"","v":{"$error":"#N/A"}}]
[null,null,"Дата анализа",{"$f":"Предпосылки!F7","v":"2026-01-01"}]
[null,null,"Денежная единица","тыс. руб."]
[]
[null,"Итоговые показатели"]
[]
[null,"Объем произведенной промышленной продукции в денежном выражении:",null,null,null,{"$f":"SUM( H18:AA18)","v":0},null,{"$f":"SUM(H19:H20)","v":0},{"$f":"SUM(I19:I20)","v":0},0,0,0,0,0,0,0,0,0,0,0,0,0,0,0,0,0,0,{"$f":"SUM(AB19:AB20)","v":0}]
[null,null,{"$f":"Предпосылки!C35","v":"Продукция 1"},{"$f":"'Выручка и себестоимость'!D14","v":"тыс. руб."},null,{"$f":"SUM( H19:AA19)","v":0},null,{"$f":"IF(Предпосылки!H$8=1,\nH23*Предпосылки!H35,0)","v":0},{"$f":"IF(Предпосылки!I$8=1,\nI23*Предпосылки!I35,0)","v":0},{"$f":"IF(Предпосылки!J$8=1,\nJ23*Предпосылки!J35,0)","v":0},{"$f":"IF(Предпосылки!K$8=1,\nK23*Предпосылки!K35,0)","v":0},{"$f":"IF(Предпосылки!L$8=1,\nL23*Предпосылки!L35,0)","v":0},{"$f":"IF(Предпосылки!M$8=1,\nM23*Предпосылки!M35,0)","v":0},{"$f":"IF(Предпосылки!N$8=1,\nN23*Предпосылки!N35,0)","v":0},{"$f":"IF(Предпосылки!O$8=1,\nO23*Предпосылки!O35,0)","v":0},{"$f":"IF(Предпосылки!P$8=1,\nP23*Предпосылки!P35,0)","v":0},{"$f":"IF(Предпосылки!Q$8=1,\nQ23*Предпосылки!Q35,0)","v":0},{"$f":"IF(Предпосылки!R$8=1,\nR23*Предпосылки!R35,0)","v":0},{"$f":"IF(Предпосылки!S$8=1,\nS23*Предпосылки!S35,0)","v":0},{"$f":"IF(Предпосылки!T$8=1,\nT23*Предпосылки!T35,0)","v":0},{"$f":"IF(Предпосылки!U$8=1,\nU23*Предпосылки!U35,0)","v":0},{"$f":"IF(Предпосылки!V$8=1,\nV23*Предпосылки!V35,0)","v":0},{"$f":"IF(Предпосылки!W$8=1,\nW23*Предпосылки!W35,0)","v":0},{"$f":"IF(Предпосылки!X$8=1,\nX23*Предпосылки!X35,0)","v":0},{"$f":"IF(Предпосылки!Y$8=1,\nY23*Предпосылки!Y35,0)","v":0},{"$f":"IF(Предпосылки!Z$8=1,\nZ23*Предпосылки!Z35,0)","v":0},{"$f":"IF(Предпосылки!AA$8=1,\nAA23*Предпосылки!AA35,0)","v":0},{"$f":"IF(Предпосылки!AB$8=1,\nAB23*Предпосылки!AB35,0)","v":0}]
[null,null,{"$f":"Предпосылки!C36","v":"Продукция 2"},{"$f":"'Выручка и себестоимость'!D15","v":"тыс. руб."},null,{"$f":"SUM( H20:AA20)","v":0},null,{"$f":"IF(Предпосылки!H$8=1,\nH24*Предпосылки!H36,0)","v":0},{"$f":"IF(Предпосылки!I$8=1,\nI24*Предпосылки!I36,0)","v":0},{"$f":"IF(Предпосылки!J$8=1,\nJ24*Предпосылки!J36,0)","v":0},{"$f":"IF(Предпосылки!K$8=1,\nK24*Предпосылки!K36,0)","v":0},{"$f":"IF(Предпосылки!L$8=1,\nL24*Предпосылки!L36,0)","v":0},{"$f":"IF(Предпосылки!M$8=1,\nM24*Предпосылки!M36,0)","v":0},{"$f":"IF(Предпосылки!N$8=1,\nN24*Предпосылки!N36,0)","v":0},{"$f":"IF(Предпосылки!O$8=1,\nO24*Предпосылки!O36,0)","v":0},{"$f":"IF(Предпосылки!P$8=1,\nP24*Предпосылки!P36,0)","v":0},{"$f":"IF(Предпосылки!Q$8=1,\nQ24*Предпосылки!Q36,0)","v":0},{"$f":"IF(Предпосылки!R$8=1,\nR24*Предпосылки!R36,0)","v":0},{"$f":"IF(Предпосылки!S$8=1,\nS24*Предпосылки!S36,0)","v":0},{"$f":"IF(Предпосылки!T$8=1,\nT24*Предпосылки!T36,0)","v":0},{"$f":"IF(Предпосылки!U$8=1,\nU24*Предпосылки!U36,0)","v":0},{"$f":"IF(Предпосылки!V$8=1,\nV24*Предпосылки!V36,0)","v":0},{"$f":"IF(Предпосылки!W$8=1,\nW24*Предпосылки!W36,0)","v":0},{"$f":"IF(Предпосылки!X$8=1,\nX24*Предпосылки!X36,0)","v":0},{"$f":"IF(Предпосылки!Y$8=1,\nY24*Предпосылки!Y36,0)","v":0},{"$f":"IF(Предпосылки!Z$8=1,\nZ24*Предпосылки!Z36,0)","v":0},{"$f":"IF(Предпосылки!AA$8=1,\nAA24*Предпосылки!AA36,0)","v":0},{"$f":"IF(Предпосылки!AB$8=1,\nAB24*Предпосылки!AB36,0)","v":0}]
[]
[null,"Объем произведенной промышленной продукции в натуральном выражении:",null,null,null,{"$f":"SUM( H22:AA22)","v":0},null,{"$f":"SUM(H23:H24)","v":0},{"$f":"SUM(I23:I24)","v":0},0,0,0,0,0,0,0,0,0,0,0,0,0,0,0,0,0,0,{"$f":"SUM(AB23:AB24)","v":0}]
[null,null,{"$f":"C19","v":"Продукция 1"},{"$f":"Предпосылки!D41","v":" ед."},"Лист: Предпосылки",{"$f":"SUM( H23:AA23)","v":0},null,{"$f":"IF(Предпосылки!H$8=1,\nПредпосылки!H41,0)","v":0},{"$f":"IF(Предпосылки!I$8=1,\nПредпосылки!I41,0)","v":0},{"$f":"IF(Предпосылки!J$8=1,\nПредпосылки!J41,0)","v":0},{"$f":"IF(Предпосылки!K$8=1,\nПредпосылки!K41,0)","v":0},{"$f":"IF(Предпосылки!L$8=1,\nПредпосылки!L41,0)","v":0},{"$f":"IF(Предпосылки!M$8=1,\nПредпосылки!M41,0)","v":0},{"$f":"IF(Предпосылки!N$8=1,\nПредпосылки!N41,0)","v":0},{"$f":"IF(Предпосылки!O$8=1,\nПредпосылки!O41,0)","v":0},{"$f":"IF(Предпосылки!P$8=1,\nПредпосылки!P41,0)","v":0},{"$f":"IF(Предпосылки!Q$8=1,\nПредпосылки!Q41,0)","v":0},{"$f":"IF(Предпосылки!R$8=1,\nПредпосылки!R41,0)","v":0},{"$f":"IF(Предпосылки!S$8=1,\nПредпосылки!S41,0)","v":0},{"$f":"IF(Предпосылки!T$8=1,\nПредпосылки!T41,0)","v":0},{"$f":"IF(Предпосылки!U$8=1,\nПредпосылки!U41,0)","v":0},{"$f":"IF(Предпосылки!V$8=1,\nПредпосылки!V41,0)","v":0},{"$f":"IF(Предпосылки!W$8=1,\nПредпосылки!W41,0)","v":0},{"$f":"IF(Предпосылки!X$8=1,\nПредпосылки!X41,0)","v":0},{"$f":"IF(Предпосылки!Y$8=1,\nПредпосылки!Y41,0)","v":0},{"$f":"IF(Предпосылки!Z$8=1,\nПредпосылки!Z41,0)","v":0},{"$f":"IF(Предпосылки!AA$8=1,\nПредпосылки!AA41,0)","v":0},{"$f":"IF(Предпосылки!AB$8=1,\nПредпосылки!AB41,0)","v":0}]
[null,null,{"$f":"C20","v":"Продукция 2"},{"$f":"Предпосылки!D42","v":" ед."},"Лист: Предпосылки",{"$f":"SUM( H24:AA24)","v":0},null,{"$f":"IF(Предпосылки!H$8=1,\nПредпосылки!H42,0)","v":0},{"$f":"IF(Предпосылки!I$8=1,\nПредпосылки!I42,0)","v":0},{"$f":"IF(Предпосылки!J$8=1,\nПредпосылки!J42,0)","v":0},{"$f":"IF(Предпосылки!K$8=1,\nПредпосылки!K42,0)","v":0},{"$f":"IF(Предпосылки!L$8=1,\nПредпосылки!L42,0)","v":0},{"$f":"IF(Предпосылки!M$8=1,\nПредпосылки!M42,0)","v":0},{"$f":"IF(Предпосылки!N$8=1,\nПредпосылки!N42,0)","v":0},{"$f":"IF(Предпосылки!O$8=1,\nПредпосылки!O42,0)","v":0},{"$f":"IF(Предпосылки!P$8=1,\nПредпосылки!P42,0)","v":0},{"$f":"IF(Предпосылки!Q$8=1,\nПредпосылки!Q42,0)","v":0},{"$f":"IF(Предпосылки!R$8=1,\nПредпосылки!R42,0)","v":0},{"$f":"IF(Предпосылки!S$8=1,\nПредпосылки!S42,0)","v":0},{"$f":"IF(Предпосылки!T$8=1,\nПредпосылки!T42,0)","v":0},{"$f":"IF(Предпосылки!U$8=1,\nПредпосылки!U42,0)","v":0},{"$f":"IF(Предпосылки!V$8=1,\nПредпосылки!V42,0)","v":0},{"$f":"IF(Предпосылки!W$8=1,\nПредпосылки!W42,0)","v":0},{"$f":"IF(Предпосылки!X$8=1,\nПредпосылки!X42,0)","v":0},{"$f":"IF(Предпосылки!Y$8=1,\nПредпосылки!Y42,0)","v":0},{"$f":"IF(Предпосылки!Z$8=1,\nПредпосылки!Z42,0)","v":0},{"$f":"IF(Предпосылки!AA$8=1,\nПредпосылки!AA42,0)","v":0},{"$f":"IF(Предпосылки!AB$8=1,\nПредпосылки!AB42,0)","v":0}]
[]
[null,"Объем реализованной промышленной продукции в денежном выражении:",null,null,null,{"$f":"SUM( H26:AA26)","v":0},null,{"$f":"SUM(H27:H28)","v":0},{"$f":"SUM(I27:I28)","v":0},0,0,0,0,0,0,0,0,0,0,0,0,0,0,0,0,0,0,{"$f":"SUM(AB27:AB28)","v":0}]
[null,null,{"$f":"C23","v":"Продукция 1"},{"$f":"'Выручка и себестоимость'!D14","v":"тыс. руб."},"Лист: Выручка и себестоимость",{"$f":"SUM( H27:AA27)","v":0},null,{"$f":"IF(Предпосылки!H$8=1,\n'Выручка и себестоимость'!H14,0)","v":0},{"$f":"IF(Предпосылки!I$8=1,\n'Выручка и себестоимость'!I14,0)","v":0},{"$f":"IF(Предпосылки!J$8=1,\n'Выручка и себестоимость'!J14,0)","v":0},{"$f":"IF(Предпосылки!K$8=1,\n'Выручка и себестоимость'!K14,0)","v":0},{"$f":"IF(Предпосылки!L$8=1,\n'Выручка и себестоимость'!L14,0)","v":0},{"$f":"IF(Предпосылки!M$8=1,\n'Выручка и себестоимость'!M14,0)","v":0},{"$f":"IF(Предпосылки!N$8=1,\n'Выручка и себестоимость'!N14,0)","v":0},{"$f":"IF(Предпосылки!O$8=1,\n'Выручка и себестоимость'!O14,0)","v":0},{"$f":"IF(Предпосылки!P$8=1,\n'Выручка и себестоимость'!P14,0)","v":0},{"$f":"IF(Предпосылки!Q$8=1,\n'Выручка и себестоимость'!Q14,0)","v":0},{"$f":"IF(Предпосылки!R$8=1,\n'Выручка и себестоимость'!R14,0)","v":0},{"$f":"IF(Предпосылки!S$8=1,\n'Выручка и себестоимость'!S14,0)","v":0},{"$f":"IF(Предпосылки!T$8=1,\n'Выручка и себестоимость'!T14,0)","v":0},{"$f":"IF(Предпосылки!U$8=1,\n'Выручка и себестоимость'!U14,0)","v":0},{"$f":"IF(Предпосылки!V$8=1,\n'Выручка и себестоимость'!V14,0)","v":0},{"$f":"IF(Предпосылки!W$8=1,\n'Выручка и себестоимость'!W14,0)","v":0},{"$f":"IF(Предпосылки!X$8=1,\n'Выручка и себестоимость'!X14,0)","v":0},{"$f":"IF(Предпосылки!Y$8=1,\n'Выручка и себестоимость'!Y14,0)","v":0},{"$f":"IF(Предпосылки!Z$8=1,\n'Выручка и себестоимость'!Z14,0)","v":0},{"$f":"IF(Предпосылки!AA$8=1,\n'Выручка и себестоимость'!AA14,0)","v":0},{"$f":"IF(Предпосылки!AB$8=1,\n'Выручка и себестоимость'!AB14,0)","v":0}]
[null,null,{"$f":"C24","v":"Продукция 2"},{"$f":"'Выручка и себестоимость'!D15","v":"тыс. руб."},"Лист: Выручка и себестоимость",{"$f":"SUM( H28:AA28)","v":0},null,{"$f":"IF(Предпосылки!H$8=1,\n'Выручка и себестоимость'!H15,0)","v":0},{"$f":"IF(Предпосылки!I$8=1,\n'Выручка и себестоимость'!I15,0)","v":0},{"$f":"IF(Предпосылки!J$8=1,\n'Выручка и себестоимость'!J15,0)","v":0},{"$f":"IF(Предпосылки!K$8=1,\n'Выручка и себестоимость'!K15,0)","v":0},{"$f":"IF(Предпосылки!L$8=1,\n'Выручка и себестоимость'!L15,0)","v":0},{"$f":"IF(Предпосылки!M$8=1,\n'Выручка и себестоимость'!M15,0)","v":0},{"$f":"IF(Предпосылки!N$8=1,\n'Выручка и себестоимость'!N15,0)","v":0},{"$f":"IF(Предпосылки!O$8=1,\n'Выручка и себестоимость'!O15,0)","v":0},{"$f":"IF(Предпосылки!P$8=1,\n'Выручка и себестоимость'!P15,0)","v":0},{"$f":"IF(Предпосылки!Q$8=1,\n'Выручка и себестоимость'!Q15,0)","v":0},{"$f":"IF(Предпосылки!R$8=1,\n'Выручка и себестоимость'!R15,0)","v":0},{"$f":"IF(Предпосылки!S$8=1,\n'Выручка и себестоимость'!S15,0)","v":0},{"$f":"IF(Предпосылки!T$8=1,\n'Выручка и себестоимость'!T15,0)","v":0},{"$f":"IF(Предпосылки!U$8=1,\n'Выручка и себестоимость'!U15,0)","v":0},{"$f":"IF(Предпосылки!V$8=1,\n'Выручка и себестоимость'!V15,0)","v":0},{"$f":"IF(Предпосылки!W$8=1,\n'Выручка и себестоимость'!W15,0)","v":0},{"$f":"IF(Предпосылки!X$8=1,\n'Выручка и себестоимость'!X15,0)","v":0},{"$f":"IF(Предпосылки!Y$8=1,\n'Выручка и себестоимость'!Y15,0)","v":0},{"$f":"IF(Предпосылки!Z$8=1,\n'Выручка и себестоимость'!Z15,0)","v":0},{"$f":"IF(Предпосылки!AA$8=1,\n'Выручка и себестоимость'!AA15,0)","v":0},{"$f":"IF(Предпосылки!AB$8=1,\n'Выручка и себестоимость'!AB15,0)","v":0}]
[]
[null,"Объем реализованной промышленной продукции в натуральном выражении:",null,null,null,{"$f":"SUM( H30:AA30)","v":0},null,{"$f":"SUM(H31:H32)","v":0},{"$f":"SUM(I31:I32)","v":0},0,0,0,0,0,0,0,0,0,0,0,0,0,0,0,0,0,0,{"$f":"SUM(AB31:AB32)","v":0}]
[null,null,{"$f":"C27","v":"Продукция 1"},{"$f":"Предпосылки!D47","v":" ед."},"Лист: Предпосылки",{"$f":"SUM( H31:AA31)","v":0},null,{"$f":"IF(Предпосылки!H$8=1,\nПредпосылки!H47,0)","v":0},{"$f":"IF(Предпосылки!I$8=1,\nПредпосылки!I47,0)","v":0},{"$f":"IF(Предпосылки!J$8=1,\nПредпосылки!J47,0)","v":0},{"$f":"IF(Предпосылки!K$8=1,\nПредпосылки!K47,0)","v":0},{"$f":"IF(Предпосылки!L$8=1,\nПредпосылки!L47,0)","v":0},{"$f":"IF(Предпосылки!M$8=1,\nПредпосылки!M47,0)","v":0},{"$f":"IF(Предпосылки!N$8=1,\nПредпосылки!N47,0)","v":0},{"$f":"IF(Предпосылки!O$8=1,\nПредпосылки!O47,0)","v":0},{"$f":"IF(Предпосылки!P$8=1,\nПредпосылки!P47,0)","v":0},{"$f":"IF(Предпосылки!Q$8=1,\nПредпосылки!Q47,0)","v":0},{"$f":"IF(Предпосылки!R$8=1,\nПредпосылки!R47,0)","v":0},{"$f":"IF(Предпосылки!S$8=1,\nПредпосылки!S47,0)","v":0},{"$f":"IF(Предпосылки!T$8=1,\nПредпосылки!T47,0)","v":0},{"$f":"IF(Предпосылки!U$8=1,\nПредпосылки!U47,0)","v":0},{"$f":"IF(Предпосылки!V$8=1,\nПредпосылки!V47,0)","v":0},{"$f":"IF(Предпосылки!W$8=1,\nПредпосылки!W47,0)","v":0},{"$f":"IF(Предпосылки!X$8=1,\nПредпосылки!X47,0)","v":0},{"$f":"IF(Предпосылки!Y$8=1,\nПредпосылки!Y47,0)","v":0},{"$f":"IF(Предпосылки!Z$8=1,\nПредпосылки!Z47,0)","v":0},{"$f":"IF(Предпосылки!AA$8=1,\nПредпосылки!AA47,0)","v":0},{"$f":"IF(Предпосылки!AB$8=1,\nПредпосылки!AB47,0)","v":0}]
[null,null,{"$f":"C28","v":"Продукция 2"},{"$f":"Предпосылки!D48","v":" ед."},"Лист: Предпосылки",{"$f":"SUM( H32:AA32)","v":0},null,{"$f":"IF(Предпосылки!H$8=1,\nПредпосылки!H48,0)","v":0},{"$f":"IF(Предпосылки!I$8=1,\nПредпосылки!I48,0)","v":0},{"$f":"IF(Предпосылки!J$8=1,\nПредпосылки!J48,0)","v":0},{"$f":"IF(Предпосылки!K$8=1,\nПредпосылки!K48,0)","v":0},{"$f":"IF(Предпосылки!L$8=1,\nПредпосылки!L48,0)","v":0},{"$f":"IF(Предпосылки!M$8=1,\nПредпосылки!M48,0)","v":0},{"$f":"IF(Предпосылки!N$8=1,\nПредпосылки!N48,0)","v":0},{"$f":"IF(Предпосылки!O$8=1,\nПредпосылки!O48,0)","v":0},{"$f":"IF(Предпосылки!P$8=1,\nПредпосылки!P48,0)","v":0},{"$f":"IF(Предпосылки!Q$8=1,\nПредпосылки!Q48,0)","v":0},{"$f":"IF(Предпосылки!R$8=1,\nПредпосылки!R48,0)","v":0},{"$f":"IF(Предпосылки!S$8=1,\nПредпосылки!S48,0)","v":0},{"$f":"IF(Предпосылки!T$8=1,\nПредпосылки!T48,0)","v":0},{"$f":"IF(Предпосылки!U$8=1,\nПредпосылки!U48,0)","v":0},{"$f":"IF(Предпосылки!V$8=1,\nПредпосылки!V48,0)","v":0},{"$f":"IF(Предпосылки!W$8=1,\nПредпосылки!W48,0)","v":0},{"$f":"IF(Предпосылки!X$8=1,\nПредпосылки!X48,0)","v":0},{"$f":"IF(Предпосылки!Y$8=1,\nПредпосылки!Y48,0)","v":0},{"$f":"IF(Предпосылки!Z$8=1,\nПредпосылки!Z48,0)","v":0},{"$f":"IF(Предпосылки!AA$8=1,\nПредпосылки!AA48,0)","v":0},{"$f":"IF(Предпосылки!AB$8=1,\nПредпосылки!AB48,0)","v":0}]
[]
[null,"Минимальный объем налогов, сборов, страховых взносов к уплате:"]
[null,null,"С учетом применения мер стимулирования деятельности в сфере промышленности, предусмотренных СПИК:",null,null,{"$f":"SUM( H35:AA35)","v":0},null,{"$f":"SUM(H36:H39)","v":0},{"$f":"SUM(I36:I39)","v":0},0,0,0,0,0,0,0,0,0,0,0,0,0,0,0,0,0,0,{"$f":"SUM(AB36:AB39)","v":0}]
[null,null,"в федеральный бюджет",{"$f":"Налоги!D231","v":"тыс. руб."},"Лист: Налоги",{"$f":"SUM( H36:AA36)","v":0},null,{"$f":"IF(Предпосылки!H$8=1,\n-Налоги!H231,0)","v":0},{"$f":"IF(Предпосылки!I$8=1,\n-Налоги!I231,0)","v":0},{"$f":"IF(Предпосылки!J$8=1,\n-Налоги!J231,0)","v":0},{"$f":"IF(Предпосылки!K$8=1,\n-Налоги!K231,0)","v":0},{"$f":"IF(Предпосылки!L$8=1,\n-Налоги!L231,0)","v":0},{"$f":"IF(Предпосылки!M$8=1,\n-Налоги!M231,0)","v":0},{"$f":"IF(Предпосылки!N$8=1,\n-Налоги!N231,0)","v":0},{"$f":"IF(Предпосылки!O$8=1,\n-Налоги!O231,0)","v":0},{"$f":"IF(Предпосылки!P$8=1,\n-Налоги!P231,0)","v":0},{"$f":"IF(Предпосылки!Q$8=1,\n-Налоги!Q231,0)","v":0},{"$f":"IF(Предпосылки!R$8=1,\n-Налоги!R231,0)","v":0},{"$f":"IF(Предпосылки!S$8=1,\n-Налоги!S231,0)","v":0},{"$f":"IF(Предпосылки!T$8=1,\n-Налоги!T231,0)","v":0},{"$f":"IF(Предпосылки!U$8=1,\n-Налоги!U231,0)","v":0},{"$f":"IF(Предпосылки!V$8=1,\n-Налоги!V231,0)","v":0},{"$f":"IF(Предпосылки!W$8=1,\n-Налоги!W231,0)","v":0},{"$f":"IF(Предпосылки!X$8=1,\n-Налоги!X231,0)","v":0},{"$f":"IF(Предпосылки!Y$8=1,\n-Налоги!Y231,0)","v":0},{"$f":"IF(Предпосылки!Z$8=1,\n-Налоги!Z231,0)","v":0},{"$f":"IF(Предпосылки!AA$8=1,\n-Налоги!AA231,0)","v":0},{"$f":"IF(Предпосылки!AB$8=1,\n-Налоги!AB231,0)","v":0}]
[null,null,"в региональный бюджет",{"$f":"Налоги!D232","v":"тыс. руб."},"Лист: Налоги",{"$f":"SUM( H37:AA37)","v":0},null,{"$f":"IF(Предпосылки!H$8=1,\n-Налоги!H235,0)","v":0},{"$f":"IF(Предпосылки!I$8=1,\n-Налоги!I235,0)","v":0},{"$f":"IF(Предпосылки!J$8=1,\n-Налоги!J235,0)","v":0},{"$f":"IF(Предпосылки!K$8=1,\n-Налоги!K235,0)","v":0},{"$f":"IF(Предпосылки!L$8=1,\n-Налоги!L235,0)","v":0},{"$f":"IF(Предпосылки!M$8=1,\n-Налоги!M235,0)","v":0},{"$f":"IF(Предпосылки!N$8=1,\n-Налоги!N235,0)","v":0},{"$f":"IF(Предпосылки!O$8=1,\n-Налоги!O235,0)","v":0},{"$f":"IF(Предпосылки!P$8=1,\n-Налоги!P235,0)","v":0},{"$f":"IF(Предпосылки!Q$8=1,\n-Налоги!Q235,0)","v":0},{"$f":"IF(Предпосылки!R$8=1,\n-Налоги!R235,0)","v":0},{"$f":"IF(Предпосылки!S$8=1,\n-Налоги!S235,0)","v":0},{"$f":"IF(Предпосылки!T$8=1,\n-Налоги!T235,0)","v":0},{"$f":"IF(Предпосылки!U$8=1,\n-Налоги!U235,0)","v":0},{"$f":"IF(Предпосылки!V$8=1,\n-Налоги!V235,0)","v":0},{"$f":"IF(Предпосылки!W$8=1,\n-Налоги!W235,0)","v":0},{"$f":"IF(Предпосылки!X$8=1,\n-Налоги!X235,0)","v":0},{"$f":"IF(Предпосылки!Y$8=1,\n-Налоги!Y235,0)","v":0},{"$f":"IF(Предпосылки!Z$8=1,\n-Налоги!Z235,0)","v":0},{"$f":"IF(Предпосылки!AA$8=1,\n-Налоги!AA235,0)","v":0},{"$f":"IF(Предпосылки!AB$8=1,\n-Налоги!AB235,0)","v":0}]
[null,null,"в местный бюджет",{"$f":"Налоги!D235","v":"тыс. руб."},"Лист: Налоги",{"$f":"SUM( H38:AA38)","v":0},null,{"$f":"IF(Предпосылки!H$8=1,\n-Налоги!H240,0)","v":0},{"$f":"IF(Предпосылки!I$8=1,\n-Налоги!I240,0)","v":0},{"$f":"IF(Предпосылки!J$8=1,\n-Налоги!J240,0)","v":0},{"$f":"IF(Предпосылки!K$8=1,\n-Налоги!K240,0)","v":0},{"$f":"IF(Предпосылки!L$8=1,\n-Налоги!L240,0)","v":0},{"$f":"IF(Предпосылки!M$8=1,\n-Налоги!M240,0)","v":0},{"$f":"IF(Предпосылки!N$8=1,\n-Налоги!N240,0)","v":0},{"$f":"IF(Предпосылки!O$8=1,\n-Налоги!O240,0)","v":0},{"$f":"IF(Предпосылки!P$8=1,\n-Налоги!P240,0)","v":0},{"$f":"IF(Предпосылки!Q$8=1,\n-Налоги!Q240,0)","v":0},{"$f":"IF(Предпосылки!R$8=1,\n-Налоги!R240,0)","v":0},{"$f":"IF(Предпосылки!S$8=1,\n-Налоги!S240,0)","v":0},{"$f":"IF(Предпосылки!T$8=1,\n-Налоги!T240,0)","v":0},{"$f":"IF(Предпосылки!U$8=1,\n-Налоги!U240,0)","v":0},{"$f":"IF(Предпосылки!V$8=1,\n-Налоги!V240,0)","v":0},{"$f":"IF(Предпосылки!W$8=1,\n-Налоги!W240,0)","v":0},{"$f":"IF(Предпосылки!X$8=1,\n-Налоги!X240,0)","v":0},{"$f":"IF(Предпосылки!Y$8=1,\n-Налоги!Y240,0)","v":0},{"$f":"IF(Предпосылки!Z$8=1,\n-Налоги!Z240,0)","v":0},{"$f":"IF(Предпосылки!AA$8=1,\n-Налоги!AA240,0)","v":0},{"$f":"IF(Предпосылки!AB$8=1,\n-Налоги!AB240,0)","v":0}]
[null,null,"страховые взносы",{"$f":"Налоги!D236","v":"тыс. руб."},"Лист: Налоги",{"$f":"SUM( H39:AA39)","v":0},null,{"$f":"IF(Предпосылки!H$8=1,\n-Налоги!H243,0)","v":0},{"$f":"IF(Предпосылки!I$8=1,\n-Налоги!I243,0)","v":0},{"$f":"IF(Предпосылки!J$8=1,\n-Налоги!J243,0)","v":0},{"$f":"IF(Предпосылки!K$8=1,\n-Налоги!K243,0)","v":0},{"$f":"IF(Предпосылки!L$8=1,\n-Налоги!L243,0)","v":0},{"$f":"IF(Предпосылки!M$8=1,\n-Налоги!M243,0)","v":0},{"$f":"IF(Предпосылки!N$8=1,\n-Налоги!N243,0)","v":0},{"$f":"IF(Предпосылки!O$8=1,\n-Налоги!O243,0)","v":0},{"$f":"IF(Предпосылки!P$8=1,\n-Налоги!P243,0)","v":0},{"$f":"IF(Предпосылки!Q$8=1,\n-Налоги!Q243,0)","v":0},{"$f":"IF(Предпосылки!R$8=1,\n-Налоги!R243,0)","v":0},{"$f":"IF(Предпосылки!S$8=1,\n-Налоги!S243,0)","v":0},{"$f":"IF(Предпосылки!T$8=1,\n-Налоги!T243,0)","v":0},{"$f":"IF(Предпосылки!U$8=1,\n-Налоги!U243,0)","v":0},{"$f":"IF(Предпосылки!V$8=1,\n-Налоги!V243,0)","v":0},{"$f":"IF(Предпосылки!W$8=1,\n-Налоги!W243,0)","v":0},{"$f":"IF(Предпосылки!X$8=1,\n-Налоги!X243,0)","v":0},{"$f":"IF(Предпосылки!Y$8=1,\n-Налоги!Y243,0)","v":0},{"$f":"IF(Предпосылки!Z$8=1,\n-Налоги!Z243,0)","v":0},{"$f":"IF(Предпосылки!AA$8=1,\n-Налоги!AA243,0)","v":0},{"$f":"IF(Предпосылки!AB$8=1,\n-Налоги!AB243,0)","v":0}]
[]
[null,null,"Без учета применения мер стимулирования деятельности в сфере промышленности, предусмотренных СПИК:",null,null,{"$f":"SUM( H41:AA41)","v":0},null,{"$f":"SUM(H42:H45)","v":0},{"$f":"SUM(I42:I45)","v":0},0,0,0,0,0,0,0,0,0,0,0,0,0,0,0,0,0,0,{"$f":"SUM(AB42:AB45)","v":0}]
[null,null,{"$f":"C36","v":"в федеральный бюджет"},"тыс. руб.","Лист: Налоги",{"$f":"SUM( H42:AA42)","v":0},null,{"$f":"IF(Предпосылки!H$8=1,\n-Налоги!H249,0)","v":0},{"$f":"IF(Предпосылки!I$8=1,\n-Налоги!I249,0)","v":0},{"$f":"IF(Предпосылки!J$8=1,\n-Налоги!J249,0)","v":0},{"$f":"IF(Предпосылки!K$8=1,\n-Налоги!K249,0)","v":0},{"$f":"IF(Предпосылки!L$8=1,\n-Налоги!L249,0)","v":0},{"$f":"IF(Предпосылки!M$8=1,\n-Налоги!M249,0)","v":0},{"$f":"IF(Предпосылки!N$8=1,\n-Налоги!N249,0)","v":0},{"$f":"IF(Предпосылки!O$8=1,\n-Налоги!O249,0)","v":0},{"$f":"IF(Предпосылки!P$8=1,\n-Налоги!P249,0)","v":0},{"$f":"IF(Предпосылки!Q$8=1,\n-Налоги!Q249,0)","v":0},{"$f":"IF(Предпосылки!R$8=1,\n-Налоги!R249,0)","v":0},{"$f":"IF(Предпосылки!S$8=1,\n-Налоги!S249,0)","v":0},{"$f":"IF(Предпосылки!T$8=1,\n-Налоги!T249,0)","v":0},{"$f":"IF(Предпосылки!U$8=1,\n-Налоги!U249,0)","v":0},{"$f":"IF(Предпосылки!V$8=1,\n-Налоги!V249,0)","v":0},{"$f":"IF(Предпосылки!W$8=1,\n-Налоги!W249,0)","v":0},{"$f":"IF(Предпосылки!X$8=1,\n-Налоги!X249,0)","v":0},{"$f":"IF(Предпосылки!Y$8=1,\n-Налоги!Y249,0)","v":0},{"$f":"IF(Предпосылки!Z$8=1,\n-Налоги!Z249,0)","v":0},{"$f":"IF(Предпосылки!AA$8=1,\n-Налоги!AA249,0)","v":0},{"$f":"IF(Предпосылки!AB$8=1,\n-Налоги!AB249,0)","v":0}]
[null,null,"в региональный бюджет","тыс. руб.","Лист: Налоги",{"$f":"SUM( H43:AA43)","v":0},null,{"$f":"IF(Предпосылки!H$8=1,\n-Налоги!H253,0)","v":0},{"$f":"IF(Предпосылки!I$8=1,\n-Налоги!I253,0)","v":0},{"$f":"IF(Предпосылки!J$8=1,\n-Налоги!J253,0)","v":0},{"$f":"IF(Предпосылки!K$8=1,\n-Налоги!K253,0)","v":0},{"$f":"IF(Предпосылки!L$8=1,\n-Налоги!L253,0)","v":0},{"$f":"IF(Предпосылки!M$8=1,\n-Налоги!M253,0)","v":0},{"$f":"IF(Предпосылки!N$8=1,\n-Налоги!N253,0)","v":0},{"$f":"IF(Предпосылки!O$8=1,\n-Налоги!O253,0)","v":0},{"$f":"IF(Предпосылки!P$8=1,\n-Налоги!P253,0)","v":0},{"$f":"IF(Предпосылки!Q$8=1,\n-Налоги!Q253,0)","v":0},{"$f":"IF(Предпосылки!R$8=1,\n-Налоги!R253,0)","v":0},{"$f":"IF(Предпосылки!S$8=1,\n-Налоги!S253,0)","v":0},{"$f":"IF(Предпосылки!T$8=1,\n-Налоги!T253,0)","v":0},{"$f":"IF(Предпосылки!U$8=1,\n-Налоги!U253,0)","v":0},{"$f":"IF(Предпосылки!V$8=1,\n-Налоги!V253,0)","v":0},{"$f":"IF(Предпосылки!W$8=1,\n-Налоги!W253,0)","v":0},{"$f":"IF(Предпосылки!X$8=1,\n-Налоги!X253,0)","v":0},{"$f":"IF(Предпосылки!Y$8=1,\n-Налоги!Y253,0)","v":0},{"$f":"IF(Предпосылки!Z$8=1,\n-Налоги!Z253,0)","v":0},{"$f":"IF(Предпосылки!AA$8=1,\n-Налоги!AA253,0)","v":0},{"$f":"IF(Предпосылки!AB$8=1,\n-Налоги!AB253,0)","v":0}]
[null,null,"в местный бюджет","тыс. руб.","Лист: Налоги",{"$f":"SUM( H44:AA44)","v":0},null,{"$f":"IF(Предпосылки!H$8=1,\n-Налоги!H258,0)","v":0},{"$f":"IF(Предпосылки!I$8=1,\n-Налоги!I258,0)","v":0},{"$f":"IF(Предпосылки!J$8=1,\n-Налоги!J258,0)","v":0},{"$f":"IF(Предпосылки!K$8=1,\n-Налоги!K258,0)","v":0},{"$f":"IF(Предпосылки!L$8=1,\n-Налоги!L258,0)","v":0},{"$f":"IF(Предпосылки!M$8=1,\n-Налоги!M258,0)","v":0},{"$f":"IF(Предпосылки!N$8=1,\n-Налоги!N258,0)","v":0},{"$f":"IF(Предпосылки!O$8=1,\n-Налоги!O258,0)","v":0},{"$f":"IF(Предпосылки!P$8=1,\n-Налоги!P258,0)","v":0},{"$f":"IF(Предпосылки!Q$8=1,\n-Налоги!Q258,0)","v":0},{"$f":"IF(Предпосылки!R$8=1,\n-Налоги!R258,0)","v":0},{"$f":"IF(Предпосылки!S$8=1,\n-Налоги!S258,0)","v":0},{"$f":"IF(Предпосылки!T$8=1,\n-Налоги!T258,0)","v":0},{"$f":"IF(Предпосылки!U$8=1,\n-Налоги!U258,0)","v":0},{"$f":"IF(Предпосылки!V$8=1,\n-Налоги!V258,0)","v":0},{"$f":"IF(Предпосылки!W$8=1,\n-Налоги!W258,0)","v":0},{"$f":"IF(Предпосылки!X$8=1,\n-Налоги!X258,0)","v":0},{"$f":"IF(Предпосылки!Y$8=1,\n-Налоги!Y258,0)","v":0},{"$f":"IF(Предпосылки!Z$8=1,\n-Налоги!Z258,0)","v":0},{"$f":"IF(Предпосылки!AA$8=1,\n-Налоги!AA258,0)","v":0},{"$f":"IF(Предпосылки!AB$8=1,\n-Налоги!AB258,0)","v":0}]
[null,null,"страховые взносы","тыс. руб.","Лист: Налоги",{"$f":"SUM( H45:AA45)","v":0},null,{"$f":"IF(Предпосылки!H$8=1,\n-Налоги!H261,0)","v":0},{"$f":"IF(Предпосылки!I$8=1,\n-Налоги!I261,0)","v":0},{"$f":"IF(Предпосылки!J$8=1,\n-Налоги!J261,0)","v":0},{"$f":"IF(Предпосылки!K$8=1,\n-Налоги!K261,0)","v":0},{"$f":"IF(Предпосылки!L$8=1,\n-Налоги!L261,0)","v":0},{"$f":"IF(Предпосылки!M$8=1,\n-Налоги!M261,0)","v":0},{"$f":"IF(Предпосылки!N$8=1,\n-Налоги!N261,0)","v":0},{"$f":"IF(Предпосылки!O$8=1,\n-Налоги!O261,0)","v":0},{"$f":"IF(Предпосылки!P$8=1,\n-Налоги!P261,0)","v":0},{"$f":"IF(Предпосылки!Q$8=1,\n-Налоги!Q261,0)","v":0},{"$f":"IF(Предпосылки!R$8=1,\n-Налоги!R261,0)","v":0},{"$f":"IF(Предпосылки!S$8=1,\n-Налоги!S261,0)","v":0},{"$f":"IF(Предпосылки!T$8=1,\n-Налоги!T261,0)","v":0},{"$f":"IF(Предпосылки!U$8=1,\n-Налоги!U261,0)","v":0},{"$f":"IF(Предпосылки!V$8=1,\n-Налоги!V261,0)","v":0},{"$f":"IF(Предпосылки!W$8=1,\n-Налоги!W261,0)","v":0},{"$f":"IF(Предпосылки!X$8=1,\n-Налоги!X261,0)","v":0},{"$f":"IF(Предпосылки!Y$8=1,\n-Налоги!Y261,0)","v":0},{"$f":"IF(Предпосылки!Z$8=1,\n-Налоги!Z261,0)","v":0},{"$f":"IF(Предпосылки!AA$8=1,\n-Налоги!AA261,0)","v":0},{"$f":"IF(Предпосылки!AB$8=1,\n-Налоги!AB261,0)","v":0}]
[]
[null,"Количество создаваемых рабочих мест",null,{"$f":"Предпосылки!D127","v":"чел."},"Лист: Предпосылки",{"$f":"SUM( H47:AA47)","v":0},null,{"$f":"IF(Предпосылки!H$8=1,\nПредпосылки!H124-Предпосылки!G124,0)","v":0},{"$f":"IF(Предпосылки!I$8=1,\nПредпосылки!I124-Предпосылки!H124,0)","v":0},{"$f":"IF(Предпосылки!J$8=1,\nПредпосылки!J124-Предпосылки!I124,0)","v":0},{"$f":"IF(Предпосылки!K$8=1,\nПредпосылки!K124-Предпосылки!J124,0)","v":0},{"$f":"IF(Предпосылки!L$8=1,\nПредпосылки!L124-Предпосылки!K124,0)","v":0},{"$f":"IF(Предпосылки!M$8=1,\nПредпосылки!M124-Предпосылки!L124,0)","v":0},{"$f":"IF(Предпосылки!N$8=1,\nПредпосылки!N124-Предпосылки!M124,0)","v":0},{"$f":"IF(Предпосылки!O$8=1,\nПредпосылки!O124-Предпосылки!N124,0)","v":0},{"$f":"IF(Предпосылки!P$8=1,\nПредпосылки!P124-Предпосылки!O124,0)","v":0},{"$f":"IF(Предпосылки!Q$8=1,\nПредпосылки!Q124-Предпосылки!P124,0)","v":0},{"$f":"IF(Предпосылки!R$8=1,\nПредпосылки!R124-Предпосылки!Q124,0)","v":0},{"$f":"IF(Предпосылки!S$8=1,\nПредпосылки!S124-Предпосылки!R124,0)","v":0},{"$f":"IF(Предпосылки!T$8=1,\nПредпосылки!T124-Предпосылки!S124,0)","v":0},{"$f":"IF(Предпосылки!U$8=1,\nПредпосылки!U124-Предпосылки!T124,0)","v":0},{"$f":"IF(Предпосылки!V$8=1,\nПредпосылки!V124-Предпосылки!U124,0)","v":0},{"$f":"IF(Предпосылки!W$8=1,\nПредпосылки!W124-Предпосылки!V124,0)","v":0},{"$f":"IF(Предпосылки!X$8=1,\nПредпосылки!X124-Предпосылки!W124,0)","v":0},{"$f":"IF(Предпосылки!Y$8=1,\nПредпосылки!Y124-Предпосылки!X124,0)","v":0},{"$f":"IF(Предпосылки!Z$8=1,\nПредпосылки!Z124-Предпосылки!Y124,0)","v":0},{"$f":"IF(Предпосылки!AA$8=1,\nПредпосылки!AA124-Предпосылки!Z124,0)","v":0},{"$f":"IF(Предпосылки!AB$8=1,\nПредпосылки!AB124-Предпосылки!AA124,0)","v":0}]
[]
[null,"Источники привлечения средств для финансирования инвестиционного проекта"]
[]
[null,null,null,null,"Доля, %","Сумма, тыс. руб"]
[null,null,"Собственные средства",null,{"$f":"IFERROR(F52/$F$55,)","v":0},{"$f":"Предпосылки!F249+SUM(Предпосылки!H254:AB255)","v":0}]
[null,null,"Заемные средства",null,{"$f":"IFERROR(F53/$F$55,0)","v":0},{"$f":"SUM(Финансирование!H45:AA45,Финансирование!H84:AA84)","v":0}]
[null,null,"Бюджетные инвестиции",null,{"$f":"IFERROR(F54/$F$55,0)","v":0},{"$f":"Предпосылки!F281+Предпосылки!F282","v":0}]
[null,null,"Итого",null,{"$f":"SUM(E52:E54)","v":0},{"$f":"SUM(F52:F54)","v":0}]
[]
[null,"Показатели эффективности проекта"]
[]
[null,null,null,null,"Со СПИК","Без СПИК"]
[null,null,"NPV (чистая приведенная стоимость), тыс. руб.",null,{"$f":"'Эффективность (СПИК)'!F54","v":0},{"$f":"'Эффективность (Без СПИК)'!F54","v":0}]
[null,null,"IRR (внутренняя норма доходности),%",null,{"$f":"'Эффективность (СПИК)'!F55","v":{"$error":"#NUM!"}},{"$f":"'Эффективность (Без СПИК)'!F55","v":{"$error":"#NUM!"}}]
[null,null,"PI (индекс рентабельности инвестиций)",null,{"$f":"'Эффективность (СПИК)'!F62","v":{"$error":"#DIV/0!"}},{"$f":"'Эффективность (Без СПИК)'!F62","v":{"$error":"#DIV/0!"}}]
[null,null,"PBP (простой период окупаемости), лет",null,{"$f":"'Эффективность (СПИК)'!F56","v":15},{"$f":"'Эффективность (Без СПИК)'!F56","v":15}]
[null,null,"DPBP (дисконтированный период окупаемости), лет",null,{"$f":"'Эффективность (СПИК)'!F57","v":15},{"$f":"'Эффективность (Без СПИК)'!F57","v":15}]
[null,null,"Объем налоговых отчислений (без НДС, акцизов), тыс. руб.",null,{"$f":"'Эффективность (СПИК)'!F67","v":0},{"$f":"'Эффективность (Без СПИК)'!F67","v":0}]
[null,null,"BNPV бюджетная эффективность, тыс. руб.",null,{"$f":"'Эффективность (СПИК)'!F72","v":0},{"$f":"'Эффективность (Без СПИК)'!F72","v":0}]
[null,null,"Ставка дисконтирования, %",null,{"$f":"WACC!D20","v":0.22999359887060991}]
[]
[null,"Проверка корректности финансовой модели"]
[]
[null,null,"Проверка",null,"Результат"]
[null,null,"Лист \"Капитальные вложения\"",null,{"$f":"'Капитальные вложения'!L1","v":"Верно"}]
[null,null,"Лист \"Финансирование\"",null,{"$f":"Финансирование!L1","v":"Верно"}]
[null,null,"Лист \"Отчетность\" (СПИК)",null,{"$f":"'Отчетность (СПИК)'!L1","v":"Имеются некорректные данные"}]
[null,null,"Лист \"Отчетность\" (Без СПИК)",null,{"$f":"'Отчетность (Без СПИК)'!L1","v":"Имеются некорректные данные"}]
[null,null,"Лист \"График финансирования\"",null,{"$f":"'График финансирования'!K1","v":"Верно"}]
[null,null,"Лист \"График инвестирования\"",null,{"$f":"'График инвестирования'!L1","v":"Имеются некорректные данные"}]

{"sheet":"Предпосылки","index":3,"n_rows":432,"n_cols":29,"rows_kept":432,"cut":false,"hidden":false,"merged":[[1,5,2,5],[1,4,2,4],[1,3,2,3],[1,2,2,2],[260,7,265,13],[187,7,192,13]]}
[null,null,null,null,{"$f":"\"Лист:  \" & RIGHT(CELL(\"filename\",A1),LEN(CELL(\"filename\",A1))-SEARCH(\"]\",CELL(\"filename\",A1)))","v":"Лист:  Предпосылки"}]
[null,null,"Параметр","Ед. изм.","Источник","Текущее значение",null,{"$f":"YEAR(F7)","v":2026},{"$f":"$H$2+H3","v":2027},2028,2029,2030,2031,2032,2033,2034,2035,2036,2037,2038,2039,2040,{"$f":"$H$2+V3","v":2041},2042,2043,2044,2045,2046,2047]
[null,null,null,null,null,null,null,1,2,3,4,5,6,7,8,9,10,11,12,13,14,15,16,17,18,19,20,21]
[]
[null,"Общие допущения"]
[]
[null,null,"Дата оценки","х",null,"2026-01-01"]
[null,null,"Срок СПИК","лет",null,{"$f":"SUM(H8:AB8)","v":1},null,1,0,0,0,0,0,0,0,0,0]
[null,null,"Инвестиционная фаза проекта","х"]
[null,null,"Эксплуатационная фаза проекта","х"]
[null,null,"Действие налоговых льгот","лет","Лист: Налоги",{"$f":"Налоги!F278","v":1},null,{"$f":"Налоги!H278","v":1},{"$f":"Налоги!I278","v":0},{"$f":"Налоги!J278","v":0},{"$f":"Налоги!K278","v":0},{"$f":"Налоги!L278","v":0},{"$f":"Налоги!M278","v":0},{"$f":"Налоги!N278","v":0},{"$f":"Налоги!O278","v":0},{"$f":"Налоги!P278","v":0},{"$f":"Налоги!Q278","v":0},{"$f":"Налоги!R278","v":0},{"$f":"Налоги!S278","v":0},{"$f":"Налоги!T278","v":0},{"$f":"Налоги!U278","v":0},{"$f":"Налоги!V278","v":0},{"$f":"Налоги!W278","v":0},{"$f":"Налоги!X278","v":0},{"$f":"Налоги!Y278","v":0},{"$f":"Налоги!Z278","v":0},{"$f":"Налоги!AA278","v":0},0]
[null,null,"Дней в отчетном периоде","дн",null,null,null,{"$f":"DATE(I2,1,1)-DATE(H2,1,1)","v":365},{"$f":"DATE(J2,1,1)-DATE(I2,1,1)","v":365},366,365,365,365,366,365,365,365,366,365,365,365,366,{"$f":"DATE(X2,1,1)-DATE(W2,1,1)","v":365},365,365,366,365,365]
[]
[null,null,"Ставка дисконтирования (WACC)","%",null,{"$f":"WACC!D20","v":0.22999359887060991}]
[null,null,"Ставка дисконтирования для расчета бюджетной эффективности ","%","Ключевая ставка ЦБ РФ",0.14499999999999999]
[null,null,"Темп роста денежных потоков в постпрогнозном периоде (g)","%",null,{"$f":"INDEX(H20:AB20,,MATCH(0,H8:AB8,0)-1)","v":5.0999999999999997E-2}]
[]
[null,"Макроэкономические допущения"]
[]
[null,null,"Инфляция в России (ИПЦ)","%","МЭР или иные источники",null,null,5.0999999999999997E-2,0.04,0.04,0.04,0.04,0.04,0.04,0.04,0.04,0.04,0.04,0.04,0.04,0.04,0.04,0.04,0.04,0.04,0.04,0.04,0.04]
[null,null,"Рост оплаты труда","%","МЭР или иные источники",null,null,7.5999999999999998E-2,0.08,7.2999999999999995E-2,7.2999999999999995E-2,7.2999999999999995E-2,7.2999999999999995E-2,7.2999999999999995E-2,7.2999999999999995E-2,7.2999999999999995E-2,7.2999999999999995E-2,7.2999999999999995E-2,7.2999999999999995E-2,7.2999999999999995E-2,7.2999999999999995E-2,7.2999999999999995E-2,7.2999999999999995E-2,7.2999999999999995E-2,7.2999999999999995E-2,7.2999999999999995E-2,7.2999999999999995E-2,7.2999999999999995E-2]
[null,null,"Индекс цен производителей (ИЦП) или темп прироста цен на каждый вид сырья отдельной строкой","%","МЭР или иные источники",null,null,6.0999999999999999E-2,4.9000000000000002E-2,4.2999999999999997E-2,4.2999999999999997E-2,4.2999999999999997E-2,4.2999999999999997E-2,4.2999999999999997E-2,4.2999999999999997E-2,4.2999999999999997E-2,4.2999999999999997E-2,4.2999999999999997E-2,4.2999999999999997E-2,4.2999999999999997E-2,4.2999999999999997E-2,4.2999999999999997E-2,4.2999999999999997E-2,4.2999999999999997E-2,4.2999999999999997E-2,4.2999999999999997E-2,4.2999999999999997E-2,4.2999999999999997E-2]
[null,null,"Курс доллара США","руб./долл. США"]
[null,null,"…"]
[]
[null,"Индекс-дефлятор (цепной коэффициент):"]
[null,null,"ИПЦ РФ ","х",null,null,null,1,{"$f":"H27*(1+I20)","v":1.04},1.0816000000000001,1.1248640000000001,1.1698585600000002,1.2166529024000003,1.2653190184960004,1.3159317792358405,1.3685690504052741,1.4233118124214852,1.4802442849183446,1.5394540563150785,1.6010322185676817,1.6650735073103891,1.7316764476028046,1.8009435055069167,1.8729812457271935,1.9479004955562813,2.0258165153785326,2.1068491759936738,2.1911231430334208]
[null,null,"Заработная плата персонала","х",null,null,null,1,{"$f":"H28*(1+I21)","v":1.08},1.1588400000000001,1.2434353200000001,1.3342060983600001,1.4316031435402801,1.5361101730187205,1.6482462156490871,1.7685681893914704,1.8976736672170478,2.0362038449238922,2.1848467256033364,2.3443405365723797,2.5154773957421632,2.6991072456313412,2.8961420745624289,3.1075604460054862,3.3344123585638865,3.5778244607390501,3.8390056463730007,4.1192530585582299]
[null,null,"ИЦП РФ","х",null,null,null,1,{"$f":"H29*(1+I22)","v":1.0489999999999999},1.0941069999999999,1.1411536009999999,1.1902232058429998,1.2414028036942486,1.2947831242531012,1.3504587985959844,1.4085285269356116,1.4690952535938429,1.5322663494983779,1.5981538025268081,1.6668744160354607,1.7385500159249854,1.8133076666097596,1.8912798962739792,1.9726049318137602,2.0574269438817518,2.145896302468667,2.2381698434748194,2.3344111467442366]
[null,null,"Валютный курс","x",null,null,null,{"$f":"H23*(1+'Анализ чувствительности (СПИК)'!$D$63)","v":0},{"$f":"I23*(1+'Анализ чувствительности (СПИК)'!$D$63)","v":0},{"$f":"J23*(1+'Анализ чувствительности (СПИК)'!$D$63)","v":0},{"$f":"K23*(1+'Анализ чувствительности (СПИК)'!$D$63)","v":0},{"$f":"L23*(1+'Анализ чувствительности (СПИК)'!$D$63)","v":0},{"$f":"M23*(1+'Анализ чувствительности (СПИК)'!$D$63)","v":0},{"$f":"N23*(1+'Анализ чувствительности (СПИК)'!$D$63)","v":0},{"$f":"O23*(1+'Анализ чувствительности (СПИК)'!$D$63)","v":0},{"$f":"P23*(1+'Анализ чувствительности (СПИК)'!$D$63)","v":0},{"$f":"Q23*(1+'Анализ чувствительности (СПИК)'!$D$63)","v":0},{"$f":"R23*(1+'Анализ чувствительности (СПИК)'!$D$63)","v":0},{"$f":"S23*(1+'Анализ чувствительности (СПИК)'!$D$63)","v":0},{"$f":"T23*(1+'Анализ чувствительности (СПИК)'!$D$63)","v":0},{"$f":"U23*(1+'Анализ чувствительности (СПИК)'!$D$63)","v":0},{"$f":"V23*(1+'Анализ чувствительности (СПИК)'!$D$63)","v":0},{"$f":"W23*(1+'Анализ чувствительности (СПИК)'!$D$63)","v":0},{"$f":"X23*(1+'Анализ чувствительности (СПИК)'!$D$63)","v":0},{"$f":"Y23*(1+'Анализ чувствительности (СПИК)'!$D$63)","v":0},{"$f":"Z23*(1+'Анализ чувствительности (СПИК)'!$D$63)","v":0},{"$f":"AA23*(1+'Анализ чувствительности (СПИК)'!$D$63)","v":0},{"$f":"AB23*(1+'Анализ чувствительности (СПИК)'!$D$63)","v":0}]
[]
[null,"Предпосылки по расчету выручки"]
[]
[null,"Среднегодовые цены на реализуемую продукцию (без учета НДС)"]
[null,null,"Продукция 1","тыс. руб./ ед. ",null,null,null,{"$f":"$F35*H27*(1+'Анализ чувствительности (СПИК)'!$D$39)","v":0},{"$f":"$F35*I27*(1+'Анализ чувствительности (СПИК)'!$D$39)","v":0},{"$f":"$F35*J27*(1+'Анализ чувствительности (СПИК)'!$D$39)","v":0},{"$f":"$F35*K27*(1+'Анализ чувствительности (СПИК)'!$D$39)","v":0},{"$f":"$F35*L27*(1+'Анализ чувствительности (СПИК)'!$D$39)","v":0},{"$f":"$F35*M27*(1+'Анализ чувствительности (СПИК)'!$D$39)","v":0},{"$f":"$F35*N27*(1+'Анализ чувствительности (СПИК)'!$D$39)","v":0},{"$f":"$F35*O27*(1+'Анализ чувствительности (СПИК)'!$D$39)","v":0},{"$f":"$F35*P27*(1+'Анализ чувствительности (СПИК)'!$D$39)","v":0},{"$f":"$F35*Q27*(1+'Анализ чувствительности (СПИК)'!$D$39)","v":0},{"$f":"$F35*R27*(1+'Анализ чувствительности (СПИК)'!$D$39)","v":0},{"$f":"$F35*S27*(1+'Анализ чувствительности (СПИК)'!$D$39)","v":0},{"$f":"$F35*T27*(1+'Анализ чувствительности (СПИК)'!$D$39)","v":0},{"$f":"$F35*U27*(1+'Анализ чувствительности (СПИК)'!$D$39)","v":0},{"$f":"$F35*V27*(1+'Анализ чувствительности (СПИК)'!$D$39)","v":0},{"$f":"$F35*W27*(1+'Анализ чувствительности (СПИК)'!$D$39)","v":0},{"$f":"$F35*X27*(1+'Анализ чувствительности (СПИК)'!$D$39)","v":0},{"$f":"$F35*Y27*(1+'Анализ чувствительности (СПИК)'!$D$39)","v":0},{"$f":"$F35*Z27*(1+'Анализ чувствительности (СПИК)'!$D$39)","v":0},{"$f":"$F35*AA27*(1+'Анализ чувствительности (СПИК)'!$D$39)","v":0},{"$f":"$F35*AB27*(1+'Анализ чувствительности (СПИК)'!$D$39)","v":0}]
[null,null,"Продукция 2","тыс. руб./ ед. ",null,null,null,{"$f":"$F36*H28*(1+'Анализ чувствительности (СПИК)'!$D$39)","v":0},{"$f":"$F36*I28*(1+'Анализ чувствительности (СПИК)'!$D$39)","v":0},{"$f":"$F36*J28*(1+'Анализ чувствительности (СПИК)'!$D$39)","v":0},{"$f":"$F36*K28*(1+'Анализ чувствительности (СПИК)'!$D$39)","v":0},{"$f":"$F36*L28*(1+'Анализ чувствительности (СПИК)'!$D$39)","v":0},{"$f":"$F36*M28*(1+'Анализ чувствительности (СПИК)'!$D$39)","v":0},{"$f":"$F36*N28*(1+'Анализ чувствительности (СПИК)'!$D$39)","v":0},{"$f":"$F36*O28*(1+'Анализ чувствительности (СПИК)'!$D$39)","v":0},{"$f":"$F36*P28*(1+'Анализ чувствительности (СПИК)'!$D$39)","v":0},{"$f":"$F36*Q28*(1+'Анализ чувствительности (СПИК)'!$D$39)","v":0},{"$f":"$F36*R28*(1+'Анализ чувствительности (СПИК)'!$D$39)","v":0},{"$f":"$F36*S28*(1+'Анализ чувствительности (СПИК)'!$D$39)","v":0},{"$f":"$F36*T28*(1+'Анализ чувствительности (СПИК)'!$D$39)","v":0},{"$f":"$F36*U28*(1+'Анализ чувствительности (СПИК)'!$D$39)","v":0},{"$f":"$F36*V28*(1+'Анализ чувствительности (СПИК)'!$D$39)","v":0},{"$f":"$F36*W28*(1+'Анализ чувствительности (СПИК)'!$D$39)","v":0},{"$f":"$F36*X28*(1+'Анализ чувствительности (СПИК)'!$D$39)","v":0},{"$f":"$F36*Y28*(1+'Анализ чувствительности (СПИК)'!$D$39)","v":0},{"$f":"$F36*Z28*(1+'Анализ чувствительности (СПИК)'!$D$39)","v":0},{"$f":"$F36*AA28*(1+'Анализ чувствительности (СПИК)'!$D$39)","v":0},{"$f":"$F36*AB28*(1+'Анализ чувствительности (СПИК)'!$D$39)","v":0}]
[null,null,"…","тыс. руб./ ед. "]
[]
[]
[null,"Объем производства продукции"]
[null,null,{"$f":"C35","v":"Продукция 1"}," ед."]
[null,null,{"$f":"C36","v":"Продукция 2"}," ед."]
[null,null,{"$f":"C37","v":"…"}," ед."]
[null,null,"Итого"," ед.",null,null,null,{"$f":"SUM(H41:H43)","v":0},0,0,0,0,0,{"$f":"SUM(N41:N43)","v":0},0,0,0,0,0,0,0,0,0,0,0,0,0,0]
[]
[null,"Объем реализации продукции"]
[null,null,{"$f":"C35","v":"Продукция 1"}," ед.",null,null,null,{"$f":"H41","v":0},{"$f":"I41","v":0},0,0,0,0,0,0,0,0,0,0,0,0,0,0,0,0,0,0,0]
[null,null,{"$f":"C36","v":"Продукция 2"}," ед.",null,null,null,{"$f":"H42","v":0},{"$f":"I42","v":0},0,0,0,0,0,0,0,0,0,0,0,0,0,0,0,0,0,0,0]
[null,null,{"$f":"C37","v":"…"}," ед.",null,null,null,{"$f":"H43","v":0},{"$f":"I43","v":0},0,0,0,0,0,0,0,0,0,0,0,0,0,0,0,0,0,0,0]
[null,null,"Итого"," ед.",null,null,null,{"$f":"SUM(H47:H49)","v":0},{"$f":"SUM(I47:I49)","v":0},0,0,{"$f":"SUM(L47:L49)","v":0},0,0,0,0,0,0,0,0,0,{"$f":"SUM(V47:V49)","v":0},0,0,0,0,0,0]
[]
[null,"Изменение объема реализации продукции"]
[null,null,{"$f":"C35","v":"Продукция 1"},"%",null,null,null,{"$f":"IFERROR((H47-G47)/G47,\"-\")","v":"-"},"-","-","-","-","-","-","-","-","-","-",{"$f":"IFERROR((S47-R47)/R47,\"-\")","v":"-"},"-","-","-","-","-","-","-","-","-"]
[null,null,{"$f":"C36","v":"Продукция 2"},"%",null,null,null,{"$f":"IFERROR((H48-G48)/G48,\"-\")","v":"-"},"-","-","-","-","-","-","-","-","-","-",{"$f":"IFERROR((S48-R48)/R48,\"-\")","v":"-"},"-","-","-","-","-","-","-","-","-"]
[null,null,{"$f":"C37","v":"…"},"%"]
[]
[null,"Предпосылки по расчету себестоимости"]
[]
[null,"Среднегодовые цены удельных расходов (без учета НДС)"]
[]
[null,{"$f":"C35","v":"Продукция 1"}]
[null,null,"Сырье/материалы 1","тыс. руб./ удел. ед. ",null,null,null,{"$f":"$F62*H$29*(1+'Анализ чувствительности (СПИК)'!$D$55)","v":0},{"$f":"$F62*I$29*(1+'Анализ чувствительности (СПИК)'!$D$55)","v":0},{"$f":"$F62*J$29*(1+'Анализ чувствительности (СПИК)'!$D$55)","v":0},{"$f":"$F62*K$29*(1+'Анализ чувствительности (СПИК)'!$D$55)","v":0},{"$f":"$F62*L$29*(1+'Анализ чувствительности (СПИК)'!$D$55)","v":0},{"$f":"$F62*M$29*(1+'Анализ чувствительности (СПИК)'!$D$55)","v":0},{"$f":"$F62*N$29*(1+'Анализ чувствительности (СПИК)'!$D$55)","v":0},{"$f":"$F62*O$29*(1+'Анализ чувствительности (СПИК)'!$D$55)","v":0},{"$f":"$F62*P$29*(1+'Анализ чувствительности (СПИК)'!$D$55)","v":0},{"$f":"$F62*Q$29*(1+'Анализ чувствительности (СПИК)'!$D$55)","v":0},{"$f":"$F62*R$29*(1+'Анализ чувствительности (СПИК)'!$D$55)","v":0},{"$f":"$F62*S$29*(1+'Анализ чувствительности (СПИК)'!$D$55)","v":0},{"$f":"$F62*T$29*(1+'Анализ чувствительности (СПИК)'!$D$55)","v":0},{"$f":"$F62*U$29*(1+'Анализ чувствительности (СПИК)'!$D$55)","v":0},{"$f":"$F62*V$29*(1+'Анализ чувствительности (СПИК)'!$D$55)","v":0},{"$f":"$F62*W$29*(1+'Анализ чувствительности (СПИК)'!$D$55)","v":0},{"$f":"$F62*X$29*(1+'Анализ чувствительности (СПИК)'!$D$55)","v":0},{"$f":"$F62*Y$29*(1+'Анализ чувствительности (СПИК)'!$D$55)","v":0},{"$f":"$F62*Z$29*(1+'Анализ чувствительности (СПИК)'!$D$55)","v":0},{"$f":"$F62*AA$29*(1+'Анализ чувствительности (СПИК)'!$D$55)","v":0},{"$f":"$F62*AB$29*(1+'Анализ чувствительности (СПИК)'!$D$55)","v":0}]
[null,null,"Сырье/материалы 2","тыс. руб./ удел. ед. ",null,null,null,{"$f":"$F63*H$29*(1+'Анализ чувствительности (СПИК)'!$D$55)*H30","v":0},{"$f":"$F63*I$29*(1+'Анализ чувствительности (СПИК)'!$D$55)*I30","v":0},{"$f":"$F63*J$29*(1+'Анализ чувствительности (СПИК)'!$D$55)*J30","v":0},{"$f":"$F63*K$29*(1+'Анализ чувствительности (СПИК)'!$D$55)*K30","v":0},{"$f":"$F63*L$29*(1+'Анализ чувствительности (СПИК)'!$D$55)*L30","v":0},{"$f":"$F63*M$29*(1+'Анализ чувствительности (СПИК)'!$D$55)*M30","v":0},{"$f":"$F63*N$29*(1+'Анализ чувствительности (СПИК)'!$D$55)*N30","v":0},{"$f":"$F63*O$29*(1+'Анализ чувствительности (СПИК)'!$D$55)*O30","v":0},{"$f":"$F63*P$29*(1+'Анализ чувствительности (СПИК)'!$D$55)*P30","v":0},{"$f":"$F63*Q$29*(1+'Анализ чувствительности (СПИК)'!$D$55)*Q30","v":0},{"$f":"$F63*R$29*(1+'Анализ чувствительности (СПИК)'!$D$55)*R30","v":0},{"$f":"$F63*S$29*(1+'Анализ чувствительности (СПИК)'!$D$55)*S30","v":0},{"$f":"$F63*T$29*(1+'Анализ чувствительности (СПИК)'!$D$55)*T30","v":0},{"$f":"$F63*U$29*(1+'Анализ чувствительности (СПИК)'!$D$55)*U30","v":0},{"$f":"$F63*V$29*(1+'Анализ чувствительности (СПИК)'!$D$55)*V30","v":0},{"$f":"$F63*W$29*(1+'Анализ чувствительности (СПИК)'!$D$55)*W30","v":0},{"$f":"$F63*X$29*(1+'Анализ чувствительности (СПИК)'!$D$55)*X30","v":0},{"$f":"$F63*Y$29*(1+'Анализ чувствительности (СПИК)'!$D$55)*Y30","v":0},{"$f":"$F63*Z$29*(1+'Анализ чувствительности (СПИК)'!$D$55)*Z30","v":0},{"$f":"$F63*AA$29*(1+'Анализ чувствительности (СПИК)'!$D$55)*AA30","v":0},{"$f":"$F63*AB$29*(1+'Анализ чувствительности (СПИК)'!$D$55)*AB30","v":0}]
[null,null,"…"]
[]
[null,{"$f":"C36","v":"Продукция 2"}]
[null,null,"Сырье/материалы 1","тыс. руб./ удел. ед. ",null,null,null,{"$f":"$F67*H29","v":0},0,0,0,0,0,0,0,0,0,0,0,0,0,0,0,0,0,0,0,0]
[null,null,"Сырье/материалы 2","тыс. руб./ удел. ед. ",null,null,null,{"$f":"$F68*H29","v":0},0,0,0,0,0,0,0,0,0,0,0,0,0,0,0,0,0,0,0,0]
[null,null,"…"]
[]
[null,"Удельные расходы в расчете на единицу продукции"]
[]
[null,{"$f":"B61","v":"Продукция 1"}]
[null,null,{"$f":"C62","v":"Сырье/материалы 1"},"удел. ед. / ед. продукции",null,null,null,{"$f":"$F$74","v":0},{"$f":"$F$74","v":0},0,0,0,0,0,0,0,0,0,0,0,0,0,0,0,0,0,0,0]
[null,null,{"$f":"C63","v":"Сырье/материалы 2"},"удел. ед. / ед. продукции",null,null,null,{"$f":"$F$75","v":0},{"$f":"$F$75","v":0},0,0,0,0,0,0,0,0,0,0,0,0,0,0,0,0,0,0,0]
[null,null,{"$f":"C64","v":"…"}]
[]
[null,{"$f":"B66","v":"Продукция 2"}]
[null,null,{"$f":"C67","v":"Сырье/материалы 1"},"удел. ед. / ед. продукции",null,null,null,{"$f":"$F$79","v":0},{"$f":"$F$79","v":0},0,0,0,0,0,0,0,0,0,0,0,0,0,0,0,0,0,0,0]
[null,null,{"$f":"C68","v":"Сырье/материалы 2"},"удел. ед. / ед. продукции",null,null,null,{"$f":"$F$80","v":0},{"$f":"$F$80","v":0},0,0,0,0,0,0,0,0,0,0,0,0,0,0,0,0,0,0,0]
[null,null,{"$f":"C69","v":"…"}]
[]
[null,"Общехозяйственные расходы (без НДС)"]
[]
[null,"Общепроизводственные расходы "]
[null,null,"Статья расходов 1","тыс. руб."]
[null,null,"Статья расходов 2","тыс. руб."]
[null,null,"…","тыс. руб."]
[]
[null,null,"Итого"," тыс. руб.",null,null,null,{"$f":"SUM(H86:H88)","v":0},0,0,0,0,0,0,0,0,0,0,0,0,0,0,0,0,0,0,0,0]
[]
[null,null,"Аренда земельных участков",{"$f":"D86","v":"тыс. руб."},null,null,null,{"$f":"'График инвестирования'!H9","v":0},{"$f":"'График инвестирования'!I9","v":0},{"$f":"'График инвестирования'!J9","v":0},{"$f":"'График инвестирования'!K9","v":0},{"$f":"'График инвестирования'!L9","v":0},{"$f":"'График инвестирования'!M9","v":0},{"$f":"'График инвестирования'!N9","v":0},{"$f":"'График инвестирования'!O9","v":0},{"$f":"'График инвестирования'!P9","v":0},{"$f":"'График инвестирования'!Q9","v":0},{"$f":"'График инвестирования'!R9","v":0},{"$f":"'График инвестирования'!S9","v":0},{"$f":"'График инвестирования'!T9","v":0},{"$f":"'График инвестирования'!U9","v":0},{"$f":"'График инвестирования'!V9","v":0},{"$f":"'График инвестирования'!W9","v":0},{"$f":"'График инвестирования'!X9","v":0},{"$f":"'График инвестирования'!Y9","v":0},{"$f":"'График инвестирования'!Z9","v":0},{"$f":"'График инвестирования'!AA9","v":0},{"$f":"'График инвестирования'!AB9","v":0}]
[null,null,"ИТОГО с учетом аренды ",{"$f":"D90","v":" тыс. руб."},null,null,null,{"$f":"H90+H92","v":0},{"$f":"I90+I92","v":0},0,0,0,0,0,0,0,0,0,0,0,0,0,0,0,0,0,0,0]
[]
[null,"Коммерческие расходы"]
[null,null,"Статья расходов 1","тыс. руб."]
[null,null,"Статья расходов 2","тыс. руб."]
[null,null,"…","тыс. руб."]
[null,null,"Итого"," тыс. руб.",null,null,null,{"$f":"SUM(H96:H98)","v":0},0,0,0,0,0,0,0,0,0,0,0,0,0,0,0,0,0,0,0,0]
[]
[null,"Управленческие расходы "]
[null,null,"Статья расходов 1","тыс. руб."]
[null,null,"Статья расходов 2","тыс. руб."]
[null,null,"…","тыс. руб."]
[null,null,"Итого"," тыс. руб.",null,null,null,{"$f":"SUM(H102:H104)","v":0},0,0,0,0,0,0,0,0,0,0,0,0,0,0,0,0,0,0,0,0]
[]
[null,"Итого общехозяйственные расходы",null," тыс. руб.",null,null,null,{"$f":"SUM(IF(SUM($H$93:$AB$93)=0,H90,H93),\nH99,\nH105)","v":0},{"$f":"SUM(IF(SUM($H$93:$AB$93)=0,I90,I93),\nI99,\nI105)","v":0},0,0,0,0,0,0,0,0,0,0,0,0,0,0,0,0,0,0,0]
[]
[null,"Прочие расходы (без НДС)"]
[]
[null,null,"Статья расходов 1","тыс. руб."]
[null,null,"Статья расходов 2","тыс. руб."]
[null,null,"…","тыс. руб."]
[null,null,"Итого"," тыс. руб.",null,null,null,{"$f":"SUM(H111:H113)","v":0},0,0,0,0,0,0,0,0,0,0,0,0,0,0,0,0,0,0,0,0]
[]
[null,null,"Статьи, подлежащие обложению НДС (1 - да, 0 - нет)"]
[]
[null,null,{"$f":"C111","v":"Статья расходов 1"},"тыс. руб.",null,1]
[null,null,{"$f":"C112","v":"Статья расходов 2"},"тыс. руб.",null,0]
[null,null,{"$f":"C113","v":"…"},"тыс. руб.",null,0]
[]
[null,"Расходы на персонал"]
[]
[null,"Численность рабочих мест в соответствии со штатным расписанием",null,null,null,null,null,{"$f":"SUM(H136,H148)","v":0},{"$f":"SUM(I136,I148)","v":0},0,0,0,0,0,0,0,0,0,0,0,0,0,0,0,0,0,0,0]
[]
[null,{"$f":" \"Сотрудники с ФОТ менее \" & F335  &\" тыс. рублей/год\"","v":"Сотрудники с ФОТ менее 2979 тыс. рублей/год"}]
[null,null,"Производственный персонал","чел.",null,null,null,{"$f":"SUBTOTAL(9,H128:H129)","v":0},{"$f":"SUBTOTAL(9,I128:I129)","v":0},0,0,0,0,0,0,0,0,0,0,0,0,0,0,0,0,0,0,0]
[null,null,"Категория 1","чел."]
[null,null,"…","чел."]
[null,null,"Вспомогательный персонал","чел.",null,null,null,{"$f":"SUBTOTAL(9,H131:H132)","v":0},{"$f":"SUBTOTAL(9,I131:I132)","v":0},0,0,0,0,0,0,0,0,0,0,0,0,0,0,0,0,0,0,0]
[null,null,"Категория 1","чел."]
[null,null,"…","чел."]
[null,null,"Административный персонал","чел.",null,null,null,{"$f":"SUBTOTAL(9,H134:H135)","v":0},{"$f":"SUBTOTAL(9,I134:I135)","v":0},0,0,0,0,0,0,0,0,0,0,0,0,0,0,0,0,0,0,0]
[null,null,"Категория 1","чел."]
[null,null,"…","чел."]
[null,null,"Итого","чел.",null,null,null,{"$f":"SUBTOTAL(9,H127:H135)","v":0},{"$f":"SUBTOTAL(9,I127:I135)","v":0},0,0,0,0,0,0,0,0,0,0,0,0,0,0,0,0,0,0,0]
[]
[null,{"$f":" \"Сотрудники с ФОТ более или равно \" & F335  &\" тыс. рублей/год (каждый указывается отдельно)\"","v":"Сотрудники с ФОТ более или равно 2979 тыс. рублей/год (каждый указывается отдельно)"}]
[null,null,"Производственный персонал","чел.",null,null,null,{"$f":"SUBTOTAL(9,H140:H141)","v":0},{"$f":"SUBTOTAL(9,I140:I141)","v":0},0,0,0,0,0,0,0,0,0,0,0,0,0,0,0,0,0,0,0]
[null,null,"Сотрудник 1 ","чел."]
[null,null,"…","чел."]
[null,null,"Вспомогательный персонал","чел.",null,null,null,{"$f":"SUBTOTAL(9,H143:H144)","v":0},{"$f":"SUBTOTAL(9,I143:I144)","v":0},0,0,0,0,0,0,0,0,0,0,0,0,0,0,0,0,0,0,0]
[null,null,"Сотрудник 1 ","чел."]
[null,null,"…","чел."]
[null,null,"Административный персонал","чел.",null,null,null,{"$f":"SUBTOTAL(9,H146:H147)","v":0},{"$f":"SUBTOTAL(9,I146:I147)","v":0},0,0,0,0,0,0,0,0,0,0,0,0,0,0,0,0,0,0,0]
[null,null,"Сотрудник 1 ","чел."]
[null,null,"…","чел."]
[null,null,"Итого","чел.",null,null,null,{"$f":"SUBTOTAL(9,H139:H147)","v":0},{"$f":"SUBTOTAL(9,I139:I147)","v":0},0,0,0,0,0,0,0,0,0,0,0,0,0,0,0,0,0,0,0]
[]
[null,"Фонд оплаты труда (на 1 сотрудника)"]
[]
[null,{"$f":"B126","v":"Сотрудники с ФОТ менее 2979 тыс. рублей/год"}]
[null,null,{"$f":"C127","v":"Производственный персонал"},"тыс. руб.",null,null,null,{"$f":"SUBTOTAL(9,H154:H155)","v":0},{"$f":"SUBTOTAL(9,I154:I155)","v":0},0,0,0,0,0,0,0,0,0,0,0,0,0,0,0,0,0,0,0]
[null,null,{"$f":"C128","v":"Категория 1"},"тыс. руб."]
[null,null,"…","тыс. руб."]
[null,null,"Вспомогательный персонал","тыс. руб.",null,null,null,{"$f":"SUBTOTAL(9,H157:H158)","v":0},{"$f":"SUBTOTAL(9,I157:I158)","v":0},0,0,0,0,0,0,0,0,0,0,0,0,0,0,0,0,0,0,0]
[null,null,"Категория 1","тыс. руб."]
[null,null,"…","тыс. руб."]
[null,null,"Административный персонал","тыс. руб.",null,null,null,{"$f":"SUBTOTAL(9,H160:H161)","v":0},{"$f":"SUBTOTAL(9,I160:I161)","v":0},0,0,0,0,0,0,0,0,0,0,0,0,0,0,0,0,0,0,0]
[null,null,"Категория 1","тыс. руб."]
[null,null,"…","тыс. руб."]
[null,null,"Итого","тыс. руб.",null,null,null,{"$f":"SUBTOTAL(9,H153:H161)","v":0},{"$f":"SUBTOTAL(9,I153:I161)","v":0},0,0,0,0,0,0,0,0,0,0,0,0,0,0,0,0,0,0,0]
[]
[null,{"$f":"B138","v":"Сотрудники с ФОТ более или равно 2979 тыс. рублей/год (каждый указывается отдельно)"}]
[null,null,{"$f":"C139","v":"Производственный персонал"},"тыс. руб.",null,null,null,{"$f":"SUBTOTAL(9,H166:H167)","v":0},0,0,0,0,0,0,0,0,0,0,0,0,0,{"$f":"SUBTOTAL(9,V166:V167)","v":0},0,0,0,0,0,0]
[null,null,{"$f":"C140","v":"Сотрудник 1 "},"тыс. руб."]
[null,null,"…","тыс. руб."]
[null,null,"Вспомогательный персонал","тыс. руб.",null,null,null,{"$f":"SUBTOTAL(9,H169:H170)","v":0},0,0,0,0,0,0,0,0,0,0,0,0,0,{"$f":"SUBTOTAL(9,V169:V170)","v":0},0,0,0,0,0,0]
[null,null,"Сотрудник 1 ","тыс. руб."]
[null,null,"…","тыс. руб."]
[null,null,"Административный персонал","тыс. руб.",null,null,null,{"$f":"SUBTOTAL(9,H172:H173)","v":0},0,0,0,0,0,0,0,0,0,0,0,0,0,{"$f":"SUBTOTAL(9,V172:V173)","v":0},0,0,0,0,0,0]
[null,null,"Сотрудник 1 ","тыс. руб."]
[null,null,"…","тыс. руб."]
[null,null,"Итого","тыс. руб.",null,null,null,{"$f":"SUBTOTAL(9,H165:H173)","v":0},0,0,0,0,0,0,0,0,0,0,0,0,0,{"$f":"SUBTOTAL(9,V165:V173)","v":0},0,0,0,0,0,0]
[]
[null,"Ранее осуществленные инвестиции"]
[]
[null,null,"В рамках СПИК планируется реализация (инвестиционного проекта / \nнового этапа инвестиционного проекта)",null,null,"инвестиционного проекта"]
[]
[null,null,"Ранее понесенные расходы на реализацию проекта за 12 мес. до подачи Заявления или в календарный год подачи Заявки на заключение СПИК 1.0 (при реализации нового этапа инвестиционного проекта):","тыс. руб."]
[]
[null,null,"В случае реализации нового этапа инвестиционного проекта:"]
[null,null,"Расходы, осуществленные ранее календарного года даты подачи заявки на СПИК","тыс. руб."]
[null,null,"Общая сумма инвестиций по проекту","тыс. руб.",null,{"$f":"F183+'График инвестирования'!F35","v":0}]
[null,null,"Доля,  которую новый этап инвестиционного проекта составляет от совокупной стоимости проекта","%",null,{"$f":"IFERROR('График инвестирования'!F35/Предпосылки!F184,0)","v":0}]
[]
[null,"Капитальные затраты и амортизация"]
[null,null,null,null,null,null,null,"Затраты на создание/модернизацию в проекте заполняются на листе \"График инвестирования\""]
[]
[]
[]
[]
[]
[null,"Затраты на создание/модернизацию (без НДС)",null,null,null,"Ранее осуществленные"]
[null,null,"Здания и сооружения","тыс. руб.",null,{"$f":"'График инвестирования'!E12+'График инвестирования'!E14+'График инвестирования'!E19+'График инвестирования'!E23+'График инвестирования'!E27","v":0},null,{"$f":"'График инвестирования'!H12+'График инвестирования'!H14+'График инвестирования'!H19+'График инвестирования'!H23+'График инвестирования'!H27","v":0},{"$f":"'График инвестирования'!I12+'График инвестирования'!I14+'График инвестирования'!I19+'График инвестирования'!I23+'График инвестирования'!I27","v":0},{"$f":"'График инвестирования'!J12+'График инвестирования'!J14+'График инвестирования'!J19+'График инвестирования'!J23+'График инвестирования'!J27","v":0},{"$f":"'График инвестирования'!K12+'График инвестирования'!K14+'График инвестирования'!K19+'График инвестирования'!K23+'График инвестирования'!K27","v":0},{"$f":"'График инвестирования'!L12+'График инвестирования'!L14+'График инвестирования'!L19+'График инвестирования'!L23+'График инвестирования'!L27","v":0},{"$f":"'График инвестирования'!M12+'График инвестирования'!M14+'График инвестирования'!M19+'График инвестирования'!M23+'График инвестирования'!M27","v":0},{"$f":"'График инвестирования'!N12+'График инвестирования'!N14+'График инвестирования'!N19+'График инвестирования'!N23+'График инвестирования'!N27","v":0},{"$f":"'График инвестирования'!O12+'График инвестирования'!O14+'График инвестирования'!O19+'График инвестирования'!O23+'График инвестирования'!O27","v":0},{"$f":"'График инвестирования'!P12+'График инвестирования'!P14+'График инвестирования'!P19+'График инвестирования'!P23+'График инвестирования'!P27","v":0},{"$f":"'График инвестирования'!Q12+'График инвестирования'!Q14+'График инвестирования'!Q19+'График инвестирования'!Q23+'График инвестирования'!Q27","v":0},{"$f":"'График инвестирования'!R12+'График инвестирования'!R14+'График инвестирования'!R19+'График инвестирования'!R23+'График инвестирования'!R27","v":0},{"$f":"'График инвестирования'!S12+'График инвестирования'!S14+'График инвестирования'!S19+'График инвестирования'!S23+'График инвестирования'!S27","v":0},{"$f":"'График инвестирования'!T12+'График инвестирования'!T14+'График инвестирования'!T19+'График инвестирования'!T23+'График инвестирования'!T27","v":0},{"$f":"'График инвестирования'!U12+'График инвестирования'!U14+'График инвестирования'!U19+'График инвестирования'!U23+'График инвестирования'!U27","v":0},{"$f":"'График инвестирования'!V12+'График инвестирования'!V14+'График инвестирования'!V19+'График инвестирования'!V23+'График инвестирования'!V27","v":0},{"$f":"'График инвестирования'!W12+'График инвестирования'!W14+'График инвестирования'!W19+'График инвестирования'!W23+'График инвестирования'!W27","v":0},{"$f":"'График инвестирования'!X12+'График инвестирования'!X14+'График инвестирования'!X19+'График инвестирования'!X23+'График инвестирования'!X27","v":0},{"$f":"'График инвестирования'!Y12+'График инвестирования'!Y14+'График инвестирования'!Y19+'График инвестирования'!Y23+'График инвестирования'!Y27","v":0},{"$f":"'График инвестирования'!Z12+'График инвестирования'!Z14+'График инвестирования'!Z19+'График инвестирования'!Z23+'График инвестирования'!Z27","v":0},{"$f":"'График инвестирования'!AA12+'График инвестирования'!AA14+'График инвестирования'!AA19+'График инвестирования'!AA23+'График инвестирования'!AA27","v":0},{"$f":"'График инвестирования'!AB12+'График инвестирования'!AB14+'График инвестирования'!AB19+'График инвестирования'!AB23+'График инвестирования'!AB27","v":0}]
[null,null,"Машины и оборудование","тыс. руб.",null,{"$f":"'График инвестирования'!E11+'График инвестирования'!E18+'График инвестирования'!E22+'График инвестирования'!E26","v":0},null,{"$f":"'График инвестирования'!H11+'График инвестирования'!H18+'График инвестирования'!H22+'График инвестирования'!H26","v":0},{"$f":"'График инвестирования'!I11+'График инвестирования'!I18+'График инвестирования'!I22+'График инвестирования'!I26","v":0},{"$f":"'График инвестирования'!J11+'График инвестирования'!J18+'График инвестирования'!J22+'График инвестирования'!J26","v":0},{"$f":"'График инвестирования'!K11+'График инвестирования'!K18+'График инвестирования'!K22+'График инвестирования'!K26","v":0},{"$f":"'График инвестирования'!L11+'График инвестирования'!L18+'График инвестирования'!L22+'График инвестирования'!L26","v":0},{"$f":"'График инвестирования'!M11+'График инвестирования'!M18+'График инвестирования'!M22+'График инвестирования'!M26","v":0},{"$f":"'График инвестирования'!N11+'График инвестирования'!N18+'График инвестирования'!N22+'График инвестирования'!N26","v":0},{"$f":"'График инвестирования'!O11+'График инвестирования'!O18+'График инвестирования'!O22+'График инвестирования'!O26","v":0},{"$f":"'График инвестирования'!P11+'График инвестирования'!P18+'График инвестирования'!P22+'График инвестирования'!P26","v":0},{"$f":"'График инвестирования'!Q11+'График инвестирования'!Q18+'График инвестирования'!Q22+'График инвестирования'!Q26","v":0},{"$f":"'График инвестирования'!R11+'График инвестирования'!R18+'График инвестирования'!R22+'График инвестирования'!R26","v":0},{"$f":"'График инвестирования'!S11+'График инвестирования'!S18+'График инвестирования'!S22+'График инвестирования'!S26","v":0},{"$f":"'График инвестирования'!T11+'График инвестирования'!T18+'График инвестирования'!T22+'График инвестирования'!T26","v":0},{"$f":"'График инвестирования'!U11+'График инвестирования'!U18+'График инвестирования'!U22+'График инвестирования'!U26","v":0},{"$f":"'График инвестирования'!V11+'График инвестирования'!V18+'График инвестирования'!V22+'График инвестирования'!V26","v":0},{"$f":"'График инвестирования'!W11+'График инвестирования'!W18+'График инвестирования'!W22+'График инвестирования'!W26","v":0},{"$f":"'График инвестирования'!X11+'График инвестирования'!X18+'График инвестирования'!X22+'График инвестирования'!X26","v":0},{"$f":"'График инвестирования'!Y11+'График инвестирования'!Y18+'График инвестирования'!Y22+'График инвестирования'!Y26","v":0},{"$f":"'График инвестирования'!Z11+'График инвестирования'!Z18+'График инвестирования'!Z22+'График инвестирования'!Z26","v":0},{"$f":"'График инвестирования'!AA11+'График инвестирования'!AA18+'График инвестирования'!AA22+'График инвестирования'!AA26","v":0},{"$f":"'График инвестирования'!AB11+'График инвестирования'!AB18+'График инвестирования'!AB22+'График инвестирования'!AB26","v":0}]
[null,null,"Земля ","тыс. руб.",null,{"$f":"'График инвестирования'!E8","v":0},null,{"$f":"'График инвестирования'!H8","v":0},{"$f":"'График инвестирования'!I8","v":0},{"$f":"'График инвестирования'!J8","v":0},{"$f":"'График инвестирования'!K8","v":0},{"$f":"'График инвестирования'!L8","v":0},{"$f":"'График инвестирования'!M8","v":0},{"$f":"'График инвестирования'!N8","v":0},{"$f":"'График инвестирования'!O8","v":0},{"$f":"'График инвестирования'!P8","v":0},{"$f":"'График инвестирования'!Q8","v":0},{"$f":"'График инвестирования'!R8","v":0},{"$f":"'График инвестирования'!S8","v":0},{"$f":"'График инвестирования'!T8","v":0},{"$f":"'График инвестирования'!U8","v":0},{"$f":"'График инвестирования'!V8","v":0},{"$f":"'График инвестирования'!W8","v":0},{"$f":"'График инвестирования'!X8","v":0},{"$f":"'График инвестирования'!Y8","v":0},{"$f":"'График инвестирования'!Z8","v":0},{"$f":"'График инвестирования'!AA8","v":0},{"$f":"'График инвестирования'!AB8","v":0}]
[null,null,"Транспортные средства","тыс. руб.",null,{"$f":"'График инвестирования'!E20+'График инвестирования'!E24+'График инвестирования'!E28","v":0},null,{"$f":"'График инвестирования'!H20+'График инвестирования'!H24+'График инвестирования'!H28","v":0},{"$f":"'График инвестирования'!I20+'График инвестирования'!I24+'График инвестирования'!I28","v":0},{"$f":"'График инвестирования'!J20+'График инвестирования'!J24+'График инвестирования'!J28","v":0},{"$f":"'График инвестирования'!K20+'График инвестирования'!K24+'График инвестирования'!K28","v":0},{"$f":"'График инвестирования'!L20+'График инвестирования'!L24+'График инвестирования'!L28","v":0},{"$f":"'График инвестирования'!M20+'График инвестирования'!M24+'График инвестирования'!M28","v":0},{"$f":"'График инвестирования'!N20+'График инвестирования'!N24+'График инвестирования'!N28","v":0},{"$f":"'График инвестирования'!O20+'График инвестирования'!O24+'График инвестирования'!O28","v":0},{"$f":"'График инвестирования'!P20+'График инвестирования'!P24+'График инвестирования'!P28","v":0},{"$f":"'График инвестирования'!Q20+'График инвестирования'!Q24+'График инвестирования'!Q28","v":0},{"$f":"'График инвестирования'!R20+'График инвестирования'!R24+'График инвестирования'!R28","v":0},{"$f":"'График инвестирования'!S20+'График инвестирования'!S24+'График инвестирования'!S28","v":0},{"$f":"'График инвестирования'!T20+'График инвестирования'!T24+'График инвестирования'!T28","v":0},{"$f":"'График инвестирования'!U20+'График инвестирования'!U24+'График инвестирования'!U28","v":0},{"$f":"'График инвестирования'!V20+'График инвестирования'!V24+'График инвестирования'!V28","v":0},{"$f":"'График инвестирования'!W20+'График инвестирования'!W24+'График инвестирования'!W28","v":0},{"$f":"'График инвестирования'!X20+'График инвестирования'!X24+'График инвестирования'!X28","v":0},{"$f":"'График инвестирования'!Y20+'График инвестирования'!Y24+'График инвестирования'!Y28","v":0},{"$f":"'График инвестирования'!Z20+'График инвестирования'!Z24+'График инвестирования'!Z28","v":0},{"$f":"'График инвестирования'!AA20+'График инвестирования'!AA24+'График инвестирования'!AA28","v":0},{"$f":"'График инвестирования'!AB20+'График инвестирования'!AB24+'График инвестирования'!AB28","v":0}]
[null,null,"Нематериальные активы с определенным СПИ","тыс. руб.",null,{"$f":"'График инвестирования'!E30+'График инвестирования'!E33","v":0},null,{"$f":"'График инвестирования'!H30+'График инвестирования'!H33","v":0},{"$f":"'График инвестирования'!I30+'График инвестирования'!I33","v":0},{"$f":"'График инвестирования'!J30+'График инвестирования'!J33","v":0},{"$f":"'График инвестирования'!K30+'График инвестирования'!K33","v":0},{"$f":"'График инвестирования'!L30+'График инвестирования'!L33","v":0},{"$f":"'График инвестирования'!M30+'График инвестирования'!M33","v":0},{"$f":"'График инвестирования'!N30+'График инвестирования'!N33","v":0},{"$f":"'График инвестирования'!O30+'График инвестирования'!O33","v":0},{"$f":"'График инвестирования'!P30+'График инвестирования'!P33","v":0},{"$f":"'График инвестирования'!Q30+'График инвестирования'!Q33","v":0},{"$f":"'График инвестирования'!R30+'График инвестирования'!R33","v":0},{"$f":"'График инвестирования'!S30+'График инвестирования'!S33","v":0},{"$f":"'График инвестирования'!T30+'График инвестирования'!T33","v":0},{"$f":"'График инвестирования'!U30+'График инвестирования'!U33","v":0},{"$f":"'График инвестирования'!V30+'График инвестирования'!V33","v":0},{"$f":"'График инвестирования'!W30+'График инвестирования'!W33","v":0},{"$f":"'График инвестирования'!X30+'График инвестирования'!X33","v":0},{"$f":"'График инвестирования'!Y30+'График инвестирования'!Y33","v":0},{"$f":"'График инвестирования'!Z30+'График инвестирования'!Z33","v":0},{"$f":"'График инвестирования'!AA30+'График инвестирования'!AA33","v":0},{"$f":"'График инвестирования'!AB30+'График инвестирования'!AB33","v":0}]
[null,null,"Нематериальные активы с неопределенным СПИ (не амортизируются)","тыс. руб."]
[null,null,"Итого","тыс. руб.",null,{"$f":"SUM(F195:F200)","v":0},null,0,0,0,0,0,0,0,0,0,0,0,0,0,0,0,0,0,0,0,0,0]
[]
[null,"Затраты на поддержание (без НДС)"]
[null,null,{"$f":"C195","v":"Здания и сооружения"},"тыс. руб."]
[null,null,"Машины и оборудование","тыс. руб."]
[null,null,"Земля ","тыс. руб."]
[null,null,"Транспортные средства","тыс. руб."]
[null,null,"Нематериальные активы с определенным СПИ","тыс. руб."]
[null,null,"Нематериальные активы с неопределенным СПИ (не амортизируются)","тыс. руб."]
[null,null,"Итого","тыс. руб.",null,null,null,{"$f":"SUM(H204:H209)","v":0},0,0,0,0,0,0,0,0,0,0,0,0,0,0,0,0,0,0,0,0]
[]
[null,"Принятие к учету объектов капитальных вложений к учету (без НДС)"]
[null,null,{"$f":"C204","v":"Здания и сооружения"},"тыс. руб."]
[null,null,"Машины и оборудование","тыс. руб."]
[null,null,"Земля ","тыс. руб."]
[null,null,"Транспортные средства","тыс. руб."]
[null,null,"Нематериальные активы с определенным СПИ","тыс. руб."]
[null,null,"Нематериальные активы с неопределенным СПИ (не амортизируются)","тыс. руб."]
[null,null,"Итого","тыс. руб.",null,null,null,{"$f":"SUM(H213:H218)","v":0},0,0,0,0,0,0,0,0,0,0,0,0,0,0,0,0,0,0,0,0]
[]
[null,"Срок полезного использования:"]
[null,null,"Здания и сооружения","лет",null,20]
[null,null,"Машины и оборудование","лет",null,10]
[null,null,"Транспортные средства","лет",null,7]
[null,null,"Нематериальные активы с определенным СПИ","лет",null,20]
[]
[null,"Норма амортизации"]
[null,null,{"$f":"C222","v":"Здания и сооружения"},"%",null,{"$f":"One/F222","v":0.05}]
[null,null,{"$f":"C223","v":"Машины и оборудование"},"%",null,{"$f":"One/F223","v":0.1}]
[null,null,{"$f":"C224","v":"Транспортные средства"},"%",null,{"$f":"One/F224","v":0.14285714285714285}]
[null,null,{"$f":"C225","v":"Нематериальные активы с определенным СПИ"},"%",null,{"$f":"One/F225","v":0.05}]
[]
[null,"Оборотный капитал"]
[]
[null,"Период оборачиваемости:"]
[null,"Запасы"]
[null,{"$f":"B61","v":"Продукция 1"}]
[null,null,{"$f":"C62","v":"Сырье/материалы 1"},"дн.",null,null,null,{"$f":"$F238","v":0},{"$f":"$F238","v":0},0,0,0,0,0,0,0,0,0,0,0,0,0,0,0,{"$f":"$F238","v":0},0,0,{"$f":"$F238","v":0}]
[null,null,{"$f":"C63","v":"Сырье/материалы 2"},"дн.",null,null,null,{"$f":"$F239","v":0},0,0,0,0,0,0,0,0,0,0,0,0,0,0,0,0,0,0,0,0]
[null,null,{"$f":"C64","v":"…"}]
[null,{"$f":"B66","v":"Продукция 2"}]
[null,null,{"$f":"C67","v":"Сырье/материалы 1"},"дн.",null,null,null,{"$f":"$F$242","v":0},{"$f":"$F$242","v":0},0,0,0,0,0,0,0,0,0,0,0,0,0,0,0,{"$f":"$F$242","v":0},0,0,0]
[null,null,{"$f":"C68","v":"Сырье/материалы 2"},"дн.",null,null,null,{"$f":"$F$242","v":0},0,0,0,0,0,0,0,0,0,0,0,0,0,0,0,0,0,0,0,0]
[null,null,{"$f":"C69","v":"…"}]
[]
[null,"Источники финансирования проекта"]
[]
[null,"Ранее привлечено в проект"]
[null,null,"Собственные средства","тыс. руб."]
[null,null,"Заемное финансирование","тыс. руб."]
[null,null,"Процентная ставка для ранее привлеченного финансирования","%"]
[]
[null,"Финансирование в течение срока действия СПИК"]
[null,null,"Вложение в уставный капитал","тыс. руб.",null,{"$f":"SUM(H254:AA254)","v":0}]
[null,null,"Вложение в добавочный капитал","тыс. руб.",null,{"$f":"SUM(H255:AA255)","v":0}]
[]
[null,null,{"$f":"F260&\" \"&F258&\" \"&\"№\"&F259","v":"  №"}]
[null,null,"Наименование контрагента"]
[null,null,"Номер договора займа (кредитного договора)"]
[null,null,"Вид"]
[null,null,{"$f":"Финансирование!C11","v":"Срок"},null,"мес.",{"$f":"Финансирование!F11","v":0},null,"Условия заемного финансирования заполняются на листе \"Финансирование\""]
[null,null,{"$f":"Финансирование!C12","v":"Общая сумма займа по договору"},null,"тыс. руб.",{"$f":"Финансирование!F12","v":0}]
[null,null,{"$f":"Финансирование!C13","v":"Сумма займа в рамках СПИК"},null,"тыс. руб.",{"$f":"Финансирование!F13","v":0}]
[null,null,{"$f":"Финансирование!C14","v":"Дата получения займа"},null,"х",{"$f":"Финансирование!F14","v":0}]
[null,null,{"$f":"Финансирование!C15","v":"Дата погашения займа"},null,"х",{"$f":"Финансирование!F15","v":0}]
[null,null,{"$f":"Финансирование!C16","v":"Процентная ставка по займу"},null,"%",{"$f":"Финансирование!F16","v":0}]
[]
[null,null,{"$f":"F271&\" \"&F269&\" \"&\"№\"&F270","v":"  №"}]
[null,null,{"$f":"C258","v":"Наименование контрагента"}]
[null,null,{"$f":"C259","v":"Номер договора займа (кредитного договора)"}]
[null,null,"Вид"]
[null,null,"Срок",null,"мес.",{"$f":"Финансирование!F27","v":0}]
[null,null,"Общая сумма займа по договору",null,"тыс. руб.",{"$f":"Финансирование!F28","v":0}]
[null,null,"Сумма займа в рамках СПИК",null,"тыс. руб.",{"$f":"Финансирование!F29","v":0}]
[null,null,"Дата получения займа",null,"х",{"$f":"Финансирование!F30","v":0}]
[null,null,"Дата погашения займа",null,"х",{"$f":"Финансирование!F31","v":0}]
[null,null,"Процентная ставка по займу",null,"%",{"$f":"Финансирование!F32","v":0}]
[]
[null,"Получение государственных субсидий"]
[]
[null,null,"Получение субсидий, включаемых в налогооблагаемую базу","тыс. руб.",null,{"$f":"SUM(H281:AB281)","v":0}]
[null,null,"Получение субсидий, не включаемых в налогооблагаемую базу","тыс. руб.",null,{"$f":"SUM(H282:AB282)","v":0}]
[]
[null,"Предпосылки по налогам и взносам в внебюджетные фонды"]
[]
[null,"Запрашиваемые по СПИК льготы по налогам "]
[null,null,"Налог на прибыль",null,"НК РФ/НПА субъекта",null,null,"1- да, 0 - нет"]
[null,null,"Налог на имущество",null,"НПА субъекта",null,null,"1- да, 0 - нет"]
[null,null,"Транспортный налог",null,"НПА субъекта",null,null,"1- да, 0 - нет"]
[null,null,"Земельный налог",null,"НПА мун. образования",null,null,"1- да, 0 - нет"]
[null,null,"Страховые взносы",null,"НК РФ",null,null,"1- да, 0 - нет"]
[]
[null,"Стандартные налоговые ставки"]
[null,null,"НДС (общая)","%","НК РФ",null,null,0.22,0.22,0.22,0.22,0.22,0.22,0.22,0.22,0.22,0.22,0.22,0.22,0.22,0.22,0.22,0.22,0.22,0.22,0.22,0.22,0.22]
[]
[null,null,"Налог на прибыль (общая ставка)","%","НК РФ",0.25]
[null,null,"Налог на прибыль в федеральный бюджет","%","НК РФ",null,null,{"$f":"IF(H2<=2030,8%,7%)","v":0.08},0.08,0.08,0.08,0.08,7.0000000000000007E-2,7.0000000000000007E-2,7.0000000000000007E-2,7.0000000000000007E-2,7.0000000000000007E-2,7.0000000000000007E-2,7.0000000000000007E-2,7.0000000000000007E-2,7.0000000000000007E-2,7.0000000000000007E-2,7.0000000000000007E-2,7.0000000000000007E-2,7.0000000000000007E-2,7.0000000000000007E-2,7.0000000000000007E-2,7.0000000000000007E-2]
[null,null,"Налог на прибыль в региональный бюджет","%","НК РФ",null,null,{"$f":"$F$296-H297","v":0.16999999999999998},{"$f":"$F$296-I297","v":0.16999999999999998},0.16999999999999998,0.16999999999999998,0.16999999999999998,0.18,0.18,0.18,0.18,0.18,0.18,0.18,0.18,0.18,0.18,0.18,0.18,0.18,0.18,0.18,0.18]
[null,null,"Налог на имущество организаций","%","НК РФ",2.1999999999999999E-2]
[null,null,"Земельный налог","%","НК РФ",1.4999999999999999E-2]
[]
[null,null,"НДФЛ"]
[]
[null,null,"Ставка","Мин доход, тыс. руб.","Макс доход, тыс. руб."]
[null,null,0.13,0,2400]
[null,null,0.15,{"$f":"E305","v":2400},5000]
[null,null,0.18,{"$f":"E306","v":5000},20000]
[null,null,0.2,{"$f":"E307","v":20000},50000]
[null,null,0.22,{"$f":"E308","v":50000},"-"]
[]
[]
[null,null,"Транспортный налог"]
[null,null,"Налоговая ставка","руб. / 1 л.с.","НК РФ"]
[]
[null,null,"Налоговая база"]
[null,null,"Наименование транспортного средства",null,"Количество","Мощность двигателя, л.с."]
[null,null,"Транспортное средство 1"]
[null,null,"Транспортное средство 2"]
[null,null,"…"]
[]
[null,"Льготные налоговые ставки в сценарии Со СПИК"]
[null,null,"Налог на прибыль (общая)","%",null,null,null,{"$f":"SUM(H323:H324)","v":0},{"$f":"SUM(I323:I324)","v":0},0,0,0,0,0,0,0,0,0,0,0,0,0,0,0,0,0,0,0]
[null,null,"Налог на прибыль в федеральный бюджет","%","НК РФ ст. 284",null,null,{"$f":"IF(H324<H298,0,H297)","v":0},0,0,0,0,0,0,0,0,0,0,0,0,0,0,0,0,0,0,0,0]
[null,null,"Налог на прибыль в региональный бюджет","%","НПА субъекта"]
[null,null,"Налог на имущество организаций","%","НПА субъекта"]
[null,null,"Транспортный налог","руб. / 1 л.с.","НПА субъекта"]
[null,null,"Земельный налог","%","НПА МО"]
[]
[null,"Перенос убытков на будущее"]
[null,null,"Допустимое уменьшение налоговой базы для налогоплательщика - участника СПИК","%","НК РФ ст. 283",null,null,{"$f":"IF(Налоги!H296=1,100%,H331)","v":0.5},{"$f":"IF(Налоги!I296=1,100%,I331)","v":0.5},{"$f":"IF(Налоги!J296=1,100%,J331)","v":1},{"$f":"IF(Налоги!K296=1,100%,K331)","v":1},{"$f":"IF(Налоги!L296=1,100%,L331)","v":1},{"$f":"IF(Налоги!M296=1,100%,M331)","v":1},{"$f":"IF(Налоги!N296=1,100%,N331)","v":1},{"$f":"IF(Налоги!O296=1,100%,O331)","v":1},{"$f":"IF(Налоги!P296=1,100%,P331)","v":1},{"$f":"IF(Налоги!Q296=1,100%,Q331)","v":1},{"$f":"IF(Налоги!R296=1,100%,R331)","v":1},{"$f":"IF(Налоги!S296=1,100%,S331)","v":1},{"$f":"IF(Налоги!T296=1,100%,T331)","v":1},{"$f":"IF(Налоги!U296=1,100%,U331)","v":1},{"$f":"IF(Налоги!V296=1,100%,V331)","v":1},{"$f":"IF(Налоги!W296=1,100%,W331)","v":1},{"$f":"IF(Налоги!X296=1,100%,X331)","v":1},{"$f":"IF(Налоги!Y296=1,100%,Y331)","v":1},{"$f":"IF(Налоги!Z296=1,100%,Z331)","v":1},{"$f":"IF(Налоги!AA296=1,100%,AA331)","v":1},{"$f":"IF(Налоги!AB296=1,100%,AB331)","v":1}]
[null,null,"Допустимое уменьшение налоговой базы ","%","НК РФ ст. 283 + предпосылка о продлении действия п. 2.1 статьи 283",null,null,0.5,0.5,1,1,1,1,1,1,1,1,1,1,1,1,1,1,1,1,1,1,1]
[]
[null,"Отчисления с ФОТ во внебюджетные фонды"]
[]
[null,null,"Единая предельная величина базы для исчисления страховых взносов\n","тыс. руб.","ПП РФ от 31.10.2025 №1705",2979,null,{"$f":"$F335","v":2979},2979,2979,2979,2979,2979,2979,2979,2979,2979,2979,2979,2979,2979,2979,2979,2979,2979,2979,2979,2979]
[]
[null,"Тарифы страховых взносов "]
[]
[null,"ПФР"]
[null,null,"Общий тариф","%","НК РФ",null,null,0.22,0.22,0.22,0.22,0.22,0.22,0.22,0.22,0.22,0.22,0.22,0.22,0.22,0.22,0.22,0.22,0.22,0.22,0.22,0.22,0.22]
[null,null,"Пониженный тариф (свыше единой предельной величины базы)","%","НК РФ",null,null,0.1,0.1,0.1,0.1,0.1,0.1,0.1,0.1,0.1,0.1,0.1,0.1,0.1,0.1,0.1,0.1,0.1,0.1,0.1,0.1,0.1]
[null,"ФСС"]
[null,null,"Общий тариф","%","НК РФ",null,null,2.9000000000000001E-2,2.9000000000000001E-2,2.9000000000000001E-2,2.9000000000000001E-2,2.9000000000000001E-2,2.9000000000000001E-2,2.9000000000000001E-2,2.9000000000000001E-2,2.9000000000000001E-2,2.9000000000000001E-2,2.9000000000000001E-2,2.9000000000000001E-2,2.9000000000000001E-2,2.9000000000000001E-2,2.9000000000000001E-2,2.9000000000000001E-2,2.9000000000000001E-2,2.9000000000000001E-2,2.9000000000000001E-2,2.9000000000000001E-2,2.9000000000000001E-2]
[null,null,"Пониженный тариф (свыше единой предельной величины базы)","%","НК РФ",null,null,0,0,0,0,0,0,0,0,0,0,0,0,0,0,0,0,0,0,0,0,0]
[null,null,"Страховой взнос \"на травматизм\"","%","ФЗ от 21.12.2021 № 413-ФЗ",null,null,2E-3,2E-3,2E-3,2E-3,2E-3,2E-3,2E-3,2E-3,2E-3,2E-3,2E-3,2E-3,2E-3,2E-3,2E-3,2E-3,2E-3,2E-3,2E-3,2E-3,2E-3]
[null,"ФОМС"]
[null,null,"Общий тариф","%","НК РФ",null,null,5.0999999999999997E-2,5.0999999999999997E-2,5.0999999999999997E-2,5.0999999999999997E-2,5.0999999999999997E-2,5.0999999999999997E-2,5.0999999999999997E-2,5.0999999999999997E-2,5.0999999999999997E-2,5.0999999999999997E-2,5.0999999999999997E-2,5.0999999999999997E-2,5.0999999999999997E-2,5.0999999999999997E-2,5.0999999999999997E-2,5.0999999999999997E-2,5.0999999999999997E-2,5.0999999999999997E-2,5.0999999999999997E-2,5.0999999999999997E-2,5.0999999999999997E-2]
[]
[null,"Льготный тариф страховых взносов для участников СПИК1.0, являющихся участниками промышленных кластеров "]
[]
[null,null,"Единый пониженный тариф","%","п. 16 ст. 427 НК РФ",7.5999999999999998E-2]
[null,null,"Единый пониженный тариф (свыше единой предельной величины базы)","%","п. 16 ст. 427 НК РФ",0]
[]
[null,"Перечисление налогов по уровням бюджетов бюджетной системы РФ"]
[null,null,null,"Федеральный бюджет","Региональный бюджет","Местный бюджет"]
[null,null,"Налог на имущество организаций",null,1,null,null,"БК РФ"]
[null,null,"НДФЛ, в зависимости от дохода:",null,null,null,null,"БК РФ"]
[null,null,{"$f":"\"не более \" & E305 & \" тыс. руб.\"","v":"не более 2400 тыс. руб."},null,0.85,0.15,null,"БК РФ"]
[null,null,{"$f":"\"от \" & D306 & \" тыс. руб. \" &  \"до \"  & E306 & \" тыс. руб.\"","v":"от 2400 тыс. руб. до 5000 тыс. руб."},0.13,0.74,0.13,null,"БК РФ"]
[null,null,{"$f":"\"от \" & D307 & \" тыс. руб. \" &  \"до \"  & E307 & \" тыс. руб.\"","v":"от 5000 тыс. руб. до 20000 тыс. руб."},0.28000000000000003,0.61,0.11,null,"БК РФ"]
[null,null,{"$f":"\"от \" & D308 & \" тыс. руб. \" &  \"до \"  & E308 & \" тыс. руб.\"","v":"от 20000 тыс. руб. до 50000 тыс. руб."},0.35,0.55000000000000004,0.1,null,"БК РФ"]
[null,null,{"$f":"\"свыше \" & D309 & \" тыс. руб.\"","v":"свыше 50000 тыс. руб."},0.4,0.51,0.09,null,"БК РФ"]
[null,null,"НДС",1,null,null,null,"БК РФ"]
[null,null,"Транспортный налог",null,1,null,null,"БК РФ"]
[null,null,"Земельный налог",null,null,1,null,"БК РФ"]
[]
[null,"Предпосылки по расчетам с контрагентами"]
[]
[null,"Сотрудники (заработная плата)"]
[null,null,"Уплата начисленной заработной платы в данном отчётном периоде","%",null,0.96,null,"при оплате труда дважды в месяц"]
[]
[null,"Бюджетная система РФ"]
[null,null,"НДС"]
[null,null,"Срок возмещения НДС","дн","НК РФ",{"$f":"25+61+12","v":98}]
[null,null,"Возмещение НДС из бюджета в данном отчетном периоде","%",null,{"$f":"ROUND(One-F374/H12,4)","v":0.73150000000000004},null,"через 2 квартала"]
[null,null,"Уплата начисленного НДС в бюджет в данном отчетном периоде","%","НК РФ",{"$f":"ROUND(3/4,4)","v":0.75},null,"ежеквартально"]
[null,null,"Налог на прибыль"]
[null,null,"Порог для перехода с ежеквартального авансового платежа на ежемесячный","тыс. руб.","НК РФ ст. 286 п.3",15000]
[null,null,"Уплата начисленного налога на прибыль в бюджет в данном отчётном периоде (ежеквартальная выручка не превышает 15 млн)","%","НК РФ",{"$f":"ROUND(3/4,4)","v":0.75},null,"ежеквартально"]
[null,null,"Уплата начисленного налога на прибыль в бюджет в данном отчетном периоде (ежеквартальная выручка более 15 млн)","%","НК РФ",{"$f":"ROUND(11/12,4)","v":0.91669999999999996},null,"ежемесячно"]
[null,null,"НДФЛ"]
[null,null,"Уплата начисленного НДФЛ в данном отчетном периоде","%",null,{"$f":"F370","v":0.96},null,"единовременно с оплатой труда "]
[null,null,"Внебюджетные фонды"]
[null,null,"Уплата начисленных взносов в данном отчетном периоде ","%","НК РФ",{"$f":"ROUND(11/12,4)","v":0.91669999999999996},null,"ежемесячно"]
[]
[null,"Расчеты с покупателями"]
[null,"Аванс"]
[null,null,"Доля авансового платежа","%","Предпосылка"]
[null,null,"Средний срок от перечисления авансового платежа до поставки продукции","дн","Предпосылка"]
[null,null,"Поступление авансовых платежей от операций, признанных в соответствующем отчетном периоде",null,null,null,null,{"$f":"One-$F$389/H$12","v":1},1,1,1,1,1,1,1,1,1,1,1,1,1,1,1,1,1,1,1,1]
[]
[null,"Последующая оплата"]
[null,null,"Доля за вычетом авансового платежа","%",null,{"$f":"One-F388","v":1}]
[null,null,"Период отсрочки ","дн","Предпосылка"]
[null,null,"Поступление выручки, признанной в соответствующем отчетном периоде, на расчетный счет","%",null,null,null,{"$f":"One-$F394/H$12","v":1},1,1,1,1,1,1,1,1,1,1,1,1,1,1,1,1,1,1,1,1]
[]
[null,"Расчеты по  кредитам и займам"]
[null,"Последующая оплата"]
[null,null,"Период отсрочки","дн","Предпосылка"]
[null,null,"Перечисление , признанных в соответствующем отчетном периоде","%",null,null,null,{"$f":"One-$F$399/H$12","v":1},1,1,1,1,1,1,1,1,1,1,1,1,1,1,1,1,1,1,1,1]
[]
[null,"Расчеты с поставщиками и подрядчиками"]
[]
[null,"По запасам"]
[null,"Аванс"]
[null,null,"Доля авансового платежа","%","Предпосылка"]
[null,null,"Средний срок от перечисления авансового платежа до поставки запасов","дн","Предпосылка"]
[null,null,"Перечисление авансовых платежей от операций, признанных в соответствующем отчетном периоде",null,null,null,null,{"$f":"One-$F$407/H$12","v":1},1,1,1,1,1,1,1,1,1,1,1,1,1,1,1,1,1,1,1,1]
[]
[null,"Последующая оплата"]
[null,null,"Доля за вычетом авансового платежа","%",null,{"$f":"One-F406","v":1}]
[null,null,"Период отсрочки","дн","Предпосылка"]
[null,null,"Перечисление платежа, признанного в соответствующем отчетном периоде, на расчетный счет","%",null,null,null,{"$f":"One-$F412/H$12","v":1},1,1,1,1,1,1,1,1,1,1,1,1,1,1,1,1,1,1,1,1]
[]
[]
[null,"По общехозяйственным затратам (общепроизводственным, коммерческим и управленческим)"]
[]
[null,"Аванс"]
[null,null,"Доля авансового платежа","%","Предпосылка"]
[null,null,"Средний срок от перечисления авансового платежа до поставки / оказания услуг","дн","Предпосылка"]
[null,null,"Перечисление авансовых платежей от операций, признанных в соответствующем отчетном периоде",null,null,null,null,{"$f":"One-$F$420/H$12","v":1},1,1,1,1,1,1,1,1,1,1,1,1,1,1,1,1,1,1,1,1]
[]
[null,"Последующая оплата"]
[null,null,"Доля за вычетом авансового платежа","%",null,{"$f":"One-F419","v":1}]
[null,null,"Период отсрочки","дн","Предпосылка"]
[null,null,"Перечисление платежа, признанного в соответствующем отчетном периоде, на расчетный счет","%",null,null,null,{"$f":"One-$F425/H$12","v":1},1,1,1,1,1,1,1,1,1,1,1,1,1,1,1,1,1,1,1,1]
[]
[null,"По прочим расходам"]
[null,null,"Уплата начисленных прочих расходов","%",null,1,null,"оплачиваются в отчетном периоде, в котором происходит признание расходов"]
[]
[null,"По капитальным вложениям"]
[null,null,"Уплата начисленных расходов","%",null,1,null,"оплачиваются в отчетном периоде, в котором происходит признание расходов"]

{"sheet":"График инвестирования","index":4,"n_rows":53,"n_cols":28,"rows_kept":53,"cut":false,"hidden":false,"merged":[[0,9,0,10],[0,11,0,16],[1,2,2,2],[1,3,2,3],[1,4,2,4],[1,5,2,5]]}
[null,null,null,null,{"$f":"\"Лист:  \" & RIGHT(CELL(\"filename\",A1),LEN(CELL(\"filename\",A1))-SEARCH(\"]\",CELL(\"filename\",A1)))","v":"Лист:  График инвестирования"},null,null,null,null,"Проверка:",null,{"$f":"IF(AND(F50=\"Верно\",F51=\"Верно\",F52=\"Верно\",F53=\"Верно\"), \"Верно\", \"Имеются некорректные данные\")","v":"Имеются некорректные данные"}]
[null,null,"Наименование расхода","Ед. изм.","Ранее понесенные расходы","Итоговое значение",null,{"$f":"Предпосылки!H2","v":2026},{"$f":"Предпосылки!I2","v":2027},{"$f":"Предпосылки!J2","v":2028},{"$f":"Предпосылки!K2","v":2029},{"$f":"Предпосылки!L2","v":2030},{"$f":"Предпосылки!M2","v":2031},{"$f":"Предпосылки!N2","v":2032},{"$f":"Предпосылки!O2","v":2033},{"$f":"Предпосылки!P2","v":2034},{"$f":"Предпосылки!Q2","v":2035},{"$f":"Предпосылки!R2","v":2036},{"$f":"Предпосылки!S2","v":2037},{"$f":"Предпосылки!T2","v":2038},{"$f":"Предпосылки!U2","v":2039},{"$f":"Предпосылки!V2","v":2040},{"$f":"Предпосылки!W2","v":2041},{"$f":"Предпосылки!X2","v":2042},{"$f":"Предпосылки!Y2","v":2043},{"$f":"Предпосылки!Z2","v":2044},{"$f":"Предпосылки!AA2","v":2045},{"$f":"Предпосылки!AB2","v":2046}]
[null,null,null,null,null,null,null,1,2,3,4,5,6,7,8,9,10,11,12,13,14,15,16,17,18,19,20,21]
[]
[null,"График инвестирования (расходования)"]
[]
[null,"1.","Расходы на приобретение или долгосрочную аренду земельных участков под создание новых производственных мощностей","тыс. руб.",{"$f":"SUM(E8:E9)","v":0},{"$f":"SUM(H7:AB7,E7)","v":0},null,{"$f":"SUM(H8:H9)","v":0},{"$f":"SUM(I8:I9)","v":0},0,0,0,0,0,0,0,0,0,0,0,0,0,0,0,0,0,0,{"$f":"SUM(AB8:AB9)","v":0}]
[null,"1.1.","Приобретение","тыс. руб.",null,{"$f":"SUM(H8:AA8,E8)","v":0}]
[null,"1.2.","Аренда","тыс. руб.",null,{"$f":"SUM(H9:AA9,E9)","v":0}]
[null,"2.","Расходы на разработку проектной документации","тыс. руб.",{"$f":"SUM(E11:E12)","v":0},{"$f":"SUM(H10:AB10,E10)","v":0},null,{"$f":"SUM(H11:H12)","v":0},{"$f":"SUM(I11:I12)","v":0},0,0,0,0,0,0,0,0,0,0,0,0,0,0,0,0,0,0,0]
[null,"2.1.","Оборудование","тыс. руб.",null,{"$f":"SUM(H11:AA11,E11)","v":0}]
[null,"2.2.","Здание","тыс. руб.",null,0]
[null,"3. ","Расходы на строительство или реконструкцию производственных зданий и сооружений","тыс. руб.",{"$f":"SUM(E14:E15,)","v":0},0,null,{"$f":"SUM(H14:H15)","v":0},{"$f":"SUM(I14:I15)","v":0},0,0,0,0,0,0,0,0,0,0,0,0,0,0,0,0,0,0,0]
[null,"3.1.","Здания","тыс. руб.",null,0]
[null,"…",null,"тыс. руб.",null,0]
[null,"4.","Расходы на приобретение, сооружение, изготовление, доставку, расконсервацию и модернизацию основных средств, в том числе:","тыс. руб.",{"$f":"SUM(E17,E21,E25)","v":0},{"$f":"SUM(H16:AA16,E16)","v":0},null,{"$f":"SUM(H17,H21,H25)","v":0},0,0,0,0,0,0,0,0,0,0,0,0,0,0,0,0,0,0,0,0]
[null,"4.1.","на приобретение, сооружение, изготовление основных средств","тыс. руб.",{"$f":"SUM(E18:E20)","v":0},0,null,{"$f":"SUM(H18:H20)","v":0},0,0,0,0,0,0,0,0,0,0,0,0,0,0,0,0,0,0,0,0]
[null,"4.1.1.","Оборудование",null,null,0]
[null,"4.1.2.","Здания",null,null,0]
[null,"4.1.3.","Транспортные средства",null,null,0]
[null,"4.2.","на таможенные пошлины и таможенные сборы","тыс. руб.",{"$f":"SUM(E22:E24)","v":0},0,null,{"$f":"SUM(H22:H23)","v":0},{"$f":"SUM(I22:I23)","v":0},0,0,0,0,0,0,0,0,0,0,0,0,0,0,0,0,0,0,0]
[null,"4.2.1.","Оборудование",null,null,0]
[null,"4.2.2.","Здания",null,null,0]
[null,"4.2.3.","Транспортные средства",null,null,0]
[null,"4.3.","на строительно-монтажные и пусконаладочные работы",null,{"$f":"SUM(E26:E28)","v":0},0,null,{"$f":"SUM(H26:H27)","v":0},{"$f":"SUM(I26:I27)","v":0},0,0,0,0,0,0,0,0,0,0,0,0,0,0,0,0,0,0,0]
[null,"4.3.1.","Оборудование",null,null,0]
[null,"4.3.2.","Здания",null,null,0]
[null,"4.3.3.","Транспортные средства",null,null,0]
[null,"5.","Расходы на выполнение научно-исследовательских, опытно-конструкторских и технологических работ, проведение клинических испытаний","тыс. руб.",{"$f":"SUM(E30:E31)","v":0},0,null,{"$f":"SUM(H30:H31)","v":0},{"$f":"SUM(I30:I31)","v":0},0,0,0,0,0,0,0,0,0,0,0,0,0,0,0,0,0,0,{"$f":"SUM(AB30:AB31)","v":0}]
[null,"5.1.","НМА","тыс. руб.",null,0]
[null,"…",null,"тыс. руб.",null,0]
[null,"6.","Расходы на приобретение исключительных прав на результаты интеллектуальной деятельности или прав на использование результатов интеллектуальной деятельности, прав на конструкторскую, техническую документацию","тыс. руб.",{"$f":"SUM(E33:E34)","v":0},0,null,{"$f":"SUM(H33:H34)","v":0},{"$f":"SUM(I33:I34)","v":0},0,0,0,0,0,0,0,0,0,0,0,0,0,0,0,0,0,0,{"$f":"SUM(AB33:AB34)","v":0}]
[null,"6.1.","НМА","тыс. руб.",null,0]
[null,"…",null,"тыс. руб.",null,0]
[null,null,"Итого","тыс. руб.",{"$f":"SUM(E7,E10,E13,E16,E29,E32)","v":0},0,null,{"$f":"SUM(H7,H10,H13,H16,H29,H32)","v":0},0,0,0,0,0,0,0,0,0,0,0,0,0,0,0,0,0,0,0,0]
[]
[null,"Приложение к СПИК"]
[]
[null,"1.","Расходы на приобретение или долгосрочную аренду земельных участков под создание новых производственных мощностей","тыс. руб.",null,{"$f":"F7","v":0},null,{"$f":"IF($E$35=0,H7,\nTEXT(SUM(H7,$E7),\"# ##0\")&\"/\"&TEXT(E7, \"# ##0\"))","v":0},{"$f":"I7","v":0},0,0,0,0,0,0,0,0,0,0,0,0,0,0,0,0,0,0,0]
[null,"2.","Расходы на разработку проектной документации","тыс. руб.",null,{"$f":"F10","v":0},null,{"$f":"IF($E$35=0,H10,\nTEXT(SUM(H10,$E10),\"# ##0\")&\"/\"&TEXT(E10,\"# ##0\"))","v":0},{"$f":"I10","v":0},0,0,0,0,0,0,0,0,0,0,0,0,0,0,0,0,0,0,0]
[null,"3.","Расходы на строительство или реконструкцию производственных зданий и сооружений","тыс. руб.",null,{"$f":"F13","v":0},null,{"$f":"IF($E$35=0,H13,\nTEXT(SUM(H13,$E13),\"# ##0\")&\"/\"&TEXT(E13,\"# ##0\"))","v":0},{"$f":"I13","v":0},0,0,0,0,0,0,0,0,0,0,0,0,0,0,0,0,0,0,0]
[null,"4.","Расходы на приобретение, сооружение, изготовление, доставку, расконсервацию и модернизацию оборудования, в том числе:","тыс. руб.",null,{"$f":"F16","v":0},null,{"$f":"IF($E$35=0,H16,\nTEXT(SUM(H16,$E16),\"# ##0\")&\"/\"&TEXT(E16,\"# ##0\"))","v":0},{"$f":"I16","v":0},0,0,0,0,0,0,0,0,0,0,0,0,0,0,0,0,0,0,0]
[null,"4.1.","на приобретение, сооружение, изготовление оборудования","тыс. руб.",null,{"$f":"F17","v":0},null,{"$f":"IF($E$35=0,H17,\nTEXT(SUM(H17,$E17),\"# ##0\")&\"/\"&TEXT(E17,\"# ##0\"))","v":0},{"$f":"I17","v":0},0,0,0,0,0,0,0,0,0,0,0,0,0,0,0,0,0,0,0]
[null,"4.2.","на таможенные пошлины и таможенные сборы","тыс. руб.",null,{"$f":"F21","v":0},null,{"$f":"IF($E$35=0,H21,\nTEXT(SUM(H21,$E21),\"# ##0\")&\"/\"&TEXT(E21,\"# ##0\"))","v":0},{"$f":"I21","v":0},{"$f":"J21","v":0},{"$f":"K21","v":0},0,0,0,0,0,0,0,0,0,0,0,0,0,0,0,0,0]
[null,"4.3.","на строительно-монтажные (в отношении оборудования) и пусконаладочные работы","тыс. руб.",null,{"$f":"F25","v":0},null,{"$f":"IF($E$35=0,H25,\nTEXT(SUM(H25,$E25),\"# ##0\")&\"/\"&TEXT(E25,\"# ##0\"))","v":0},{"$f":"I25","v":0},0,0,0,0,0,0,0,0,0,0,0,0,0,0,0,0,0,0,0]
[null,"5.","Расходы на выполнение научно-исследовательских, опытно-конструкторских и технологических работ, проведение клинических испытаний","тыс. руб.",null,{"$f":"F29","v":0},null,{"$f":"IF($E$35=0,H29,\nTEXT(SUM(H29,$E29),\"# ##0\")&\"/\"&TEXT(E29,\"# ##0\"))","v":0},{"$f":"I29","v":0},0,0,0,0,0,0,0,0,0,0,0,0,0,0,0,{"$f":"Y29","v":0},{"$f":"Z29","v":0},{"$f":"AA29","v":0},{"$f":"AB29","v":0}]
[null,"6.","Расходы на приобретение исключительных прав на результаты интеллектуальной деятельности или прав на использование результатов интеллектуальной деятельности, прав на конструкторскую, техническую документацию","тыс. руб.",null,{"$f":"F32","v":0},null,{"$f":"IF($E$35=0,H32,\nTEXT(SUM(H32,$E32),\"# ##0\")&\"/\"&TEXT(E32,\"# ##0\"))","v":0},{"$f":"I32","v":0},{"$f":"J32","v":0},{"$f":"K32","v":0},0,0,0,0,0,0,0,0,0,0,0,0,0,0,0,0,0]
[null,null,"ИТОГО","тыс. руб.",null,{"$f":"F35","v":0},null,{"$f":"IF($E$35=0,H35,\nTEXT(SUM(H35,$E35),\"# ##0\")&\"/\"&TEXT(E35,\"# ##0\"))","v":0},{"$f":"I35","v":0},{"$f":"J35","v":0},{"$f":"K35","v":0},0,0,0,0,0,0,0,0,0,0,0,0,0,0,0,0,0]
[]
[null,null,"Проверка равенства ранее понесенных расходов",null,null,{"$f":"IF(E35=Предпосылки!F180,\"Верно\",\"Ошибка\")","v":"Верно"}]
[null,null,"Проверка минимального объема инвестиций 750 млн руб.",null,null,{"$f":"IF(F35>=750000,\"Верно\",\"Ошибка\")","v":"Ошибка"}]
[null,null,"Проверка осуществления инвестиций по обязательному направлению расходования",null,null,{"$f":"IF(F16>0,\"Верно\",\"Ошибка\")","v":"Ошибка"}]
[null,null,"Проверка предельной величины затрат на НИОКР и получение прав на РИД",null,null,{"$f":"IF(SUM(F29,F32)<=25%*F35,\"Верно\",\"Ошибка\")","v":"Верно"}]

{"sheet":"График финансирования","index":5,"n_rows":24,"n_cols":28,"rows_kept":24,"cut":false,"hidden":false,"merged":[[0,10,0,15],[1,2,2,2],[1,3,2,3],[1,4,2,4],[1,5,2,5],[0,8,0,9]]}
[null,null,null,null,{"$f":"\"Лист:  \" & RIGHT(CELL(\"filename\",A1),LEN(CELL(\"filename\",A1))-SEARCH(\"]\",CELL(\"filename\",A1)))","v":"Лист:  График финансирования"},null,null,null,"Проверка:",null,{"$f":"IF(AND(F19=\"Верно\",F21=\"Верно\"), \"Верно\", \"Имеются некорректные данные\")","v":"Верно"}]
[null,null,"Наименование","Ед. изм.","Источник","Итоговое значение",null,{"$f":"Предпосылки!H2","v":2026},{"$f":"Предпосылки!I2","v":2027},{"$f":"Предпосылки!J2","v":2028},{"$f":"Предпосылки!K2","v":2029},{"$f":"Предпосылки!L2","v":2030},{"$f":"Предпосылки!M2","v":2031},{"$f":"Предпосылки!N2","v":2032},{"$f":"Предпосылки!O2","v":2033},{"$f":"Предпосылки!P2","v":2034},{"$f":"Предпосылки!Q2","v":2035},{"$f":"Предпосылки!R2","v":2036},{"$f":"Предпосылки!S2","v":2037},{"$f":"Предпосылки!T2","v":2038},{"$f":"Предпосылки!U2","v":2039},{"$f":"Предпосылки!V2","v":2040},{"$f":"Предпосылки!W2","v":2041},{"$f":"Предпосылки!X2","v":2042},{"$f":"Предпосылки!Y2","v":2043},{"$f":"Предпосылки!Z2","v":2044},{"$f":"Предпосылки!AA2","v":2045},{"$f":"Предпосылки!AB2","v":2046}]
[null,null,null,null,null,null,null,1,2,3,4,5,6,7,8,9,10,11,12,13,14,15,16,17,18,19,20,21]
[]
[null,"Источники финансирования проекта"]
[]
[null,null,"Собственные средства","тыс. руб.",null,{"$f":"SUM(H7:AB7)","v":0}]
[null,null,"Заемные средства","тыс. руб.",null,{"$f":"SUM(H8:AB8)","v":0}]
[null,null,"Бюджетные средства","тыс. руб.",null,{"$f":"SUM(H9:AB9)","v":0}]
[null,null,"Итого финансирование","тыс. руб.",null,{"$f":"SUM(H10:AB10)","v":0},null,{"$f":"SUM(H7:H9)","v":0},{"$f":"SUM(I7:I9)","v":0},0,0,0,0,0,0,0,0,0,0,0,0,0,0,0,0,0,0,0]
[]
[null,"График финансирования"]
[]
[null,null,"Объем капитальных затрат","тыс. руб.",null,{"$f":"'График инвестирования'!F35","v":0},null,{"$f":"'График инвестирования'!H48","v":0},{"$f":"'График инвестирования'!I48","v":0},{"$f":"'График инвестирования'!J48","v":0},{"$f":"'График инвестирования'!K48","v":0},{"$f":"'График инвестирования'!L48","v":0},{"$f":"'График инвестирования'!M48","v":0},{"$f":"'График инвестирования'!N48","v":0},{"$f":"'График инвестирования'!O48","v":0},{"$f":"'График инвестирования'!P48","v":0},{"$f":"'График инвестирования'!Q48","v":0},{"$f":"'График инвестирования'!R48","v":0},{"$f":"'График инвестирования'!S48","v":0},{"$f":"'График инвестирования'!T48","v":0},{"$f":"'График инвестирования'!U48","v":0},{"$f":"'График инвестирования'!V48","v":0},{"$f":"'График инвестирования'!W48","v":0},{"$f":"'График инвестирования'!X48","v":0},{"$f":"'График инвестирования'!Y48","v":0},{"$f":"'График инвестирования'!Z48","v":0},{"$f":"'График инвестирования'!AA48","v":0},{"$f":"'График инвестирования'!AB48","v":0}]
[null,null,"Источник средств (Собственные/Заемные/Бюджетные)","тыс. руб.",null,{"$f":"IF(F10=0,0,\nIF(F7/F10=1,\"Собственные средства\",\nIF(F8/F10=1,\"Заемные средства\",\nIF(F9/F10=1,\"Бюджетные средства\",\nTEXT(F7,\"# ##0\")&\"/\"&TEXT(F8,\"# ##0\")&\"/\"&TEXT(F9,\"# ##0\")))))","v":0},null,{"$f":"IF(H10=0,0,\nIF(H7/H10=1,\"Собственные средства\",\nIF(H8/H10=1,\"Заемные средства\",\nIF(H9/H10=1,\"Бюджетные средства\",\nTEXT(H7,\"# ##0\")&\"/\"&TEXT(H8,\"# ##0\")&\"/\"&TEXT(H9,\"# ##0\")))))","v":0},{"$f":"IF(I10=0,0,\nIF(I7/I10=1,\"Собственные средства\",\nIF(I8/I10=1,\"Заемные средства\",\nIF(I9/I10=1,\"Бюджетные средства\",\nTEXT(I7,\"# ##0\")&\"/\"&TEXT(I8,\"# ##0\")&\"/\"&TEXT(I9,\"# ##0\")))))","v":0},0,0,0,0,0,0,0,0,0,0,0,0,0,0,0,0,0,0,0]
[]
[null,"Проверки"]
[]
[null,null,"Проверка достаточности финансирования для покрытия капитальных вложений",null,null,{"$f":"IF(F10>='График инвестирования'!F35,\"Верно\",\"Ошибка\")","v":"Верно"},null,{"$f":"IF(SUM($H$10:H10)>=SUM('График инвестирования'!$H$35:H35),\"Верно\", \"Ошибка\")","v":"Верно"},{"$f":"IF(SUM($H$10:I10)>=SUM('График инвестирования'!$H$35:I35),\"Верно\", \"Ошибка\")","v":"Верно"},{"$f":"IF(SUM($H$10:J10)>=SUM('График инвестирования'!$H$35:J35),\"Верно\", \"Ошибка\")","v":"Верно"},{"$f":"IF(SUM($H$10:K10)>=SUM('График инвестирования'!$H$35:K35),\"Верно\", \"Ошибка\")","v":"Верно"},{"$f":"IF(SUM($H$10:L10)>=SUM('График инвестирования'!$H$35:L35),\"Верно\", \"Ошибка\")","v":"Верно"},{"$f":"IF(SUM($H$10:M10)>=SUM('График инвестирования'!$H$35:M35),\"Верно\", \"Ошибка\")","v":"Верно"},{"$f":"IF(SUM($H$10:N10)>=SUM('График инвестирования'!$H$35:N35),\"Верно\", \"Ошибка\")","v":"Верно"},{"$f":"IF(SUM($H$10:O10)>=SUM('График инвестирования'!$H$35:O35),\"Верно\", \"Ошибка\")","v":"Верно"},{"$f":"IF(SUM($H$10:P10)>=SUM('График инвестирования'!$H$35:P35),\"Верно\", \"Ошибка\")","v":"Верно"},{"$f":"IF(SUM($H$10:Q10)>=SUM('График инвестирования'!$H$35:Q35),\"Верно\", \"Ошибка\")","v":"Верно"},{"$f":"IF(SUM($H$10:R10)>=SUM('График инвестирования'!$H$35:R35),\"Верно\", \"Ошибка\")","v":"Верно"},{"$f":"IF(SUM($H$10:S10)>=SUM('График инвестирования'!$H$35:S35),\"Верно\", \"Ошибка\")","v":"Верно"},{"$f":"IF(SUM($H$10:T10)>=SUM('График инвестирования'!$H$35:T35),\"Верно\", \"Ошибка\")","v":"Верно"},{"$f":"IF(SUM($H$10:U10)>=SUM('График инвестирования'!$H$35:U35),\"Верно\", \"Ошибка\")","v":"Верно"},{"$f":"IF(SUM($H$10:V10)>=SUM('График инвестирования'!$H$35:V35),\"Верно\", \"Ошибка\")","v":"Верно"},{"$f":"IF(SUM($H$10:W10)>=SUM('График инвестирования'!$H$35:W35),\"Верно\", \"Ошибка\")","v":"Верно"},{"$f":"IF(SUM($H$10:X10)>=SUM('График инвестирования'!$H$35:X35),\"Верно\", \"Ошибка\")","v":"Верно"},{"$f":"IF(SUM($H$10:Y10)>=SUM('График инвестирования'!$H$35:Y35),\"Верно\", \"Ошибка\")","v":"Верно"},{"$f":"IF(SUM($H$10:Z10)>=SUM('График инвестирования'!$H$35:Z35),\"Верно\", \"Ошибка\")","v":"Верно"},{"$f":"IF(SUM($H$10:AA10)>=SUM('График инвестирования'!$H$35:AA35),\"Верно\", \"Ошибка\")","v":"Верно"},{"$f":"IF(SUM($H$10:AB10)>=SUM('График инвестирования'!$H$35:AB35),\"Верно\", \"Ошибка\")","v":"Верно"}]
[]
[null,null,"Проверка соответствия Графика финансирования структуре финансирования проекта \nв целом",null,null,{"$f":"IF(AND(F22=\"Верно\",\nF23=\"Верно\",\nF24=\"Верно\"),\"Верно\",\"Ошибка\")","v":"Верно"}]
[null,null,"Собственные средства",null,null,{"$f":"IF(F7<=Результаты!F52,\"Верно\",\"Ошибка\")","v":"Верно"}]
[null,null,"Заемные средства",null,null,{"$f":"IF(F8<=Результаты!F53,\"Верно\",\"Ошибка\")","v":"Верно"}]
[null,null,"Бюджетные средства",null,null,{"$f":"IF(F9<=Результаты!F54,\"Верно\",\"Ошибка\")","v":"Верно"}]

{"sheet":"График локализации","index":6,"n_rows":53,"n_cols":28,"rows_kept":53,"cut":false,"hidden":false,"merged":[[1,2,2,2],[1,3,2,3],[1,4,2,4],[1,5,2,5]]}
[null,null,null,null,{"$f":"\"Лист:  \" & RIGHT(CELL(\"filename\",A1),LEN(CELL(\"filename\",A1))-SEARCH(\"]\",CELL(\"filename\",A1))) & \" (График производственных и технологических операций)\"","v":"Лист:  График локализации (График производственных и технологических операций)"}]
[null,null,"Наименование","Ед. изм.","Источник","Максимально возможное количество баллов",null,{"$f":"Предпосылки!H2","v":2026},{"$f":"Предпосылки!I2","v":2027},{"$f":"Предпосылки!J2","v":2028},{"$f":"Предпосылки!K2","v":2029},{"$f":"Предпосылки!L2","v":2030},{"$f":"Предпосылки!M2","v":2031},{"$f":"Предпосылки!N2","v":2032},{"$f":"Предпосылки!O2","v":2033},{"$f":"Предпосылки!P2","v":2034},{"$f":"Предпосылки!Q2","v":2035},{"$f":"Предпосылки!R2","v":2036},{"$f":"Предпосылки!S2","v":2037},{"$f":"Предпосылки!T2","v":2038},{"$f":"Предпосылки!U2","v":2039},{"$f":"Предпосылки!V2","v":2040},{"$f":"Предпосылки!W2","v":2041},{"$f":"Предпосылки!X2","v":2042},{"$f":"Предпосылки!Y2","v":2043},{"$f":"Предпосылки!Z2","v":2044},{"$f":"Предпосылки!AA2","v":2045},{"$f":"Предпосылки!AB2","v":2046}]
[null,null,null,null,null,null,null,1,2,3,4,5,6,7,8,9,10,11,12,13,14,15,16,17,18,19,20,21]
[]
[null,null,"ИНСТРУКЦИЯ"]
[null,null,"Таблица №1 - заполняется в случае, если к локализации продукции предъявляются требования по адвалорной доле (доле стоимости иностранных комплектующих в цене реализации продукции) ",null,"ПП РФ 719 от 17.07.2015 / Соглашение о Правилах определения страны происхождения товаров в СНГ"]
[null,null,"Таблица №2 - заполняется в случае, если к локализации продукции предъявляются требования по количеству баллов локализации",null,"ПП РФ 719 от 17.07.2015 / Соглашение о Правилах определения страны происхождения товаров в СНГ"]
[null,null,"Таблица №3- заполняется в случае, если к локализации продукции предъявляются требования по доле от максимально возможного количества баллов локализации",null,"ПП РФ 719 от 17.07.2015 / Соглашение о Правилах определения страны происхождения товаров в СНГ"]
[null,null,"Если к производимой проудкции предъявляются требования только по осуществлению определенных производственных и технологических операций, то заполнять приведенные ниже таблицы не требуется.",null,"ПП РФ 719 от 17.07.2015 / Соглашение о Правилах определения страны происхождения товаров в СНГ"]
[]
[null,null,"РАСЧЕТЫ"]
[]
[null,null,"Доля стоимости иностранных комлпектующих в цене промышленной продукции (Таблица №1)"]
[]
[null,null,"Стоимость используемых материалов и компонентов иностранного происхождения"]
[null,null,{"$f":"Предпосылки!C35","v":"Продукция 1"},"тыс. руб."]
[null,null,{"$f":"Предпосылки!C36","v":"Продукция 2"},"тыс. руб."]
[]
[]
[null,null,{"$f":"Предпосылки!C37","v":"…"},"тыс. руб."]
[]
[null,null,"Цена продажи промышленной продукци"]
[null,null,{"$f":"C16","v":"Продукция 1"},{"$f":"D16","v":"тыс. руб."},null,null,null,{"$f":"Предпосылки!H35","v":0},{"$f":"Предпосылки!I35","v":0},{"$f":"Предпосылки!J35","v":0},{"$f":"Предпосылки!K35","v":0},{"$f":"Предпосылки!L35","v":0},{"$f":"Предпосылки!M35","v":0},{"$f":"Предпосылки!N35","v":0},{"$f":"Предпосылки!O35","v":0},{"$f":"Предпосылки!P35","v":0},{"$f":"Предпосылки!Q35","v":0},{"$f":"Предпосылки!R35","v":0},{"$f":"Предпосылки!S35","v":0},{"$f":"Предпосылки!T35","v":0},{"$f":"Предпосылки!U35","v":0},{"$f":"Предпосылки!V35","v":0},{"$f":"Предпосылки!W35","v":0},{"$f":"Предпосылки!X35","v":0},{"$f":"Предпосылки!Y35","v":0},{"$f":"Предпосылки!Z35","v":0},{"$f":"Предпосылки!AA35","v":0},{"$f":"Предпосылки!AB35","v":0}]
[null,null,{"$f":"C17","v":"Продукция 2"},{"$f":"D17","v":"тыс. руб."},null,null,null,{"$f":"Предпосылки!H36","v":0},{"$f":"Предпосылки!I36","v":0},{"$f":"Предпосылки!J36","v":0},{"$f":"Предпосылки!K36","v":0},{"$f":"Предпосылки!L36","v":0},{"$f":"Предпосылки!M36","v":0},{"$f":"Предпосылки!N36","v":0},{"$f":"Предпосылки!O36","v":0},{"$f":"Предпосылки!P36","v":0},{"$f":"Предпосылки!Q36","v":0},{"$f":"Предпосылки!R36","v":0},{"$f":"Предпосылки!S36","v":0},{"$f":"Предпосылки!T36","v":0},{"$f":"Предпосылки!U36","v":0},{"$f":"Предпосылки!V36","v":0},{"$f":"Предпосылки!W36","v":0},{"$f":"Предпосылки!X36","v":0},{"$f":"Предпосылки!Y36","v":0},{"$f":"Предпосылки!Z36","v":0},{"$f":"Предпосылки!AA36","v":0},{"$f":"Предпосылки!AB36","v":0}]
[null,null,{"$f":"C20","v":"…"},"тыс. руб.",null,null,null,{"$f":"Предпосылки!H37","v":0},{"$f":"Предпосылки!I37","v":0},{"$f":"Предпосылки!J37","v":0},{"$f":"Предпосылки!K37","v":0},{"$f":"Предпосылки!L37","v":0},{"$f":"Предпосылки!M37","v":0},{"$f":"Предпосылки!N37","v":0},{"$f":"Предпосылки!O37","v":0},{"$f":"Предпосылки!P37","v":0},{"$f":"Предпосылки!Q37","v":0},{"$f":"Предпосылки!R37","v":0},{"$f":"Предпосылки!S37","v":0},{"$f":"Предпосылки!T37","v":0},{"$f":"Предпосылки!U37","v":0},{"$f":"Предпосылки!V37","v":0},{"$f":"Предпосылки!W37","v":0},{"$f":"Предпосылки!X37","v":0},{"$f":"Предпосылки!Y37","v":0},{"$f":"Предпосылки!Z37","v":0},{"$f":"Предпосылки!AA37","v":0},{"$f":"Предпосылки!AB37","v":0}]
[]
[null,null,"Доля стоимости иностранных комплектующих в цене промышленной продукции"]
[null,null,{"$f":"C23","v":"Продукция 1"},"%",null,null,null,{"$f":"IFERROR(H16/H23,0)","v":0},0,0,0,0,0,0,0,0,0,0,0,0,0,0,0,0,0,0,0,0]
[null,null,{"$f":"C24","v":"Продукция 2"},"%",null,null,null,{"$f":"IFERROR(H17/H24,0)","v":0},0,0,0,0,0,0,0,0,0,0,0,0,0,0,0,0,0,0,0,0]
[null,null,{"$f":"C25","v":"…"},"%",null,null,null,{"$f":"IFERROR(H20/H25,0)","v":0},{"$f":"IFERROR(I20/I25,0)","v":0},0,0,0,0,0,0,0,0,0,0,0,0,0,0,0,0,0,0,0]
[]
[null,null,"Баллы локализации (Таблица №2)"]
[]
[null,null,{"$f":"Предпосылки!C35","v":"Продукция 1"}]
[null,null,"Технологическая операция 1","баллы"]
[null,null,"Технологическая операция 2","баллы"]
[null,null,"…","баллы"]
[null,null,"Итого баллы локализации","баллы",null,{"$f":"SUM(F35:F37)","v":0},null,{"$f":"SUM(H35:H37)","v":0},{"$f":"SUM(I35:I37)","v":0},0,{"$f":"SUM(K35:K37)","v":0},0,0,0,0,0,0,0,0,0,0,0,0,0,0,0,0,0]
[]
[null,null,{"$f":"Предпосылки!C36","v":"Продукция 2"}]
[null,null,"Технологическая операция 1","баллы"]
[null,null,"Технологическая операция 2","баллы"]
[null,null,"…","баллы"]
[null,null,"Итого баллы локализации","баллы",null,{"$f":"SUM(F41:F43)","v":0},null,{"$f":"SUM(H41:H43)","v":0},{"$f":"SUM(I41:I43)","v":0},0,0,0,0,0,0,0,0,0,0,0,0,0,0,0,0,0,0,0]
[]
[null,null,"ИТОГО БАЛЛЫ ЛОКАЛИЗАЦИИ "]
[null,null,{"$f":"C34","v":"Продукция 1"},"баллы",null,null,null,{"$f":"H38","v":0},0,0,0,0,0,0,0,0,0,0,0,0,0,0,0,0,0,0,0,0]
[null,null,{"$f":"C40","v":"Продукция 2"},"баллы",null,null,null,{"$f":"H44","v":0},0,0,0,0,0,0,0,0,0,0,0,0,0,0,0,0,0,0,0,0]
[]
[null,null,"Процент от максимально возможного количества баллов локализации (Таблица №3)"]
[]
[null,null,{"$f":"C34","v":"Продукция 1"},null,null,null,null,{"$f":"IFERROR(H47/$F$38,0)","v":0},{"$f":"IFERROR(I47/$F$38,0)","v":0},0,0,0,0,0,0,0,0,0,0,0,0,0,0,0,0,0,0,0]
[null,null,{"$f":"C40","v":"Продукция 2"},null,null,null,null,{"$f":"IFERROR(H48/$F$44,0)","v":0},{"$f":"IFERROR(I48/$F$44,0)","v":0},0,0,0,0,0,0,0,0,0,0,0,0,0,0,0,0,0,0,0]

{"sheet":"Текущая деятельность","index":7,"n_rows":52,"n_cols":10,"rows_kept":52,"cut":false,"hidden":false,"merged":[[1,6,2,6],[1,7,2,7],[1,2,2,2],[1,3,2,3],[1,4,2,4],[1,5,2,5]]}
[null,null,null,null,{"$f":"\"Лист:  \" & RIGHT(CELL(\"filename\",A1),LEN(CELL(\"filename\",A1))-SEARCH(\"]\",CELL(\"filename\",A1)))","v":"Лист:  Текущая деятельность"}]
[null,null,"Показатель",2023,2024,2025,"1 кв. 2025","1 кв. 2026"]
[]
[]
[null,"ИНСТРУКЦИЯ"]
[null,null,"На данном листе требуется привести фактические финансовые показатели предприятия в соответствии с прилагаемой к заявлению бухгалтерской (финансовой) отчетностью."]
[]
[null,null,"Периоды отражения данных в ячейках D2:H3 заполняются инвестором самостоятельно в зависимости от периодов в приложенных бухгалтерских отчетностях."]
[]
[]
[]
[null,"РАСЧЕТЫ"]
[]
[null,"Отчетность Инвестора"]
[]
[null,null,"Выручка, тыс. руб."]
[null,null,"Чистая прибыль, тыс. руб.",null,null,null,null,null,null," "]
[null,null,"Рентабельность по чистой прибыли, %",{"$f":"IFERROR(D17/D16,0)","v":0},{"$f":"IFERROR(E17/E16,0)","v":0},{"$f":"IFERROR(F17/F16,0)","v":0},{"$f":"IFERROR(G17/G16,0)","v":0},{"$f":"IFERROR(H17/H16,0)","v":0}]
[null,null,"ROA",{"$f":"IFERROR(D17/D34,0)","v":0},{"$f":"IFERROR(E17/E34,0)","v":0},{"$f":"IFERROR(F17/F34,0)","v":0},{"$f":"IFERROR(G17/G34,0)","v":0},{"$f":"IFERROR(H17/H34,0)","v":0}]
[null,null,"ROE",{"$f":"IFERROR(D17/D36,0)","v":0},{"$f":"IFERROR(E17/E36,0)","v":0},{"$f":"IFERROR(F17/F36,0)","v":0},{"$f":"IFERROR(G17/G36,0)","v":0},{"$f":"IFERROR(H17/H36,0)","v":0}]
[null,null,"Темп роста дебиторской задолженности, %",{"$f":"IFERROR((D32-C32)/C32,0)","v":0},{"$f":"IFERROR((E32-D32)/D32,0)","v":0},{"$f":"IFERROR((F32-E32)/E32,0)","v":0},"-",{"$f":"IFERROR((H32-G32)/G32,0)","v":0}]
[null,null,"Темп роста заемных средств, %",{"$f":"IFERROR((D39-C39)/C39,0)","v":0},{"$f":"IFERROR((E39-D39)/D39,0)","v":0},{"$f":"IFERROR((F39-E39)/E39,0)","v":0},"-",{"$f":"IFERROR((H39-G39)/G39,0)","v":0}]
[null,null,"Темп роста кредиторской задолженности, %",{"$f":"IFERROR((D42-C42)/C42,0)","v":0},{"$f":"IFERROR((E42-D42)/D42,0)","v":0},{"$f":"IFERROR((F42-E42)/E42,0)","v":0},"-",{"$f":"IFERROR((H42-G42)/G42,0)","v":0}]
[null,null,"Темп роста выручки, %",{"$f":"IFERROR((D16-C16)/C16,0)","v":0},{"$f":"IFERROR((E16-D16)/D16,0)","v":0},{"$f":"IFERROR((F16-E16)/E16,0)","v":0},"-",{"$f":"IFERROR((H16-G16)/G16,0)","v":0}]
[null,null,"Темп роста прибыли от продаж, %",{"$f":"IFERROR((D45-C45)/C45,0)","v":0},{"$f":"IFERROR((E45-D45)/D45,0)","v":0},{"$f":"IFERROR((F45-E45)/E45,0)","v":0}," ",{"$f":"IFERROR((H45-G45)/G45,0)","v":0}]
[null,null,"Соотношение СК и ЗК",{"$f":"IFERROR(D36/D38,0)","v":0},{"$f":"IFERROR(E36/E38,0)","v":0},{"$f":"IFERROR(F36/F38,0)","v":0},{"$f":"IFERROR(G36/G38,0)","v":0},{"$f":"IFERROR(H36/H38,0)","v":0}]
[null,null,"Чистые активы, тыс. руб.",{"$f":"D36-D35+D43","v":0},{"$f":"E36-E35+E43","v":0},{"$f":"F36-F35+F43","v":0},{"$f":"G36-G35+G43","v":0},{"$f":"H36-H35+H43","v":0}]
[null,null,"Денежный поток, тыс. руб. (сальдо денежных потоков за отчетный период)"]
[]
[null,null,"Основные средства"]
[null,null,"Запасы"]
[null,null,"ДЗ"]
[null,null,"Денежные средства"]
[null,null,"АКТИВЫ БАЛАНС"]
[null,null,"Задолженность по вкладам в УК"]
[null,null,"СК (Капитал и резервы)"]
[null,null,"Долгосрочные обязательства"]
[null,null,"ЗК (раздел 4 и 5 Баланса)",{"$f":"D34-D36","v":0},{"$f":"E34-E36","v":0},{"$f":"F34-F36","v":0},{"$f":"G34-G36","v":0},{"$f":"H34-H36","v":0}]
[null,null,"Заемные средства",{"$f":"SUM(D40:D41)","v":0},{"$f":"SUM(E40:E41)","v":0},{"$f":"SUM(F40:F41)","v":0},{"$f":"SUM(G40:G41)","v":0},{"$f":"SUM(H40:H41)","v":0}]
[null,null,"Долгосрочные заемные средства"]
[null,null,"Краткосрочные заемные средства  "]
[null,null,"КЗ"]
[null,null,"Доходы будущих периодов"]
[]
[null,null,"Прибыль от продаж"]
[]
[null,null,"Доля основных средств",{"$f":"IFERROR(D30/D34,0)","v":0},{"$f":"IFERROR(E30/E34,0)","v":0},{"$f":"IFERROR(F30/F34,0)","v":0},{"$f":"IFERROR(G30/G34,0)","v":0},{"$f":"IFERROR(H30/H34,0)","v":0}]
[null,null,"Доля запасов",{"$f":"IFERROR(D31/D34,0)","v":0},{"$f":"IFERROR(E31/E34,0)","v":0},{"$f":"IFERROR(F31/F34,0)","v":0},{"$f":"IFERROR(G31/G34,0)","v":0},{"$f":"IFERROR(H31/H34,0)","v":0}]
[null,null,"Доля денежных средств",{"$f":"IFERROR(D33/D34,0)","v":0},{"$f":"IFERROR(E33/E34,0)","v":0},{"$f":"IFERROR(F33/F34,0)","v":0},{"$f":"IFERROR(G33/G34,0)","v":0},{"$f":"IFERROR(H33/H34,0)","v":0}]
[null,null,"Доля ДЗ",{"$f":"IFERROR(D32/D34,0)","v":0},{"$f":"IFERROR(E32/E34,0)","v":0},{"$f":"IFERROR(F32/F34,0)","v":0},{"$f":"IFERROR(G32/G34,0)","v":0},{"$f":"IFERROR(H32/H34,0)","v":0}]
[null,null,"Доля КЗ",{"$f":"IFERROR(D42/D34,0)","v":0},{"$f":"IFERROR(E42/E34,0)","v":0},{"$f":"IFERROR(F42/F34,0)","v":0},{"$f":"IFERROR(G42/G34,0)","v":0},{"$f":"IFERROR(H42/H34,0)","v":0}]
[null,null,"Доля заемных средств",{"$f":"IFERROR(D39/D34,0)","v":0},{"$f":"IFERROR(E39/E34,0)","v":0},{"$f":"IFERROR(F39/F34,0)","v":0},{"$f":"IFERROR(G39/G34,0)","v":0},{"$f":"IFERROR(H39/H34,0)","v":0}]

{"sheet":"WACC","index":8,"n_rows":124,"n_cols":8,"rows_kept":124,"cut":false,"hidden":false,"merged":[[25,1,25,2],[25,4,25,5]]}
[]
["Расчет ставки дисконтирования"]
[]
[null,"Категория ","Сокращение ","Значение","Источник"]
[null,"Безрисковая ставка в рублях","Rf (RUB)",0.1154,"Кривая бескупонной доходности 15 лет (cbr.ru)"]
[null,"Коэффициент бета без учета структуры капитала","βunlev",{"$f":"C79","v":1.07},"Отрасль: Machinery / A. Damodaran: Levered and Unlevered Betas by Industry for Emerging market"]
[null,"Соотношение заемного и собственного капитала инвестиционного проекта","D/E",{"$f":"IFERROR(SUM(Предпосылки!F250,G57:G58)/SUM(Предпосылки!F249,Предпосылки!F254:F255),0)","v":0},"Данные инвестиционного проекта"]
[null,"Доля заемного капитала","Wd",{"$f":"IFERROR(SUM(Предпосылки!F250,G57:G58)/SUM(Предпосылки!F249,Предпосылки!F254:F255,Предпосылки!F250,G57:G58),0)","v":0},"D/E / (1 + D/E)"]
[null,"Доля собственного капитала","We",{"$f":"1-D8","v":1},"1 - Wd"]
[null,"Коэффициент бета с учетом структуры капитала","βrelev",{"$f":"D6*(1+D7)","v":1.07},"βunlev * (1 + D/E)"]
[null,"Премия за риск инвестирования в акции (долларовая ставка)","ERP (USD)",5.9400000000000001E-2,"A. Damodaran: Risk Premiums for Other Markets"]
[null,"Премия за риск инвестирования в акции (рублевая ставка)","ERP (RUB)",{"$f":"(1+D11)*(1+D16)/(1+D17)-1","v":7.9059438196831699E-2},"(1+ERP)*(1+CPI(RUB))/(1+CPI(USD))-1"]
[null,"Премия за размер","SP",0.03,"Допущение"]
[null,"Премия за специфический риск компании (долларовая ставка)","SRP",0,"Допущение"]
[null,"Стоимость собственного капитала в долларах США","Ke (RUB)",{"$f":"D5+D10*D12+D13+D14","v":0.22999359887060991},"Rf + βrelev * ERP + SP + SRP"]
[null,"Индекс потребительских цен, Российская Федерация","CPI (RUB)",{"$f":"G42","v":3.7909729585210002E-2},"Прогноз ВЭБ.РФ"]
[null,"Индекс потребительских цен, США","CPI (USD)",{"$f":"F42","v":1.9E-2},"Прогноз ВЭБ.РФ"]
[null,"Доналоговая стоимость долга","Kd (RUB)",{"$f":"IFERROR(\n(SUMPRODUCT(F57:F58,G57:G58)+Предпосылки!F251*Предпосылки!F250)\n/SUM(G57:G58,Предпосылки!F250),\n0)","v":0},"Долговое финансирование проекта, средневзвешенная ставка"]
[null,"Ставка налога на прибыль","t",0.25,"Налоговый кодекс РФ"]
[null,"Средневзвешенная стоимость капитала ","WACC (RUB)",{"$f":"D15*D9+(1-D19)*D18*D8","v":0.22999359887060991},"Ke (RUB) * We + (1 - t) * Kd (RUB) * Wd"]
[]
[]
["Справочная информация"]
[]
[null,"Коэффициент бета без учеты структуры капитала (unlevered beta)",null,null,"Премия за размер"]
[null,"Источник: А. Дамодаран: Итоговые беты для отраслей (развивающиеся рынки) - обновление: 01.2025",null,null,"Источник: Duff and Phelps, 2020 Valuation Handbook"]
[]
[null,"Industry Name","Unlevered beta",null,"Размер компании","Минимальная рыночная капитализация (млн. долл. США)","Максимальная рыночная капитализация (млн. долл. США)","Премия за размер"]
[null,"Advertising",1.3,null,"Крупные",13100,1061355,0]
[null,"Aerospace/Defense",0.91,null,"Средние",2686,13100,8.0000000000000002E-3]
[null,"Air Transport",0.76,null,"Малые",516,2686,1.4200000000000001E-2]
[null,"Apparel",0.61,null,"Микро",2,516,3.1600000000000003E-2]
[null,"Auto & Truck",1.18]
[null,"Auto Parts",1.1599999999999999]
[null,"Bank (Money Center)",0.28000000000000003,null,"Индекс потребительских цен (CPI)"]
[null,"Banks (Regional)",0.11,null,"Источник: прогноз ВЭБ.РФ"]
[null,"Beverage (Alcoholic)",1]
[null,"Beverage (Soft)",0.37,null,null,"Индекс потребительских цен США, % дек. г/г","Индекс потребительских цен, % дек/дек"]
[null,"Broadcasting",0.85,null,2023,4.4999999999999998E-2,6.137113406954E-2]
[null,"Brokerage & Investment Banking",0.34,null,2024,3.5000000000000003E-2,4.2284943749430003E-2]
[null,"Building Materials",0.88,null,2025,2.5000000000000001E-2,4.1559752566969997E-2]
[null,"Business & Consumer Services",0.94,null,2026,1.9E-2,3.7909729585210002E-2]
[null,"Cable TV",0.89,null,2027,1.9E-2,3.7705920404399997E-2]
[null,"Chemical (Basic)",0.85,null,2028,1.9E-2,3.705058003167E-2]
[null,"Chemical (Diversified)",0.88,null,2029,1.9E-2,3.6036354749739999E-2]
[null,"Chemical (Specialty)",0.88,null,2030,1.9E-2,3.5080977111240003E-2]
[null,"Coal & Related Energy",0.81,null,2031,1.9E-2,3.4894514019760001E-2]
[null,"Computer Services",0.99,null,2032,1.9E-2,3.4252369184609999E-2]
[null,"Computers/Peripherals",1.19,null,2033,1.9E-2,3.405176694986E-2]
[null,"Construction Supplies",0.72,null,2034,1.9E-2,3.3723235416629999E-2]
[null,"Diversified",0.42,null,2035,1.9E-2,3.3839286254589998E-2]
[null,"Drugs (Biotechnology)",1.37,null,"среднее значение",{"$f":"AVERAGE(F39:F51)","v":2.2692307692307692E-2},{"$f":"AVERAGE(G39:G51)","v":3.8443120314896155E-2}]
[null,"Drugs (Pharmaceutical)",0.93]
[null,"Education",0.69,null,"Параметры займов"]
[null,"Electrical Equipment",1.05]
[null,"Electronics (Consumer & Office)",0.99,null,"Заем","Ставка","Сумма займа"]
[null,"Electronics (General)",1.27,null,{"$f":"Предпосылки!C257","v":"  №"},{"$f":"Предпосылки!F266","v":0},{"$f":"Предпосылки!F263","v":0}]
[null,"Engineering/Construction",0.45,null,{"$f":"Предпосылки!C268","v":"  №"},{"$f":"Предпосылки!F277","v":0},{"$f":"Предпосылки!F274","v":0}]
[null,"Entertainment",1.1499999999999999]
[null,"Environmental & Waste Services",0.7]
[null,"Farming/Agriculture",0.52]
[null,"Financial Svcs. (Non-bank & Insurance)",0.32]
[null,"Food Processing",0.59]
[null,"Food Wholesalers",0.36]
[null,"Furn/Home Furnishings",0.87]
[null,"Green & Renewable Energy",0.56000000000000005]
[null,"Healthcare Products",1.1599999999999999]
[null,"Healthcare Support Services",0.62]
[null,"Heathcare Information and Technology",1.36]
[null,"Homebuilding",0.47]
[null,"Hospitals/Healthcare Facilities",0.69]
[null,"Hotel/Gaming",0.54]
[null,"Household Products",0.84]
[null,"Information Services",1.03]
[null,"Insurance (General)",0.34]
[null,"Insurance (Life)",0.6]
[null,"Insurance (Prop/Cas.)",0.37]
[null,"Investments & Asset Management",0.28000000000000003]
[null,"Machinery",1.07]
[null,"Metals & Mining",1.0900000000000001]
[null,"Office Equipment & Services",0.65]
[null,"Oil/Gas (Integrated)",0.89]
[null,"Oil/Gas (Production and Exploration)",0.86]
[null,"Oil/Gas Distribution",0.45]
[null,"Oilfield Svcs/Equip.",0.64]
[null,"Packaging & Container",0.63]
[null,"Paper/Forest Products",0.47]
[null,"Power",0.4]
[null,"Precious Metals",1.02]
[null,"Publishing & Newspapers",0.86]
[null,"R.E.I.T.",0.38]
[null,"Real Estate (Development)",0.37]
[null,"Real Estate (General/Diversified)",0.51]
[null,"Real Estate (Operations & Services)",0.51]
[null,"Recreation",0.86]
[null,"Reinsurance",0.91]
[null,"Restaurant/Dining",0.85]
[null,"Retail (Automotive)",0.5]
[null,"Retail (Building Supply)",0.56999999999999995]
[null,"Retail (Distributors)",0.41]
[null,"Retail (General)",0.89]
[null,"Retail (Grocery and Food)",0.64]
[null,"Retail (Online)",0.63]
[null,"Retail (Special Lines)",0.84]
[null,"Rubber& Tires",0.72]
[null,"Semiconductor",1.58]
[null,"Semiconductor Equip",1.86]
[null,"Shipbuilding & Marine",0.65]
[null,"Shoe",0.52]
[null,"Software (Entertainment)",1.53]
[null,"Software (Internet)",1.1299999999999999]
[null,"Software (System & Application)",1.53]
[null,"Steel",0.81]
[null,"Telecom (Wireless)",0.75]
[null,"Telecom. Equipment",1.19]
[null,"Telecom. Services",0.6]
[null,"Tobacco",0.28000000000000003]
[null,"Transportation",0.66]
[null,"Transportation (Railroads)",0.75]
[null,"Trucking",0.27]
[null,"Utility (General)",0.5]
[null,"Utility (Water)",0.37]
[null,"Total Market",0.68]
[null,"Total Market (without financials)",0.82]

{"sheet":"Для БП","index":9,"n_rows":88,"n_cols":25,"rows_kept":88,"cut":false,"hidden":false,"merged":[[76,4,76,12],[82,4,82,12],[28,4,28,5],[27,4,27,5],[58,4,58,12],[64,4,64,12],[70,4,70,12]]}
[null,null,null,null,{"$f":"\"Лист:  \" & RIGHT(CELL(\"filename\",A1),LEN(CELL(\"filename\",A1))-SEARCH(\"]\",CELL(\"filename\",A1)))","v":"Лист:  Для БП"}]
[null,"Информация, требуемая для отражения в бизнес-плане в соответствии \nс п. 16 Правил"]
[]
[null,null,"Планируемый размер ежегодной проектной операционной прибыли в течение реализации инвестиционного проекта (пп. \"з\")"]
[]
[null,null,null,{"$f":"D11","v":"Ед. изм."},{"$f":"Предпосылки!H2","v":2026},{"$f":"Предпосылки!I2","v":2027},{"$f":"Предпосылки!J2","v":2028},{"$f":"Предпосылки!K2","v":2029},{"$f":"Предпосылки!L2","v":2030},{"$f":"Предпосылки!M2","v":2031},{"$f":"Предпосылки!N2","v":2032},{"$f":"Предпосылки!O2","v":2033},{"$f":"Предпосылки!P2","v":2034},{"$f":"Предпосылки!Q2","v":2035},{"$f":"Предпосылки!R2","v":2036},{"$f":"Предпосылки!S2","v":2037},{"$f":"Предпосылки!T2","v":2038},{"$f":"Предпосылки!U2","v":2039},{"$f":"Предпосылки!V2","v":2040},{"$f":"Предпосылки!W2","v":2041},{"$f":"Предпосылки!X2","v":2042},{"$f":"Предпосылки!Y2","v":2043},{"$f":"Предпосылки!Z2","v":2044},{"$f":"Предпосылки!AA2","v":2045},{"$f":"Предпосылки!AB2","v":2046}]
[null,null,{"$f":"'Отчетность (СПИК)'!B75","v":"Проектная операционная прибыль"},{"$f":"'Отчетность (СПИК)'!D75","v":"тыс. руб."},{"$f":"'Отчетность (СПИК)'!H75","v":0},{"$f":"'Отчетность (СПИК)'!I75","v":0},{"$f":"'Отчетность (СПИК)'!J75","v":0},{"$f":"'Отчетность (СПИК)'!K75","v":0},{"$f":"'Отчетность (СПИК)'!L75","v":0},{"$f":"'Отчетность (СПИК)'!M75","v":0},{"$f":"'Отчетность (СПИК)'!N75","v":0},{"$f":"'Отчетность (СПИК)'!O75","v":0},{"$f":"'Отчетность (СПИК)'!P75","v":0},{"$f":"'Отчетность (СПИК)'!Q75","v":0},{"$f":"'Отчетность (СПИК)'!R75","v":0},{"$f":"'Отчетность (СПИК)'!S75","v":0},{"$f":"'Отчетность (СПИК)'!T75","v":0},{"$f":"'Отчетность (СПИК)'!U75","v":0},{"$f":"'Отчетность (СПИК)'!V75","v":0},{"$f":"'Отчетность (СПИК)'!W75","v":0},{"$f":"'Отчетность (СПИК)'!X75","v":0},{"$f":"'Отчетность (СПИК)'!Y75","v":0},{"$f":"'Отчетность (СПИК)'!Z75","v":0},{"$f":"'Отчетность (СПИК)'!AA75","v":0},{"$f":"'Отчетность (СПИК)'!AB75","v":0}]
[]
[null,null,"Общая планируемая стоимость реализации инвестционного проекта (пп. \"м\")"]
[]
[null,null,null,"Ед. изм.","Сумма"]
[null,null,"Объем инвестиций ",{"$f":"'График инвестирования'!D35","v":"тыс. руб."},{"$f":"'График инвестирования'!F35","v":0}]
[]
[null,null,"Планируемый объем финансирования с выделением источников финансирования (пп. \"н\")"]
[]
[null,null,null,{"$f":"Результаты!E51","v":"Доля, %"},{"$f":"Результаты!F51","v":"Сумма, тыс. руб"}]
[null,null,{"$f":"Результаты!C52","v":"Собственные средства"},{"$f":"Результаты!E52","v":0},{"$f":"Результаты!F52","v":0}]
[null,null,{"$f":"Результаты!C53","v":"Заемные средства"},{"$f":"Результаты!E53","v":0},{"$f":"Результаты!F53","v":0}]
[null,null,{"$f":"Результаты!C54","v":"Бюджетные инвестиции"},{"$f":"Результаты!E54","v":0},{"$f":"Результаты!F54","v":0}]
[null,null,{"$f":"Результаты!C55","v":"Итого"},{"$f":"Результаты!E55","v":0},{"$f":"Результаты!F55","v":0}]
[]
[null,null,"Планируемые основные показатели инвестиционного проекта (пп. \"о\")"]
[]
[null,null,"Показатель","Ед. изм.","Со СПИК","Без СПИК"]
[null,null,"NPV (чистая приведенная стоимость)",{"$f":"RIGHTB(Результаты!C60, LEN(Результаты!C60) - FIND(\",\", Результаты!C60))","v":" тыс. руб."},{"$f":"Результаты!E60","v":0},{"$f":"Результаты!F60","v":0}]
[null,null,"IRR (внутренняя норма доходности)",{"$f":"RIGHTB(Результаты!C61, LEN(Результаты!C61) - FIND(\",\", Результаты!C61))","v":"%"},{"$f":"IFERROR(Результаты!E61,\"-\")","v":"-"},{"$f":"IFERROR(Результаты!F61,\"-\")","v":"-"}]
[null,null,"DPBP (дисконтированный период окупаемости)",{"$f":"RIGHTB(Результаты!C64, LEN(Результаты!C64) - FIND(\",\", Результаты!C64))","v":" лет"},{"$f":"Результаты!E64","v":15},{"$f":"Результаты!F64","v":15}]
[null,null,"Ставка дисконтирования",{"$f":"RIGHTB(Результаты!C67, LEN(Результаты!C67) - FIND(\",\", Результаты!C67))","v":" %"},{"$f":"Результаты!E67","v":0.22999359887060991}]
[null,null,"Количество создаваемых рабочих мест","чел.",{"$f":"Результаты!F47","v":0}]
[]
[]
[null,null,null,{"$f":"D6","v":"Ед. изм."},{"$f":"E6","v":2026},2027,2028,2029,2030,2031,2032,2033,2034,2035,2036,2037,2038,2039,2040,2041,2042,2043,2044,2045,2046]
[null,null,"BNPV бюджетная эффективность",{"$f":"'Эффективность (СПИК)'!D72","v":"тыс. руб."},{"$f":"'Эффективность (СПИК)'!H69","v":0},{"$f":"'Эффективность (СПИК)'!I69","v":0},{"$f":"'Эффективность (СПИК)'!J69","v":0},{"$f":"'Эффективность (СПИК)'!K69","v":0},{"$f":"'Эффективность (СПИК)'!L69","v":0},{"$f":"'Эффективность (СПИК)'!M69","v":0},{"$f":"'Эффективность (СПИК)'!N69","v":0},{"$f":"'Эффективность (СПИК)'!O69","v":0},{"$f":"'Эффективность (СПИК)'!P69","v":0},{"$f":"'Эффективность (СПИК)'!Q69","v":0},{"$f":"'Эффективность (СПИК)'!R69","v":0},{"$f":"'Эффективность (СПИК)'!S69","v":0},{"$f":"'Эффективность (СПИК)'!T69","v":0},{"$f":"'Эффективность (СПИК)'!U69","v":0},{"$f":"'Эффективность (СПИК)'!V69","v":0},{"$f":"'Эффективность (СПИК)'!W69","v":0},{"$f":"'Эффективность (СПИК)'!X69","v":0},{"$f":"'Эффективность (СПИК)'!Y69","v":0},{"$f":"'Эффективность (СПИК)'!Z69","v":0},{"$f":"'Эффективность (СПИК)'!AA69","v":0},{"$f":"'Эффективность (СПИК)'!AB69","v":0}]
[null,null,"Средняя заработная плата",{"$f":"'Операционные затраты'!D38","v":"тыс. руб."},{"$f":"IFERROR('Операционные затраты'!H53/Предпосылки!H124,0)","v":0},{"$f":"IFERROR('Операционные затраты'!I53/Предпосылки!I124,0)","v":0},{"$f":"IFERROR('Операционные затраты'!J53/Предпосылки!J124,0)","v":0},{"$f":"IFERROR('Операционные затраты'!K53/Предпосылки!K124,0)","v":0},{"$f":"IFERROR('Операционные затраты'!L53/Предпосылки!L124,0)","v":0},{"$f":"IFERROR('Операционные затраты'!M53/Предпосылки!M124,0)","v":0},{"$f":"IFERROR('Операционные затраты'!N53/Предпосылки!N124,0)","v":0},{"$f":"IFERROR('Операционные затраты'!O53/Предпосылки!O124,0)","v":0},{"$f":"IFERROR('Операционные затраты'!P53/Предпосылки!P124,0)","v":0},{"$f":"IFERROR('Операционные затраты'!Q53/Предпосылки!Q124,0)","v":0},{"$f":"IFERROR('Операционные затраты'!R53/Предпосылки!R124,0)","v":0},{"$f":"IFERROR('Операционные затраты'!S53/Предпосылки!S124,0)","v":0},{"$f":"IFERROR('Операционные затраты'!T53/Предпосылки!T124,0)","v":0},{"$f":"IFERROR('Операционные затраты'!U53/Предпосылки!U124,0)","v":0},{"$f":"IFERROR('Операционные затраты'!V53/Предпосылки!V124,0)","v":0},{"$f":"IFERROR('Операционные затраты'!W53/Предпосылки!W124,0)","v":0},{"$f":"IFERROR('Операционные затраты'!X53/Предпосылки!X124,0)","v":0},{"$f":"IFERROR('Операционные затраты'!Y53/Предпосылки!Y124,0)","v":0},{"$f":"IFERROR('Операционные затраты'!Z53/Предпосылки!Z124,0)","v":0},{"$f":"IFERROR('Операционные затраты'!AA53/Предпосылки!AA124,0)","v":0},{"$f":"IFERROR('Операционные затраты'!AB53/Предпосылки!AB124,0)","v":0}]
[]
[null,null,"Динамика целевых результатов (показателей) инвестиционного проекта (пп. \"р\")"]
[]
[null,null,null,{"$f":"D24","v":"Ед. изм."},{"$f":"E6","v":2026},{"$f":"F6","v":2027},2028,2029,2030,2031,2032,2033,2034,2035,2036,2037,2038,2039,2040,2041,2042,2043,2044,2045,2046]
[null,null,"Объем произведенной промышленной продукции \nв денежном выражении:",{"$f":"Результаты!D19","v":"тыс. руб."},{"$f":"Результаты!H18","v":0},{"$f":"Результаты!I18","v":0},{"$f":"Результаты!J18","v":0},{"$f":"Результаты!K18","v":0},{"$f":"Результаты!L18","v":0},{"$f":"Результаты!M18","v":0},{"$f":"Результаты!N18","v":0},{"$f":"Результаты!O18","v":0},{"$f":"Результаты!P18","v":0},{"$f":"Результаты!Q18","v":0},{"$f":"Результаты!R18","v":0},{"$f":"Результаты!S18","v":0},{"$f":"Результаты!T18","v":0},{"$f":"Результаты!U18","v":0},{"$f":"Результаты!V18","v":0},{"$f":"Результаты!W18","v":0},{"$f":"Результаты!X18","v":0},{"$f":"Результаты!Y18","v":0},{"$f":"Результаты!Z18","v":0},{"$f":"Результаты!AA18","v":0},{"$f":"Результаты!AB18","v":0}]
[null,null,"Объем произведенной промышленной продукции\nв натуральном выражении:",{"$f":"Результаты!D23","v":" ед."},{"$f":"Результаты!H22","v":0},{"$f":"Результаты!I22","v":0},{"$f":"Результаты!J22","v":0},{"$f":"Результаты!K22","v":0},{"$f":"Результаты!L22","v":0},{"$f":"Результаты!M22","v":0},{"$f":"Результаты!N22","v":0},{"$f":"Результаты!O22","v":0},{"$f":"Результаты!P22","v":0},{"$f":"Результаты!Q22","v":0},{"$f":"Результаты!R22","v":0},{"$f":"Результаты!S22","v":0},{"$f":"Результаты!T22","v":0},{"$f":"Результаты!U22","v":0},{"$f":"Результаты!V22","v":0},{"$f":"Результаты!W22","v":0},{"$f":"Результаты!X22","v":0},{"$f":"Результаты!Y22","v":0},{"$f":"Результаты!Z22","v":0},{"$f":"Результаты!AA22","v":0},{"$f":"Результаты!AB22","v":0}]
[null,null,"Объем реализованной промышленной продукции \nв денежном выражении:",{"$f":"Результаты!D27","v":"тыс. руб."},{"$f":"Результаты!H26","v":0},{"$f":"Результаты!I26","v":0},{"$f":"Результаты!J26","v":0},{"$f":"Результаты!K26","v":0},{"$f":"Результаты!L26","v":0},{"$f":"Результаты!M26","v":0},{"$f":"Результаты!N26","v":0},{"$f":"Результаты!O26","v":0},{"$f":"Результаты!P26","v":0},{"$f":"Результаты!Q26","v":0},{"$f":"Результаты!R26","v":0},{"$f":"Результаты!S26","v":0},{"$f":"Результаты!T26","v":0},{"$f":"Результаты!U26","v":0},{"$f":"Результаты!V26","v":0},{"$f":"Результаты!W26","v":0},{"$f":"Результаты!X26","v":0},{"$f":"Результаты!Y26","v":0},{"$f":"Результаты!Z26","v":0},{"$f":"Результаты!AA26","v":0},{"$f":"Результаты!AB26","v":0}]
[null,null,"Объем реализованной промышленной продукции\nв натуральном выражении:",{"$f":"Результаты!D31","v":" ед."},{"$f":"Результаты!H30","v":0},{"$f":"Результаты!I30","v":0},{"$f":"Результаты!J30","v":0},{"$f":"Результаты!K30","v":0},{"$f":"Результаты!L30","v":0},{"$f":"Результаты!M30","v":0},{"$f":"Результаты!N30","v":0},{"$f":"Результаты!O30","v":0},{"$f":"Результаты!P30","v":0},{"$f":"Результаты!Q30","v":0},{"$f":"Результаты!R30","v":0},{"$f":"Результаты!S30","v":0},{"$f":"Результаты!T30","v":0},{"$f":"Результаты!U30","v":0},{"$f":"Результаты!V30","v":0},{"$f":"Результаты!W30","v":0},{"$f":"Результаты!X30","v":0},{"$f":"Результаты!Y30","v":0},{"$f":"Результаты!Z30","v":0},{"$f":"Результаты!AA30","v":0},{"$f":"Результаты!AB30","v":0}]
[null,null,"Минимальный объем налогов, сборов, страховых взносов к уплате:"]
[null,null,"С учетом применения мер стимулирования деятельности в сфере промышленности, предусмотренных СПИК:",{"$f":"Результаты!D36","v":"тыс. руб."},{"$f":"Результаты!H35","v":0},{"$f":"Результаты!I35","v":0},{"$f":"Результаты!J35","v":0},{"$f":"Результаты!K35","v":0},{"$f":"Результаты!L35","v":0},{"$f":"Результаты!M35","v":0},{"$f":"Результаты!N35","v":0},{"$f":"Результаты!O35","v":0},{"$f":"Результаты!P35","v":0},{"$f":"Результаты!Q35","v":0},{"$f":"Результаты!R35","v":0},{"$f":"Результаты!S35","v":0},{"$f":"Результаты!T35","v":0},{"$f":"Результаты!U35","v":0},{"$f":"Результаты!V35","v":0},{"$f":"Результаты!W35","v":0},{"$f":"Результаты!X35","v":0},{"$f":"Результаты!Y35","v":0},{"$f":"Результаты!Z35","v":0},{"$f":"Результаты!AA35","v":0},{"$f":"Результаты!AB35","v":0}]
[null,null,"в федеральный бюджет",{"$f":"Результаты!D36","v":"тыс. руб."},{"$f":"Результаты!H36","v":0},{"$f":"Результаты!I36","v":0},{"$f":"Результаты!J36","v":0},{"$f":"Результаты!K36","v":0},{"$f":"Результаты!L36","v":0},{"$f":"Результаты!M36","v":0},{"$f":"Результаты!N36","v":0},{"$f":"Результаты!O36","v":0},{"$f":"Результаты!P36","v":0},{"$f":"Результаты!Q36","v":0},{"$f":"Результаты!R36","v":0},{"$f":"Результаты!S36","v":0},{"$f":"Результаты!T36","v":0},{"$f":"Результаты!U36","v":0},{"$f":"Результаты!V36","v":0},{"$f":"Результаты!W36","v":0},{"$f":"Результаты!X36","v":0},{"$f":"Результаты!Y36","v":0},{"$f":"Результаты!Z36","v":0},{"$f":"Результаты!AA36","v":0},{"$f":"Результаты!AB36","v":0}]
[null,null,"в региональный бюджет",{"$f":"D45","v":"тыс. руб."},{"$f":"Результаты!H37","v":0},{"$f":"Результаты!I37","v":0},{"$f":"Результаты!J37","v":0},{"$f":"Результаты!K37","v":0},{"$f":"Результаты!L37","v":0},{"$f":"Результаты!M37","v":0},{"$f":"Результаты!N37","v":0},{"$f":"Результаты!O37","v":0},{"$f":"Результаты!P37","v":0},{"$f":"Результаты!Q37","v":0},{"$f":"Результаты!R37","v":0},{"$f":"Результаты!S37","v":0},{"$f":"Результаты!T37","v":0},{"$f":"Результаты!U37","v":0},{"$f":"Результаты!V37","v":0},{"$f":"Результаты!W37","v":0},{"$f":"Результаты!X37","v":0},{"$f":"Результаты!Y37","v":0},{"$f":"Результаты!Z37","v":0},{"$f":"Результаты!AA37","v":0},{"$f":"Результаты!AB37","v":0}]
[null,null,"в местный бюджет",{"$f":"D46","v":"тыс. руб."},{"$f":"Результаты!H38","v":0},{"$f":"Результаты!I38","v":0},{"$f":"Результаты!J38","v":0},{"$f":"Результаты!K38","v":0},{"$f":"Результаты!L38","v":0},{"$f":"Результаты!M38","v":0},{"$f":"Результаты!N38","v":0},{"$f":"Результаты!O38","v":0},{"$f":"Результаты!P38","v":0},{"$f":"Результаты!Q38","v":0},{"$f":"Результаты!R38","v":0},{"$f":"Результаты!S38","v":0},{"$f":"Результаты!T38","v":0},{"$f":"Результаты!U38","v":0},{"$f":"Результаты!V38","v":0},{"$f":"Результаты!W38","v":0},{"$f":"Результаты!X38","v":0},{"$f":"Результаты!Y38","v":0},{"$f":"Результаты!Z38","v":0},{"$f":"Результаты!AA38","v":0},{"$f":"Результаты!AB38","v":0}]
[null,null,"страховые взносы",{"$f":"D47","v":"тыс. руб."},{"$f":"Результаты!H39","v":0},{"$f":"Результаты!I39","v":0},{"$f":"Результаты!J39","v":0},{"$f":"Результаты!K39","v":0},{"$f":"Результаты!L39","v":0},{"$f":"Результаты!M39","v":0},{"$f":"Результаты!N39","v":0},{"$f":"Результаты!O39","v":0},{"$f":"Результаты!P39","v":0},{"$f":"Результаты!Q39","v":0},{"$f":"Результаты!R39","v":0},{"$f":"Результаты!S39","v":0},{"$f":"Результаты!T39","v":0},{"$f":"Результаты!U39","v":0},{"$f":"Результаты!V39","v":0},{"$f":"Результаты!W39","v":0},{"$f":"Результаты!X39","v":0},{"$f":"Результаты!Y39","v":0},{"$f":"Результаты!Z39","v":0},{"$f":"Результаты!AA39","v":0},{"$f":"Результаты!AB39","v":0}]
[null,null,"Без учета применения мер стимулирования деятельности в сфере промышленности, предусмотренных СПИК:",{"$f":"Результаты!D42","v":"тыс. руб."},{"$f":"Результаты!H41","v":0},{"$f":"Результаты!I41","v":0},{"$f":"Результаты!J41","v":0},{"$f":"Результаты!K41","v":0},{"$f":"Результаты!L41","v":0},{"$f":"Результаты!M41","v":0},{"$f":"Результаты!N41","v":0},{"$f":"Результаты!O41","v":0},{"$f":"Результаты!P41","v":0},{"$f":"Результаты!Q41","v":0},{"$f":"Результаты!R41","v":0},{"$f":"Результаты!S41","v":0},{"$f":"Результаты!T41","v":0},{"$f":"Результаты!U41","v":0},{"$f":"Результаты!V41","v":0},{"$f":"Результаты!W41","v":0},{"$f":"Результаты!X41","v":0},{"$f":"Результаты!Y41","v":0},{"$f":"Результаты!Z41","v":0},{"$f":"Результаты!AA41","v":0},{"$f":"Результаты!AB41","v":0}]
[null,null,"в федеральный бюджет",{"$f":"Результаты!D42","v":"тыс. руб."},{"$f":"Результаты!H42","v":0},{"$f":"Результаты!I42","v":0},{"$f":"Результаты!J42","v":0},{"$f":"Результаты!K42","v":0},{"$f":"Результаты!L42","v":0},{"$f":"Результаты!M42","v":0},{"$f":"Результаты!N42","v":0},{"$f":"Результаты!O42","v":0},{"$f":"Результаты!P42","v":0},{"$f":"Результаты!Q42","v":0},{"$f":"Результаты!R42","v":0},{"$f":"Результаты!S42","v":0},{"$f":"Результаты!T42","v":0},{"$f":"Результаты!U42","v":0},{"$f":"Результаты!V42","v":0},{"$f":"Результаты!W42","v":0},{"$f":"Результаты!X42","v":0},{"$f":"Результаты!Y42","v":0},{"$f":"Результаты!Z42","v":0},{"$f":"Результаты!AA42","v":0},{"$f":"Результаты!AB42","v":0}]
[null,null,"в региональный бюджет",{"$f":"Результаты!D43","v":"тыс. руб."},{"$f":"Результаты!H43","v":0},{"$f":"Результаты!I43","v":0},{"$f":"Результаты!J43","v":0},{"$f":"Результаты!K43","v":0},{"$f":"Результаты!L43","v":0},{"$f":"Результаты!M43","v":0},{"$f":"Результаты!N43","v":0},{"$f":"Результаты!O43","v":0},{"$f":"Результаты!P43","v":0},{"$f":"Результаты!Q43","v":0},{"$f":"Результаты!R43","v":0},{"$f":"Результаты!S43","v":0},{"$f":"Результаты!T43","v":0},{"$f":"Результаты!U43","v":0},{"$f":"Результаты!V43","v":0},{"$f":"Результаты!W43","v":0},{"$f":"Результаты!X43","v":0},{"$f":"Результаты!Y43","v":0},{"$f":"Результаты!Z43","v":0},{"$f":"Результаты!AA43","v":0},{"$f":"Результаты!AB43","v":0}]
[null,null,"в местный бюджет",{"$f":"Результаты!D44","v":"тыс. руб."},{"$f":"Результаты!H44","v":0},{"$f":"Результаты!I44","v":0},{"$f":"Результаты!J44","v":0},{"$f":"Результаты!K44","v":0},{"$f":"Результаты!L44","v":0},{"$f":"Результаты!M44","v":0},{"$f":"Результаты!N44","v":0},{"$f":"Результаты!O44","v":0},{"$f":"Результаты!P44","v":0},{"$f":"Результаты!Q44","v":0},{"$f":"Результаты!R44","v":0},{"$f":"Результаты!S44","v":0},{"$f":"Результаты!T44","v":0},{"$f":"Результаты!U44","v":0},{"$f":"Результаты!V44","v":0},{"$f":"Результаты!W44","v":0},{"$f":"Результаты!X44","v":0},{"$f":"Результаты!Y44","v":0},{"$f":"Результаты!Z44","v":0},{"$f":"Результаты!AA44","v":0},{"$f":"Результаты!AB44","v":0}]
[null,null,"страховые взносы",{"$f":"Результаты!D45","v":"тыс. руб."},{"$f":"Результаты!H45","v":0},{"$f":"Результаты!I45","v":0},{"$f":"Результаты!J45","v":0},{"$f":"Результаты!K45","v":0},{"$f":"Результаты!L45","v":0},{"$f":"Результаты!M45","v":0},{"$f":"Результаты!N45","v":0},{"$f":"Результаты!O45","v":0},{"$f":"Результаты!P45","v":0},{"$f":"Результаты!Q45","v":0},{"$f":"Результаты!R45","v":0},{"$f":"Результаты!S45","v":0},{"$f":"Результаты!T45","v":0},{"$f":"Результаты!U45","v":0},{"$f":"Результаты!V45","v":0},{"$f":"Результаты!W45","v":0},{"$f":"Результаты!X45","v":0},{"$f":"Результаты!Y45","v":0},{"$f":"Результаты!Z45","v":0},{"$f":"Результаты!AA45","v":0},{"$f":"Результаты!AB45","v":0}]
[null,null,"Количество создаваемых рабочих мест",{"$f":"Результаты!D47","v":"чел."},{"$f":"Результаты!H47","v":0},{"$f":"Результаты!I47","v":0},{"$f":"Результаты!J47","v":0},{"$f":"Результаты!K47","v":0},{"$f":"Результаты!L47","v":0},{"$f":"Результаты!M47","v":0},{"$f":"Результаты!N47","v":0},{"$f":"Результаты!O47","v":0},{"$f":"Результаты!P47","v":0},{"$f":"Результаты!Q47","v":0},{"$f":"Результаты!R47","v":0},{"$f":"Результаты!S47","v":0},{"$f":"Результаты!T47","v":0},{"$f":"Результаты!U47","v":0},{"$f":"Результаты!V47","v":0},{"$f":"Результаты!W47","v":0},{"$f":"Результаты!X47","v":0},{"$f":"Результаты!Y47","v":0},{"$f":"Результаты!Z47","v":0},{"$f":"Результаты!AA47","v":0},{"$f":"Результаты!AB47","v":0}]
[]
[null,null,"Анализ чувствительности инвестиционного проекта \n(пп. \"с\")"]
[]
[null,null,{"$f":"'Анализ чувствительности (СПИК)'!C4","v":"Изменяемый параметр"},{"$f":"'Анализ чувствительности (СПИК)'!D4","v":"Ед. изм."},{"$f":"'Анализ чувствительности (СПИК)'!E4","v":-0.15},{"$f":"'Анализ чувствительности (СПИК)'!F4","v":-0.1},{"$f":"'Анализ чувствительности (СПИК)'!G4","v":-0.05},{"$f":"'Анализ чувствительности (СПИК)'!H4","v":-0.01},{"$f":"'Анализ чувствительности (СПИК)'!I4","v":0},{"$f":"'Анализ чувствительности (СПИК)'!J4","v":0.01},{"$f":"'Анализ чувствительности (СПИК)'!K4","v":0.05},{"$f":"'Анализ чувствительности (СПИК)'!L4","v":0.1},{"$f":"'Анализ чувствительности (СПИК)'!M4","v":0.15}]
[null,null,null,null,{"$f":"'Анализ чувствительности (СПИК)'!E5","v":"NPV"},{"$f":"'Анализ чувствительности (СПИК)'!F5","v":0},{"$f":"'Анализ чувствительности (СПИК)'!G5","v":0},{"$f":"'Анализ чувствительности (СПИК)'!H5","v":0},{"$f":"'Анализ чувствительности (СПИК)'!I5","v":0},{"$f":"'Анализ чувствительности (СПИК)'!J5","v":0},{"$f":"'Анализ чувствительности (СПИК)'!K5","v":0},{"$f":"'Анализ чувствительности (СПИК)'!L5","v":0},{"$f":"'Анализ чувствительности (СПИК)'!M5","v":0}]
[null,null,{"$f":"'Анализ чувствительности (СПИК)'!C6","v":"Изменение цен на готовую продукцию"},{"$f":"'Анализ чувствительности (СПИК)'!D6","v":"тыс. руб."},{"$f":"'Анализ чувствительности (СПИК)'!E6","v":0},{"$f":"'Анализ чувствительности (СПИК)'!F6","v":0},{"$f":"'Анализ чувствительности (СПИК)'!G6","v":0},{"$f":"'Анализ чувствительности (СПИК)'!H6","v":0},{"$f":"'Анализ чувствительности (СПИК)'!I6","v":0},{"$f":"'Анализ чувствительности (СПИК)'!J6","v":0},{"$f":"'Анализ чувствительности (СПИК)'!K6","v":0},{"$f":"'Анализ чувствительности (СПИК)'!L6","v":0},{"$f":"'Анализ чувствительности (СПИК)'!M6","v":0}]
[null,null,{"$f":"'Анализ чувствительности (СПИК)'!C7","v":"Изменение объёма производства и реализации"},{"$f":"'Анализ чувствительности (СПИК)'!D7","v":"тыс. руб."},{"$f":"'Анализ чувствительности (СПИК)'!E7","v":0},{"$f":"'Анализ чувствительности (СПИК)'!F7","v":0},{"$f":"'Анализ чувствительности (СПИК)'!G7","v":0},{"$f":"'Анализ чувствительности (СПИК)'!H7","v":0},{"$f":"'Анализ чувствительности (СПИК)'!I7","v":0},{"$f":"'Анализ чувствительности (СПИК)'!J7","v":0},{"$f":"'Анализ чувствительности (СПИК)'!K7","v":0},{"$f":"'Анализ чувствительности (СПИК)'!L7","v":0},{"$f":"'Анализ чувствительности (СПИК)'!M7","v":0}]
[null,null,{"$f":"'Анализ чувствительности (СПИК)'!C8","v":"Изменение цен на сырье и материалы"},{"$f":"'Анализ чувствительности (СПИК)'!D8","v":"тыс. руб."},{"$f":"'Анализ чувствительности (СПИК)'!E8","v":0},{"$f":"'Анализ чувствительности (СПИК)'!F8","v":0},{"$f":"'Анализ чувствительности (СПИК)'!G8","v":0},{"$f":"'Анализ чувствительности (СПИК)'!H8","v":0},{"$f":"'Анализ чувствительности (СПИК)'!I8","v":0},{"$f":"'Анализ чувствительности (СПИК)'!J8","v":0},{"$f":"'Анализ чувствительности (СПИК)'!K8","v":0},{"$f":"'Анализ чувствительности (СПИК)'!L8","v":0},{"$f":"'Анализ чувствительности (СПИК)'!M8","v":0}]
[null,null,{"$f":"'Анализ чувствительности (СПИК)'!C9","v":"Изменение курса валюты (при наличии в модели)"},{"$f":"'Анализ чувствительности (СПИК)'!D9","v":"тыс. руб."},{"$f":"'Анализ чувствительности (СПИК)'!E9","v":0},{"$f":"'Анализ чувствительности (СПИК)'!F9","v":0},{"$f":"'Анализ чувствительности (СПИК)'!G9","v":0},{"$f":"'Анализ чувствительности (СПИК)'!H9","v":0},{"$f":"'Анализ чувствительности (СПИК)'!I9","v":0},{"$f":"'Анализ чувствительности (СПИК)'!J9","v":0},{"$f":"'Анализ чувствительности (СПИК)'!K9","v":0},{"$f":"'Анализ чувствительности (СПИК)'!L9","v":0},{"$f":"'Анализ чувствительности (СПИК)'!M9","v":0}]
[null,null,{"$f":"'Анализ чувствительности (СПИК)'!C10","v":"Изменение ставки дисконтирования"},{"$f":"'Анализ чувствительности (СПИК)'!D10","v":"тыс. руб."},{"$f":"'Анализ чувствительности (СПИК)'!E10","v":0},{"$f":"'Анализ чувствительности (СПИК)'!F10","v":0},{"$f":"'Анализ чувствительности (СПИК)'!G10","v":0},{"$f":"'Анализ чувствительности (СПИК)'!H10","v":0},{"$f":"'Анализ чувствительности (СПИК)'!I10","v":0},{"$f":"'Анализ чувствительности (СПИК)'!J10","v":0},{"$f":"'Анализ чувствительности (СПИК)'!K10","v":0},{"$f":"'Анализ чувствительности (СПИК)'!L10","v":0},{"$f":"'Анализ чувствительности (СПИК)'!M10","v":0}]
[null,null,null,null,{"$f":"'Анализ чувствительности (СПИК)'!E11","v":"IRR"},{"$f":"'Анализ чувствительности (СПИК)'!F11","v":0},{"$f":"'Анализ чувствительности (СПИК)'!G11","v":0},{"$f":"'Анализ чувствительности (СПИК)'!H11","v":0},{"$f":"'Анализ чувствительности (СПИК)'!I11","v":0},{"$f":"'Анализ чувствительности (СПИК)'!J11","v":0},{"$f":"'Анализ чувствительности (СПИК)'!K11","v":0},{"$f":"'Анализ чувствительности (СПИК)'!L11","v":0},{"$f":"'Анализ чувствительности (СПИК)'!M11","v":0}]
[null,null,{"$f":"'Анализ чувствительности (СПИК)'!C12","v":"Изменение цен на готовую продукцию"},{"$f":"'Анализ чувствительности (СПИК)'!D12","v":"%"},{"$f":"'Анализ чувствительности (СПИК)'!E12","v":0},{"$f":"'Анализ чувствительности (СПИК)'!F12","v":0},{"$f":"'Анализ чувствительности (СПИК)'!G12","v":0},{"$f":"'Анализ чувствительности (СПИК)'!H12","v":0},{"$f":"'Анализ чувствительности (СПИК)'!I12","v":0},{"$f":"'Анализ чувствительности (СПИК)'!J12","v":0},{"$f":"'Анализ чувствительности (СПИК)'!K12","v":0},{"$f":"'Анализ чувствительности (СПИК)'!L12","v":0},{"$f":"'Анализ чувствительности (СПИК)'!M12","v":0}]
[null,null,{"$f":"'Анализ чувствительности (СПИК)'!C13","v":"Изменение объёма производства и реализации"},{"$f":"'Анализ чувствительности (СПИК)'!D13","v":"%"},{"$f":"'Анализ чувствительности (СПИК)'!E13","v":0},{"$f":"'Анализ чувствительности (СПИК)'!F13","v":0},{"$f":"'Анализ чувствительности (СПИК)'!G13","v":0},{"$f":"'Анализ чувствительности (СПИК)'!H13","v":0},{"$f":"'Анализ чувствительности (СПИК)'!I13","v":0},{"$f":"'Анализ чувствительности (СПИК)'!J13","v":0},{"$f":"'Анализ чувствительности (СПИК)'!K13","v":0},{"$f":"'Анализ чувствительности (СПИК)'!L13","v":0},{"$f":"'Анализ чувствительности (СПИК)'!M13","v":0}]
[null,null,{"$f":"'Анализ чувствительности (СПИК)'!C14","v":"Изменение цен на сырье и материалы"},{"$f":"'Анализ чувствительности (СПИК)'!D14","v":"%"},{"$f":"'Анализ чувствительности (СПИК)'!E14","v":0},{"$f":"'Анализ чувствительности (СПИК)'!F14","v":0},{"$f":"'Анализ чувствительности (СПИК)'!G14","v":0},{"$f":"'Анализ чувствительности (СПИК)'!H14","v":0},{"$f":"'Анализ чувствительности (СПИК)'!I14","v":0},{"$f":"'Анализ чувствительности (СПИК)'!J14","v":0},{"$f":"'Анализ чувствительности (СПИК)'!K14","v":0},{"$f":"'Анализ чувствительности (СПИК)'!L14","v":0},{"$f":"'Анализ чувствительности (СПИК)'!M14","v":0}]
[null,null,{"$f":"'Анализ чувствительности (СПИК)'!C15","v":"Изменение курса валюты (при наличии в модели)"},{"$f":"'Анализ чувствительности (СПИК)'!D15","v":"%"},{"$f":"'Анализ чувствительности (СПИК)'!E15","v":0},{"$f":"'Анализ чувствительности (СПИК)'!F15","v":0},{"$f":"'Анализ чувствительности (СПИК)'!G15","v":0},{"$f":"'Анализ чувствительности (СПИК)'!H15","v":0},{"$f":"'Анализ чувствительности (СПИК)'!I15","v":0},{"$f":"'Анализ чувствительности (СПИК)'!J15","v":0},{"$f":"'Анализ чувствительности (СПИК)'!K15","v":0},{"$f":"'Анализ чувствительности (СПИК)'!L15","v":0},{"$f":"'Анализ чувствительности (СПИК)'!M15","v":0}]
[null,null,{"$f":"'Анализ чувствительности (СПИК)'!C16","v":"Изменение ставки дисконтирования"},{"$f":"'Анализ чувствительности (СПИК)'!D16","v":"%"},{"$f":"'Анализ чувствительности (СПИК)'!E16","v":0},{"$f":"'Анализ чувствительности (СПИК)'!F16","v":0},{"$f":"'Анализ чувствительности (СПИК)'!G16","v":0},{"$f":"'Анализ чувствительности (СПИК)'!H16","v":0},{"$f":"'Анализ чувствительности (СПИК)'!I16","v":0},{"$f":"'Анализ чувствительности (СПИК)'!J16","v":0},{"$f":"'Анализ чувствительности (СПИК)'!K16","v":0},{"$f":"'Анализ чувствительности (СПИК)'!L16","v":0},{"$f":"'Анализ чувствительности (СПИК)'!M16","v":0}]
[null,null,null,null,{"$f":"'Анализ чувствительности (СПИК)'!E17","v":"PBP"},{"$f":"'Анализ чувствительности (СПИК)'!F17","v":0},{"$f":"'Анализ чувствительности (СПИК)'!G17","v":0},{"$f":"'Анализ чувствительности (СПИК)'!H17","v":0},{"$f":"'Анализ чувствительности (СПИК)'!I17","v":0},{"$f":"'Анализ чувствительности (СПИК)'!J17","v":0},{"$f":"'Анализ чувствительности (СПИК)'!K17","v":0},{"$f":"'Анализ чувствительности (СПИК)'!L17","v":0},{"$f":"'Анализ чувствительности (СПИК)'!M17","v":0}]
[null,null,{"$f":"'Анализ чувствительности (СПИК)'!C18","v":"Изменение цен на готовую продукцию"},{"$f":"'Анализ чувствительности (СПИК)'!D18","v":"лет"},{"$f":"'Анализ чувствительности (СПИК)'!E18","v":15},{"$f":"'Анализ чувствительности (СПИК)'!F18","v":15},{"$f":"'Анализ чувствительности (СПИК)'!G18","v":15},{"$f":"'Анализ чувствительности (СПИК)'!H18","v":15},{"$f":"'Анализ чувствительности (СПИК)'!I18","v":15},{"$f":"'Анализ чувствительности (СПИК)'!J18","v":15},{"$f":"'Анализ чувствительности (СПИК)'!K18","v":15},{"$f":"'Анализ чувствительности (СПИК)'!L18","v":15},{"$f":"'Анализ чувствительности (СПИК)'!M18","v":15}]
[null,null,{"$f":"'Анализ чувствительности (СПИК)'!C19","v":"Изменение объёма производства и реализации"},{"$f":"'Анализ чувствительности (СПИК)'!D19","v":"лет"},{"$f":"'Анализ чувствительности (СПИК)'!E19","v":15},{"$f":"'Анализ чувствительности (СПИК)'!F19","v":15},{"$f":"'Анализ чувствительности (СПИК)'!G19","v":15},{"$f":"'Анализ чувствительности (СПИК)'!H19","v":15},{"$f":"'Анализ чувствительности (СПИК)'!I19","v":15},{"$f":"'Анализ чувствительности (СПИК)'!J19","v":15},{"$f":"'Анализ чувствительности (СПИК)'!K19","v":15},{"$f":"'Анализ чувствительности (СПИК)'!L19","v":15},{"$f":"'Анализ чувствительности (СПИК)'!M19","v":15}]
[null,null,{"$f":"'Анализ чувствительности (СПИК)'!C20","v":"Изменение цен на сырье и материалы"},{"$f":"'Анализ чувствительности (СПИК)'!D20","v":"лет"},{"$f":"'Анализ чувствительности (СПИК)'!E20","v":15},{"$f":"'Анализ чувствительности (СПИК)'!F20","v":15},{"$f":"'Анализ чувствительности (СПИК)'!G20","v":15},{"$f":"'Анализ чувствительности (СПИК)'!H20","v":15},{"$f":"'Анализ чувствительности (СПИК)'!I20","v":15},{"$f":"'Анализ чувствительности (СПИК)'!J20","v":15},{"$f":"'Анализ чувствительности (СПИК)'!K20","v":15},{"$f":"'Анализ чувствительности (СПИК)'!L20","v":15},{"$f":"'Анализ чувствительности (СПИК)'!M20","v":15}]
[null,null,{"$f":"'Анализ чувствительности (СПИК)'!C21","v":"Изменение курса валюты (при наличии в модели)"},{"$f":"'Анализ чувствительности (СПИК)'!D21","v":"лет"},{"$f":"'Анализ чувствительности (СПИК)'!E21","v":15},{"$f":"'Анализ чувствительности (СПИК)'!F21","v":15},{"$f":"'Анализ чувствительности (СПИК)'!G21","v":15},{"$f":"'Анализ чувствительности (СПИК)'!H21","v":15},{"$f":"'Анализ чувствительности (СПИК)'!I21","v":15},{"$f":"'Анализ чувствительности (СПИК)'!J21","v":15},{"$f":"'Анализ чувствительности (СПИК)'!K21","v":15},{"$f":"'Анализ чувствительности (СПИК)'!L21","v":15},{"$f":"'Анализ чувствительности (СПИК)'!M21","v":15}]
[null,null,{"$f":"'Анализ чувствительности (СПИК)'!C22","v":"Изменение ставки дисконтирования"},{"$f":"'Анализ чувствительности (СПИК)'!D22","v":"лет"},{"$f":"'Анализ чувствительности (СПИК)'!E22","v":15},{"$f":"'Анализ чувствительности (СПИК)'!F22","v":15},{"$f":"'Анализ чувствительности (СПИК)'!G22","v":15},{"$f":"'Анализ чувствительности (СПИК)'!H22","v":15},{"$f":"'Анализ чувствительности (СПИК)'!I22","v":15},{"$f":"'Анализ чувствительности (СПИК)'!J22","v":15},{"$f":"'Анализ чувствительности (СПИК)'!K22","v":15},{"$f":"'Анализ чувствительности (СПИК)'!L22","v":15},{"$f":"'Анализ чувствительности (СПИК)'!M22","v":15}]
[null,null,null,null,{"$f":"'Анализ чувствительности (СПИК)'!E23","v":"DPBP"},{"$f":"'Анализ чувствительности (СПИК)'!F23","v":0},{"$f":"'Анализ чувствительности (СПИК)'!G23","v":0},{"$f":"'Анализ чувствительности (СПИК)'!H23","v":0},{"$f":"'Анализ чувствительности (СПИК)'!I23","v":0},{"$f":"'Анализ чувствительности (СПИК)'!J23","v":0},{"$f":"'Анализ чувствительности (СПИК)'!K23","v":0},{"$f":"'Анализ чувствительности (СПИК)'!L23","v":0},{"$f":"'Анализ чувствительности (СПИК)'!M23","v":0}]
[null,null,{"$f":"'Анализ чувствительности (СПИК)'!C24","v":"Изменение цен на готовую продукцию"},{"$f":"'Анализ чувствительности (СПИК)'!D24","v":"лет"},{"$f":"'Анализ чувствительности (СПИК)'!E24","v":15},{"$f":"'Анализ чувствительности (СПИК)'!F24","v":15},{"$f":"'Анализ чувствительности (СПИК)'!G24","v":15},{"$f":"'Анализ чувствительности (СПИК)'!H24","v":15},{"$f":"'Анализ чувствительности (СПИК)'!I24","v":15},{"$f":"'Анализ чувствительности (СПИК)'!J24","v":15},{"$f":"'Анализ чувствительности (СПИК)'!K24","v":15},{"$f":"'Анализ чувствительности (СПИК)'!L24","v":15},{"$f":"'Анализ чувствительности (СПИК)'!M24","v":15}]
[null,null,{"$f":"'Анализ чувствительности (СПИК)'!C25","v":"Изменение объёма производства и реализации"},{"$f":"'Анализ чувствительности (СПИК)'!D25","v":"лет"},{"$f":"'Анализ чувствительности (СПИК)'!E25","v":15},{"$f":"'Анализ чувствительности (СПИК)'!F25","v":15},{"$f":"'Анализ чувствительности (СПИК)'!G25","v":15},{"$f":"'Анализ чувствительности (СПИК)'!H25","v":15},{"$f":"'Анализ чувствительности (СПИК)'!I25","v":15},{"$f":"'Анализ чувствительности (СПИК)'!J25","v":15},{"$f":"'Анализ чувствительности (СПИК)'!K25","v":15},{"$f":"'Анализ чувствительности (СПИК)'!L25","v":15},{"$f":"'Анализ чувствительности (СПИК)'!M25","v":15}]
[null,null,{"$f":"'Анализ чувствительности (СПИК)'!C26","v":"Изменение цен на сырье и материалы"},{"$f":"'Анализ чувствительности (СПИК)'!D26","v":"лет"},{"$f":"'Анализ чувствительности (СПИК)'!E26","v":15},{"$f":"'Анализ чувствительности (СПИК)'!F26","v":15},{"$f":"'Анализ чувствительности (СПИК)'!G26","v":15},{"$f":"'Анализ чувствительности (СПИК)'!H26","v":15},{"$f":"'Анализ чувствительности (СПИК)'!I26","v":15},{"$f":"'Анализ чувствительности (СПИК)'!J26","v":15},{"$f":"'Анализ чувствительности (СПИК)'!K26","v":15},{"$f":"'Анализ чувствительности (СПИК)'!L26","v":15},{"$f":"'Анализ чувствительности (СПИК)'!M26","v":15}]
[null,null,{"$f":"'Анализ чувствительности (СПИК)'!C27","v":"Изменение курса валюты (при наличии в модели)"},{"$f":"'Анализ чувствительности (СПИК)'!D27","v":"лет"},{"$f":"'Анализ чувствительности (СПИК)'!E27","v":15},{"$f":"'Анализ чувствительности (СПИК)'!F27","v":15},{"$f":"'Анализ чувствительности (СПИК)'!G27","v":15},{"$f":"'Анализ чувствительности (СПИК)'!H27","v":15},{"$f":"'Анализ чувствительности (СПИК)'!I27","v":15},{"$f":"'Анализ чувствительности (СПИК)'!J27","v":15},{"$f":"'Анализ чувствительности (СПИК)'!K27","v":15},{"$f":"'Анализ чувствительности (СПИК)'!L27","v":15},{"$f":"'Анализ чувствительности (СПИК)'!M27","v":15}]
[null,null,{"$f":"'Анализ чувствительности (СПИК)'!C28","v":"Изменение ставки дисконтирования"},{"$f":"'Анализ чувствительности (СПИК)'!D28","v":"лет"},{"$f":"'Анализ чувствительности (СПИК)'!E28","v":15},{"$f":"'Анализ чувствительности (СПИК)'!F28","v":15},{"$f":"'Анализ чувствительности (СПИК)'!G28","v":15},{"$f":"'Анализ чувствительности (СПИК)'!H28","v":15},{"$f":"'Анализ чувствительности (СПИК)'!I28","v":15},{"$f":"'Анализ чувствительности (СПИК)'!J28","v":15},{"$f":"'Анализ чувствительности (СПИК)'!K28","v":15},{"$f":"'Анализ чувствительности (СПИК)'!L28","v":15},{"$f":"'Анализ чувствительности (СПИК)'!M28","v":15}]
[null,null,null,null,{"$f":"'Анализ чувствительности (СПИК)'!E29","v":"BNPV"},{"$f":"'Анализ чувствительности (СПИК)'!F29","v":0},{"$f":"'Анализ чувствительности (СПИК)'!G29","v":0},{"$f":"'Анализ чувствительности (СПИК)'!H29","v":0},{"$f":"'Анализ чувствительности (СПИК)'!I29","v":0},{"$f":"'Анализ чувствительности (СПИК)'!J29","v":0},{"$f":"'Анализ чувствительности (СПИК)'!K29","v":0},{"$f":"'Анализ чувствительности (СПИК)'!L29","v":0},{"$f":"'Анализ чувствительности (СПИК)'!M29","v":0}]
[null,null,{"$f":"'Анализ чувствительности (СПИК)'!C30","v":"Изменение цен на готовую продукцию"},{"$f":"'Анализ чувствительности (СПИК)'!D30","v":"тыс. руб."},{"$f":"'Анализ чувствительности (СПИК)'!E30","v":0},{"$f":"'Анализ чувствительности (СПИК)'!F30","v":0},{"$f":"'Анализ чувствительности (СПИК)'!G30","v":0},{"$f":"'Анализ чувствительности (СПИК)'!H30","v":0},{"$f":"'Анализ чувствительности (СПИК)'!I30","v":0},{"$f":"'Анализ чувствительности (СПИК)'!J30","v":0},{"$f":"'Анализ чувствительности (СПИК)'!K30","v":0},{"$f":"'Анализ чувствительности (СПИК)'!L30","v":0},{"$f":"'Анализ чувствительности (СПИК)'!M30","v":0}]
[null,null,{"$f":"'Анализ чувствительности (СПИК)'!C31","v":"Изменение объёма производства и реализации"},{"$f":"'Анализ чувствительности (СПИК)'!D31","v":"тыс. руб."},{"$f":"'Анализ чувствительности (СПИК)'!E31","v":0},{"$f":"'Анализ чувствительности (СПИК)'!F31","v":0},{"$f":"'Анализ чувствительности (СПИК)'!G31","v":0},{"$f":"'Анализ чувствительности (СПИК)'!H31","v":0},{"$f":"'Анализ чувствительности (СПИК)'!I31","v":0},{"$f":"'Анализ чувствительности (СПИК)'!J31","v":0},{"$f":"'Анализ чувствительности (СПИК)'!K31","v":0},{"$f":"'Анализ чувствительности (СПИК)'!L31","v":0},{"$f":"'Анализ чувствительности (СПИК)'!M31","v":0}]
[null,null,{"$f":"'Анализ чувствительности (СПИК)'!C32","v":"Изменение цен на сырье и материалы"},{"$f":"'Анализ чувствительности (СПИК)'!D32","v":"тыс. руб."},{"$f":"'Анализ чувствительности (СПИК)'!E32","v":0},{"$f":"'Анализ чувствительности (СПИК)'!F32","v":0},{"$f":"'Анализ чувствительности (СПИК)'!G32","v":0},{"$f":"'Анализ чувствительности (СПИК)'!H32","v":0},{"$f":"'Анализ чувствительности (СПИК)'!I32","v":0},{"$f":"'Анализ чувствительности (СПИК)'!J32","v":0},{"$f":"'Анализ чувствительности (СПИК)'!K32","v":0},{"$f":"'Анализ чувствительности (СПИК)'!L32","v":0},{"$f":"'Анализ чувствительности (СПИК)'!M32","v":0}]
[null,null,{"$f":"'Анализ чувствительности (СПИК)'!C33","v":"Изменение курса валюты (при наличии в модели)"},{"$f":"'Анализ чувствительности (СПИК)'!D33","v":"тыс. руб."},{"$f":"'Анализ чувствительности (СПИК)'!E33","v":0},{"$f":"'Анализ чувствительности (СПИК)'!F33","v":0},{"$f":"'Анализ чувствительности (СПИК)'!G33","v":0},{"$f":"'Анализ чувствительности (СПИК)'!H33","v":0},{"$f":"'Анализ чувствительности (СПИК)'!I33","v":0},{"$f":"'Анализ чувствительности (СПИК)'!J33","v":0},{"$f":"'Анализ чувствительности (СПИК)'!K33","v":0},{"$f":"'Анализ чувствительности (СПИК)'!L33","v":0},{"$f":"'Анализ чувствительности (СПИК)'!M33","v":0}]
[null,null,{"$f":"'Анализ чувствительности (СПИК)'!C34","v":"Изменение ставки дисконтирования"},{"$f":"'Анализ чувствительности (СПИК)'!D34","v":"тыс. руб."},{"$f":"'Анализ чувствительности (СПИК)'!E34","v":0},{"$f":"'Анализ чувствительности (СПИК)'!F34","v":0},{"$f":"'Анализ чувствительности (СПИК)'!G34","v":0},{"$f":"'Анализ чувствительности (СПИК)'!H34","v":0},{"$f":"'Анализ чувствительности (СПИК)'!I34","v":0},{"$f":"'Анализ чувствительности (СПИК)'!J34","v":0},{"$f":"'Анализ чувствительности (СПИК)'!K34","v":0},{"$f":"'Анализ чувствительности (СПИК)'!L34","v":0},{"$f":"'Анализ чувствительности (СПИК)'!M34","v":0}]

{"sheet":"DataBook","index":10,"n_rows":2,"n_cols":2,"rows_kept":2,"cut":false,"hidden":false,"merged":[[1,1,1,10]]}
[]
[null,"На данном листе инвестор может сделать свои расчеты и интегрировать в ФЭМ на лист \"Предпосылки\""]

{"sheet":"Капитальные вложения","index":11,"n_rows":177,"n_cols":30,"rows_kept":177,"cut":false,"hidden":false,"merged":[[1,29,2,29],[0,9,0,10],[0,11,0,16],[1,2,2,2],[1,3,2,3],[1,4,2,4],[1,5,2,5]]}
[null,null,null,null,{"$f":"\"Лист:  \" & RIGHT(CELL(\"filename\",A1),LEN(CELL(\"filename\",A1))-SEARCH(\"]\",CELL(\"filename\",A1)))","v":"Лист:  Капитальные вложения"},null,null,null,null,"Проверка:",null,{"$f":"IF(F13=AD43, \"Верно\", \"Имеются некорректные данные\")","v":"Верно"}]
[null,null,"Параметр","Ед. изм.","Источник","Итоговое значение",null,{"$f":"Предпосылки!H2","v":2026},{"$f":"Предпосылки!I2","v":2027},{"$f":"Предпосылки!J2","v":2028},{"$f":"Предпосылки!K2","v":2029},{"$f":"Предпосылки!L2","v":2030},{"$f":"Предпосылки!M2","v":2031},{"$f":"Предпосылки!N2","v":2032},{"$f":"Предпосылки!O2","v":2033},{"$f":"Предпосылки!P2","v":2034},{"$f":"Предпосылки!Q2","v":2035},{"$f":"Предпосылки!R2","v":2036},{"$f":"Предпосылки!S2","v":2037},{"$f":"Предпосылки!T2","v":2038},{"$f":"Предпосылки!U2","v":2039},{"$f":"Предпосылки!V2","v":2040},{"$f":"Предпосылки!W2","v":2041},{"$f":"Предпосылки!X2","v":2042},{"$f":"Предпосылки!Y2","v":2043},{"$f":"Предпосылки!Z2","v":2044},{"$f":"Предпосылки!AA2","v":2045},{"$f":"Предпосылки!AB2","v":2046}]
[null,null,null,null,null,null,null,1,2,3,4,5,6,7,8,9,10,11,12,13,14,15,16,17,18,19,20,21]
[]
[null,"Капитальные вложения (без НДС)"]
[]
[null,null,"Здания и сооружения","тыс. руб.",null,{"$f":"SUM(H7:AA7)","v":0},null,{"$f":"SUM(Предпосылки!H195,Предпосылки!H204)","v":0},{"$f":"SUM(Предпосылки!I195,Предпосылки!I204)","v":0},{"$f":"SUM(Предпосылки!J195,Предпосылки!J204)","v":0},{"$f":"SUM(Предпосылки!K195,Предпосылки!K204)","v":0},{"$f":"SUM(Предпосылки!L195,Предпосылки!L204)","v":0},{"$f":"SUM(Предпосылки!M195,Предпосылки!M204)","v":0},{"$f":"SUM(Предпосылки!N195,Предпосылки!N204)","v":0},{"$f":"SUM(Предпосылки!O195,Предпосылки!O204)","v":0},{"$f":"SUM(Предпосылки!P195,Предпосылки!P204)","v":0},{"$f":"SUM(Предпосылки!Q195,Предпосылки!Q204)","v":0},{"$f":"SUM(Предпосылки!R195,Предпосылки!R204)","v":0},{"$f":"SUM(Предпосылки!S195,Предпосылки!S204)","v":0},{"$f":"SUM(Предпосылки!T195,Предпосылки!T204)","v":0},{"$f":"SUM(Предпосылки!U195,Предпосылки!U204)","v":0},{"$f":"SUM(Предпосылки!V195,Предпосылки!V204)","v":0},{"$f":"SUM(Предпосылки!W195,Предпосылки!W204)","v":0},{"$f":"SUM(Предпосылки!X195,Предпосылки!X204)","v":0},{"$f":"SUM(Предпосылки!Y195,Предпосылки!Y204)","v":0},{"$f":"SUM(Предпосылки!Z195,Предпосылки!Z204)","v":0},{"$f":"SUM(Предпосылки!AA195,Предпосылки!AA204)","v":0},{"$f":"SUM(Предпосылки!AB195,Предпосылки!AB204)","v":0}]
[null,null,"Машины и оборудование","тыс. руб.",null,0,null,{"$f":"SUM(Предпосылки!H196,Предпосылки!H205)","v":0},{"$f":"SUM(Предпосылки!I196,Предпосылки!I205)","v":0},{"$f":"SUM(Предпосылки!J196,Предпосылки!J205)","v":0},{"$f":"SUM(Предпосылки!K196,Предпосылки!K205)","v":0},{"$f":"SUM(Предпосылки!L196,Предпосылки!L205)","v":0},{"$f":"SUM(Предпосылки!M196,Предпосылки!M205)","v":0},{"$f":"SUM(Предпосылки!N196,Предпосылки!N205)","v":0},{"$f":"SUM(Предпосылки!O196,Предпосылки!O205)","v":0},{"$f":"SUM(Предпосылки!P196,Предпосылки!P205)","v":0},{"$f":"SUM(Предпосылки!Q196,Предпосылки!Q205)","v":0},{"$f":"SUM(Предпосылки!R196,Предпосылки!R205)","v":0},{"$f":"SUM(Предпосылки!S196,Предпосылки!S205)","v":0},{"$f":"SUM(Предпосылки!T196,Предпосылки!T205)","v":0},{"$f":"SUM(Предпосылки!U196,Предпосылки!U205)","v":0},{"$f":"SUM(Предпосылки!V196,Предпосылки!V205)","v":0},{"$f":"SUM(Предпосылки!W196,Предпосылки!W205)","v":0},{"$f":"SUM(Предпосылки!X196,Предпосылки!X205)","v":0},{"$f":"SUM(Предпосылки!Y196,Предпосылки!Y205)","v":0},{"$f":"SUM(Предпосылки!Z196,Предпосылки!Z205)","v":0},{"$f":"SUM(Предпосылки!AA196,Предпосылки!AA205)","v":0},{"$f":"SUM(Предпосылки!AB196,Предпосылки!AB205)","v":0}]
[null,null,"Земля","тыс. руб.",null,0,null,{"$f":"SUM(Предпосылки!H197,Предпосылки!H206)","v":0},{"$f":"SUM(Предпосылки!I197,Предпосылки!I206)","v":0},{"$f":"SUM(Предпосылки!J197,Предпосылки!J206)","v":0},{"$f":"SUM(Предпосылки!K197,Предпосылки!K206)","v":0},{"$f":"SUM(Предпосылки!L197,Предпосылки!L206)","v":0},{"$f":"SUM(Предпосылки!M197,Предпосылки!M206)","v":0},{"$f":"SUM(Предпосылки!N197,Предпосылки!N206)","v":0},{"$f":"SUM(Предпосылки!O197,Предпосылки!O206)","v":0},{"$f":"SUM(Предпосылки!P197,Предпосылки!P206)","v":0},{"$f":"SUM(Предпосылки!Q197,Предпосылки!Q206)","v":0},{"$f":"SUM(Предпосылки!R197,Предпосылки!R206)","v":0},{"$f":"SUM(Предпосылки!S197,Предпосылки!S206)","v":0},{"$f":"SUM(Предпосылки!T197,Предпосылки!T206)","v":0},{"$f":"SUM(Предпосылки!U197,Предпосылки!U206)","v":0},{"$f":"SUM(Предпосылки!V197,Предпосылки!V206)","v":0},{"$f":"SUM(Предпосылки!W197,Предпосылки!W206)","v":0},{"$f":"SUM(Предпосылки!X197,Предпосылки!X206)","v":0},{"$f":"SUM(Предпосылки!Y197,Предпосылки!Y206)","v":0},{"$f":"SUM(Предпосылки!Z197,Предпосылки!Z206)","v":0},{"$f":"SUM(Предпосылки!AA197,Предпосылки!AA206)","v":0},{"$f":"SUM(Предпосылки!AB197,Предпосылки!AB206)","v":0}]
[null,null,"Транспортные средства","тыс. руб.",null,0,null,{"$f":"SUM(Предпосылки!H198,Предпосылки!H207)","v":0},{"$f":"SUM(Предпосылки!I198,Предпосылки!I207)","v":0},{"$f":"SUM(Предпосылки!J198,Предпосылки!J207)","v":0},{"$f":"SUM(Предпосылки!K198,Предпосылки!K207)","v":0},{"$f":"SUM(Предпосылки!L198,Предпосылки!L207)","v":0},{"$f":"SUM(Предпосылки!M198,Предпосылки!M207)","v":0},{"$f":"SUM(Предпосылки!N198,Предпосылки!N207)","v":0},{"$f":"SUM(Предпосылки!O198,Предпосылки!O207)","v":0},{"$f":"SUM(Предпосылки!P198,Предпосылки!P207)","v":0},{"$f":"SUM(Предпосылки!Q198,Предпосылки!Q207)","v":0},{"$f":"SUM(Предпосылки!R198,Предпосылки!R207)","v":0},{"$f":"SUM(Предпосылки!S198,Предпосылки!S207)","v":0},{"$f":"SUM(Предпосылки!T198,Предпосылки!T207)","v":0},{"$f":"SUM(Предпосылки!U198,Предпосылки!U207)","v":0},{"$f":"SUM(Предпосылки!V198,Предпосылки!V207)","v":0},{"$f":"SUM(Предпосылки!W198,Предпосылки!W207)","v":0},{"$f":"SUM(Предпосылки!X198,Предпосылки!X207)","v":0},{"$f":"SUM(Предпосылки!Y198,Предпосылки!Y207)","v":0},{"$f":"SUM(Предпосылки!Z198,Предпосылки!Z207)","v":0},{"$f":"SUM(Предпосылки!AA198,Предпосылки!AA207)","v":0},{"$f":"SUM(Предпосылки!AB198,Предпосылки!AB207)","v":0}]
[null,null,"Нематериальные активы с определенным СПИ","тыс. руб.",null,0,null,{"$f":"SUM(Предпосылки!H199,Предпосылки!H208)","v":0},{"$f":"SUM(Предпосылки!I199,Предпосылки!I208)","v":0},{"$f":"SUM(Предпосылки!J199,Предпосылки!J208)","v":0},{"$f":"SUM(Предпосылки!K199,Предпосылки!K208)","v":0},{"$f":"SUM(Предпосылки!L199,Предпосылки!L208)","v":0},{"$f":"SUM(Предпосылки!M199,Предпосылки!M208)","v":0},{"$f":"SUM(Предпосылки!N199,Предпосылки!N208)","v":0},{"$f":"SUM(Предпосылки!O199,Предпосылки!O208)","v":0},{"$f":"SUM(Предпосылки!P199,Предпосылки!P208)","v":0},{"$f":"SUM(Предпосылки!Q199,Предпосылки!Q208)","v":0},{"$f":"SUM(Предпосылки!R199,Предпосылки!R208)","v":0},{"$f":"SUM(Предпосылки!S199,Предпосылки!S208)","v":0},{"$f":"SUM(Предпосылки!T199,Предпосылки!T208)","v":0},{"$f":"SUM(Предпосылки!U199,Предпосылки!U208)","v":0},{"$f":"SUM(Предпосылки!V199,Предпосылки!V208)","v":0},{"$f":"SUM(Предпосылки!W199,Предпосылки!W208)","v":0},{"$f":"SUM(Предпосылки!X199,Предпосылки!X208)","v":0},{"$f":"SUM(Предпосылки!Y199,Предпосылки!Y208)","v":0},{"$f":"SUM(Предпосылки!Z199,Предпосылки!Z208)","v":0},{"$f":"SUM(Предпосылки!AA199,Предпосылки!AA208)","v":0},{"$f":"SUM(Предпосылки!AB199,Предпосылки!AB208)","v":0}]
[null,null,"Нематериальные активы с неопределенным СПИ (не амортизируются)","тыс. руб.",null,0,null,{"$f":"SUM(Предпосылки!H200,Предпосылки!H209)","v":0},{"$f":"SUM(Предпосылки!I200,Предпосылки!I209)","v":0},{"$f":"SUM(Предпосылки!J200,Предпосылки!J209)","v":0},{"$f":"SUM(Предпосылки!K200,Предпосылки!K209)","v":0},{"$f":"SUM(Предпосылки!L200,Предпосылки!L209)","v":0},{"$f":"SUM(Предпосылки!M200,Предпосылки!M209)","v":0},{"$f":"SUM(Предпосылки!N200,Предпосылки!N209)","v":0},{"$f":"SUM(Предпосылки!O200,Предпосылки!O209)","v":0},{"$f":"SUM(Предпосылки!P200,Предпосылки!P209)","v":0},{"$f":"SUM(Предпосылки!Q200,Предпосылки!Q209)","v":0},{"$f":"SUM(Предпосылки!R200,Предпосылки!R209)","v":0},{"$f":"SUM(Предпосылки!S200,Предпосылки!S209)","v":0},{"$f":"SUM(Предпосылки!T200,Предпосылки!T209)","v":0},{"$f":"SUM(Предпосылки!U200,Предпосылки!U209)","v":0},{"$f":"SUM(Предпосылки!V200,Предпосылки!V209)","v":0},{"$f":"SUM(Предпосылки!W200,Предпосылки!W209)","v":0},{"$f":"SUM(Предпосылки!X200,Предпосылки!X209)","v":0},{"$f":"SUM(Предпосылки!Y200,Предпосылки!Y209)","v":0},{"$f":"SUM(Предпосылки!Z200,Предпосылки!Z209)","v":0},{"$f":"SUM(Предпосылки!AA200,Предпосылки!AA209)","v":0},{"$f":"SUM(Предпосылки!AB200,Предпосылки!AB209)","v":0}]
[null,null,"Итого","тыс. руб.",null,{"$f":"SUM(F7:F12)","v":0},null,{"$f":"SUM(H7:H12)","v":0},0,0,0,0,0,0,0,0,0,0,0,0,0,0,0,0,0,0,0,0]
[]
[null,"Капитальные вложения (с НДС)"]
[]
[null,null,{"$f":"C7","v":"Здания и сооружения"},"тыс. руб.",null,{"$f":"SUM(H17:AA17)","v":0},null,{"$f":"H7*(One+Предпосылки!H$294)","v":0},{"$f":"I7*(One+Предпосылки!I$294)","v":0},{"$f":"J7*(One+Предпосылки!J$294)","v":0},{"$f":"K7*(One+Предпосылки!K$294)","v":0},{"$f":"L7*(One+Предпосылки!L$294)","v":0},{"$f":"M7*(One+Предпосылки!M$294)","v":0},{"$f":"N7*(One+Предпосылки!N$294)","v":0},{"$f":"O7*(One+Предпосылки!O$294)","v":0},{"$f":"P7*(One+Предпосылки!P$294)","v":0},{"$f":"Q7*(One+Предпосылки!Q$294)","v":0},{"$f":"R7*(One+Предпосылки!R$294)","v":0},{"$f":"S7*(One+Предпосылки!S$294)","v":0},{"$f":"T7*(One+Предпосылки!T$294)","v":0},{"$f":"U7*(One+Предпосылки!U$294)","v":0},{"$f":"V7*(One+Предпосылки!V$294)","v":0},{"$f":"W7*(One+Предпосылки!W$294)","v":0},{"$f":"X7*(One+Предпосылки!X$294)","v":0},{"$f":"Y7*(One+Предпосылки!Y$294)","v":0},{"$f":"Z7*(One+Предпосылки!Z$294)","v":0},{"$f":"AA7*(One+Предпосылки!AA$294)","v":0},{"$f":"AB7*(One+Предпосылки!AB$294)","v":0}]
[null,null,"Машины и оборудование","тыс. руб.",null,0,null,{"$f":"H8*(One+Предпосылки!H$294)","v":0},{"$f":"I8*(One+Предпосылки!I$294)","v":0},{"$f":"J8*(One+Предпосылки!J$294)","v":0},{"$f":"K8*(One+Предпосылки!K$294)","v":0},{"$f":"L8*(One+Предпосылки!L$294)","v":0},{"$f":"M8*(One+Предпосылки!M$294)","v":0},{"$f":"N8*(One+Предпосылки!N$294)","v":0},{"$f":"O8*(One+Предпосылки!O$294)","v":0},{"$f":"P8*(One+Предпосылки!P$294)","v":0},{"$f":"Q8*(One+Предпосылки!Q$294)","v":0},{"$f":"R8*(One+Предпосылки!R$294)","v":0},{"$f":"S8*(One+Предпосылки!S$294)","v":0},{"$f":"T8*(One+Предпосылки!T$294)","v":0},{"$f":"U8*(One+Предпосылки!U$294)","v":0},{"$f":"V8*(One+Предпосылки!V$294)","v":0},{"$f":"W8*(One+Предпосылки!W$294)","v":0},{"$f":"X8*(One+Предпосылки!X$294)","v":0},{"$f":"Y8*(One+Предпосылки!Y$294)","v":0},{"$f":"Z8*(One+Предпосылки!Z$294)","v":0},{"$f":"AA8*(One+Предпосылки!AA$294)","v":0},{"$f":"AB8*(One+Предпосылки!AB$294)","v":0}]
[null,null,"Земля","тыс. руб.",null,0,null,{"$f":"H9*(One+Предпосылки!H$294)","v":0},{"$f":"I9*(One+Предпосылки!I$294)","v":0},{"$f":"J9*(One+Предпосылки!J$294)","v":0},{"$f":"K9*(One+Предпосылки!K$294)","v":0},{"$f":"L9*(One+Предпосылки!L$294)","v":0},{"$f":"M9*(One+Предпосылки!M$294)","v":0},{"$f":"N9*(One+Предпосылки!N$294)","v":0},{"$f":"O9*(One+Предпосылки!O$294)","v":0},{"$f":"P9*(One+Предпосылки!P$294)","v":0},{"$f":"Q9*(One+Предпосылки!Q$294)","v":0},{"$f":"R9*(One+Предпосылки!R$294)","v":0},{"$f":"S9*(One+Предпосылки!S$294)","v":0},{"$f":"T9*(One+Предпосылки!T$294)","v":0},{"$f":"U9*(One+Предпосылки!U$294)","v":0},{"$f":"V9*(One+Предпосылки!V$294)","v":0},{"$f":"W9*(One+Предпосылки!W$294)","v":0},{"$f":"X9*(One+Предпосылки!X$294)","v":0},{"$f":"Y9*(One+Предпосылки!Y$294)","v":0},{"$f":"Z9*(One+Предпосылки!Z$294)","v":0},{"$f":"AA9*(One+Предпосылки!AA$294)","v":0},{"$f":"AB9*(One+Предпосылки!AB$294)","v":0}]
[null,null,"Транспортные средства","тыс. руб.",null,0,null,{"$f":"H10*(One+Предпосылки!H$294)","v":0},{"$f":"I10*(One+Предпосылки!I$294)","v":0},{"$f":"J10*(One+Предпосылки!J$294)","v":0},{"$f":"K10*(One+Предпосылки!K$294)","v":0},{"$f":"L10*(One+Предпосылки!L$294)","v":0},{"$f":"M10*(One+Предпосылки!M$294)","v":0},{"$f":"N10*(One+Предпосылки!N$294)","v":0},{"$f":"O10*(One+Предпосылки!O$294)","v":0},{"$f":"P10*(One+Предпосылки!P$294)","v":0},{"$f":"Q10*(One+Предпосылки!Q$294)","v":0},{"$f":"R10*(One+Предпосылки!R$294)","v":0},{"$f":"S10*(One+Предпосылки!S$294)","v":0},{"$f":"T10*(One+Предпосылки!T$294)","v":0},{"$f":"U10*(One+Предпосылки!U$294)","v":0},{"$f":"V10*(One+Предпосылки!V$294)","v":0},{"$f":"W10*(One+Предпосылки!W$294)","v":0},{"$f":"X10*(One+Предпосылки!X$294)","v":0},{"$f":"Y10*(One+Предпосылки!Y$294)","v":0},{"$f":"Z10*(One+Предпосылки!Z$294)","v":0},{"$f":"AA10*(One+Предпосылки!AA$294)","v":0},{"$f":"AB10*(One+Предпосылки!AB$294)","v":0}]
[null,null,"Нематериальные активы с определенным СПИ","тыс. руб.",null,0,null,{"$f":"H11*(One+Предпосылки!H$294)","v":0},{"$f":"I11*(One+Предпосылки!I$294)","v":0},{"$f":"J11*(One+Предпосылки!J$294)","v":0},{"$f":"K11*(One+Предпосылки!K$294)","v":0},{"$f":"L11*(One+Предпосылки!L$294)","v":0},{"$f":"M11*(One+Предпосылки!M$294)","v":0},{"$f":"N11*(One+Предпосылки!N$294)","v":0},{"$f":"O11*(One+Предпосылки!O$294)","v":0},{"$f":"P11*(One+Предпосылки!P$294)","v":0},{"$f":"Q11*(One+Предпосылки!Q$294)","v":0},{"$f":"R11*(One+Предпосылки!R$294)","v":0},{"$f":"S11*(One+Предпосылки!S$294)","v":0},{"$f":"T11*(One+Предпосылки!T$294)","v":0},{"$f":"U11*(One+Предпосылки!U$294)","v":0},{"$f":"V11*(One+Предпосылки!V$294)","v":0},{"$f":"W11*(One+Предпосылки!W$294)","v":0},{"$f":"X11*(One+Предпосылки!X$294)","v":0},{"$f":"Y11*(One+Предпосылки!Y$294)","v":0},{"$f":"Z11*(One+Предпосылки!Z$294)","v":0},{"$f":"AA11*(One+Предпосылки!AA$294)","v":0},{"$f":"AB11*(One+Предпосылки!AB$294)","v":0}]
[null,null,"Нематериальные активы с неопределенным СПИ (не амортизируются)","тыс. руб.",null,0,null,{"$f":"H12*(One+Предпосылки!H$294)","v":0},{"$f":"I12*(One+Предпосылки!I$294)","v":0},{"$f":"J12*(One+Предпосылки!J$294)","v":0},{"$f":"K12*(One+Предпосылки!K$294)","v":0},{"$f":"L12*(One+Предпосылки!L$294)","v":0},{"$f":"M12*(One+Предпосылки!M$294)","v":0},{"$f":"N12*(One+Предпосылки!N$294)","v":0},{"$f":"O12*(One+Предпосылки!O$294)","v":0},{"$f":"P12*(One+Предпосылки!P$294)","v":0},{"$f":"Q12*(One+Предпосылки!Q$294)","v":0},{"$f":"R12*(One+Предпосылки!R$294)","v":0},{"$f":"S12*(One+Предпосылки!S$294)","v":0},{"$f":"T12*(One+Предпосылки!T$294)","v":0},{"$f":"U12*(One+Предпосылки!U$294)","v":0},{"$f":"V12*(One+Предпосылки!V$294)","v":0},{"$f":"W12*(One+Предпосылки!W$294)","v":0},{"$f":"X12*(One+Предпосылки!X$294)","v":0},{"$f":"Y12*(One+Предпосылки!Y$294)","v":0},{"$f":"Z12*(One+Предпосылки!Z$294)","v":0},{"$f":"AA12*(One+Предпосылки!AA$294)","v":0},{"$f":"AB12*(One+Предпосылки!AB$294)","v":0}]
[null,null,"Итого","тыс. руб.",null,{"$f":"SUM(F17:F22)","v":0},null,{"$f":"SUM(H17:H22)","v":0},0,0,0,0,0,0,0,0,0,0,0,0,0,0,0,0,0,0,0,0]
[]
[null,"Расчеты по капитальным вложениям"]
[]
[null,null,"Оплата капитальных вложений","тыс. руб.",null,{"$f":"SUM(H27:AA27)","v":0},null,{"$f":"H23*Предпосылки!$F$432","v":0},{"$f":"I23*Предпосылки!$F$432","v":0},{"$f":"J23*Предпосылки!$F$432","v":0},{"$f":"K23*Предпосылки!$F$432","v":0},{"$f":"L23*Предпосылки!$F$432","v":0},{"$f":"M23*Предпосылки!$F$432","v":0},{"$f":"N23*Предпосылки!$F$432","v":0},{"$f":"O23*Предпосылки!$F$432","v":0},{"$f":"P23*Предпосылки!$F$432","v":0},{"$f":"Q23*Предпосылки!$F$432","v":0},{"$f":"R23*Предпосылки!$F$432","v":0},{"$f":"S23*Предпосылки!$F$432","v":0},{"$f":"T23*Предпосылки!$F$432","v":0},{"$f":"U23*Предпосылки!$F$432","v":0},{"$f":"V23*Предпосылки!$F$432","v":0},{"$f":"W23*Предпосылки!$F$432","v":0},{"$f":"X23*Предпосылки!$F$432","v":0},{"$f":"Y23*Предпосылки!$F$432","v":0},{"$f":"Z23*Предпосылки!$F$432","v":0},{"$f":"AA23*Предпосылки!$F$432","v":0},{"$f":"AB23*Предпосылки!$F$432","v":0}]
[]
[null,"Входящий НДС по капитальным вложениям"]
[]
[null,null,"Входящий НДС по капитальным вложениям","тыс. руб.",null,null,null,{"$f":"H23-H13","v":0},{"$f":"I23-I13","v":0},0,{"$f":"K23-K13","v":0},0,0,0,0,0,0,0,0,0,0,0,0,0,0,0,0,0]
[]
[null,"Расчет амортизации"]
[]
[null,"Принятие объектов капитальных вложений на баланс (без НДС)"]
[]
[null,null,{"$f":"C17","v":"Здания и сооружения"},"тыс. руб.",null,null,null,{"$f":"Предпосылки!H213","v":0},{"$f":"Предпосылки!I213","v":0},{"$f":"Предпосылки!J213","v":0},{"$f":"Предпосылки!K213","v":0},{"$f":"Предпосылки!L213","v":0},{"$f":"Предпосылки!M213","v":0},{"$f":"Предпосылки!N213","v":0},{"$f":"Предпосылки!O213","v":0},{"$f":"Предпосылки!P213","v":0},{"$f":"Предпосылки!Q213","v":0},{"$f":"Предпосылки!R213","v":0},{"$f":"Предпосылки!S213","v":0},{"$f":"Предпосылки!T213","v":0},{"$f":"Предпосылки!U213","v":0},{"$f":"Предпосылки!V213","v":0},{"$f":"Предпосылки!W213","v":0},{"$f":"Предпосылки!X213","v":0},{"$f":"Предпосылки!Y213","v":0},{"$f":"Предпосылки!Z213","v":0},{"$f":"Предпосылки!AA213","v":0},{"$f":"Предпосылки!AB213","v":0},null,{"$f":"SUM(H37:AB37)","v":0}]
[null,null,"Машины и оборудование","тыс. руб.",null,null,null,{"$f":"Предпосылки!H214","v":0},{"$f":"Предпосылки!I214","v":0},{"$f":"Предпосылки!J214","v":0},{"$f":"Предпосылки!K214","v":0},{"$f":"Предпосылки!L214","v":0},{"$f":"Предпосылки!M214","v":0},{"$f":"Предпосылки!N214","v":0},{"$f":"Предпосылки!O214","v":0},{"$f":"Предпосылки!P214","v":0},{"$f":"Предпосылки!Q214","v":0},{"$f":"Предпосылки!R214","v":0},{"$f":"Предпосылки!S214","v":0},{"$f":"Предпосылки!T214","v":0},{"$f":"Предпосылки!U214","v":0},{"$f":"Предпосылки!V214","v":0},{"$f":"Предпосылки!W214","v":0},{"$f":"Предпосылки!X214","v":0},{"$f":"Предпосылки!Y214","v":0},{"$f":"Предпосылки!Z214","v":0},{"$f":"Предпосылки!AA214","v":0},{"$f":"Предпосылки!AB214","v":0},null,{"$f":"SUM(H38:AB38)","v":0}]
[null,null,"Земля","тыс. руб.",null,null,null,{"$f":"Предпосылки!H215","v":0},{"$f":"Предпосылки!I215","v":0},{"$f":"Предпосылки!J215","v":0},{"$f":"Предпосылки!K215","v":0},{"$f":"Предпосылки!L215","v":0},{"$f":"Предпосылки!M215","v":0},{"$f":"Предпосылки!N215","v":0},{"$f":"Предпосылки!O215","v":0},{"$f":"Предпосылки!P215","v":0},{"$f":"Предпосылки!Q215","v":0},{"$f":"Предпосылки!R215","v":0},{"$f":"Предпосылки!S215","v":0},{"$f":"Предпосылки!T215","v":0},{"$f":"Предпосылки!U215","v":0},{"$f":"Предпосылки!V215","v":0},{"$f":"Предпосылки!W215","v":0},{"$f":"Предпосылки!X215","v":0},{"$f":"Предпосылки!Y215","v":0},{"$f":"Предпосылки!Z215","v":0},{"$f":"Предпосылки!AA215","v":0},{"$f":"Предпосылки!AB215","v":0},null,0]
[null,null,"Транспортные средства","тыс. руб.",null,null,null,{"$f":"Предпосылки!H216","v":0},{"$f":"Предпосылки!I216","v":0},{"$f":"Предпосылки!J216","v":0},{"$f":"Предпосылки!K216","v":0},{"$f":"Предпосылки!L216","v":0},{"$f":"Предпосылки!M216","v":0},{"$f":"Предпосылки!N216","v":0},{"$f":"Предпосылки!O216","v":0},{"$f":"Предпосылки!P216","v":0},{"$f":"Предпосылки!Q216","v":0},{"$f":"Предпосылки!R216","v":0},{"$f":"Предпосылки!S216","v":0},{"$f":"Предпосылки!T216","v":0},{"$f":"Предпосылки!U216","v":0},{"$f":"Предпосылки!V216","v":0},{"$f":"Предпосылки!W216","v":0},{"$f":"Предпосылки!X216","v":0},{"$f":"Предпосылки!Y216","v":0},{"$f":"Предпосылки!Z216","v":0},{"$f":"Предпосылки!AA216","v":0},{"$f":"Предпосылки!AB216","v":0},null,0]
[null,null,"Нематериальные активы с определенным СПИ","тыс. руб.",null,null,null,{"$f":"Предпосылки!H217","v":0},{"$f":"Предпосылки!I217","v":0},{"$f":"Предпосылки!J217","v":0},{"$f":"Предпосылки!K217","v":0},{"$f":"Предпосылки!L217","v":0},{"$f":"Предпосылки!M217","v":0},{"$f":"Предпосылки!N217","v":0},{"$f":"Предпосылки!O217","v":0},{"$f":"Предпосылки!P217","v":0},{"$f":"Предпосылки!Q217","v":0},{"$f":"Предпосылки!R217","v":0},{"$f":"Предпосылки!S217","v":0},{"$f":"Предпосылки!T217","v":0},{"$f":"Предпосылки!U217","v":0},{"$f":"Предпосылки!V217","v":0},{"$f":"Предпосылки!W217","v":0},{"$f":"Предпосылки!X217","v":0},{"$f":"Предпосылки!Y217","v":0},{"$f":"Предпосылки!Z217","v":0},{"$f":"Предпосылки!AA217","v":0},{"$f":"Предпосылки!AB217","v":0},null,0]
[null,null,"Нематериальные активы с неопределенным СПИ (не амортизируются)","тыс. руб.",null,null,null,{"$f":"Предпосылки!H218","v":0},{"$f":"Предпосылки!I218","v":0},{"$f":"Предпосылки!J218","v":0},{"$f":"Предпосылки!K218","v":0},{"$f":"Предпосылки!L218","v":0},{"$f":"Предпосылки!M218","v":0},{"$f":"Предпосылки!N218","v":0},{"$f":"Предпосылки!O218","v":0},{"$f":"Предпосылки!P218","v":0},{"$f":"Предпосылки!Q218","v":0},{"$f":"Предпосылки!R218","v":0},{"$f":"Предпосылки!S218","v":0},{"$f":"Предпосылки!T218","v":0},{"$f":"Предпосылки!U218","v":0},{"$f":"Предпосылки!V218","v":0},{"$f":"Предпосылки!W218","v":0},{"$f":"Предпосылки!X218","v":0},{"$f":"Предпосылки!Y218","v":0},{"$f":"Предпосылки!Z218","v":0},{"$f":"Предпосылки!AA218","v":0},{"$f":"Предпосылки!AB218","v":0},null,0]
[null,null,"Итого","тыс. руб.",null,null,null,{"$f":"SUM(H37:H42)","v":0},0,0,0,0,0,0,0,0,0,0,0,0,0,0,0,0,0,0,0,0,null,{"$f":"SUM(AD37:AD42)","v":0}]
[]
[null,"Расчет незавершенного производства"]
[null,null,"Незавершенное производство на начало периода","тыс. руб.",null,null,null,{"$f":"G49","v":0},{"$f":"H49","v":0},0,0,0,0,0,0,0,0,0,0,0,0,0,0,0,0,0,0,0]
[null,null,"Поступление","тыс. руб.",null,null,null,{"$f":"H13","v":0},{"$f":"I13","v":0},0,0,0,0,0,0,0,0,0,0,0,0,0,0,0,0,0,0,0]
[null,null,"Перевод в основные средства (-)","тыс. руб.",null,null,null,{"$f":"-Предпосылки!H219","v":0},{"$f":"-Предпосылки!I219","v":0},{"$f":"-Предпосылки!J219","v":0},{"$f":"-Предпосылки!K219","v":0},{"$f":"-Предпосылки!L219","v":0},{"$f":"-Предпосылки!M219","v":0},{"$f":"-Предпосылки!N219","v":0},{"$f":"-Предпосылки!O219","v":0},{"$f":"-Предпосылки!P219","v":0},{"$f":"-Предпосылки!Q219","v":0},{"$f":"-Предпосылки!R219","v":0},{"$f":"-Предпосылки!S219","v":0},{"$f":"-Предпосылки!T219","v":0},{"$f":"-Предпосылки!U219","v":0},{"$f":"-Предпосылки!V219","v":0},{"$f":"-Предпосылки!W219","v":0},{"$f":"-Предпосылки!X219","v":0},{"$f":"-Предпосылки!Y219","v":0},{"$f":"-Предпосылки!Z219","v":0},{"$f":"-Предпосылки!AA219","v":0},{"$f":"-Предпосылки!AB219","v":0}]
[null,null,"Незавершенное производство на конец периода","тыс. руб.",null,null,null,{"$f":"SUM(H46:H48)","v":0},0,0,0,0,0,0,0,0,0,0,0,0,0,0,0,0,0,0,0,0]
[]
[null,"Итоговая амортизация за период",null,"тыс. руб.",null,null,null,{"$f":"SUM(H59,H90,H121,H152)","v":0},{"$f":"SUM(I59,I90,I121,I152)","v":0},0,0,0,0,0,0,0,0,0,0,0,0,0,0,0,0,0,0,0]
[null,null,"Итоговая амортизация производственных активов","тыс. руб.",null,null,null,{"$f":"H51","v":0},{"$f":"I51","v":0},0,0,0,0,0,0,0,0,0,0,0,0,0,0,0,0,0,0,0]
[null,null,"Итоговая амортизация активов, напрямую не участвующих в производстве продукции (амортизация, относимая на сч. 26 \"Общехозяйственные расходы\")","тыс. руб.",null,null,null,{"$f":"H51-H52","v":0},{"$f":"I51-I52","v":0},0,0,0,0,0,0,0,0,0,0,0,0,{"$f":"V51-V52","v":0},{"$f":"W51-W52","v":0},0,0,0,0,0]
[]
[null,"Здания и сооружения"]
[]
[null,null,"Ставка амортизации","%",null,{"$f":"Предпосылки!F228","v":0.05}]
[]
[null,null,"Амортизация ","тыс. руб.",null,null,null,{"$f":"SUM(H60:H79)","v":0},{"$f":"SUM(I60:I79)","v":0},0,0,0,0,0,0,0,0,0,0,0,0,0,0,0,0,0,0,0]
[null,null,{"$f":"INDEX(H$2:AA$2,,$E60)","v":2026},"тыс. руб.",1,{"$f":"OFFSET($G$37,,E60)","v":0},null,{"$f":"IF($C60>H$2,0,IF($C60=H$2,0.5,1)*MIN($F60*$F$57,$F60-SUM($G60:G60)))","v":0},{"$f":"IF($C60>I$2,0,IF($C60=I$2,0.5,1)*MIN($F60*$F$57,$F60-SUM($G60:H60)))","v":0},{"$f":"IF($C60>J$2,0,IF($C60=J$2,0.5,1)*MIN($F60*$F$57,$F60-SUM($G60:I60)))","v":0},{"$f":"IF($C60>K$2,0,IF($C60=K$2,0.5,1)*MIN($F60*$F$57,$F60-SUM($G60:J60)))","v":0},{"$f":"IF($C60>L$2,0,IF($C60=L$2,0.5,1)*MIN($F60*$F$57,$F60-SUM($G60:K60)))","v":0},{"$f":"IF($C60>M$2,0,IF($C60=M$2,0.5,1)*MIN($F60*$F$57,$F60-SUM($G60:L60)))","v":0},{"$f":"IF($C60>N$2,0,IF($C60=N$2,0.5,1)*MIN($F60*$F$57,$F60-SUM($G60:M60)))","v":0},{"$f":"IF($C60>O$2,0,IF($C60=O$2,0.5,1)*MIN($F60*$F$57,$F60-SUM($G60:N60)))","v":0},{"$f":"IF($C60>P$2,0,IF($C60=P$2,0.5,1)*MIN($F60*$F$57,$F60-SUM($G60:O60)))","v":0},{"$f":"IF($C60>Q$2,0,IF($C60=Q$2,0.5,1)*MIN($F60*$F$57,$F60-SUM($G60:P60)))","v":0},{"$f":"IF($C60>R$2,0,IF($C60=R$2,0.5,1)*MIN($F60*$F$57,$F60-SUM($G60:Q60)))","v":0},{"$f":"IF($C60>S$2,0,IF($C60=S$2,0.5,1)*MIN($F60*$F$57,$F60-SUM($G60:R60)))","v":0},{"$f":"IF($C60>T$2,0,IF($C60=T$2,0.5,1)*MIN($F60*$F$57,$F60-SUM($G60:S60)))","v":0},{"$f":"IF($C60>U$2,0,IF($C60=U$2,0.5,1)*MIN($F60*$F$57,$F60-SUM($G60:T60)))","v":0},{"$f":"IF($C60>V$2,0,IF($C60=V$2,0.5,1)*MIN($F60*$F$57,$F60-SUM($G60:U60)))","v":0},{"$f":"IF($C60>W$2,0,IF($C60=W$2,0.5,1)*MIN($F60*$F$57,$F60-SUM($G60:V60)))","v":0},{"$f":"IF($C60>X$2,0,IF($C60=X$2,0.5,1)*MIN($F60*$F$57,$F60-SUM($G60:W60)))","v":0},{"$f":"IF($C60>Y$2,0,IF($C60=Y$2,0.5,1)*MIN($F60*$F$57,$F60-SUM($G60:X60)))","v":0},{"$f":"IF($C60>Z$2,0,IF($C60=Z$2,0.5,1)*MIN($F60*$F$57,$F60-SUM($G60:Y60)))","v":0},{"$f":"IF($C60>AA$2,0,IF($C60=AA$2,0.5,1)*MIN($F60*$F$57,$F60-SUM($G60:Z60)))","v":0},{"$f":"IF($C60>AB$2,0,IF($C60=AB$2,0.5,1)*MIN($F60*$F$57,$F60-SUM($G60:AA60)))","v":0}]
[null,null,{"$f":"INDEX(H$2:AA$2,,$E61)","v":2027},"тыс. руб.",2,{"$f":"OFFSET($G$37,,E61)","v":0},null,{"$f":"IF($C61>H$2,0,IF($C61=H$2,0.5,1)*MIN($F61*$F$57,$F61-SUM($G61:G61)))","v":0},{"$f":"IF($C61>I$2,0,IF($C61=I$2,0.5,1)*MIN($F61*$F$57,$F61-SUM($G61:H61)))","v":0},{"$f":"IF($C61>J$2,0,IF($C61=J$2,0.5,1)*MIN($F61*$F$57,$F61-SUM($G61:I61)))","v":0},{"$f":"IF($C61>K$2,0,IF($C61=K$2,0.5,1)*MIN($F61*$F$57,$F61-SUM($G61:J61)))","v":0},{"$f":"IF($C61>L$2,0,IF($C61=L$2,0.5,1)*MIN($F61*$F$57,$F61-SUM($G61:K61)))","v":0},{"$f":"IF($C61>M$2,0,IF($C61=M$2,0.5,1)*MIN($F61*$F$57,$F61-SUM($G61:L61)))","v":0},{"$f":"IF($C61>N$2,0,IF($C61=N$2,0.5,1)*MIN($F61*$F$57,$F61-SUM($G61:M61)))","v":0},{"$f":"IF($C61>O$2,0,IF($C61=O$2,0.5,1)*MIN($F61*$F$57,$F61-SUM($G61:N61)))","v":0},{"$f":"IF($C61>P$2,0,IF($C61=P$2,0.5,1)*MIN($F61*$F$57,$F61-SUM($G61:O61)))","v":0},{"$f":"IF($C61>Q$2,0,IF($C61=Q$2,0.5,1)*MIN($F61*$F$57,$F61-SUM($G61:P61)))","v":0},{"$f":"IF($C61>R$2,0,IF($C61=R$2,0.5,1)*MIN($F61*$F$57,$F61-SUM($G61:Q61)))","v":0},{"$f":"IF($C61>S$2,0,IF($C61=S$2,0.5,1)*MIN($F61*$F$57,$F61-SUM($G61:R61)))","v":0},{"$f":"IF($C61>T$2,0,IF($C61=T$2,0.5,1)*MIN($F61*$F$57,$F61-SUM($G61:S61)))","v":0},{"$f":"IF($C61>U$2,0,IF($C61=U$2,0.5,1)*MIN($F61*$F$57,$F61-SUM($G61:T61)))","v":0},{"$f":"IF($C61>V$2,0,IF($C61=V$2,0.5,1)*MIN($F61*$F$57,$F61-SUM($G61:U61)))","v":0},{"$f":"IF($C61>W$2,0,IF($C61=W$2,0.5,1)*MIN($F61*$F$57,$F61-SUM($G61:V61)))","v":0},{"$f":"IF($C61>X$2,0,IF($C61=X$2,0.5,1)*MIN($F61*$F$57,$F61-SUM($G61:W61)))","v":0},{"$f":"IF($C61>Y$2,0,IF($C61=Y$2,0.5,1)*MIN($F61*$F$57,$F61-SUM($G61:X61)))","v":0},{"$f":"IF($C61>Z$2,0,IF($C61=Z$2,0.5,1)*MIN($F61*$F$57,$F61-SUM($G61:Y61)))","v":0},{"$f":"IF($C61>AA$2,0,IF($C61=AA$2,0.5,1)*MIN($F61*$F$57,$F61-SUM($G61:Z61)))","v":0},{"$f":"IF($C61>AB$2,0,IF($C61=AB$2,0.5,1)*MIN($F61*$F$57,$F61-SUM($G61:AA61)))","v":0}]
[null,null,2028,"тыс. руб.",3,0,null,{"$f":"IF($C62>H$2,0,IF($C62=H$2,0.5,1)*MIN($F62*$F$57,$F62-SUM($G62:G62)))","v":0},{"$f":"IF($C62>I$2,0,IF($C62=I$2,0.5,1)*MIN($F62*$F$57,$F62-SUM($G62:H62)))","v":0},{"$f":"IF($C62>J$2,0,IF($C62=J$2,0.5,1)*MIN($F62*$F$57,$F62-SUM($G62:I62)))","v":0},{"$f":"IF($C62>K$2,0,IF($C62=K$2,0.5,1)*MIN($F62*$F$57,$F62-SUM($G62:J62)))","v":0},{"$f":"IF($C62>L$2,0,IF($C62=L$2,0.5,1)*MIN($F62*$F$57,$F62-SUM($G62:K62)))","v":0},{"$f":"IF($C62>M$2,0,IF($C62=M$2,0.5,1)*MIN($F62*$F$57,$F62-SUM($G62:L62)))","v":0},{"$f":"IF($C62>N$2,0,IF($C62=N$2,0.5,1)*MIN($F62*$F$57,$F62-SUM($G62:M62)))","v":0},{"$f":"IF($C62>O$2,0,IF($C62=O$2,0.5,1)*MIN($F62*$F$57,$F62-SUM($G62:N62)))","v":0},{"$f":"IF($C62>P$2,0,IF($C62=P$2,0.5,1)*MIN($F62*$F$57,$F62-SUM($G62:O62)))","v":0},{"$f":"IF($C62>Q$2,0,IF($C62=Q$2,0.5,1)*MIN($F62*$F$57,$F62-SUM($G62:P62)))","v":0},{"$f":"IF($C62>R$2,0,IF($C62=R$2,0.5,1)*MIN($F62*$F$57,$F62-SUM($G62:Q62)))","v":0},{"$f":"IF($C62>S$2,0,IF($C62=S$2,0.5,1)*MIN($F62*$F$57,$F62-SUM($G62:R62)))","v":0},{"$f":"IF($C62>T$2,0,IF($C62=T$2,0.5,1)*MIN($F62*$F$57,$F62-SUM($G62:S62)))","v":0},{"$f":"IF($C62>U$2,0,IF($C62=U$2,0.5,1)*MIN($F62*$F$57,$F62-SUM($G62:T62)))","v":0},{"$f":"IF($C62>V$2,0,IF($C62=V$2,0.5,1)*MIN($F62*$F$57,$F62-SUM($G62:U62)))","v":0},{"$f":"IF($C62>W$2,0,IF($C62=W$2,0.5,1)*MIN($F62*$F$57,$F62-SUM($G62:V62)))","v":0},{"$f":"IF($C62>X$2,0,IF($C62=X$2,0.5,1)*MIN($F62*$F$57,$F62-SUM($G62:W62)))","v":0},{"$f":"IF($C62>Y$2,0,IF($C62=Y$2,0.5,1)*MIN($F62*$F$57,$F62-SUM($G62:X62)))","v":0},{"$f":"IF($C62>Z$2,0,IF($C62=Z$2,0.5,1)*MIN($F62*$F$57,$F62-SUM($G62:Y62)))","v":0},{"$f":"IF($C62>AA$2,0,IF($C62=AA$2,0.5,1)*MIN($F62*$F$57,$F62-SUM($G62:Z62)))","v":0},{"$f":"IF($C62>AB$2,0,IF($C62=AB$2,0.5,1)*MIN($F62*$F$57,$F62-SUM($G62:AA62)))","v":0}]
[null,null,2029,"тыс. руб.",4,0,null,{"$f":"IF($C63>H$2,0,IF($C63=H$2,0.5,1)*MIN($F63*$F$57,$F63-SUM($G63:G63)))","v":0},{"$f":"IF($C63>I$2,0,IF($C63=I$2,0.5,1)*MIN($F63*$F$57,$F63-SUM($G63:H63)))","v":0},{"$f":"IF($C63>J$2,0,IF($C63=J$2,0.5,1)*MIN($F63*$F$57,$F63-SUM($G63:I63)))","v":0},{"$f":"IF($C63>K$2,0,IF($C63=K$2,0.5,1)*MIN($F63*$F$57,$F63-SUM($G63:J63)))","v":0},{"$f":"IF($C63>L$2,0,IF($C63=L$2,0.5,1)*MIN($F63*$F$57,$F63-SUM($G63:K63)))","v":0},{"$f":"IF($C63>M$2,0,IF($C63=M$2,0.5,1)*MIN($F63*$F$57,$F63-SUM($G63:L63)))","v":0},{"$f":"IF($C63>N$2,0,IF($C63=N$2,0.5,1)*MIN($F63*$F$57,$F63-SUM($G63:M63)))","v":0},{"$f":"IF($C63>O$2,0,IF($C63=O$2,0.5,1)*MIN($F63*$F$57,$F63-SUM($G63:N63)))","v":0},{"$f":"IF($C63>P$2,0,IF($C63=P$2,0.5,1)*MIN($F63*$F$57,$F63-SUM($G63:O63)))","v":0},{"$f":"IF($C63>Q$2,0,IF($C63=Q$2,0.5,1)*MIN($F63*$F$57,$F63-SUM($G63:P63)))","v":0},{"$f":"IF($C63>R$2,0,IF($C63=R$2,0.5,1)*MIN($F63*$F$57,$F63-SUM($G63:Q63)))","v":0},{"$f":"IF($C63>S$2,0,IF($C63=S$2,0.5,1)*MIN($F63*$F$57,$F63-SUM($G63:R63)))","v":0},{"$f":"IF($C63>T$2,0,IF($C63=T$2,0.5,1)*MIN($F63*$F$57,$F63-SUM($G63:S63)))","v":0},{"$f":"IF($C63>U$2,0,IF($C63=U$2,0.5,1)*MIN($F63*$F$57,$F63-SUM($G63:T63)))","v":0},{"$f":"IF($C63>V$2,0,IF($C63=V$2,0.5,1)*MIN($F63*$F$57,$F63-SUM($G63:U63)))","v":0},{"$f":"IF($C63>W$2,0,IF($C63=W$2,0.5,1)*MIN($F63*$F$57,$F63-SUM($G63:V63)))","v":0},{"$f":"IF($C63>X$2,0,IF($C63=X$2,0.5,1)*MIN($F63*$F$57,$F63-SUM($G63:W63)))","v":0},{"$f":"IF($C63>Y$2,0,IF($C63=Y$2,0.5,1)*MIN($F63*$F$57,$F63-SUM($G63:X63)))","v":0},{"$f":"IF($C63>Z$2,0,IF($C63=Z$2,0.5,1)*MIN($F63*$F$57,$F63-SUM($G63:Y63)))","v":0},{"$f":"IF($C63>AA$2,0,IF($C63=AA$2,0.5,1)*MIN($F63*$F$57,$F63-SUM($G63:Z63)))","v":0},{"$f":"IF($C63>AB$2,0,IF($C63=AB$2,0.5,1)*MIN($F63*$F$57,$F63-SUM($G63:AA63)))","v":0}]
[null,null,2030,"тыс. руб.",5,0,null,{"$f":"IF($C64>H$2,0,IF($C64=H$2,0.5,1)*MIN($F64*$F$57,$F64-SUM($G64:G64)))","v":0},{"$f":"IF($C64>I$2,0,IF($C64=I$2,0.5,1)*MIN($F64*$F$57,$F64-SUM($G64:H64)))","v":0},{"$f":"IF($C64>J$2,0,IF($C64=J$2,0.5,1)*MIN($F64*$F$57,$F64-SUM($G64:I64)))","v":0},{"$f":"IF($C64>K$2,0,IF($C64=K$2,0.5,1)*MIN($F64*$F$57,$F64-SUM($G64:J64)))","v":0},{"$f":"IF($C64>L$2,0,IF($C64=L$2,0.5,1)*MIN($F64*$F$57,$F64-SUM($G64:K64)))","v":0},{"$f":"IF($C64>M$2,0,IF($C64=M$2,0.5,1)*MIN($F64*$F$57,$F64-SUM($G64:L64)))","v":0},{"$f":"IF($C64>N$2,0,IF($C64=N$2,0.5,1)*MIN($F64*$F$57,$F64-SUM($G64:M64)))","v":0},{"$f":"IF($C64>O$2,0,IF($C64=O$2,0.5,1)*MIN($F64*$F$57,$F64-SUM($G64:N64)))","v":0},{"$f":"IF($C64>P$2,0,IF($C64=P$2,0.5,1)*MIN($F64*$F$57,$F64-SUM($G64:O64)))","v":0},{"$f":"IF($C64>Q$2,0,IF($C64=Q$2,0.5,1)*MIN($F64*$F$57,$F64-SUM($G64:P64)))","v":0},{"$f":"IF($C64>R$2,0,IF($C64=R$2,0.5,1)*MIN($F64*$F$57,$F64-SUM($G64:Q64)))","v":0},{"$f":"IF($C64>S$2,0,IF($C64=S$2,0.5,1)*MIN($F64*$F$57,$F64-SUM($G64:R64)))","v":0},{"$f":"IF($C64>T$2,0,IF($C64=T$2,0.5,1)*MIN($F64*$F$57,$F64-SUM($G64:S64)))","v":0},{"$f":"IF($C64>U$2,0,IF($C64=U$2,0.5,1)*MIN($F64*$F$57,$F64-SUM($G64:T64)))","v":0},{"$f":"IF($C64>V$2,0,IF($C64=V$2,0.5,1)*MIN($F64*$F$57,$F64-SUM($G64:U64)))","v":0},{"$f":"IF($C64>W$2,0,IF($C64=W$2,0.5,1)*MIN($F64*$F$57,$F64-SUM($G64:V64)))","v":0},{"$f":"IF($C64>X$2,0,IF($C64=X$2,0.5,1)*MIN($F64*$F$57,$F64-SUM($G64:W64)))","v":0},{"$f":"IF($C64>Y$2,0,IF($C64=Y$2,0.5,1)*MIN($F64*$F$57,$F64-SUM($G64:X64)))","v":0},{"$f":"IF($C64>Z$2,0,IF($C64=Z$2,0.5,1)*MIN($F64*$F$57,$F64-SUM($G64:Y64)))","v":0},{"$f":"IF($C64>AA$2,0,IF($C64=AA$2,0.5,1)*MIN($F64*$F$57,$F64-SUM($G64:Z64)))","v":0},{"$f":"IF($C64>AB$2,0,IF($C64=AB$2,0.5,1)*MIN($F64*$F$57,$F64-SUM($G64:AA64)))","v":0}]
[null,null,2031,"тыс. руб.",6,0,null,{"$f":"IF($C65>H$2,0,IF($C65=H$2,0.5,1)*MIN($F65*$F$57,$F65-SUM($G65:G65)))","v":0},{"$f":"IF($C65>I$2,0,IF($C65=I$2,0.5,1)*MIN($F65*$F$57,$F65-SUM($G65:H65)))","v":0},{"$f":"IF($C65>J$2,0,IF($C65=J$2,0.5,1)*MIN($F65*$F$57,$F65-SUM($G65:I65)))","v":0},{"$f":"IF($C65>K$2,0,IF($C65=K$2,0.5,1)*MIN($F65*$F$57,$F65-SUM($G65:J65)))","v":0},{"$f":"IF($C65>L$2,0,IF($C65=L$2,0.5,1)*MIN($F65*$F$57,$F65-SUM($G65:K65)))","v":0},{"$f":"IF($C65>M$2,0,IF($C65=M$2,0.5,1)*MIN($F65*$F$57,$F65-SUM($G65:L65)))","v":0},{"$f":"IF($C65>N$2,0,IF($C65=N$2,0.5,1)*MIN($F65*$F$57,$F65-SUM($G65:M65)))","v":0},{"$f":"IF($C65>O$2,0,IF($C65=O$2,0.5,1)*MIN($F65*$F$57,$F65-SUM($G65:N65)))","v":0},{"$f":"IF($C65>P$2,0,IF($C65=P$2,0.5,1)*MIN($F65*$F$57,$F65-SUM($G65:O65)))","v":0},{"$f":"IF($C65>Q$2,0,IF($C65=Q$2,0.5,1)*MIN($F65*$F$57,$F65-SUM($G65:P65)))","v":0},{"$f":"IF($C65>R$2,0,IF($C65=R$2,0.5,1)*MIN($F65*$F$57,$F65-SUM($G65:Q65)))","v":0},{"$f":"IF($C65>S$2,0,IF($C65=S$2,0.5,1)*MIN($F65*$F$57,$F65-SUM($G65:R65)))","v":0},{"$f":"IF($C65>T$2,0,IF($C65=T$2,0.5,1)*MIN($F65*$F$57,$F65-SUM($G65:S65)))","v":0},{"$f":"IF($C65>U$2,0,IF($C65=U$2,0.5,1)*MIN($F65*$F$57,$F65-SUM($G65:T65)))","v":0},{"$f":"IF($C65>V$2,0,IF($C65=V$2,0.5,1)*MIN($F65*$F$57,$F65-SUM($G65:U65)))","v":0},{"$f":"IF($C65>W$2,0,IF($C65=W$2,0.5,1)*MIN($F65*$F$57,$F65-SUM($G65:V65)))","v":0},{"$f":"IF($C65>X$2,0,IF($C65=X$2,0.5,1)*MIN($F65*$F$57,$F65-SUM($G65:W65)))","v":0},{"$f":"IF($C65>Y$2,0,IF($C65=Y$2,0.5,1)*MIN($F65*$F$57,$F65-SUM($G65:X65)))","v":0},{"$f":"IF($C65>Z$2,0,IF($C65=Z$2,0.5,1)*MIN($F65*$F$57,$F65-SUM($G65:Y65)))","v":0},{"$f":"IF($C65>AA$2,0,IF($C65=AA$2,0.5,1)*MIN($F65*$F$57,$F65-SUM($G65:Z65)))","v":0},{"$f":"IF($C65>AB$2,0,IF($C65=AB$2,0.5,1)*MIN($F65*$F$57,$F65-SUM($G65:AA65)))","v":0}]
[null,null,2032,"тыс. руб.",7,0,null,{"$f":"IF($C66>H$2,0,IF($C66=H$2,0.5,1)*MIN($F66*$F$57,$F66-SUM($G66:G66)))","v":0},{"$f":"IF($C66>I$2,0,IF($C66=I$2,0.5,1)*MIN($F66*$F$57,$F66-SUM($G66:H66)))","v":0},{"$f":"IF($C66>J$2,0,IF($C66=J$2,0.5,1)*MIN($F66*$F$57,$F66-SUM($G66:I66)))","v":0},{"$f":"IF($C66>K$2,0,IF($C66=K$2,0.5,1)*MIN($F66*$F$57,$F66-SUM($G66:J66)))","v":0},{"$f":"IF($C66>L$2,0,IF($C66=L$2,0.5,1)*MIN($F66*$F$57,$F66-SUM($G66:K66)))","v":0},{"$f":"IF($C66>M$2,0,IF($C66=M$2,0.5,1)*MIN($F66*$F$57,$F66-SUM($G66:L66)))","v":0},{"$f":"IF($C66>N$2,0,IF($C66=N$2,0.5,1)*MIN($F66*$F$57,$F66-SUM($G66:M66)))","v":0},{"$f":"IF($C66>O$2,0,IF($C66=O$2,0.5,1)*MIN($F66*$F$57,$F66-SUM($G66:N66)))","v":0},{"$f":"IF($C66>P$2,0,IF($C66=P$2,0.5,1)*MIN($F66*$F$57,$F66-SUM($G66:O66)))","v":0},{"$f":"IF($C66>Q$2,0,IF($C66=Q$2,0.5,1)*MIN($F66*$F$57,$F66-SUM($G66:P66)))","v":0},{"$f":"IF($C66>R$2,0,IF($C66=R$2,0.5,1)*MIN($F66*$F$57,$F66-SUM($G66:Q66)))","v":0},{"$f":"IF($C66>S$2,0,IF($C66=S$2,0.5,1)*MIN($F66*$F$57,$F66-SUM($G66:R66)))","v":0},{"$f":"IF($C66>T$2,0,IF($C66=T$2,0.5,1)*MIN($F66*$F$57,$F66-SUM($G66:S66)))","v":0},{"$f":"IF($C66>U$2,0,IF($C66=U$2,0.5,1)*MIN($F66*$F$57,$F66-SUM($G66:T66)))","v":0},{"$f":"IF($C66>V$2,0,IF($C66=V$2,0.5,1)*MIN($F66*$F$57,$F66-SUM($G66:U66)))","v":0},{"$f":"IF($C66>W$2,0,IF($C66=W$2,0.5,1)*MIN($F66*$F$57,$F66-SUM($G66:V66)))","v":0},{"$f":"IF($C66>X$2,0,IF($C66=X$2,0.5,1)*MIN($F66*$F$57,$F66-SUM($G66:W66)))","v":0},{"$f":"IF($C66>Y$2,0,IF($C66=Y$2,0.5,1)*MIN($F66*$F$57,$F66-SUM($G66:X66)))","v":0},{"$f":"IF($C66>Z$2,0,IF($C66=Z$2,0.5,1)*MIN($F66*$F$57,$F66-SUM($G66:Y66)))","v":0},{"$f":"IF($C66>AA$2,0,IF($C66=AA$2,0.5,1)*MIN($F66*$F$57,$F66-SUM($G66:Z66)))","v":0},{"$f":"IF($C66>AB$2,0,IF($C66=AB$2,0.5,1)*MIN($F66*$F$57,$F66-SUM($G66:AA66)))","v":0}]
[null,null,2033,"тыс. руб.",8,0,null,{"$f":"IF($C67>H$2,0,IF($C67=H$2,0.5,1)*MIN($F67*$F$57,$F67-SUM($G67:G67)))","v":0},{"$f":"IF($C67>I$2,0,IF($C67=I$2,0.5,1)*MIN($F67*$F$57,$F67-SUM($G67:H67)))","v":0},{"$f":"IF($C67>J$2,0,IF($C67=J$2,0.5,1)*MIN($F67*$F$57,$F67-SUM($G67:I67)))","v":0},{"$f":"IF($C67>K$2,0,IF($C67=K$2,0.5,1)*MIN($F67*$F$57,$F67-SUM($G67:J67)))","v":0},{"$f":"IF($C67>L$2,0,IF($C67=L$2,0.5,1)*MIN($F67*$F$57,$F67-SUM($G67:K67)))","v":0},{"$f":"IF($C67>M$2,0,IF($C67=M$2,0.5,1)*MIN($F67*$F$57,$F67-SUM($G67:L67)))","v":0},{"$f":"IF($C67>N$2,0,IF($C67=N$2,0.5,1)*MIN($F67*$F$57,$F67-SUM($G67:M67)))","v":0},{"$f":"IF($C67>O$2,0,IF($C67=O$2,0.5,1)*MIN($F67*$F$57,$F67-SUM($G67:N67)))","v":0},{"$f":"IF($C67>P$2,0,IF($C67=P$2,0.5,1)*MIN($F67*$F$57,$F67-SUM($G67:O67)))","v":0},{"$f":"IF($C67>Q$2,0,IF($C67=Q$2,0.5,1)*MIN($F67*$F$57,$F67-SUM($G67:P67)))","v":0},{"$f":"IF($C67>R$2,0,IF($C67=R$2,0.5,1)*MIN($F67*$F$57,$F67-SUM($G67:Q67)))","v":0},{"$f":"IF($C67>S$2,0,IF($C67=S$2,0.5,1)*MIN($F67*$F$57,$F67-SUM($G67:R67)))","v":0},{"$f":"IF($C67>T$2,0,IF($C67=T$2,0.5,1)*MIN($F67*$F$57,$F67-SUM($G67:S67)))","v":0},{"$f":"IF($C67>U$2,0,IF($C67=U$2,0.5,1)*MIN($F67*$F$57,$F67-SUM($G67:T67)))","v":0},{"$f":"IF($C67>V$2,0,IF($C67=V$2,0.5,1)*MIN($F67*$F$57,$F67-SUM($G67:U67)))","v":0},{"$f":"IF($C67>W$2,0,IF($C67=W$2,0.5,1)*MIN($F67*$F$57,$F67-SUM($G67:V67)))","v":0},{"$f":"IF($C67>X$2,0,IF($C67=X$2,0.5,1)*MIN($F67*$F$57,$F67-SUM($G67:W67)))","v":0},{"$f":"IF($C67>Y$2,0,IF($C67=Y$2,0.5,1)*MIN($F67*$F$57,$F67-SUM($G67:X67)))","v":0},{"$f":"IF($C67>Z$2,0,IF($C67=Z$2,0.5,1)*MIN($F67*$F$57,$F67-SUM($G67:Y67)))","v":0},{"$f":"IF($C67>AA$2,0,IF($C67=AA$2,0.5,1)*MIN($F67*$F$57,$F67-SUM($G67:Z67)))","v":0},{"$f":"IF($C67>AB$2,0,IF($C67=AB$2,0.5,1)*MIN($F67*$F$57,$F67-SUM($G67:AA67)))","v":0}]
[null,null,2034,"тыс. руб.",9,0,null,{"$f":"IF($C68>H$2,0,IF($C68=H$2,0.5,1)*MIN($F68*$F$57,$F68-SUM($G68:G68)))","v":0},{"$f":"IF($C68>I$2,0,IF($C68=I$2,0.5,1)*MIN($F68*$F$57,$F68-SUM($G68:H68)))","v":0},{"$f":"IF($C68>J$2,0,IF($C68=J$2,0.5,1)*MIN($F68*$F$57,$F68-SUM($G68:I68)))","v":0},{"$f":"IF($C68>K$2,0,IF($C68=K$2,0.5,1)*MIN($F68*$F$57,$F68-SUM($G68:J68)))","v":0},{"$f":"IF($C68>L$2,0,IF($C68=L$2,0.5,1)*MIN($F68*$F$57,$F68-SUM($G68:K68)))","v":0},{"$f":"IF($C68>M$2,0,IF($C68=M$2,0.5,1)*MIN($F68*$F$57,$F68-SUM($G68:L68)))","v":0},{"$f":"IF($C68>N$2,0,IF($C68=N$2,0.5,1)*MIN($F68*$F$57,$F68-SUM($G68:M68)))","v":0},{"$f":"IF($C68>O$2,0,IF($C68=O$2,0.5,1)*MIN($F68*$F$57,$F68-SUM($G68:N68)))","v":0},{"$f":"IF($C68>P$2,0,IF($C68=P$2,0.5,1)*MIN($F68*$F$57,$F68-SUM($G68:O68)))","v":0},{"$f":"IF($C68>Q$2,0,IF($C68=Q$2,0.5,1)*MIN($F68*$F$57,$F68-SUM($G68:P68)))","v":0},{"$f":"IF($C68>R$2,0,IF($C68=R$2,0.5,1)*MIN($F68*$F$57,$F68-SUM($G68:Q68)))","v":0},{"$f":"IF($C68>S$2,0,IF($C68=S$2,0.5,1)*MIN($F68*$F$57,$F68-SUM($G68:R68)))","v":0},{"$f":"IF($C68>T$2,0,IF($C68=T$2,0.5,1)*MIN($F68*$F$57,$F68-SUM($G68:S68)))","v":0},{"$f":"IF($C68>U$2,0,IF($C68=U$2,0.5,1)*MIN($F68*$F$57,$F68-SUM($G68:T68)))","v":0},{"$f":"IF($C68>V$2,0,IF($C68=V$2,0.5,1)*MIN($F68*$F$57,$F68-SUM($G68:U68)))","v":0},{"$f":"IF($C68>W$2,0,IF($C68=W$2,0.5,1)*MIN($F68*$F$57,$F68-SUM($G68:V68)))","v":0},{"$f":"IF($C68>X$2,0,IF($C68=X$2,0.5,1)*MIN($F68*$F$57,$F68-SUM($G68:W68)))","v":0},{"$f":"IF($C68>Y$2,0,IF($C68=Y$2,0.5,1)*MIN($F68*$F$57,$F68-SUM($G68:X68)))","v":0},{"$f":"IF($C68>Z$2,0,IF($C68=Z$2,0.5,1)*MIN($F68*$F$57,$F68-SUM($G68:Y68)))","v":0},{"$f":"IF($C68>AA$2,0,IF($C68=AA$2,0.5,1)*MIN($F68*$F$57,$F68-SUM($G68:Z68)))","v":0},{"$f":"IF($C68>AB$2,0,IF($C68=AB$2,0.5,1)*MIN($F68*$F$57,$F68-SUM($G68:AA68)))","v":0}]
[null,null,2035,"тыс. руб.",10,0,null,{"$f":"IF($C69>H$2,0,IF($C69=H$2,0.5,1)*MIN($F69*$F$57,$F69-SUM($G69:G69)))","v":0},{"$f":"IF($C69>I$2,0,IF($C69=I$2,0.5,1)*MIN($F69*$F$57,$F69-SUM($G69:H69)))","v":0},{"$f":"IF($C69>J$2,0,IF($C69=J$2,0.5,1)*MIN($F69*$F$57,$F69-SUM($G69:I69)))","v":0},{"$f":"IF($C69>K$2,0,IF($C69=K$2,0.5,1)*MIN($F69*$F$57,$F69-SUM($G69:J69)))","v":0},{"$f":"IF($C69>L$2,0,IF($C69=L$2,0.5,1)*MIN($F69*$F$57,$F69-SUM($G69:K69)))","v":0},{"$f":"IF($C69>M$2,0,IF($C69=M$2,0.5,1)*MIN($F69*$F$57,$F69-SUM($G69:L69)))","v":0},{"$f":"IF($C69>N$2,0,IF($C69=N$2,0.5,1)*MIN($F69*$F$57,$F69-SUM($G69:M69)))","v":0},{"$f":"IF($C69>O$2,0,IF($C69=O$2,0.5,1)*MIN($F69*$F$57,$F69-SUM($G69:N69)))","v":0},{"$f":"IF($C69>P$2,0,IF($C69=P$2,0.5,1)*MIN($F69*$F$57,$F69-SUM($G69:O69)))","v":0},{"$f":"IF($C69>Q$2,0,IF($C69=Q$2,0.5,1)*MIN($F69*$F$57,$F69-SUM($G69:P69)))","v":0},{"$f":"IF($C69>R$2,0,IF($C69=R$2,0.5,1)*MIN($F69*$F$57,$F69-SUM($G69:Q69)))","v":0},{"$f":"IF($C69>S$2,0,IF($C69=S$2,0.5,1)*MIN($F69*$F$57,$F69-SUM($G69:R69)))","v":0},{"$f":"IF($C69>T$2,0,IF($C69=T$2,0.5,1)*MIN($F69*$F$57,$F69-SUM($G69:S69)))","v":0},{"$f":"IF($C69>U$2,0,IF($C69=U$2,0.5,1)*MIN($F69*$F$57,$F69-SUM($G69:T69)))","v":0},{"$f":"IF($C69>V$2,0,IF($C69=V$2,0.5,1)*MIN($F69*$F$57,$F69-SUM($G69:U69)))","v":0},{"$f":"IF($C69>W$2,0,IF($C69=W$2,0.5,1)*MIN($F69*$F$57,$F69-SUM($G69:V69)))","v":0},{"$f":"IF($C69>X$2,0,IF($C69=X$2,0.5,1)*MIN($F69*$F$57,$F69-SUM($G69:W69)))","v":0},{"$f":"IF($C69>Y$2,0,IF($C69=Y$2,0.5,1)*MIN($F69*$F$57,$F69-SUM($G69:X69)))","v":0},{"$f":"IF($C69>Z$2,0,IF($C69=Z$2,0.5,1)*MIN($F69*$F$57,$F69-SUM($G69:Y69)))","v":0},{"$f":"IF($C69>AA$2,0,IF($C69=AA$2,0.5,1)*MIN($F69*$F$57,$F69-SUM($G69:Z69)))","v":0},{"$f":"IF($C69>AB$2,0,IF($C69=AB$2,0.5,1)*MIN($F69*$F$57,$F69-SUM($G69:AA69)))","v":0}]
[null,null,2036,"тыс. руб.",11,0,null,{"$f":"IF($C70>H$2,0,IF($C70=H$2,0.5,1)*MIN($F70*$F$57,$F70-SUM($G70:G70)))","v":0},{"$f":"IF($C70>I$2,0,IF($C70=I$2,0.5,1)*MIN($F70*$F$57,$F70-SUM($G70:H70)))","v":0},{"$f":"IF($C70>J$2,0,IF($C70=J$2,0.5,1)*MIN($F70*$F$57,$F70-SUM($G70:I70)))","v":0},{"$f":"IF($C70>K$2,0,IF($C70=K$2,0.5,1)*MIN($F70*$F$57,$F70-SUM($G70:J70)))","v":0},{"$f":"IF($C70>L$2,0,IF($C70=L$2,0.5,1)*MIN($F70*$F$57,$F70-SUM($G70:K70)))","v":0},{"$f":"IF($C70>M$2,0,IF($C70=M$2,0.5,1)*MIN($F70*$F$57,$F70-SUM($G70:L70)))","v":0},{"$f":"IF($C70>N$2,0,IF($C70=N$2,0.5,1)*MIN($F70*$F$57,$F70-SUM($G70:M70)))","v":0},{"$f":"IF($C70>O$2,0,IF($C70=O$2,0.5,1)*MIN($F70*$F$57,$F70-SUM($G70:N70)))","v":0},{"$f":"IF($C70>P$2,0,IF($C70=P$2,0.5,1)*MIN($F70*$F$57,$F70-SUM($G70:O70)))","v":0},{"$f":"IF($C70>Q$2,0,IF($C70=Q$2,0.5,1)*MIN($F70*$F$57,$F70-SUM($G70:P70)))","v":0},{"$f":"IF($C70>R$2,0,IF($C70=R$2,0.5,1)*MIN($F70*$F$57,$F70-SUM($G70:Q70)))","v":0},{"$f":"IF($C70>S$2,0,IF($C70=S$2,0.5,1)*MIN($F70*$F$57,$F70-SUM($G70:R70)))","v":0},{"$f":"IF($C70>T$2,0,IF($C70=T$2,0.5,1)*MIN($F70*$F$57,$F70-SUM($G70:S70)))","v":0},{"$f":"IF($C70>U$2,0,IF($C70=U$2,0.5,1)*MIN($F70*$F$57,$F70-SUM($G70:T70)))","v":0},{"$f":"IF($C70>V$2,0,IF($C70=V$2,0.5,1)*MIN($F70*$F$57,$F70-SUM($G70:U70)))","v":0},{"$f":"IF($C70>W$2,0,IF($C70=W$2,0.5,1)*MIN($F70*$F$57,$F70-SUM($G70:V70)))","v":0},{"$f":"IF($C70>X$2,0,IF($C70=X$2,0.5,1)*MIN($F70*$F$57,$F70-SUM($G70:W70)))","v":0},{"$f":"IF($C70>Y$2,0,IF($C70=Y$2,0.5,1)*MIN($F70*$F$57,$F70-SUM($G70:X70)))","v":0},{"$f":"IF($C70>Z$2,0,IF($C70=Z$2,0.5,1)*MIN($F70*$F$57,$F70-SUM($G70:Y70)))","v":0},{"$f":"IF($C70>AA$2,0,IF($C70=AA$2,0.5,1)*MIN($F70*$F$57,$F70-SUM($G70:Z70)))","v":0},{"$f":"IF($C70>AB$2,0,IF($C70=AB$2,0.5,1)*MIN($F70*$F$57,$F70-SUM($G70:AA70)))","v":0}]
[null,null,2037,"тыс. руб.",12,0,null,{"$f":"IF($C71>H$2,0,IF($C71=H$2,0.5,1)*MIN($F71*$F$57,$F71-SUM($G71:G71)))","v":0},{"$f":"IF($C71>I$2,0,IF($C71=I$2,0.5,1)*MIN($F71*$F$57,$F71-SUM($G71:H71)))","v":0},{"$f":"IF($C71>J$2,0,IF($C71=J$2,0.5,1)*MIN($F71*$F$57,$F71-SUM($G71:I71)))","v":0},{"$f":"IF($C71>K$2,0,IF($C71=K$2,0.5,1)*MIN($F71*$F$57,$F71-SUM($G71:J71)))","v":0},{"$f":"IF($C71>L$2,0,IF($C71=L$2,0.5,1)*MIN($F71*$F$57,$F71-SUM($G71:K71)))","v":0},{"$f":"IF($C71>M$2,0,IF($C71=M$2,0.5,1)*MIN($F71*$F$57,$F71-SUM($G71:L71)))","v":0},{"$f":"IF($C71>N$2,0,IF($C71=N$2,0.5,1)*MIN($F71*$F$57,$F71-SUM($G71:M71)))","v":0},{"$f":"IF($C71>O$2,0,IF($C71=O$2,0.5,1)*MIN($F71*$F$57,$F71-SUM($G71:N71)))","v":0},{"$f":"IF($C71>P$2,0,IF($C71=P$2,0.5,1)*MIN($F71*$F$57,$F71-SUM($G71:O71)))","v":0},{"$f":"IF($C71>Q$2,0,IF($C71=Q$2,0.5,1)*MIN($F71*$F$57,$F71-SUM($G71:P71)))","v":0},{"$f":"IF($C71>R$2,0,IF($C71=R$2,0.5,1)*MIN($F71*$F$57,$F71-SUM($G71:Q71)))","v":0},{"$f":"IF($C71>S$2,0,IF($C71=S$2,0.5,1)*MIN($F71*$F$57,$F71-SUM($G71:R71)))","v":0},{"$f":"IF($C71>T$2,0,IF($C71=T$2,0.5,1)*MIN($F71*$F$57,$F71-SUM($G71:S71)))","v":0},{"$f":"IF($C71>U$2,0,IF($C71=U$2,0.5,1)*MIN($F71*$F$57,$F71-SUM($G71:T71)))","v":0},{"$f":"IF($C71>V$2,0,IF($C71=V$2,0.5,1)*MIN($F71*$F$57,$F71-SUM($G71:U71)))","v":0},{"$f":"IF($C71>W$2,0,IF($C71=W$2,0.5,1)*MIN($F71*$F$57,$F71-SUM($G71:V71)))","v":0},{"$f":"IF($C71>X$2,0,IF($C71=X$2,0.5,1)*MIN($F71*$F$57,$F71-SUM($G71:W71)))","v":0},{"$f":"IF($C71>Y$2,0,IF($C71=Y$2,0.5,1)*MIN($F71*$F$57,$F71-SUM($G71:X71)))","v":0},{"$f":"IF($C71>Z$2,0,IF($C71=Z$2,0.5,1)*MIN($F71*$F$57,$F71-SUM($G71:Y71)))","v":0},{"$f":"IF($C71>AA$2,0,IF($C71=AA$2,0.5,1)*MIN($F71*$F$57,$F71-SUM($G71:Z71)))","v":0},{"$f":"IF($C71>AB$2,0,IF($C71=AB$2,0.5,1)*MIN($F71*$F$57,$F71-SUM($G71:AA71)))","v":0}]
[null,null,2038,"тыс. руб.",13,0,null,{"$f":"IF($C72>H$2,0,IF($C72=H$2,0.5,1)*MIN($F72*$F$57,$F72-SUM($G72:G72)))","v":0},{"$f":"IF($C72>I$2,0,IF($C72=I$2,0.5,1)*MIN($F72*$F$57,$F72-SUM($G72:H72)))","v":0},{"$f":"IF($C72>J$2,0,IF($C72=J$2,0.5,1)*MIN($F72*$F$57,$F72-SUM($G72:I72)))","v":0},{"$f":"IF($C72>K$2,0,IF($C72=K$2,0.5,1)*MIN($F72*$F$57,$F72-SUM($G72:J72)))","v":0},{"$f":"IF($C72>L$2,0,IF($C72=L$2,0.5,1)*MIN($F72*$F$57,$F72-SUM($G72:K72)))","v":0},{"$f":"IF($C72>M$2,0,IF($C72=M$2,0.5,1)*MIN($F72*$F$57,$F72-SUM($G72:L72)))","v":0},{"$f":"IF($C72>N$2,0,IF($C72=N$2,0.5,1)*MIN($F72*$F$57,$F72-SUM($G72:M72)))","v":0},{"$f":"IF($C72>O$2,0,IF($C72=O$2,0.5,1)*MIN($F72*$F$57,$F72-SUM($G72:N72)))","v":0},{"$f":"IF($C72>P$2,0,IF($C72=P$2,0.5,1)*MIN($F72*$F$57,$F72-SUM($G72:O72)))","v":0},{"$f":"IF($C72>Q$2,0,IF($C72=Q$2,0.5,1)*MIN($F72*$F$57,$F72-SUM($G72:P72)))","v":0},{"$f":"IF($C72>R$2,0,IF($C72=R$2,0.5,1)*MIN($F72*$F$57,$F72-SUM($G72:Q72)))","v":0},{"$f":"IF($C72>S$2,0,IF($C72=S$2,0.5,1)*MIN($F72*$F$57,$F72-SUM($G72:R72)))","v":0},{"$f":"IF($C72>T$2,0,IF($C72=T$2,0.5,1)*MIN($F72*$F$57,$F72-SUM($G72:S72)))","v":0},{"$f":"IF($C72>U$2,0,IF($C72=U$2,0.5,1)*MIN($F72*$F$57,$F72-SUM($G72:T72)))","v":0},{"$f":"IF($C72>V$2,0,IF($C72=V$2,0.5,1)*MIN($F72*$F$57,$F72-SUM($G72:U72)))","v":0},{"$f":"IF($C72>W$2,0,IF($C72=W$2,0.5,1)*MIN($F72*$F$57,$F72-SUM($G72:V72)))","v":0},{"$f":"IF($C72>X$2,0,IF($C72=X$2,0.5,1)*MIN($F72*$F$57,$F72-SUM($G72:W72)))","v":0},{"$f":"IF($C72>Y$2,0,IF($C72=Y$2,0.5,1)*MIN($F72*$F$57,$F72-SUM($G72:X72)))","v":0},{"$f":"IF($C72>Z$2,0,IF($C72=Z$2,0.5,1)*MIN($F72*$F$57,$F72-SUM($G72:Y72)))","v":0},{"$f":"IF($C72>AA$2,0,IF($C72=AA$2,0.5,1)*MIN($F72*$F$57,$F72-SUM($G72:Z72)))","v":0},{"$f":"IF($C72>AB$2,0,IF($C72=AB$2,0.5,1)*MIN($F72*$F$57,$F72-SUM($G72:AA72)))","v":0}]
[null,null,2039,"тыс. руб.",14,0,null,{"$f":"IF($C73>H$2,0,IF($C73=H$2,0.5,1)*MIN($F73*$F$57,$F73-SUM($G73:G73)))","v":0},{"$f":"IF($C73>I$2,0,IF($C73=I$2,0.5,1)*MIN($F73*$F$57,$F73-SUM($G73:H73)))","v":0},{"$f":"IF($C73>J$2,0,IF($C73=J$2,0.5,1)*MIN($F73*$F$57,$F73-SUM($G73:I73)))","v":0},{"$f":"IF($C73>K$2,0,IF($C73=K$2,0.5,1)*MIN($F73*$F$57,$F73-SUM($G73:J73)))","v":0},{"$f":"IF($C73>L$2,0,IF($C73=L$2,0.5,1)*MIN($F73*$F$57,$F73-SUM($G73:K73)))","v":0},{"$f":"IF($C73>M$2,0,IF($C73=M$2,0.5,1)*MIN($F73*$F$57,$F73-SUM($G73:L73)))","v":0},{"$f":"IF($C73>N$2,0,IF($C73=N$2,0.5,1)*MIN($F73*$F$57,$F73-SUM($G73:M73)))","v":0},{"$f":"IF($C73>O$2,0,IF($C73=O$2,0.5,1)*MIN($F73*$F$57,$F73-SUM($G73:N73)))","v":0},{"$f":"IF($C73>P$2,0,IF($C73=P$2,0.5,1)*MIN($F73*$F$57,$F73-SUM($G73:O73)))","v":0},{"$f":"IF($C73>Q$2,0,IF($C73=Q$2,0.5,1)*MIN($F73*$F$57,$F73-SUM($G73:P73)))","v":0},{"$f":"IF($C73>R$2,0,IF($C73=R$2,0.5,1)*MIN($F73*$F$57,$F73-SUM($G73:Q73)))","v":0},{"$f":"IF($C73>S$2,0,IF($C73=S$2,0.5,1)*MIN($F73*$F$57,$F73-SUM($G73:R73)))","v":0},{"$f":"IF($C73>T$2,0,IF($C73=T$2,0.5,1)*MIN($F73*$F$57,$F73-SUM($G73:S73)))","v":0},{"$f":"IF($C73>U$2,0,IF($C73=U$2,0.5,1)*MIN($F73*$F$57,$F73-SUM($G73:T73)))","v":0},{"$f":"IF($C73>V$2,0,IF($C73=V$2,0.5,1)*MIN($F73*$F$57,$F73-SUM($G73:U73)))","v":0},{"$f":"IF($C73>W$2,0,IF($C73=W$2,0.5,1)*MIN($F73*$F$57,$F73-SUM($G73:V73)))","v":0},{"$f":"IF($C73>X$2,0,IF($C73=X$2,0.5,1)*MIN($F73*$F$57,$F73-SUM($G73:W73)))","v":0},{"$f":"IF($C73>Y$2,0,IF($C73=Y$2,0.5,1)*MIN($F73*$F$57,$F73-SUM($G73:X73)))","v":0},{"$f":"IF($C73>Z$2,0,IF($C73=Z$2,0.5,1)*MIN($F73*$F$57,$F73-SUM($G73:Y73)))","v":0},{"$f":"IF($C73>AA$2,0,IF($C73=AA$2,0.5,1)*MIN($F73*$F$57,$F73-SUM($G73:Z73)))","v":0},{"$f":"IF($C73>AB$2,0,IF($C73=AB$2,0.5,1)*MIN($F73*$F$57,$F73-SUM($G73:AA73)))","v":0}]
[null,null,2040,"тыс. руб.",15,0,null,{"$f":"IF($C74>H$2,0,IF($C74=H$2,0.5,1)*MIN($F74*$F$57,$F74-SUM($G74:G74)))","v":0},{"$f":"IF($C74>I$2,0,IF($C74=I$2,0.5,1)*MIN($F74*$F$57,$F74-SUM($G74:H74)))","v":0},{"$f":"IF($C74>J$2,0,IF($C74=J$2,0.5,1)*MIN($F74*$F$57,$F74-SUM($G74:I74)))","v":0},{"$f":"IF($C74>K$2,0,IF($C74=K$2,0.5,1)*MIN($F74*$F$57,$F74-SUM($G74:J74)))","v":0},{"$f":"IF($C74>L$2,0,IF($C74=L$2,0.5,1)*MIN($F74*$F$57,$F74-SUM($G74:K74)))","v":0},{"$f":"IF($C74>M$2,0,IF($C74=M$2,0.5,1)*MIN($F74*$F$57,$F74-SUM($G74:L74)))","v":0},{"$f":"IF($C74>N$2,0,IF($C74=N$2,0.5,1)*MIN($F74*$F$57,$F74-SUM($G74:M74)))","v":0},{"$f":"IF($C74>O$2,0,IF($C74=O$2,0.5,1)*MIN($F74*$F$57,$F74-SUM($G74:N74)))","v":0},{"$f":"IF($C74>P$2,0,IF($C74=P$2,0.5,1)*MIN($F74*$F$57,$F74-SUM($G74:O74)))","v":0},{"$f":"IF($C74>Q$2,0,IF($C74=Q$2,0.5,1)*MIN($F74*$F$57,$F74-SUM($G74:P74)))","v":0},{"$f":"IF($C74>R$2,0,IF($C74=R$2,0.5,1)*MIN($F74*$F$57,$F74-SUM($G74:Q74)))","v":0},{"$f":"IF($C74>S$2,0,IF($C74=S$2,0.5,1)*MIN($F74*$F$57,$F74-SUM($G74:R74)))","v":0},{"$f":"IF($C74>T$2,0,IF($C74=T$2,0.5,1)*MIN($F74*$F$57,$F74-SUM($G74:S74)))","v":0},{"$f":"IF($C74>U$2,0,IF($C74=U$2,0.5,1)*MIN($F74*$F$57,$F74-SUM($G74:T74)))","v":0},{"$f":"IF($C74>V$2,0,IF($C74=V$2,0.5,1)*MIN($F74*$F$57,$F74-SUM($G74:U74)))","v":0},{"$f":"IF($C74>W$2,0,IF($C74=W$2,0.5,1)*MIN($F74*$F$57,$F74-SUM($G74:V74)))","v":0},{"$f":"IF($C74>X$2,0,IF($C74=X$2,0.5,1)*MIN($F74*$F$57,$F74-SUM($G74:W74)))","v":0},{"$f":"IF($C74>Y$2,0,IF($C74=Y$2,0.5,1)*MIN($F74*$F$57,$F74-SUM($G74:X74)))","v":0},{"$f":"IF($C74>Z$2,0,IF($C74=Z$2,0.5,1)*MIN($F74*$F$57,$F74-SUM($G74:Y74)))","v":0},{"$f":"IF($C74>AA$2,0,IF($C74=AA$2,0.5,1)*MIN($F74*$F$57,$F74-SUM($G74:Z74)))","v":0},{"$f":"IF($C74>AB$2,0,IF($C74=AB$2,0.5,1)*MIN($F74*$F$57,$F74-SUM($G74:AA74)))","v":0}]
[null,null,2041,"тыс. руб.",16,0,null,{"$f":"IF($C75>H$2,0,IF($C75=H$2,0.5,1)*MIN($F75*$F$57,$F75-SUM($G75:G75)))","v":0},{"$f":"IF($C75>I$2,0,IF($C75=I$2,0.5,1)*MIN($F75*$F$57,$F75-SUM($G75:H75)))","v":0},{"$f":"IF($C75>J$2,0,IF($C75=J$2,0.5,1)*MIN($F75*$F$57,$F75-SUM($G75:I75)))","v":0},{"$f":"IF($C75>K$2,0,IF($C75=K$2,0.5,1)*MIN($F75*$F$57,$F75-SUM($G75:J75)))","v":0},{"$f":"IF($C75>L$2,0,IF($C75=L$2,0.5,1)*MIN($F75*$F$57,$F75-SUM($G75:K75)))","v":0},{"$f":"IF($C75>M$2,0,IF($C75=M$2,0.5,1)*MIN($F75*$F$57,$F75-SUM($G75:L75)))","v":0},{"$f":"IF($C75>N$2,0,IF($C75=N$2,0.5,1)*MIN($F75*$F$57,$F75-SUM($G75:M75)))","v":0},{"$f":"IF($C75>O$2,0,IF($C75=O$2,0.5,1)*MIN($F75*$F$57,$F75-SUM($G75:N75)))","v":0},{"$f":"IF($C75>P$2,0,IF($C75=P$2,0.5,1)*MIN($F75*$F$57,$F75-SUM($G75:O75)))","v":0},{"$f":"IF($C75>Q$2,0,IF($C75=Q$2,0.5,1)*MIN($F75*$F$57,$F75-SUM($G75:P75)))","v":0},{"$f":"IF($C75>R$2,0,IF($C75=R$2,0.5,1)*MIN($F75*$F$57,$F75-SUM($G75:Q75)))","v":0},{"$f":"IF($C75>S$2,0,IF($C75=S$2,0.5,1)*MIN($F75*$F$57,$F75-SUM($G75:R75)))","v":0},{"$f":"IF($C75>T$2,0,IF($C75=T$2,0.5,1)*MIN($F75*$F$57,$F75-SUM($G75:S75)))","v":0},{"$f":"IF($C75>U$2,0,IF($C75=U$2,0.5,1)*MIN($F75*$F$57,$F75-SUM($G75:T75)))","v":0},{"$f":"IF($C75>V$2,0,IF($C75=V$2,0.5,1)*MIN($F75*$F$57,$F75-SUM($G75:U75)))","v":0},{"$f":"IF($C75>W$2,0,IF($C75=W$2,0.5,1)*MIN($F75*$F$57,$F75-SUM($G75:V75)))","v":0},{"$f":"IF($C75>X$2,0,IF($C75=X$2,0.5,1)*MIN($F75*$F$57,$F75-SUM($G75:W75)))","v":0},{"$f":"IF($C75>Y$2,0,IF($C75=Y$2,0.5,1)*MIN($F75*$F$57,$F75-SUM($G75:X75)))","v":0},{"$f":"IF($C75>Z$2,0,IF($C75=Z$2,0.5,1)*MIN($F75*$F$57,$F75-SUM($G75:Y75)))","v":0},{"$f":"IF($C75>AA$2,0,IF($C75=AA$2,0.5,1)*MIN($F75*$F$57,$F75-SUM($G75:Z75)))","v":0},{"$f":"IF($C75>AB$2,0,IF($C75=AB$2,0.5,1)*MIN($F75*$F$57,$F75-SUM($G75:AA75)))","v":0}]
[null,null,2042,"тыс. руб.",17,0,null,{"$f":"IF($C76>H$2,0,IF($C76=H$2,0.5,1)*MIN($F76*$F$57,$F76-SUM($G76:G76)))","v":0},{"$f":"IF($C76>I$2,0,IF($C76=I$2,0.5,1)*MIN($F76*$F$57,$F76-SUM($G76:H76)))","v":0},{"$f":"IF($C76>J$2,0,IF($C76=J$2,0.5,1)*MIN($F76*$F$57,$F76-SUM($G76:I76)))","v":0},{"$f":"IF($C76>K$2,0,IF($C76=K$2,0.5,1)*MIN($F76*$F$57,$F76-SUM($G76:J76)))","v":0},{"$f":"IF($C76>L$2,0,IF($C76=L$2,0.5,1)*MIN($F76*$F$57,$F76-SUM($G76:K76)))","v":0},{"$f":"IF($C76>M$2,0,IF($C76=M$2,0.5,1)*MIN($F76*$F$57,$F76-SUM($G76:L76)))","v":0},{"$f":"IF($C76>N$2,0,IF($C76=N$2,0.5,1)*MIN($F76*$F$57,$F76-SUM($G76:M76)))","v":0},{"$f":"IF($C76>O$2,0,IF($C76=O$2,0.5,1)*MIN($F76*$F$57,$F76-SUM($G76:N76)))","v":0},{"$f":"IF($C76>P$2,0,IF($C76=P$2,0.5,1)*MIN($F76*$F$57,$F76-SUM($G76:O76)))","v":0},{"$f":"IF($C76>Q$2,0,IF($C76=Q$2,0.5,1)*MIN($F76*$F$57,$F76-SUM($G76:P76)))","v":0},{"$f":"IF($C76>R$2,0,IF($C76=R$2,0.5,1)*MIN($F76*$F$57,$F76-SUM($G76:Q76)))","v":0},{"$f":"IF($C76>S$2,0,IF($C76=S$2,0.5,1)*MIN($F76*$F$57,$F76-SUM($G76:R76)))","v":0},{"$f":"IF($C76>T$2,0,IF($C76=T$2,0.5,1)*MIN($F76*$F$57,$F76-SUM($G76:S76)))","v":0},{"$f":"IF($C76>U$2,0,IF($C76=U$2,0.5,1)*MIN($F76*$F$57,$F76-SUM($G76:T76)))","v":0},{"$f":"IF($C76>V$2,0,IF($C76=V$2,0.5,1)*MIN($F76*$F$57,$F76-SUM($G76:U76)))","v":0},{"$f":"IF($C76>W$2,0,IF($C76=W$2,0.5,1)*MIN($F76*$F$57,$F76-SUM($G76:V76)))","v":0},{"$f":"IF($C76>X$2,0,IF($C76=X$2,0.5,1)*MIN($F76*$F$57,$F76-SUM($G76:W76)))","v":0},{"$f":"IF($C76>Y$2,0,IF($C76=Y$2,0.5,1)*MIN($F76*$F$57,$F76-SUM($G76:X76)))","v":0},{"$f":"IF($C76>Z$2,0,IF($C76=Z$2,0.5,1)*MIN($F76*$F$57,$F76-SUM($G76:Y76)))","v":0},{"$f":"IF($C76>AA$2,0,IF($C76=AA$2,0.5,1)*MIN($F76*$F$57,$F76-SUM($G76:Z76)))","v":0},{"$f":"IF($C76>AB$2,0,IF($C76=AB$2,0.5,1)*MIN($F76*$F$57,$F76-SUM($G76:AA76)))","v":0}]
[null,null,2043,"тыс. руб.",18,0,null,{"$f":"IF($C77>H$2,0,IF($C77=H$2,0.5,1)*MIN($F77*$F$57,$F77-SUM($G77:G77)))","v":0},{"$f":"IF($C77>I$2,0,IF($C77=I$2,0.5,1)*MIN($F77*$F$57,$F77-SUM($G77:H77)))","v":0},{"$f":"IF($C77>J$2,0,IF($C77=J$2,0.5,1)*MIN($F77*$F$57,$F77-SUM($G77:I77)))","v":0},{"$f":"IF($C77>K$2,0,IF($C77=K$2,0.5,1)*MIN($F77*$F$57,$F77-SUM($G77:J77)))","v":0},{"$f":"IF($C77>L$2,0,IF($C77=L$2,0.5,1)*MIN($F77*$F$57,$F77-SUM($G77:K77)))","v":0},{"$f":"IF($C77>M$2,0,IF($C77=M$2,0.5,1)*MIN($F77*$F$57,$F77-SUM($G77:L77)))","v":0},{"$f":"IF($C77>N$2,0,IF($C77=N$2,0.5,1)*MIN($F77*$F$57,$F77-SUM($G77:M77)))","v":0},{"$f":"IF($C77>O$2,0,IF($C77=O$2,0.5,1)*MIN($F77*$F$57,$F77-SUM($G77:N77)))","v":0},{"$f":"IF($C77>P$2,0,IF($C77=P$2,0.5,1)*MIN($F77*$F$57,$F77-SUM($G77:O77)))","v":0},{"$f":"IF($C77>Q$2,0,IF($C77=Q$2,0.5,1)*MIN($F77*$F$57,$F77-SUM($G77:P77)))","v":0},{"$f":"IF($C77>R$2,0,IF($C77=R$2,0.5,1)*MIN($F77*$F$57,$F77-SUM($G77:Q77)))","v":0},{"$f":"IF($C77>S$2,0,IF($C77=S$2,0.5,1)*MIN($F77*$F$57,$F77-SUM($G77:R77)))","v":0},{"$f":"IF($C77>T$2,0,IF($C77=T$2,0.5,1)*MIN($F77*$F$57,$F77-SUM($G77:S77)))","v":0},{"$f":"IF($C77>U$2,0,IF($C77=U$2,0.5,1)*MIN($F77*$F$57,$F77-SUM($G77:T77)))","v":0},{"$f":"IF($C77>V$2,0,IF($C77=V$2,0.5,1)*MIN($F77*$F$57,$F77-SUM($G77:U77)))","v":0},{"$f":"IF($C77>W$2,0,IF($C77=W$2,0.5,1)*MIN($F77*$F$57,$F77-SUM($G77:V77)))","v":0},{"$f":"IF($C77>X$2,0,IF($C77=X$2,0.5,1)*MIN($F77*$F$57,$F77-SUM($G77:W77)))","v":0},{"$f":"IF($C77>Y$2,0,IF($C77=Y$2,0.5,1)*MIN($F77*$F$57,$F77-SUM($G77:X77)))","v":0},{"$f":"IF($C77>Z$2,0,IF($C77=Z$2,0.5,1)*MIN($F77*$F$57,$F77-SUM($G77:Y77)))","v":0},{"$f":"IF($C77>AA$2,0,IF($C77=AA$2,0.5,1)*MIN($F77*$F$57,$F77-SUM($G77:Z77)))","v":0},{"$f":"IF($C77>AB$2,0,IF($C77=AB$2,0.5,1)*MIN($F77*$F$57,$F77-SUM($G77:AA77)))","v":0}]
[null,null,2044,"тыс. руб.",19,0,null,{"$f":"IF($C78>H$2,0,IF($C78=H$2,0.5,1)*MIN($F78*$F$57,$F78-SUM($G78:G78)))","v":0},{"$f":"IF($C78>I$2,0,IF($C78=I$2,0.5,1)*MIN($F78*$F$57,$F78-SUM($G78:H78)))","v":0},{"$f":"IF($C78>J$2,0,IF($C78=J$2,0.5,1)*MIN($F78*$F$57,$F78-SUM($G78:I78)))","v":0},{"$f":"IF($C78>K$2,0,IF($C78=K$2,0.5,1)*MIN($F78*$F$57,$F78-SUM($G78:J78)))","v":0},{"$f":"IF($C78>L$2,0,IF($C78=L$2,0.5,1)*MIN($F78*$F$57,$F78-SUM($G78:K78)))","v":0},{"$f":"IF($C78>M$2,0,IF($C78=M$2,0.5,1)*MIN($F78*$F$57,$F78-SUM($G78:L78)))","v":0},{"$f":"IF($C78>N$2,0,IF($C78=N$2,0.5,1)*MIN($F78*$F$57,$F78-SUM($G78:M78)))","v":0},{"$f":"IF($C78>O$2,0,IF($C78=O$2,0.5,1)*MIN($F78*$F$57,$F78-SUM($G78:N78)))","v":0},{"$f":"IF($C78>P$2,0,IF($C78=P$2,0.5,1)*MIN($F78*$F$57,$F78-SUM($G78:O78)))","v":0},{"$f":"IF($C78>Q$2,0,IF($C78=Q$2,0.5,1)*MIN($F78*$F$57,$F78-SUM($G78:P78)))","v":0},{"$f":"IF($C78>R$2,0,IF($C78=R$2,0.5,1)*MIN($F78*$F$57,$F78-SUM($G78:Q78)))","v":0},{"$f":"IF($C78>S$2,0,IF($C78=S$2,0.5,1)*MIN($F78*$F$57,$F78-SUM($G78:R78)))","v":0},{"$f":"IF($C78>T$2,0,IF($C78=T$2,0.5,1)*MIN($F78*$F$57,$F78-SUM($G78:S78)))","v":0},{"$f":"IF($C78>U$2,0,IF($C78=U$2,0.5,1)*MIN($F78*$F$57,$F78-SUM($G78:T78)))","v":0},{"$f":"IF($C78>V$2,0,IF($C78=V$2,0.5,1)*MIN($F78*$F$57,$F78-SUM($G78:U78)))","v":0},{"$f":"IF($C78>W$2,0,IF($C78=W$2,0.5,1)*MIN($F78*$F$57,$F78-SUM($G78:V78)))","v":0},{"$f":"IF($C78>X$2,0,IF($C78=X$2,0.5,1)*MIN($F78*$F$57,$F78-SUM($G78:W78)))","v":0},{"$f":"IF($C78>Y$2,0,IF($C78=Y$2,0.5,1)*MIN($F78*$F$57,$F78-SUM($G78:X78)))","v":0},{"$f":"IF($C78>Z$2,0,IF($C78=Z$2,0.5,1)*MIN($F78*$F$57,$F78-SUM($G78:Y78)))","v":0},{"$f":"IF($C78>AA$2,0,IF($C78=AA$2,0.5,1)*MIN($F78*$F$57,$F78-SUM($G78:Z78)))","v":0},{"$f":"IF($C78>AB$2,0,IF($C78=AB$2,0.5,1)*MIN($F78*$F$57,$F78-SUM($G78:AA78)))","v":0}]
[null,null,2045,"тыс. руб.",20,0,null,{"$f":"IF($C79>H$2,0,IF($C79=H$2,0.5,1)*MIN($F79*$F$57,$F79-SUM($G79:G79)))","v":0},{"$f":"IF($C79>I$2,0,IF($C79=I$2,0.5,1)*MIN($F79*$F$57,$F79-SUM($G79:H79)))","v":0},{"$f":"IF($C79>J$2,0,IF($C79=J$2,0.5,1)*MIN($F79*$F$57,$F79-SUM($G79:I79)))","v":0},{"$f":"IF($C79>K$2,0,IF($C79=K$2,0.5,1)*MIN($F79*$F$57,$F79-SUM($G79:J79)))","v":0},{"$f":"IF($C79>L$2,0,IF($C79=L$2,0.5,1)*MIN($F79*$F$57,$F79-SUM($G79:K79)))","v":0},{"$f":"IF($C79>M$2,0,IF($C79=M$2,0.5,1)*MIN($F79*$F$57,$F79-SUM($G79:L79)))","v":0},{"$f":"IF($C79>N$2,0,IF($C79=N$2,0.5,1)*MIN($F79*$F$57,$F79-SUM($G79:M79)))","v":0},{"$f":"IF($C79>O$2,0,IF($C79=O$2,0.5,1)*MIN($F79*$F$57,$F79-SUM($G79:N79)))","v":0},{"$f":"IF($C79>P$2,0,IF($C79=P$2,0.5,1)*MIN($F79*$F$57,$F79-SUM($G79:O79)))","v":0},{"$f":"IF($C79>Q$2,0,IF($C79=Q$2,0.5,1)*MIN($F79*$F$57,$F79-SUM($G79:P79)))","v":0},{"$f":"IF($C79>R$2,0,IF($C79=R$2,0.5,1)*MIN($F79*$F$57,$F79-SUM($G79:Q79)))","v":0},{"$f":"IF($C79>S$2,0,IF($C79=S$2,0.5,1)*MIN($F79*$F$57,$F79-SUM($G79:R79)))","v":0},{"$f":"IF($C79>T$2,0,IF($C79=T$2,0.5,1)*MIN($F79*$F$57,$F79-SUM($G79:S79)))","v":0},{"$f":"IF($C79>U$2,0,IF($C79=U$2,0.5,1)*MIN($F79*$F$57,$F79-SUM($G79:T79)))","v":0},{"$f":"IF($C79>V$2,0,IF($C79=V$2,0.5,1)*MIN($F79*$F$57,$F79-SUM($G79:U79)))","v":0},{"$f":"IF($C79>W$2,0,IF($C79=W$2,0.5,1)*MIN($F79*$F$57,$F79-SUM($G79:V79)))","v":0},{"$f":"IF($C79>X$2,0,IF($C79=X$2,0.5,1)*MIN($F79*$F$57,$F79-SUM($G79:W79)))","v":0},{"$f":"IF($C79>Y$2,0,IF($C79=Y$2,0.5,1)*MIN($F79*$F$57,$F79-SUM($G79:X79)))","v":0},{"$f":"IF($C79>Z$2,0,IF($C79=Z$2,0.5,1)*MIN($F79*$F$57,$F79-SUM($G79:Y79)))","v":0},{"$f":"IF($C79>AA$2,0,IF($C79=AA$2,0.5,1)*MIN($F79*$F$57,$F79-SUM($G79:Z79)))","v":0},{"$f":"IF($C79>AB$2,0,IF($C79=AB$2,0.5,1)*MIN($F79*$F$57,$F79-SUM($G79:AA79)))","v":0}]
[]
[null,null,"Первоначальная стоимость активов","тыс. руб.",null,null,null,{"$f":"G81+H37","v":0},0,0,0,0,0,0,0,0,0,0,0,0,0,0,0,0,0,0,0,0]
[null,null,"Амортизация за период","тыс. руб.",null,null,null,{"$f":"H59","v":0},{"$f":"I59","v":0},0,0,0,0,0,0,0,0,0,0,0,0,0,0,0,0,0,0,0]
[null,null,"Накопленная амортизация","тыс. руб.",null,null,null,{"$f":"G83+H82","v":0},{"$f":"H83+I82","v":0},0,0,0,0,0,0,0,0,0,0,0,0,0,{"$f":"V83+W82","v":0},0,0,0,0,0]
[null,null,"Остаточная стоимость активов","тыс. руб.",null,null,null,{"$f":"H81-H83","v":0},{"$f":"I81-I83","v":0},0,0,0,0,0,0,0,0,0,0,0,0,0,0,0,0,0,0,0]
[]
[null,"Машины и оборудование"]
[]
[null,null,"Ставка амортизации","%",null,{"$f":"Предпосылки!F229","v":0.1}]
[]
[null,null,"Амортизация ","тыс. руб.",null,null,null,{"$f":"SUM(H91:H110)","v":0},{"$f":"SUM(I91:I110)","v":0},0,0,0,0,0,0,0,0,0,0,0,0,0,0,0,0,0,0,0]
[null,null,{"$f":"INDEX(H$2:AA$2,,$E91)","v":2026},"тыс. руб.",1,{"$f":"OFFSET($G$38,,E91)","v":0},null,{"$f":"IF($C91>H$2,0,IF($C91=H$2,0.5,1)*MIN($F91*$F$88,$F91-SUM($G91:G91)))","v":0},{"$f":"IF($C91>I$2,0,IF($C91=I$2,0.5,1)*MIN($F91*$F$88,$F91-SUM($G91:H91)))","v":0},{"$f":"IF($C91>J$2,0,IF($C91=J$2,0.5,1)*MIN($F91*$F$88,$F91-SUM($G91:I91)))","v":0},{"$f":"IF($C91>K$2,0,IF($C91=K$2,0.5,1)*MIN($F91*$F$88,$F91-SUM($G91:J91)))","v":0},{"$f":"IF($C91>L$2,0,IF($C91=L$2,0.5,1)*MIN($F91*$F$88,$F91-SUM($G91:K91)))","v":0},{"$f":"IF($C91>M$2,0,IF($C91=M$2,0.5,1)*MIN($F91*$F$88,$F91-SUM($G91:L91)))","v":0},{"$f":"IF($C91>N$2,0,IF($C91=N$2,0.5,1)*MIN($F91*$F$88,$F91-SUM($G91:M91)))","v":0},{"$f":"IF($C91>O$2,0,IF($C91=O$2,0.5,1)*MIN($F91*$F$88,$F91-SUM($G91:N91)))","v":0},{"$f":"IF($C91>P$2,0,IF($C91=P$2,0.5,1)*MIN($F91*$F$88,$F91-SUM($G91:O91)))","v":0},{"$f":"IF($C91>Q$2,0,IF($C91=Q$2,0.5,1)*MIN($F91*$F$88,$F91-SUM($G91:P91)))","v":0},{"$f":"IF($C91>R$2,0,IF($C91=R$2,0.5,1)*MIN($F91*$F$88,$F91-SUM($G91:Q91)))","v":0},{"$f":"IF($C91>S$2,0,IF($C91=S$2,0.5,1)*MIN($F91*$F$88,$F91-SUM($G91:R91)))","v":0},{"$f":"IF($C91>T$2,0,IF($C91=T$2,0.5,1)*MIN($F91*$F$88,$F91-SUM($G91:S91)))","v":0},{"$f":"IF($C91>U$2,0,IF($C91=U$2,0.5,1)*MIN($F91*$F$88,$F91-SUM($G91:T91)))","v":0},{"$f":"IF($C91>V$2,0,IF($C91=V$2,0.5,1)*MIN($F91*$F$88,$F91-SUM($G91:U91)))","v":0},{"$f":"IF($C91>W$2,0,IF($C91=W$2,0.5,1)*MIN($F91*$F$88,$F91-SUM($G91:V91)))","v":0},{"$f":"IF($C91>X$2,0,IF($C91=X$2,0.5,1)*MIN($F91*$F$88,$F91-SUM($G91:W91)))","v":0},{"$f":"IF($C91>Y$2,0,IF($C91=Y$2,0.5,1)*MIN($F91*$F$88,$F91-SUM($G91:X91)))","v":0},{"$f":"IF($C91>Z$2,0,IF($C91=Z$2,0.5,1)*MIN($F91*$F$88,$F91-SUM($G91:Y91)))","v":0},{"$f":"IF($C91>AA$2,0,IF($C91=AA$2,0.5,1)*MIN($F91*$F$88,$F91-SUM($G91:Z91)))","v":0},{"$f":"IF($C91>AB$2,0,IF($C91=AB$2,0.5,1)*MIN($F91*$F$88,$F91-SUM($G91:AA91)))","v":0}]
[null,null,{"$f":"INDEX(H$2:AA$2,,$E92)","v":2027},"тыс. руб.",2,{"$f":"OFFSET($G$38,,E92)","v":0},null,{"$f":"IF($C92>H$2,0,IF($C92=H$2,0.5,1)*MIN($F92*$F$88,$F92-SUM($G92:G92)))","v":0},{"$f":"IF($C92>I$2,0,IF($C92=I$2,0.5,1)*MIN($F92*$F$88,$F92-SUM($G92:H92)))","v":0},{"$f":"IF($C92>J$2,0,IF($C92=J$2,0.5,1)*MIN($F92*$F$88,$F92-SUM($G92:I92)))","v":0},{"$f":"IF($C92>K$2,0,IF($C92=K$2,0.5,1)*MIN($F92*$F$88,$F92-SUM($G92:J92)))","v":0},{"$f":"IF($C92>L$2,0,IF($C92=L$2,0.5,1)*MIN($F92*$F$88,$F92-SUM($G92:K92)))","v":0},{"$f":"IF($C92>M$2,0,IF($C92=M$2,0.5,1)*MIN($F92*$F$88,$F92-SUM($G92:L92)))","v":0},{"$f":"IF($C92>N$2,0,IF($C92=N$2,0.5,1)*MIN($F92*$F$88,$F92-SUM($G92:M92)))","v":0},{"$f":"IF($C92>O$2,0,IF($C92=O$2,0.5,1)*MIN($F92*$F$88,$F92-SUM($G92:N92)))","v":0},{"$f":"IF($C92>P$2,0,IF($C92=P$2,0.5,1)*MIN($F92*$F$88,$F92-SUM($G92:O92)))","v":0},{"$f":"IF($C92>Q$2,0,IF($C92=Q$2,0.5,1)*MIN($F92*$F$88,$F92-SUM($G92:P92)))","v":0},{"$f":"IF($C92>R$2,0,IF($C92=R$2,0.5,1)*MIN($F92*$F$88,$F92-SUM($G92:Q92)))","v":0},{"$f":"IF($C92>S$2,0,IF($C92=S$2,0.5,1)*MIN($F92*$F$88,$F92-SUM($G92:R92)))","v":0},{"$f":"IF($C92>T$2,0,IF($C92=T$2,0.5,1)*MIN($F92*$F$88,$F92-SUM($G92:S92)))","v":0},{"$f":"IF($C92>U$2,0,IF($C92=U$2,0.5,1)*MIN($F92*$F$88,$F92-SUM($G92:T92)))","v":0},{"$f":"IF($C92>V$2,0,IF($C92=V$2,0.5,1)*MIN($F92*$F$88,$F92-SUM($G92:U92)))","v":0},{"$f":"IF($C92>W$2,0,IF($C92=W$2,0.5,1)*MIN($F92*$F$88,$F92-SUM($G92:V92)))","v":0},{"$f":"IF($C92>X$2,0,IF($C92=X$2,0.5,1)*MIN($F92*$F$88,$F92-SUM($G92:W92)))","v":0},{"$f":"IF($C92>Y$2,0,IF($C92=Y$2,0.5,1)*MIN($F92*$F$88,$F92-SUM($G92:X92)))","v":0},{"$f":"IF($C92>Z$2,0,IF($C92=Z$2,0.5,1)*MIN($F92*$F$88,$F92-SUM($G92:Y92)))","v":0},{"$f":"IF($C92>AA$2,0,IF($C92=AA$2,0.5,1)*MIN($F92*$F$88,$F92-SUM($G92:Z92)))","v":0},{"$f":"IF($C92>AB$2,0,IF($C92=AB$2,0.5,1)*MIN($F92*$F$88,$F92-SUM($G92:AA92)))","v":0}]
[null,null,2028,"тыс. руб.",3,0,null,{"$f":"IF($C93>H$2,0,IF($C93=H$2,0.5,1)*MIN($F93*$F$88,$F93-SUM($G93:G93)))","v":0},{"$f":"IF($C93>I$2,0,IF($C93=I$2,0.5,1)*MIN($F93*$F$88,$F93-SUM($G93:H93)))","v":0},{"$f":"IF($C93>J$2,0,IF($C93=J$2,0.5,1)*MIN($F93*$F$88,$F93-SUM($G93:I93)))","v":0},{"$f":"IF($C93>K$2,0,IF($C93=K$2,0.5,1)*MIN($F93*$F$88,$F93-SUM($G93:J93)))","v":0},{"$f":"IF($C93>L$2,0,IF($C93=L$2,0.5,1)*MIN($F93*$F$88,$F93-SUM($G93:K93)))","v":0},{"$f":"IF($C93>M$2,0,IF($C93=M$2,0.5,1)*MIN($F93*$F$88,$F93-SUM($G93:L93)))","v":0},{"$f":"IF($C93>N$2,0,IF($C93=N$2,0.5,1)*MIN($F93*$F$88,$F93-SUM($G93:M93)))","v":0},{"$f":"IF($C93>O$2,0,IF($C93=O$2,0.5,1)*MIN($F93*$F$88,$F93-SUM($G93:N93)))","v":0},{"$f":"IF($C93>P$2,0,IF($C93=P$2,0.5,1)*MIN($F93*$F$88,$F93-SUM($G93:O93)))","v":0},{"$f":"IF($C93>Q$2,0,IF($C93=Q$2,0.5,1)*MIN($F93*$F$88,$F93-SUM($G93:P93)))","v":0},{"$f":"IF($C93>R$2,0,IF($C93=R$2,0.5,1)*MIN($F93*$F$88,$F93-SUM($G93:Q93)))","v":0},{"$f":"IF($C93>S$2,0,IF($C93=S$2,0.5,1)*MIN($F93*$F$88,$F93-SUM($G93:R93)))","v":0},{"$f":"IF($C93>T$2,0,IF($C93=T$2,0.5,1)*MIN($F93*$F$88,$F93-SUM($G93:S93)))","v":0},{"$f":"IF($C93>U$2,0,IF($C93=U$2,0.5,1)*MIN($F93*$F$88,$F93-SUM($G93:T93)))","v":0},{"$f":"IF($C93>V$2,0,IF($C93=V$2,0.5,1)*MIN($F93*$F$88,$F93-SUM($G93:U93)))","v":0},{"$f":"IF($C93>W$2,0,IF($C93=W$2,0.5,1)*MIN($F93*$F$88,$F93-SUM($G93:V93)))","v":0},{"$f":"IF($C93>X$2,0,IF($C93=X$2,0.5,1)*MIN($F93*$F$88,$F93-SUM($G93:W93)))","v":0},{"$f":"IF($C93>Y$2,0,IF($C93=Y$2,0.5,1)*MIN($F93*$F$88,$F93-SUM($G93:X93)))","v":0},{"$f":"IF($C93>Z$2,0,IF($C93=Z$2,0.5,1)*MIN($F93*$F$88,$F93-SUM($G93:Y93)))","v":0},{"$f":"IF($C93>AA$2,0,IF($C93=AA$2,0.5,1)*MIN($F93*$F$88,$F93-SUM($G93:Z93)))","v":0},{"$f":"IF($C93>AB$2,0,IF($C93=AB$2,0.5,1)*MIN($F93*$F$88,$F93-SUM($G93:AA93)))","v":0}]
[null,null,2029,"тыс. руб.",4,0,null,{"$f":"IF($C94>H$2,0,IF($C94=H$2,0.5,1)*MIN($F94*$F$88,$F94-SUM($G94:G94)))","v":0},{"$f":"IF($C94>I$2,0,IF($C94=I$2,0.5,1)*MIN($F94*$F$88,$F94-SUM($G94:H94)))","v":0},{"$f":"IF($C94>J$2,0,IF($C94=J$2,0.5,1)*MIN($F94*$F$88,$F94-SUM($G94:I94)))","v":0},{"$f":"IF($C94>K$2,0,IF($C94=K$2,0.5,1)*MIN($F94*$F$88,$F94-SUM($G94:J94)))","v":0},{"$f":"IF($C94>L$2,0,IF($C94=L$2,0.5,1)*MIN($F94*$F$88,$F94-SUM($G94:K94)))","v":0},{"$f":"IF($C94>M$2,0,IF($C94=M$2,0.5,1)*MIN($F94*$F$88,$F94-SUM($G94:L94)))","v":0},{"$f":"IF($C94>N$2,0,IF($C94=N$2,0.5,1)*MIN($F94*$F$88,$F94-SUM($G94:M94)))","v":0},{"$f":"IF($C94>O$2,0,IF($C94=O$2,0.5,1)*MIN($F94*$F$88,$F94-SUM($G94:N94)))","v":0},{"$f":"IF($C94>P$2,0,IF($C94=P$2,0.5,1)*MIN($F94*$F$88,$F94-SUM($G94:O94)))","v":0},{"$f":"IF($C94>Q$2,0,IF($C94=Q$2,0.5,1)*MIN($F94*$F$88,$F94-SUM($G94:P94)))","v":0},{"$f":"IF($C94>R$2,0,IF($C94=R$2,0.5,1)*MIN($F94*$F$88,$F94-SUM($G94:Q94)))","v":0},{"$f":"IF($C94>S$2,0,IF($C94=S$2,0.5,1)*MIN($F94*$F$88,$F94-SUM($G94:R94)))","v":0},{"$f":"IF($C94>T$2,0,IF($C94=T$2,0.5,1)*MIN($F94*$F$88,$F94-SUM($G94:S94)))","v":0},{"$f":"IF($C94>U$2,0,IF($C94=U$2,0.5,1)*MIN($F94*$F$88,$F94-SUM($G94:T94)))","v":0},{"$f":"IF($C94>V$2,0,IF($C94=V$2,0.5,1)*MIN($F94*$F$88,$F94-SUM($G94:U94)))","v":0},{"$f":"IF($C94>W$2,0,IF($C94=W$2,0.5,1)*MIN($F94*$F$88,$F94-SUM($G94:V94)))","v":0},{"$f":"IF($C94>X$2,0,IF($C94=X$2,0.5,1)*MIN($F94*$F$88,$F94-SUM($G94:W94)))","v":0},{"$f":"IF($C94>Y$2,0,IF($C94=Y$2,0.5,1)*MIN($F94*$F$88,$F94-SUM($G94:X94)))","v":0},{"$f":"IF($C94>Z$2,0,IF($C94=Z$2,0.5,1)*MIN($F94*$F$88,$F94-SUM($G94:Y94)))","v":0},{"$f":"IF($C94>AA$2,0,IF($C94=AA$2,0.5,1)*MIN($F94*$F$88,$F94-SUM($G94:Z94)))","v":0},{"$f":"IF($C94>AB$2,0,IF($C94=AB$2,0.5,1)*MIN($F94*$F$88,$F94-SUM($G94:AA94)))","v":0}]
[null,null,2030,"тыс. руб.",5,0,null,{"$f":"IF($C95>H$2,0,IF($C95=H$2,0.5,1)*MIN($F95*$F$88,$F95-SUM($G95:G95)))","v":0},{"$f":"IF($C95>I$2,0,IF($C95=I$2,0.5,1)*MIN($F95*$F$88,$F95-SUM($G95:H95)))","v":0},{"$f":"IF($C95>J$2,0,IF($C95=J$2,0.5,1)*MIN($F95*$F$88,$F95-SUM($G95:I95)))","v":0},{"$f":"IF($C95>K$2,0,IF($C95=K$2,0.5,1)*MIN($F95*$F$88,$F95-SUM($G95:J95)))","v":0},{"$f":"IF($C95>L$2,0,IF($C95=L$2,0.5,1)*MIN($F95*$F$88,$F95-SUM($G95:K95)))","v":0},{"$f":"IF($C95>M$2,0,IF($C95=M$2,0.5,1)*MIN($F95*$F$88,$F95-SUM($G95:L95)))","v":0},{"$f":"IF($C95>N$2,0,IF($C95=N$2,0.5,1)*MIN($F95*$F$88,$F95-SUM($G95:M95)))","v":0},{"$f":"IF($C95>O$2,0,IF($C95=O$2,0.5,1)*MIN($F95*$F$88,$F95-SUM($G95:N95)))","v":0},{"$f":"IF($C95>P$2,0,IF($C95=P$2,0.5,1)*MIN($F95*$F$88,$F95-SUM($G95:O95)))","v":0},{"$f":"IF($C95>Q$2,0,IF($C95=Q$2,0.5,1)*MIN($F95*$F$88,$F95-SUM($G95:P95)))","v":0},{"$f":"IF($C95>R$2,0,IF($C95=R$2,0.5,1)*MIN($F95*$F$88,$F95-SUM($G95:Q95)))","v":0},{"$f":"IF($C95>S$2,0,IF($C95=S$2,0.5,1)*MIN($F95*$F$88,$F95-SUM($G95:R95)))","v":0},{"$f":"IF($C95>T$2,0,IF($C95=T$2,0.5,1)*MIN($F95*$F$88,$F95-SUM($G95:S95)))","v":0},{"$f":"IF($C95>U$2,0,IF($C95=U$2,0.5,1)*MIN($F95*$F$88,$F95-SUM($G95:T95)))","v":0},{"$f":"IF($C95>V$2,0,IF($C95=V$2,0.5,1)*MIN($F95*$F$88,$F95-SUM($G95:U95)))","v":0},{"$f":"IF($C95>W$2,0,IF($C95=W$2,0.5,1)*MIN($F95*$F$88,$F95-SUM($G95:V95)))","v":0},{"$f":"IF($C95>X$2,0,IF($C95=X$2,0.5,1)*MIN($F95*$F$88,$F95-SUM($G95:W95)))","v":0},{"$f":"IF($C95>Y$2,0,IF($C95=Y$2,0.5,1)*MIN($F95*$F$88,$F95-SUM($G95:X95)))","v":0},{"$f":"IF($C95>Z$2,0,IF($C95=Z$2,0.5,1)*MIN($F95*$F$88,$F95-SUM($G95:Y95)))","v":0},{"$f":"IF($C95>AA$2,0,IF($C95=AA$2,0.5,1)*MIN($F95*$F$88,$F95-SUM($G95:Z95)))","v":0},{"$f":"IF($C95>AB$2,0,IF($C95=AB$2,0.5,1)*MIN($F95*$F$88,$F95-SUM($G95:AA95)))","v":0}]
[null,null,2031,"тыс. руб.",6,0,null,{"$f":"IF($C96>H$2,0,IF($C96=H$2,0.5,1)*MIN($F96*$F$88,$F96-SUM($G96:G96)))","v":0},{"$f":"IF($C96>I$2,0,IF($C96=I$2,0.5,1)*MIN($F96*$F$88,$F96-SUM($G96:H96)))","v":0},{"$f":"IF($C96>J$2,0,IF($C96=J$2,0.5,1)*MIN($F96*$F$88,$F96-SUM($G96:I96)))","v":0},{"$f":"IF($C96>K$2,0,IF($C96=K$2,0.5,1)*MIN($F96*$F$88,$F96-SUM($G96:J96)))","v":0},{"$f":"IF($C96>L$2,0,IF($C96=L$2,0.5,1)*MIN($F96*$F$88,$F96-SUM($G96:K96)))","v":0},{"$f":"IF($C96>M$2,0,IF($C96=M$2,0.5,1)*MIN($F96*$F$88,$F96-SUM($G96:L96)))","v":0},{"$f":"IF($C96>N$2,0,IF($C96=N$2,0.5,1)*MIN($F96*$F$88,$F96-SUM($G96:M96)))","v":0},{"$f":"IF($C96>O$2,0,IF($C96=O$2,0.5,1)*MIN($F96*$F$88,$F96-SUM($G96:N96)))","v":0},{"$f":"IF($C96>P$2,0,IF($C96=P$2,0.5,1)*MIN($F96*$F$88,$F96-SUM($G96:O96)))","v":0},{"$f":"IF($C96>Q$2,0,IF($C96=Q$2,0.5,1)*MIN($F96*$F$88,$F96-SUM($G96:P96)))","v":0},{"$f":"IF($C96>R$2,0,IF($C96=R$2,0.5,1)*MIN($F96*$F$88,$F96-SUM($G96:Q96)))","v":0},{"$f":"IF($C96>S$2,0,IF($C96=S$2,0.5,1)*MIN($F96*$F$88,$F96-SUM($G96:R96)))","v":0},{"$f":"IF($C96>T$2,0,IF($C96=T$2,0.5,1)*MIN($F96*$F$88,$F96-SUM($G96:S96)))","v":0},{"$f":"IF($C96>U$2,0,IF($C96=U$2,0.5,1)*MIN($F96*$F$88,$F96-SUM($G96:T96)))","v":0},{"$f":"IF($C96>V$2,0,IF($C96=V$2,0.5,1)*MIN($F96*$F$88,$F96-SUM($G96:U96)))","v":0},{"$f":"IF($C96>W$2,0,IF($C96=W$2,0.5,1)*MIN($F96*$F$88,$F96-SUM($G96:V96)))","v":0},{"$f":"IF($C96>X$2,0,IF($C96=X$2,0.5,1)*MIN($F96*$F$88,$F96-SUM($G96:W96)))","v":0},{"$f":"IF($C96>Y$2,0,IF($C96=Y$2,0.5,1)*MIN($F96*$F$88,$F96-SUM($G96:X96)))","v":0},{"$f":"IF($C96>Z$2,0,IF($C96=Z$2,0.5,1)*MIN($F96*$F$88,$F96-SUM($G96:Y96)))","v":0},{"$f":"IF($C96>AA$2,0,IF($C96=AA$2,0.5,1)*MIN($F96*$F$88,$F96-SUM($G96:Z96)))","v":0},{"$f":"IF($C96>AB$2,0,IF($C96=AB$2,0.5,1)*MIN($F96*$F$88,$F96-SUM($G96:AA96)))","v":0}]
[null,null,2032,"тыс. руб.",7,0,null,{"$f":"IF($C97>H$2,0,IF($C97=H$2,0.5,1)*MIN($F97*$F$88,$F97-SUM($G97:G97)))","v":0},{"$f":"IF($C97>I$2,0,IF($C97=I$2,0.5,1)*MIN($F97*$F$88,$F97-SUM($G97:H97)))","v":0},{"$f":"IF($C97>J$2,0,IF($C97=J$2,0.5,1)*MIN($F97*$F$88,$F97-SUM($G97:I97)))","v":0},{"$f":"IF($C97>K$2,0,IF($C97=K$2,0.5,1)*MIN($F97*$F$88,$F97-SUM($G97:J97)))","v":0},{"$f":"IF($C97>L$2,0,IF($C97=L$2,0.5,1)*MIN($F97*$F$88,$F97-SUM($G97:K97)))","v":0},{"$f":"IF($C97>M$2,0,IF($C97=M$2,0.5,1)*MIN($F97*$F$88,$F97-SUM($G97:L97)))","v":0},{"$f":"IF($C97>N$2,0,IF($C97=N$2,0.5,1)*MIN($F97*$F$88,$F97-SUM($G97:M97)))","v":0},{"$f":"IF($C97>O$2,0,IF($C97=O$2,0.5,1)*MIN($F97*$F$88,$F97-SUM($G97:N97)))","v":0},{"$f":"IF($C97>P$2,0,IF($C97=P$2,0.5,1)*MIN($F97*$F$88,$F97-SUM($G97:O97)))","v":0},{"$f":"IF($C97>Q$2,0,IF($C97=Q$2,0.5,1)*MIN($F97*$F$88,$F97-SUM($G97:P97)))","v":0},{"$f":"IF($C97>R$2,0,IF($C97=R$2,0.5,1)*MIN($F97*$F$88,$F97-SUM($G97:Q97)))","v":0},{"$f":"IF($C97>S$2,0,IF($C97=S$2,0.5,1)*MIN($F97*$F$88,$F97-SUM($G97:R97)))","v":0},{"$f":"IF($C97>T$2,0,IF($C97=T$2,0.5,1)*MIN($F97*$F$88,$F97-SUM($G97:S97)))","v":0},{"$f":"IF($C97>U$2,0,IF($C97=U$2,0.5,1)*MIN($F97*$F$88,$F97-SUM($G97:T97)))","v":0},{"$f":"IF($C97>V$2,0,IF($C97=V$2,0.5,1)*MIN($F97*$F$88,$F97-SUM($G97:U97)))","v":0},{"$f":"IF($C97>W$2,0,IF($C97=W$2,0.5,1)*MIN($F97*$F$88,$F97-SUM($G97:V97)))","v":0},{"$f":"IF($C97>X$2,0,IF($C97=X$2,0.5,1)*MIN($F97*$F$88,$F97-SUM($G97:W97)))","v":0},{"$f":"IF($C97>Y$2,0,IF($C97=Y$2,0.5,1)*MIN($F97*$F$88,$F97-SUM($G97:X97)))","v":0},{"$f":"IF($C97>Z$2,0,IF($C97=Z$2,0.5,1)*MIN($F97*$F$88,$F97-SUM($G97:Y97)))","v":0},{"$f":"IF($C97>AA$2,0,IF($C97=AA$2,0.5,1)*MIN($F97*$F$88,$F97-SUM($G97:Z97)))","v":0},{"$f":"IF($C97>AB$2,0,IF($C97=AB$2,0.5,1)*MIN($F97*$F$88,$F97-SUM($G97:AA97)))","v":0}]
[null,null,2033,"тыс. руб.",8,0,null,{"$f":"IF($C98>H$2,0,IF($C98=H$2,0.5,1)*MIN($F98*$F$88,$F98-SUM($G98:G98)))","v":0},{"$f":"IF($C98>I$2,0,IF($C98=I$2,0.5,1)*MIN($F98*$F$88,$F98-SUM($G98:H98)))","v":0},{"$f":"IF($C98>J$2,0,IF($C98=J$2,0.5,1)*MIN($F98*$F$88,$F98-SUM($G98:I98)))","v":0},{"$f":"IF($C98>K$2,0,IF($C98=K$2,0.5,1)*MIN($F98*$F$88,$F98-SUM($G98:J98)))","v":0},{"$f":"IF($C98>L$2,0,IF($C98=L$2,0.5,1)*MIN($F98*$F$88,$F98-SUM($G98:K98)))","v":0},{"$f":"IF($C98>M$2,0,IF($C98=M$2,0.5,1)*MIN($F98*$F$88,$F98-SUM($G98:L98)))","v":0},{"$f":"IF($C98>N$2,0,IF($C98=N$2,0.5,1)*MIN($F98*$F$88,$F98-SUM($G98:M98)))","v":0},{"$f":"IF($C98>O$2,0,IF($C98=O$2,0.5,1)*MIN($F98*$F$88,$F98-SUM($G98:N98)))","v":0},{"$f":"IF($C98>P$2,0,IF($C98=P$2,0.5,1)*MIN($F98*$F$88,$F98-SUM($G98:O98)))","v":0},{"$f":"IF($C98>Q$2,0,IF($C98=Q$2,0.5,1)*MIN($F98*$F$88,$F98-SUM($G98:P98)))","v":0},{"$f":"IF($C98>R$2,0,IF($C98=R$2,0.5,1)*MIN($F98*$F$88,$F98-SUM($G98:Q98)))","v":0},{"$f":"IF($C98>S$2,0,IF($C98=S$2,0.5,1)*MIN($F98*$F$88,$F98-SUM($G98:R98)))","v":0},{"$f":"IF($C98>T$2,0,IF($C98=T$2,0.5,1)*MIN($F98*$F$88,$F98-SUM($G98:S98)))","v":0},{"$f":"IF($C98>U$2,0,IF($C98=U$2,0.5,1)*MIN($F98*$F$88,$F98-SUM($G98:T98)))","v":0},{"$f":"IF($C98>V$2,0,IF($C98=V$2,0.5,1)*MIN($F98*$F$88,$F98-SUM($G98:U98)))","v":0},{"$f":"IF($C98>W$2,0,IF($C98=W$2,0.5,1)*MIN($F98*$F$88,$F98-SUM($G98:V98)))","v":0},{"$f":"IF($C98>X$2,0,IF($C98=X$2,0.5,1)*MIN($F98*$F$88,$F98-SUM($G98:W98)))","v":0},{"$f":"IF($C98>Y$2,0,IF($C98=Y$2,0.5,1)*MIN($F98*$F$88,$F98-SUM($G98:X98)))","v":0},{"$f":"IF($C98>Z$2,0,IF($C98=Z$2,0.5,1)*MIN($F98*$F$88,$F98-SUM($G98:Y98)))","v":0},{"$f":"IF($C98>AA$2,0,IF($C98=AA$2,0.5,1)*MIN($F98*$F$88,$F98-SUM($G98:Z98)))","v":0},{"$f":"IF($C98>AB$2,0,IF($C98=AB$2,0.5,1)*MIN($F98*$F$88,$F98-SUM($G98:AA98)))","v":0}]
[null,null,2034,"тыс. руб.",9,0,null,{"$f":"IF($C99>H$2,0,IF($C99=H$2,0.5,1)*MIN($F99*$F$88,$F99-SUM($G99:G99)))","v":0},{"$f":"IF($C99>I$2,0,IF($C99=I$2,0.5,1)*MIN($F99*$F$88,$F99-SUM($G99:H99)))","v":0},{"$f":"IF($C99>J$2,0,IF($C99=J$2,0.5,1)*MIN($F99*$F$88,$F99-SUM($G99:I99)))","v":0},{"$f":"IF($C99>K$2,0,IF($C99=K$2,0.5,1)*MIN($F99*$F$88,$F99-SUM($G99:J99)))","v":0},{"$f":"IF($C99>L$2,0,IF($C99=L$2,0.5,1)*MIN($F99*$F$88,$F99-SUM($G99:K99)))","v":0},{"$f":"IF($C99>M$2,0,IF($C99=M$2,0.5,1)*MIN($F99*$F$88,$F99-SUM($G99:L99)))","v":0},{"$f":"IF($C99>N$2,0,IF($C99=N$2,0.5,1)*MIN($F99*$F$88,$F99-SUM($G99:M99)))","v":0},{"$f":"IF($C99>O$2,0,IF($C99=O$2,0.5,1)*MIN($F99*$F$88,$F99-SUM($G99:N99)))","v":0},{"$f":"IF($C99>P$2,0,IF($C99=P$2,0.5,1)*MIN($F99*$F$88,$F99-SUM($G99:O99)))","v":0},{"$f":"IF($C99>Q$2,0,IF($C99=Q$2,0.5,1)*MIN($F99*$F$88,$F99-SUM($G99:P99)))","v":0},{"$f":"IF($C99>R$2,0,IF($C99=R$2,0.5,1)*MIN($F99*$F$88,$F99-SUM($G99:Q99)))","v":0},{"$f":"IF($C99>S$2,0,IF($C99=S$2,0.5,1)*MIN($F99*$F$88,$F99-SUM($G99:R99)))","v":0},{"$f":"IF($C99>T$2,0,IF($C99=T$2,0.5,1)*MIN($F99*$F$88,$F99-SUM($G99:S99)))","v":0},{"$f":"IF($C99>U$2,0,IF($C99=U$2,0.5,1)*MIN($F99*$F$88,$F99-SUM($G99:T99)))","v":0},{"$f":"IF($C99>V$2,0,IF($C99=V$2,0.5,1)*MIN($F99*$F$88,$F99-SUM($G99:U99)))","v":0},{"$f":"IF($C99>W$2,0,IF($C99=W$2,0.5,1)*MIN($F99*$F$88,$F99-SUM($G99:V99)))","v":0},{"$f":"IF($C99>X$2,0,IF($C99=X$2,0.5,1)*MIN($F99*$F$88,$F99-SUM($G99:W99)))","v":0},{"$f":"IF($C99>Y$2,0,IF($C99=Y$2,0.5,1)*MIN($F99*$F$88,$F99-SUM($G99:X99)))","v":0},{"$f":"IF($C99>Z$2,0,IF($C99=Z$2,0.5,1)*MIN($F99*$F$88,$F99-SUM($G99:Y99)))","v":0},{"$f":"IF($C99>AA$2,0,IF($C99=AA$2,0.5,1)*MIN($F99*$F$88,$F99-SUM($G99:Z99)))","v":0},{"$f":"IF($C99>AB$2,0,IF($C99=AB$2,0.5,1)*MIN($F99*$F$88,$F99-SUM($G99:AA99)))","v":0}]
[null,null,2035,"тыс. руб.",10,0,null,{"$f":"IF($C100>H$2,0,IF($C100=H$2,0.5,1)*MIN($F100*$F$88,$F100-SUM($G100:G100)))","v":0},{"$f":"IF($C100>I$2,0,IF($C100=I$2,0.5,1)*MIN($F100*$F$88,$F100-SUM($G100:H100)))","v":0},{"$f":"IF($C100>J$2,0,IF($C100=J$2,0.5,1)*MIN($F100*$F$88,$F100-SUM($G100:I100)))","v":0},{"$f":"IF($C100>K$2,0,IF($C100=K$2,0.5,1)*MIN($F100*$F$88,$F100-SUM($G100:J100)))","v":0},{"$f":"IF($C100>L$2,0,IF($C100=L$2,0.5,1)*MIN($F100*$F$88,$F100-SUM($G100:K100)))","v":0},{"$f":"IF($C100>M$2,0,IF($C100=M$2,0.5,1)*MIN($F100*$F$88,$F100-SUM($G100:L100)))","v":0},{"$f":"IF($C100>N$2,0,IF($C100=N$2,0.5,1)*MIN($F100*$F$88,$F100-SUM($G100:M100)))","v":0},{"$f":"IF($C100>O$2,0,IF($C100=O$2,0.5,1)*MIN($F100*$F$88,$F100-SUM($G100:N100)))","v":0},{"$f":"IF($C100>P$2,0,IF($C100=P$2,0.5,1)*MIN($F100*$F$88,$F100-SUM($G100:O100)))","v":0},{"$f":"IF($C100>Q$2,0,IF($C100=Q$2,0.5,1)*MIN($F100*$F$88,$F100-SUM($G100:P100)))","v":0},{"$f":"IF($C100>R$2,0,IF($C100=R$2,0.5,1)*MIN($F100*$F$88,$F100-SUM($G100:Q100)))","v":0},{"$f":"IF($C100>S$2,0,IF($C100=S$2,0.5,1)*MIN($F100*$F$88,$F100-SUM($G100:R100)))","v":0},{"$f":"IF($C100>T$2,0,IF($C100=T$2,0.5,1)*MIN($F100*$F$88,$F100-SUM($G100:S100)))","v":0},{"$f":"IF($C100>U$2,0,IF($C100=U$2,0.5,1)*MIN($F100*$F$88,$F100-SUM($G100:T100)))","v":0},{"$f":"IF($C100>V$2,0,IF($C100=V$2,0.5,1)*MIN($F100*$F$88,$F100-SUM($G100:U100)))","v":0},{"$f":"IF($C100>W$2,0,IF($C100=W$2,0.5,1)*MIN($F100*$F$88,$F100-SUM($G100:V100)))","v":0},{"$f":"IF($C100>X$2,0,IF($C100=X$2,0.5,1)*MIN($F100*$F$88,$F100-SUM($G100:W100)))","v":0},{"$f":"IF($C100>Y$2,0,IF($C100=Y$2,0.5,1)*MIN($F100*$F$88,$F100-SUM($G100:X100)))","v":0},{"$f":"IF($C100>Z$2,0,IF($C100=Z$2,0.5,1)*MIN($F100*$F$88,$F100-SUM($G100:Y100)))","v":0},{"$f":"IF($C100>AA$2,0,IF($C100=AA$2,0.5,1)*MIN($F100*$F$88,$F100-SUM($G100:Z100)))","v":0},{"$f":"IF($C100>AB$2,0,IF($C100=AB$2,0.5,1)*MIN($F100*$F$88,$F100-SUM($G100:AA100)))","v":0}]
[null,null,2036,"тыс. руб.",11,0,null,{"$f":"IF($C101>H$2,0,IF($C101=H$2,0.5,1)*MIN($F101*$F$88,$F101-SUM($G101:G101)))","v":0},{"$f":"IF($C101>I$2,0,IF($C101=I$2,0.5,1)*MIN($F101*$F$88,$F101-SUM($G101:H101)))","v":0},{"$f":"IF($C101>J$2,0,IF($C101=J$2,0.5,1)*MIN($F101*$F$88,$F101-SUM($G101:I101)))","v":0},{"$f":"IF($C101>K$2,0,IF($C101=K$2,0.5,1)*MIN($F101*$F$88,$F101-SUM($G101:J101)))","v":0},{"$f":"IF($C101>L$2,0,IF($C101=L$2,0.5,1)*MIN($F101*$F$88,$F101-SUM($G101:K101)))","v":0},{"$f":"IF($C101>M$2,0,IF($C101=M$2,0.5,1)*MIN($F101*$F$88,$F101-SUM($G101:L101)))","v":0},{"$f":"IF($C101>N$2,0,IF($C101=N$2,0.5,1)*MIN($F101*$F$88,$F101-SUM($G101:M101)))","v":0},{"$f":"IF($C101>O$2,0,IF($C101=O$2,0.5,1)*MIN($F101*$F$88,$F101-SUM($G101:N101)))","v":0},{"$f":"IF($C101>P$2,0,IF($C101=P$2,0.5,1)*MIN($F101*$F$88,$F101-SUM($G101:O101)))","v":0},{"$f":"IF($C101>Q$2,0,IF($C101=Q$2,0.5,1)*MIN($F101*$F$88,$F101-SUM($G101:P101)))","v":0},{"$f":"IF($C101>R$2,0,IF($C101=R$2,0.5,1)*MIN($F101*$F$88,$F101-SUM($G101:Q101)))","v":0},{"$f":"IF($C101>S$2,0,IF($C101=S$2,0.5,1)*MIN($F101*$F$88,$F101-SUM($G101:R101)))","v":0},{"$f":"IF($C101>T$2,0,IF($C101=T$2,0.5,1)*MIN($F101*$F$88,$F101-SUM($G101:S101)))","v":0},{"$f":"IF($C101>U$2,0,IF($C101=U$2,0.5,1)*MIN($F101*$F$88,$F101-SUM($G101:T101)))","v":0},{"$f":"IF($C101>V$2,0,IF($C101=V$2,0.5,1)*MIN($F101*$F$88,$F101-SUM($G101:U101)))","v":0},{"$f":"IF($C101>W$2,0,IF($C101=W$2,0.5,1)*MIN($F101*$F$88,$F101-SUM($G101:V101)))","v":0},{"$f":"IF($C101>X$2,0,IF($C101=X$2,0.5,1)*MIN($F101*$F$88,$F101-SUM($G101:W101)))","v":0},{"$f":"IF($C101>Y$2,0,IF($C101=Y$2,0.5,1)*MIN($F101*$F$88,$F101-SUM($G101:X101)))","v":0},{"$f":"IF($C101>Z$2,0,IF($C101=Z$2,0.5,1)*MIN($F101*$F$88,$F101-SUM($G101:Y101)))","v":0},{"$f":"IF($C101>AA$2,0,IF($C101=AA$2,0.5,1)*MIN($F101*$F$88,$F101-SUM($G101:Z101)))","v":0},{"$f":"IF($C101>AB$2,0,IF($C101=AB$2,0.5,1)*MIN($F101*$F$88,$F101-SUM($G101:AA101)))","v":0}]
[null,null,2037,"тыс. руб.",12,0,null,{"$f":"IF($C102>H$2,0,IF($C102=H$2,0.5,1)*MIN($F102*$F$88,$F102-SUM($G102:G102)))","v":0},{"$f":"IF($C102>I$2,0,IF($C102=I$2,0.5,1)*MIN($F102*$F$88,$F102-SUM($G102:H102)))","v":0},{"$f":"IF($C102>J$2,0,IF($C102=J$2,0.5,1)*MIN($F102*$F$88,$F102-SUM($G102:I102)))","v":0},{"$f":"IF($C102>K$2,0,IF($C102=K$2,0.5,1)*MIN($F102*$F$88,$F102-SUM($G102:J102)))","v":0},{"$f":"IF($C102>L$2,0,IF($C102=L$2,0.5,1)*MIN($F102*$F$88,$F102-SUM($G102:K102)))","v":0},{"$f":"IF($C102>M$2,0,IF($C102=M$2,0.5,1)*MIN($F102*$F$88,$F102-SUM($G102:L102)))","v":0},{"$f":"IF($C102>N$2,0,IF($C102=N$2,0.5,1)*MIN($F102*$F$88,$F102-SUM($G102:M102)))","v":0},{"$f":"IF($C102>O$2,0,IF($C102=O$2,0.5,1)*MIN($F102*$F$88,$F102-SUM($G102:N102)))","v":0},{"$f":"IF($C102>P$2,0,IF($C102=P$2,0.5,1)*MIN($F102*$F$88,$F102-SUM($G102:O102)))","v":0},{"$f":"IF($C102>Q$2,0,IF($C102=Q$2,0.5,1)*MIN($F102*$F$88,$F102-SUM($G102:P102)))","v":0},{"$f":"IF($C102>R$2,0,IF($C102=R$2,0.5,1)*MIN($F102*$F$88,$F102-SUM($G102:Q102)))","v":0},{"$f":"IF($C102>S$2,0,IF($C102=S$2,0.5,1)*MIN($F102*$F$88,$F102-SUM($G102:R102)))","v":0},{"$f":"IF($C102>T$2,0,IF($C102=T$2,0.5,1)*MIN($F102*$F$88,$F102-SUM($G102:S102)))","v":0},{"$f":"IF($C102>U$2,0,IF($C102=U$2,0.5,1)*MIN($F102*$F$88,$F102-SUM($G102:T102)))","v":0},{"$f":"IF($C102>V$2,0,IF($C102=V$2,0.5,1)*MIN($F102*$F$88,$F102-SUM($G102:U102)))","v":0},{"$f":"IF($C102>W$2,0,IF($C102=W$2,0.5,1)*MIN($F102*$F$88,$F102-SUM($G102:V102)))","v":0},{"$f":"IF($C102>X$2,0,IF($C102=X$2,0.5,1)*MIN($F102*$F$88,$F102-SUM($G102:W102)))","v":0},{"$f":"IF($C102>Y$2,0,IF($C102=Y$2,0.5,1)*MIN($F102*$F$88,$F102-SUM($G102:X102)))","v":0},{"$f":"IF($C102>Z$2,0,IF($C102=Z$2,0.5,1)*MIN($F102*$F$88,$F102-SUM($G102:Y102)))","v":0},{"$f":"IF($C102>AA$2,0,IF($C102=AA$2,0.5,1)*MIN($F102*$F$88,$F102-SUM($G102:Z102)))","v":0},{"$f":"IF($C102>AB$2,0,IF($C102=AB$2,0.5,1)*MIN($F102*$F$88,$F102-SUM($G102:AA102)))","v":0}]
[null,null,2038,"тыс. руб.",13,0,null,{"$f":"IF($C103>H$2,0,IF($C103=H$2,0.5,1)*MIN($F103*$F$88,$F103-SUM($G103:G103)))","v":0},{"$f":"IF($C103>I$2,0,IF($C103=I$2,0.5,1)*MIN($F103*$F$88,$F103-SUM($G103:H103)))","v":0},{"$f":"IF($C103>J$2,0,IF($C103=J$2,0.5,1)*MIN($F103*$F$88,$F103-SUM($G103:I103)))","v":0},{"$f":"IF($C103>K$2,0,IF($C103=K$2,0.5,1)*MIN($F103*$F$88,$F103-SUM($G103:J103)))","v":0},{"$f":"IF($C103>L$2,0,IF($C103=L$2,0.5,1)*MIN($F103*$F$88,$F103-SUM($G103:K103)))","v":0},{"$f":"IF($C103>M$2,0,IF($C103=M$2,0.5,1)*MIN($F103*$F$88,$F103-SUM($G103:L103)))","v":0},{"$f":"IF($C103>N$2,0,IF($C103=N$2,0.5,1)*MIN($F103*$F$88,$F103-SUM($G103:M103)))","v":0},{"$f":"IF($C103>O$2,0,IF($C103=O$2,0.5,1)*MIN($F103*$F$88,$F103-SUM($G103:N103)))","v":0},{"$f":"IF($C103>P$2,0,IF($C103=P$2,0.5,1)*MIN($F103*$F$88,$F103-SUM($G103:O103)))","v":0},{"$f":"IF($C103>Q$2,0,IF($C103=Q$2,0.5,1)*MIN($F103*$F$88,$F103-SUM($G103:P103)))","v":0},{"$f":"IF($C103>R$2,0,IF($C103=R$2,0.5,1)*MIN($F103*$F$88,$F103-SUM($G103:Q103)))","v":0},{"$f":"IF($C103>S$2,0,IF($C103=S$2,0.5,1)*MIN($F103*$F$88,$F103-SUM($G103:R103)))","v":0},{"$f":"IF($C103>T$2,0,IF($C103=T$2,0.5,1)*MIN($F103*$F$88,$F103-SUM($G103:S103)))","v":0},{"$f":"IF($C103>U$2,0,IF($C103=U$2,0.5,1)*MIN($F103*$F$88,$F103-SUM($G103:T103)))","v":0},{"$f":"IF($C103>V$2,0,IF($C103=V$2,0.5,1)*MIN($F103*$F$88,$F103-SUM($G103:U103)))","v":0},{"$f":"IF($C103>W$2,0,IF($C103=W$2,0.5,1)*MIN($F103*$F$88,$F103-SUM($G103:V103)))","v":0},{"$f":"IF($C103>X$2,0,IF($C103=X$2,0.5,1)*MIN($F103*$F$88,$F103-SUM($G103:W103)))","v":0},{"$f":"IF($C103>Y$2,0,IF($C103=Y$2,0.5,1)*MIN($F103*$F$88,$F103-SUM($G103:X103)))","v":0},{"$f":"IF($C103>Z$2,0,IF($C103=Z$2,0.5,1)*MIN($F103*$F$88,$F103-SUM($G103:Y103)))","v":0},{"$f":"IF($C103>AA$2,0,IF($C103=AA$2,0.5,1)*MIN($F103*$F$88,$F103-SUM($G103:Z103)))","v":0},{"$f":"IF($C103>AB$2,0,IF($C103=AB$2,0.5,1)*MIN($F103*$F$88,$F103-SUM($G103:AA103)))","v":0}]
[null,null,2039,"тыс. руб.",14,0,null,{"$f":"IF($C104>H$2,0,IF($C104=H$2,0.5,1)*MIN($F104*$F$88,$F104-SUM($G104:G104)))","v":0},{"$f":"IF($C104>I$2,0,IF($C104=I$2,0.5,1)*MIN($F104*$F$88,$F104-SUM($G104:H104)))","v":0},{"$f":"IF($C104>J$2,0,IF($C104=J$2,0.5,1)*MIN($F104*$F$88,$F104-SUM($G104:I104)))","v":0},{"$f":"IF($C104>K$2,0,IF($C104=K$2,0.5,1)*MIN($F104*$F$88,$F104-SUM($G104:J104)))","v":0},{"$f":"IF($C104>L$2,0,IF($C104=L$2,0.5,1)*MIN($F104*$F$88,$F104-SUM($G104:K104)))","v":0},{"$f":"IF($C104>M$2,0,IF($C104=M$2,0.5,1)*MIN($F104*$F$88,$F104-SUM($G104:L104)))","v":0},{"$f":"IF($C104>N$2,0,IF($C104=N$2,0.5,1)*MIN($F104*$F$88,$F104-SUM($G104:M104)))","v":0},{"$f":"IF($C104>O$2,0,IF($C104=O$2,0.5,1)*MIN($F104*$F$88,$F104-SUM($G104:N104)))","v":0},{"$f":"IF($C104>P$2,0,IF($C104=P$2,0.5,1)*MIN($F104*$F$88,$F104-SUM($G104:O104)))","v":0},{"$f":"IF($C104>Q$2,0,IF($C104=Q$2,0.5,1)*MIN($F104*$F$88,$F104-SUM($G104:P104)))","v":0},{"$f":"IF($C104>R$2,0,IF($C104=R$2,0.5,1)*MIN($F104*$F$88,$F104-SUM($G104:Q104)))","v":0},{"$f":"IF($C104>S$2,0,IF($C104=S$2,0.5,1)*MIN($F104*$F$88,$F104-SUM($G104:R104)))","v":0},{"$f":"IF($C104>T$2,0,IF($C104=T$2,0.5,1)*MIN($F104*$F$88,$F104-SUM($G104:S104)))","v":0},{"$f":"IF($C104>U$2,0,IF($C104=U$2,0.5,1)*MIN($F104*$F$88,$F104-SUM($G104:T104)))","v":0},{"$f":"IF($C104>V$2,0,IF($C104=V$2,0.5,1)*MIN($F104*$F$88,$F104-SUM($G104:U104)))","v":0},{"$f":"IF($C104>W$2,0,IF($C104=W$2,0.5,1)*MIN($F104*$F$88,$F104-SUM($G104:V104)))","v":0},{"$f":"IF($C104>X$2,0,IF($C104=X$2,0.5,1)*MIN($F104*$F$88,$F104-SUM($G104:W104)))","v":0},{"$f":"IF($C104>Y$2,0,IF($C104=Y$2,0.5,1)*MIN($F104*$F$88,$F104-SUM($G104:X104)))","v":0},{"$f":"IF($C104>Z$2,0,IF($C104=Z$2,0.5,1)*MIN($F104*$F$88,$F104-SUM($G104:Y104)))","v":0},{"$f":"IF($C104>AA$2,0,IF($C104=AA$2,0.5,1)*MIN($F104*$F$88,$F104-SUM($G104:Z104)))","v":0},{"$f":"IF($C104>AB$2,0,IF($C104=AB$2,0.5,1)*MIN($F104*$F$88,$F104-SUM($G104:AA104)))","v":0}]
[null,null,2040,"тыс. руб.",15,0,null,{"$f":"IF($C105>H$2,0,IF($C105=H$2,0.5,1)*MIN($F105*$F$88,$F105-SUM($G105:G105)))","v":0},{"$f":"IF($C105>I$2,0,IF($C105=I$2,0.5,1)*MIN($F105*$F$88,$F105-SUM($G105:H105)))","v":0},{"$f":"IF($C105>J$2,0,IF($C105=J$2,0.5,1)*MIN($F105*$F$88,$F105-SUM($G105:I105)))","v":0},{"$f":"IF($C105>K$2,0,IF($C105=K$2,0.5,1)*MIN($F105*$F$88,$F105-SUM($G105:J105)))","v":0},{"$f":"IF($C105>L$2,0,IF($C105=L$2,0.5,1)*MIN($F105*$F$88,$F105-SUM($G105:K105)))","v":0},{"$f":"IF($C105>M$2,0,IF($C105=M$2,0.5,1)*MIN($F105*$F$88,$F105-SUM($G105:L105)))","v":0},{"$f":"IF($C105>N$2,0,IF($C105=N$2,0.5,1)*MIN($F105*$F$88,$F105-SUM($G105:M105)))","v":0},{"$f":"IF($C105>O$2,0,IF($C105=O$2,0.5,1)*MIN($F105*$F$88,$F105-SUM($G105:N105)))","v":0},{"$f":"IF($C105>P$2,0,IF($C105=P$2,0.5,1)*MIN($F105*$F$88,$F105-SUM($G105:O105)))","v":0},{"$f":"IF($C105>Q$2,0,IF($C105=Q$2,0.5,1)*MIN($F105*$F$88,$F105-SUM($G105:P105)))","v":0},{"$f":"IF($C105>R$2,0,IF($C105=R$2,0.5,1)*MIN($F105*$F$88,$F105-SUM($G105:Q105)))","v":0},{"$f":"IF($C105>S$2,0,IF($C105=S$2,0.5,1)*MIN($F105*$F$88,$F105-SUM($G105:R105)))","v":0},{"$f":"IF($C105>T$2,0,IF($C105=T$2,0.5,1)*MIN($F105*$F$88,$F105-SUM($G105:S105)))","v":0},{"$f":"IF($C105>U$2,0,IF($C105=U$2,0.5,1)*MIN($F105*$F$88,$F105-SUM($G105:T105)))","v":0},{"$f":"IF($C105>V$2,0,IF($C105=V$2,0.5,1)*MIN($F105*$F$88,$F105-SUM($G105:U105)))","v":0},{"$f":"IF($C105>W$2,0,IF($C105=W$2,0.5,1)*MIN($F105*$F$88,$F105-SUM($G105:V105)))","v":0},{"$f":"IF($C105>X$2,0,IF($C105=X$2,0.5,1)*MIN($F105*$F$88,$F105-SUM($G105:W105)))","v":0},{"$f":"IF($C105>Y$2,0,IF($C105=Y$2,0.5,1)*MIN($F105*$F$88,$F105-SUM($G105:X105)))","v":0},{"$f":"IF($C105>Z$2,0,IF($C105=Z$2,0.5,1)*MIN($F105*$F$88,$F105-SUM($G105:Y105)))","v":0},{"$f":"IF($C105>AA$2,0,IF($C105=AA$2,0.5,1)*MIN($F105*$F$88,$F105-SUM($G105:Z105)))","v":0},{"$f":"IF($C105>AB$2,0,IF($C105=AB$2,0.5,1)*MIN($F105*$F$88,$F105-SUM($G105:AA105)))","v":0}]
[null,null,2041,"тыс. руб.",16,0,null,{"$f":"IF($C106>H$2,0,IF($C106=H$2,0.5,1)*MIN($F106*$F$88,$F106-SUM($G106:G106)))","v":0},{"$f":"IF($C106>I$2,0,IF($C106=I$2,0.5,1)*MIN($F106*$F$88,$F106-SUM($G106:H106)))","v":0},{"$f":"IF($C106>J$2,0,IF($C106=J$2,0.5,1)*MIN($F106*$F$88,$F106-SUM($G106:I106)))","v":0},{"$f":"IF($C106>K$2,0,IF($C106=K$2,0.5,1)*MIN($F106*$F$88,$F106-SUM($G106:J106)))","v":0},{"$f":"IF($C106>L$2,0,IF($C106=L$2,0.5,1)*MIN($F106*$F$88,$F106-SUM($G106:K106)))","v":0},{"$f":"IF($C106>M$2,0,IF($C106=M$2,0.5,1)*MIN($F106*$F$88,$F106-SUM($G106:L106)))","v":0},{"$f":"IF($C106>N$2,0,IF($C106=N$2,0.5,1)*MIN($F106*$F$88,$F106-SUM($G106:M106)))","v":0},{"$f":"IF($C106>O$2,0,IF($C106=O$2,0.5,1)*MIN($F106*$F$88,$F106-SUM($G106:N106)))","v":0},{"$f":"IF($C106>P$2,0,IF($C106=P$2,0.5,1)*MIN($F106*$F$88,$F106-SUM($G106:O106)))","v":0},{"$f":"IF($C106>Q$2,0,IF($C106=Q$2,0.5,1)*MIN($F106*$F$88,$F106-SUM($G106:P106)))","v":0},{"$f":"IF($C106>R$2,0,IF($C106=R$2,0.5,1)*MIN($F106*$F$88,$F106-SUM($G106:Q106)))","v":0},{"$f":"IF($C106>S$2,0,IF($C106=S$2,0.5,1)*MIN($F106*$F$88,$F106-SUM($G106:R106)))","v":0},{"$f":"IF($C106>T$2,0,IF($C106=T$2,0.5,1)*MIN($F106*$F$88,$F106-SUM($G106:S106)))","v":0},{"$f":"IF($C106>U$2,0,IF($C106=U$2,0.5,1)*MIN($F106*$F$88,$F106-SUM($G106:T106)))","v":0},{"$f":"IF($C106>V$2,0,IF($C106=V$2,0.5,1)*MIN($F106*$F$88,$F106-SUM($G106:U106)))","v":0},{"$f":"IF($C106>W$2,0,IF($C106=W$2,0.5,1)*MIN($F106*$F$88,$F106-SUM($G106:V106)))","v":0},{"$f":"IF($C106>X$2,0,IF($C106=X$2,0.5,1)*MIN($F106*$F$88,$F106-SUM($G106:W106)))","v":0},{"$f":"IF($C106>Y$2,0,IF($C106=Y$2,0.5,1)*MIN($F106*$F$88,$F106-SUM($G106:X106)))","v":0},{"$f":"IF($C106>Z$2,0,IF($C106=Z$2,0.5,1)*MIN($F106*$F$88,$F106-SUM($G106:Y106)))","v":0},{"$f":"IF($C106>AA$2,0,IF($C106=AA$2,0.5,1)*MIN($F106*$F$88,$F106-SUM($G106:Z106)))","v":0},{"$f":"IF($C106>AB$2,0,IF($C106=AB$2,0.5,1)*MIN($F106*$F$88,$F106-SUM($G106:AA106)))","v":0}]
[null,null,2042,"тыс. руб.",17,0,null,{"$f":"IF($C107>H$2,0,IF($C107=H$2,0.5,1)*MIN($F107*$F$88,$F107-SUM($G107:G107)))","v":0},{"$f":"IF($C107>I$2,0,IF($C107=I$2,0.5,1)*MIN($F107*$F$88,$F107-SUM($G107:H107)))","v":0},{"$f":"IF($C107>J$2,0,IF($C107=J$2,0.5,1)*MIN($F107*$F$88,$F107-SUM($G107:I107)))","v":0},{"$f":"IF($C107>K$2,0,IF($C107=K$2,0.5,1)*MIN($F107*$F$88,$F107-SUM($G107:J107)))","v":0},{"$f":"IF($C107>L$2,0,IF($C107=L$2,0.5,1)*MIN($F107*$F$88,$F107-SUM($G107:K107)))","v":0},{"$f":"IF($C107>M$2,0,IF($C107=M$2,0.5,1)*MIN($F107*$F$88,$F107-SUM($G107:L107)))","v":0},{"$f":"IF($C107>N$2,0,IF($C107=N$2,0.5,1)*MIN($F107*$F$88,$F107-SUM($G107:M107)))","v":0},{"$f":"IF($C107>O$2,0,IF($C107=O$2,0.5,1)*MIN($F107*$F$88,$F107-SUM($G107:N107)))","v":0},{"$f":"IF($C107>P$2,0,IF($C107=P$2,0.5,1)*MIN($F107*$F$88,$F107-SUM($G107:O107)))","v":0},{"$f":"IF($C107>Q$2,0,IF($C107=Q$2,0.5,1)*MIN($F107*$F$88,$F107-SUM($G107:P107)))","v":0},{"$f":"IF($C107>R$2,0,IF($C107=R$2,0.5,1)*MIN($F107*$F$88,$F107-SUM($G107:Q107)))","v":0},{"$f":"IF($C107>S$2,0,IF($C107=S$2,0.5,1)*MIN($F107*$F$88,$F107-SUM($G107:R107)))","v":0},{"$f":"IF($C107>T$2,0,IF($C107=T$2,0.5,1)*MIN($F107*$F$88,$F107-SUM($G107:S107)))","v":0},{"$f":"IF($C107>U$2,0,IF($C107=U$2,0.5,1)*MIN($F107*$F$88,$F107-SUM($G107:T107)))","v":0},{"$f":"IF($C107>V$2,0,IF($C107=V$2,0.5,1)*MIN($F107*$F$88,$F107-SUM($G107:U107)))","v":0},{"$f":"IF($C107>W$2,0,IF($C107=W$2,0.5,1)*MIN($F107*$F$88,$F107-SUM($G107:V107)))","v":0},{"$f":"IF($C107>X$2,0,IF($C107=X$2,0.5,1)*MIN($F107*$F$88,$F107-SUM($G107:W107)))","v":0},{"$f":"IF($C107>Y$2,0,IF($C107=Y$2,0.5,1)*MIN($F107*$F$88,$F107-SUM($G107:X107)))","v":0},{"$f":"IF($C107>Z$2,0,IF($C107=Z$2,0.5,1)*MIN($F107*$F$88,$F107-SUM($G107:Y107)))","v":0},{"$f":"IF($C107>AA$2,0,IF($C107=AA$2,0.5,1)*MIN($F107*$F$88,$F107-SUM($G107:Z107)))","v":0},{"$f":"IF($C107>AB$2,0,IF($C107=AB$2,0.5,1)*MIN($F107*$F$88,$F107-SUM($G107:AA107)))","v":0}]
[null,null,2043,"тыс. руб.",18,0,null,{"$f":"IF($C108>H$2,0,IF($C108=H$2,0.5,1)*MIN($F108*$F$88,$F108-SUM($G108:G108)))","v":0},{"$f":"IF($C108>I$2,0,IF($C108=I$2,0.5,1)*MIN($F108*$F$88,$F108-SUM($G108:H108)))","v":0},{"$f":"IF($C108>J$2,0,IF($C108=J$2,0.5,1)*MIN($F108*$F$88,$F108-SUM($G108:I108)))","v":0},{"$f":"IF($C108>K$2,0,IF($C108=K$2,0.5,1)*MIN($F108*$F$88,$F108-SUM($G108:J108)))","v":0},{"$f":"IF($C108>L$2,0,IF($C108=L$2,0.5,1)*MIN($F108*$F$88,$F108-SUM($G108:K108)))","v":0},{"$f":"IF($C108>M$2,0,IF($C108=M$2,0.5,1)*MIN($F108*$F$88,$F108-SUM($G108:L108)))","v":0},{"$f":"IF($C108>N$2,0,IF($C108=N$2,0.5,1)*MIN($F108*$F$88,$F108-SUM($G108:M108)))","v":0},{"$f":"IF($C108>O$2,0,IF($C108=O$2,0.5,1)*MIN($F108*$F$88,$F108-SUM($G108:N108)))","v":0},{"$f":"IF($C108>P$2,0,IF($C108=P$2,0.5,1)*MIN($F108*$F$88,$F108-SUM($G108:O108)))","v":0},{"$f":"IF($C108>Q$2,0,IF($C108=Q$2,0.5,1)*MIN($F108*$F$88,$F108-SUM($G108:P108)))","v":0},{"$f":"IF($C108>R$2,0,IF($C108=R$2,0.5,1)*MIN($F108*$F$88,$F108-SUM($G108:Q108)))","v":0},{"$f":"IF($C108>S$2,0,IF($C108=S$2,0.5,1)*MIN($F108*$F$88,$F108-SUM($G108:R108)))","v":0},{"$f":"IF($C108>T$2,0,IF($C108=T$2,0.5,1)*MIN($F108*$F$88,$F108-SUM($G108:S108)))","v":0},{"$f":"IF($C108>U$2,0,IF($C108=U$2,0.5,1)*MIN($F108*$F$88,$F108-SUM($G108:T108)))","v":0},{"$f":"IF($C108>V$2,0,IF($C108=V$2,0.5,1)*MIN($F108*$F$88,$F108-SUM($G108:U108)))","v":0},{"$f":"IF($C108>W$2,0,IF($C108=W$2,0.5,1)*MIN($F108*$F$88,$F108-SUM($G108:V108)))","v":0},{"$f":"IF($C108>X$2,0,IF($C108=X$2,0.5,1)*MIN($F108*$F$88,$F108-SUM($G108:W108)))","v":0},{"$f":"IF($C108>Y$2,0,IF($C108=Y$2,0.5,1)*MIN($F108*$F$88,$F108-SUM($G108:X108)))","v":0},{"$f":"IF($C108>Z$2,0,IF($C108=Z$2,0.5,1)*MIN($F108*$F$88,$F108-SUM($G108:Y108)))","v":0},{"$f":"IF($C108>AA$2,0,IF($C108=AA$2,0.5,1)*MIN($F108*$F$88,$F108-SUM($G108:Z108)))","v":0},{"$f":"IF($C108>AB$2,0,IF($C108=AB$2,0.5,1)*MIN($F108*$F$88,$F108-SUM($G108:AA108)))","v":0}]
[null,null,2044,"тыс. руб.",19,0,null,{"$f":"IF($C109>H$2,0,IF($C109=H$2,0.5,1)*MIN($F109*$F$88,$F109-SUM($G109:G109)))","v":0},{"$f":"IF($C109>I$2,0,IF($C109=I$2,0.5,1)*MIN($F109*$F$88,$F109-SUM($G109:H109)))","v":0},{"$f":"IF($C109>J$2,0,IF($C109=J$2,0.5,1)*MIN($F109*$F$88,$F109-SUM($G109:I109)))","v":0},{"$f":"IF($C109>K$2,0,IF($C109=K$2,0.5,1)*MIN($F109*$F$88,$F109-SUM($G109:J109)))","v":0},{"$f":"IF($C109>L$2,0,IF($C109=L$2,0.5,1)*MIN($F109*$F$88,$F109-SUM($G109:K109)))","v":0},{"$f":"IF($C109>M$2,0,IF($C109=M$2,0.5,1)*MIN($F109*$F$88,$F109-SUM($G109:L109)))","v":0},{"$f":"IF($C109>N$2,0,IF($C109=N$2,0.5,1)*MIN($F109*$F$88,$F109-SUM($G109:M109)))","v":0},{"$f":"IF($C109>O$2,0,IF($C109=O$2,0.5,1)*MIN($F109*$F$88,$F109-SUM($G109:N109)))","v":0},{"$f":"IF($C109>P$2,0,IF($C109=P$2,0.5,1)*MIN($F109*$F$88,$F109-SUM($G109:O109)))","v":0},{"$f":"IF($C109>Q$2,0,IF($C109=Q$2,0.5,1)*MIN($F109*$F$88,$F109-SUM($G109:P109)))","v":0},{"$f":"IF($C109>R$2,0,IF($C109=R$2,0.5,1)*MIN($F109*$F$88,$F109-SUM($G109:Q109)))","v":0},{"$f":"IF($C109>S$2,0,IF($C109=S$2,0.5,1)*MIN($F109*$F$88,$F109-SUM($G109:R109)))","v":0},{"$f":"IF($C109>T$2,0,IF($C109=T$2,0.5,1)*MIN($F109*$F$88,$F109-SUM($G109:S109)))","v":0},{"$f":"IF($C109>U$2,0,IF($C109=U$2,0.5,1)*MIN($F109*$F$88,$F109-SUM($G109:T109)))","v":0},{"$f":"IF($C109>V$2,0,IF($C109=V$2,0.5,1)*MIN($F109*$F$88,$F109-SUM($G109:U109)))","v":0},{"$f":"IF($C109>W$2,0,IF($C109=W$2,0.5,1)*MIN($F109*$F$88,$F109-SUM($G109:V109)))","v":0},{"$f":"IF($C109>X$2,0,IF($C109=X$2,0.5,1)*MIN($F109*$F$88,$F109-SUM($G109:W109)))","v":0},{"$f":"IF($C109>Y$2,0,IF($C109=Y$2,0.5,1)*MIN($F109*$F$88,$F109-SUM($G109:X109)))","v":0},{"$f":"IF($C109>Z$2,0,IF($C109=Z$2,0.5,1)*MIN($F109*$F$88,$F109-SUM($G109:Y109)))","v":0},{"$f":"IF($C109>AA$2,0,IF($C109=AA$2,0.5,1)*MIN($F109*$F$88,$F109-SUM($G109:Z109)))","v":0},{"$f":"IF($C109>AB$2,0,IF($C109=AB$2,0.5,1)*MIN($F109*$F$88,$F109-SUM($G109:AA109)))","v":0}]
[null,null,2045,"тыс. руб.",20,0,null,{"$f":"IF($C110>H$2,0,IF($C110=H$2,0.5,1)*MIN($F110*$F$88,$F110-SUM($G110:G110)))","v":0},{"$f":"IF($C110>I$2,0,IF($C110=I$2,0.5,1)*MIN($F110*$F$88,$F110-SUM($G110:H110)))","v":0},{"$f":"IF($C110>J$2,0,IF($C110=J$2,0.5,1)*MIN($F110*$F$88,$F110-SUM($G110:I110)))","v":0},{"$f":"IF($C110>K$2,0,IF($C110=K$2,0.5,1)*MIN($F110*$F$88,$F110-SUM($G110:J110)))","v":0},{"$f":"IF($C110>L$2,0,IF($C110=L$2,0.5,1)*MIN($F110*$F$88,$F110-SUM($G110:K110)))","v":0},{"$f":"IF($C110>M$2,0,IF($C110=M$2,0.5,1)*MIN($F110*$F$88,$F110-SUM($G110:L110)))","v":0},{"$f":"IF($C110>N$2,0,IF($C110=N$2,0.5,1)*MIN($F110*$F$88,$F110-SUM($G110:M110)))","v":0},{"$f":"IF($C110>O$2,0,IF($C110=O$2,0.5,1)*MIN($F110*$F$88,$F110-SUM($G110:N110)))","v":0},{"$f":"IF($C110>P$2,0,IF($C110=P$2,0.5,1)*MIN($F110*$F$88,$F110-SUM($G110:O110)))","v":0},{"$f":"IF($C110>Q$2,0,IF($C110=Q$2,0.5,1)*MIN($F110*$F$88,$F110-SUM($G110:P110)))","v":0},{"$f":"IF($C110>R$2,0,IF($C110=R$2,0.5,1)*MIN($F110*$F$88,$F110-SUM($G110:Q110)))","v":0},{"$f":"IF($C110>S$2,0,IF($C110=S$2,0.5,1)*MIN($F110*$F$88,$F110-SUM($G110:R110)))","v":0},{"$f":"IF($C110>T$2,0,IF($C110=T$2,0.5,1)*MIN($F110*$F$88,$F110-SUM($G110:S110)))","v":0},{"$f":"IF($C110>U$2,0,IF($C110=U$2,0.5,1)*MIN($F110*$F$88,$F110-SUM($G110:T110)))","v":0},{"$f":"IF($C110>V$2,0,IF($C110=V$2,0.5,1)*MIN($F110*$F$88,$F110-SUM($G110:U110)))","v":0},{"$f":"IF($C110>W$2,0,IF($C110=W$2,0.5,1)*MIN($F110*$F$88,$F110-SUM($G110:V110)))","v":0},{"$f":"IF($C110>X$2,0,IF($C110=X$2,0.5,1)*MIN($F110*$F$88,$F110-SUM($G110:W110)))","v":0},{"$f":"IF($C110>Y$2,0,IF($C110=Y$2,0.5,1)*MIN($F110*$F$88,$F110-SUM($G110:X110)))","v":0},{"$f":"IF($C110>Z$2,0,IF($C110=Z$2,0.5,1)*MIN($F110*$F$88,$F110-SUM($G110:Y110)))","v":0},{"$f":"IF($C110>AA$2,0,IF($C110=AA$2,0.5,1)*MIN($F110*$F$88,$F110-SUM($G110:Z110)))","v":0},{"$f":"IF($C110>AB$2,0,IF($C110=AB$2,0.5,1)*MIN($F110*$F$88,$F110-SUM($G110:AA110)))","v":0}]
[]
[null,null,"Первоначальная стоимость активов","тыс. руб.",null,null,null,{"$f":"G112+H38","v":0},0,0,0,0,0,0,0,0,0,0,0,0,0,0,0,0,0,0,0,0]
[null,null,"Амортизация за период","тыс. руб.",null,null,null,{"$f":"H90","v":0},0,0,0,0,0,0,0,0,0,0,0,0,0,0,0,0,0,0,0,0]
[null,null,"Накопленная амортизация","тыс. руб.",null,null,null,{"$f":"G114+H113","v":0},0,0,0,0,0,0,0,0,0,0,0,0,0,0,0,0,0,0,0,0]
[null,null,"Остаточная стоимость активов","тыс. руб.",null,null,null,{"$f":"H112-H114","v":0},0,0,0,0,0,0,0,0,0,0,0,0,0,{"$f":"V112-V114","v":0},0,0,0,0,0,0]
[]
[null,"Транспортные средства"]
[]
[null,null,"Ставка амортизации","%",null,{"$f":"Предпосылки!F230","v":0.14285714285714285}]
[]
[null,null,"Амортизация ","тыс. руб.",null,null,null,{"$f":"SUM(H122:H141)","v":0},{"$f":"SUM(I122:I141)","v":0},0,0,0,0,0,0,0,0,0,0,0,0,0,0,0,0,0,0,0]
[null,null,{"$f":"INDEX(H$2:AA$2,,$E122)","v":2026},"тыс. руб.",1,{"$f":"OFFSET($G$40,,E122)","v":0},null,{"$f":"IF($C122>H$2,0,IF($C122=H$2,0.5,1)*MIN($F122*$F$119,$F122-SUM($G122:G122)))","v":0},{"$f":"IF($C122>I$2,0,IF($C122=I$2,0.5,1)*MIN($F122*$F$119,$F122-SUM($G122:H122)))","v":0},{"$f":"IF($C122>J$2,0,IF($C122=J$2,0.5,1)*MIN($F122*$F$119,$F122-SUM($G122:I122)))","v":0},{"$f":"IF($C122>K$2,0,IF($C122=K$2,0.5,1)*MIN($F122*$F$119,$F122-SUM($G122:J122)))","v":0},{"$f":"IF($C122>L$2,0,IF($C122=L$2,0.5,1)*MIN($F122*$F$119,$F122-SUM($G122:K122)))","v":0},{"$f":"IF($C122>M$2,0,IF($C122=M$2,0.5,1)*MIN($F122*$F$119,$F122-SUM($G122:L122)))","v":0},{"$f":"IF($C122>N$2,0,IF($C122=N$2,0.5,1)*MIN($F122*$F$119,$F122-SUM($G122:M122)))","v":0},{"$f":"IF($C122>O$2,0,IF($C122=O$2,0.5,1)*MIN($F122*$F$119,$F122-SUM($G122:N122)))","v":0},{"$f":"IF($C122>P$2,0,IF($C122=P$2,0.5,1)*MIN($F122*$F$119,$F122-SUM($G122:O122)))","v":0},{"$f":"IF($C122>Q$2,0,IF($C122=Q$2,0.5,1)*MIN($F122*$F$119,$F122-SUM($G122:P122)))","v":0},{"$f":"IF($C122>R$2,0,IF($C122=R$2,0.5,1)*MIN($F122*$F$119,$F122-SUM($G122:Q122)))","v":0},{"$f":"IF($C122>S$2,0,IF($C122=S$2,0.5,1)*MIN($F122*$F$119,$F122-SUM($G122:R122)))","v":0},{"$f":"IF($C122>T$2,0,IF($C122=T$2,0.5,1)*MIN($F122*$F$119,$F122-SUM($G122:S122)))","v":0},{"$f":"IF($C122>U$2,0,IF($C122=U$2,0.5,1)*MIN($F122*$F$119,$F122-SUM($G122:T122)))","v":0},{"$f":"IF($C122>V$2,0,IF($C122=V$2,0.5,1)*MIN($F122*$F$119,$F122-SUM($G122:U122)))","v":0},{"$f":"IF($C122>W$2,0,IF($C122=W$2,0.5,1)*MIN($F122*$F$119,$F122-SUM($G122:V122)))","v":0},{"$f":"IF($C122>X$2,0,IF($C122=X$2,0.5,1)*MIN($F122*$F$119,$F122-SUM($G122:W122)))","v":0},{"$f":"IF($C122>Y$2,0,IF($C122=Y$2,0.5,1)*MIN($F122*$F$119,$F122-SUM($G122:X122)))","v":0},{"$f":"IF($C122>Z$2,0,IF($C122=Z$2,0.5,1)*MIN($F122*$F$119,$F122-SUM($G122:Y122)))","v":0},{"$f":"IF($C122>AA$2,0,IF($C122=AA$2,0.5,1)*MIN($F122*$F$119,$F122-SUM($G122:Z122)))","v":0},{"$f":"IF($C122>AB$2,0,IF($C122=AB$2,0.5,1)*MIN($F122*$F$119,$F122-SUM($G122:AA122)))","v":0}]
[null,null,{"$f":"INDEX(H$2:AA$2,,$E123)","v":2027},"тыс. руб.",2,{"$f":"OFFSET($G$40,,E123)","v":0},null,{"$f":"IF($C123>H$2,0,IF($C123=H$2,0.5,1)*MIN($F123*$F$119,$F123-SUM($G123:G123)))","v":0},{"$f":"IF($C123>I$2,0,IF($C123=I$2,0.5,1)*MIN($F123*$F$119,$F123-SUM($G123:H123)))","v":0},{"$f":"IF($C123>J$2,0,IF($C123=J$2,0.5,1)*MIN($F123*$F$119,$F123-SUM($G123:I123)))","v":0},{"$f":"IF($C123>K$2,0,IF($C123=K$2,0.5,1)*MIN($F123*$F$119,$F123-SUM($G123:J123)))","v":0},{"$f":"IF($C123>L$2,0,IF($C123=L$2,0.5,1)*MIN($F123*$F$119,$F123-SUM($G123:K123)))","v":0},{"$f":"IF($C123>M$2,0,IF($C123=M$2,0.5,1)*MIN($F123*$F$119,$F123-SUM($G123:L123)))","v":0},{"$f":"IF($C123>N$2,0,IF($C123=N$2,0.5,1)*MIN($F123*$F$119,$F123-SUM($G123:M123)))","v":0},{"$f":"IF($C123>O$2,0,IF($C123=O$2,0.5,1)*MIN($F123*$F$119,$F123-SUM($G123:N123)))","v":0},{"$f":"IF($C123>P$2,0,IF($C123=P$2,0.5,1)*MIN($F123*$F$119,$F123-SUM($G123:O123)))","v":0},{"$f":"IF($C123>Q$2,0,IF($C123=Q$2,0.5,1)*MIN($F123*$F$119,$F123-SUM($G123:P123)))","v":0},{"$f":"IF($C123>R$2,0,IF($C123=R$2,0.5,1)*MIN($F123*$F$119,$F123-SUM($G123:Q123)))","v":0},{"$f":"IF($C123>S$2,0,IF($C123=S$2,0.5,1)*MIN($F123*$F$119,$F123-SUM($G123:R123)))","v":0},{"$f":"IF($C123>T$2,0,IF($C123=T$2,0.5,1)*MIN($F123*$F$119,$F123-SUM($G123:S123)))","v":0},{"$f":"IF($C123>U$2,0,IF($C123=U$2,0.5,1)*MIN($F123*$F$119,$F123-SUM($G123:T123)))","v":0},{"$f":"IF($C123>V$2,0,IF($C123=V$2,0.5,1)*MIN($F123*$F$119,$F123-SUM($G123:U123)))","v":0},{"$f":"IF($C123>W$2,0,IF($C123=W$2,0.5,1)*MIN($F123*$F$119,$F123-SUM($G123:V123)))","v":0},{"$f":"IF($C123>X$2,0,IF($C123=X$2,0.5,1)*MIN($F123*$F$119,$F123-SUM($G123:W123)))","v":0},{"$f":"IF($C123>Y$2,0,IF($C123=Y$2,0.5,1)*MIN($F123*$F$119,$F123-SUM($G123:X123)))","v":0},{"$f":"IF($C123>Z$2,0,IF($C123=Z$2,0.5,1)*MIN($F123*$F$119,$F123-SUM($G123:Y123)))","v":0},{"$f":"IF($C123>AA$2,0,IF($C123=AA$2,0.5,1)*MIN($F123*$F$119,$F123-SUM($G123:Z123)))","v":0},{"$f":"IF($C123>AB$2,0,IF($C123=AB$2,0.5,1)*MIN($F123*$F$119,$F123-SUM($G123:AA123)))","v":0}]
[null,null,2028,"тыс. руб.",3,0,null,{"$f":"IF($C124>H$2,0,IF($C124=H$2,0.5,1)*MIN($F124*$F$119,$F124-SUM($G124:G124)))","v":0},{"$f":"IF($C124>I$2,0,IF($C124=I$2,0.5,1)*MIN($F124*$F$119,$F124-SUM($G124:H124)))","v":0},{"$f":"IF($C124>J$2,0,IF($C124=J$2,0.5,1)*MIN($F124*$F$119,$F124-SUM($G124:I124)))","v":0},{"$f":"IF($C124>K$2,0,IF($C124=K$2,0.5,1)*MIN($F124*$F$119,$F124-SUM($G124:J124)))","v":0},{"$f":"IF($C124>L$2,0,IF($C124=L$2,0.5,1)*MIN($F124*$F$119,$F124-SUM($G124:K124)))","v":0},{"$f":"IF($C124>M$2,0,IF($C124=M$2,0.5,1)*MIN($F124*$F$119,$F124-SUM($G124:L124)))","v":0},{"$f":"IF($C124>N$2,0,IF($C124=N$2,0.5,1)*MIN($F124*$F$119,$F124-SUM($G124:M124)))","v":0},{"$f":"IF($C124>O$2,0,IF($C124=O$2,0.5,1)*MIN($F124*$F$119,$F124-SUM($G124:N124)))","v":0},{"$f":"IF($C124>P$2,0,IF($C124=P$2,0.5,1)*MIN($F124*$F$119,$F124-SUM($G124:O124)))","v":0},{"$f":"IF($C124>Q$2,0,IF($C124=Q$2,0.5,1)*MIN($F124*$F$119,$F124-SUM($G124:P124)))","v":0},{"$f":"IF($C124>R$2,0,IF($C124=R$2,0.5,1)*MIN($F124*$F$119,$F124-SUM($G124:Q124)))","v":0},{"$f":"IF($C124>S$2,0,IF($C124=S$2,0.5,1)*MIN($F124*$F$119,$F124-SUM($G124:R124)))","v":0},{"$f":"IF($C124>T$2,0,IF($C124=T$2,0.5,1)*MIN($F124*$F$119,$F124-SUM($G124:S124)))","v":0},{"$f":"IF($C124>U$2,0,IF($C124=U$2,0.5,1)*MIN($F124*$F$119,$F124-SUM($G124:T124)))","v":0},{"$f":"IF($C124>V$2,0,IF($C124=V$2,0.5,1)*MIN($F124*$F$119,$F124-SUM($G124:U124)))","v":0},{"$f":"IF($C124>W$2,0,IF($C124=W$2,0.5,1)*MIN($F124*$F$119,$F124-SUM($G124:V124)))","v":0},{"$f":"IF($C124>X$2,0,IF($C124=X$2,0.5,1)*MIN($F124*$F$119,$F124-SUM($G124:W124)))","v":0},{"$f":"IF($C124>Y$2,0,IF($C124=Y$2,0.5,1)*MIN($F124*$F$119,$F124-SUM($G124:X124)))","v":0},{"$f":"IF($C124>Z$2,0,IF($C124=Z$2,0.5,1)*MIN($F124*$F$119,$F124-SUM($G124:Y124)))","v":0},{"$f":"IF($C124>AA$2,0,IF($C124=AA$2,0.5,1)*MIN($F124*$F$119,$F124-SUM($G124:Z124)))","v":0},{"$f":"IF($C124>AB$2,0,IF($C124=AB$2,0.5,1)*MIN($F124*$F$119,$F124-SUM($G124:AA124)))","v":0}]
[null,null,2029,"тыс. руб.",4,0,null,{"$f":"IF($C125>H$2,0,IF($C125=H$2,0.5,1)*MIN($F125*$F$119,$F125-SUM($G125:G125)))","v":0},{"$f":"IF($C125>I$2,0,IF($C125=I$2,0.5,1)*MIN($F125*$F$119,$F125-SUM($G125:H125)))","v":0},{"$f":"IF($C125>J$2,0,IF($C125=J$2,0.5,1)*MIN($F125*$F$119,$F125-SUM($G125:I125)))","v":0},{"$f":"IF($C125>K$2,0,IF($C125=K$2,0.5,1)*MIN($F125*$F$119,$F125-SUM($G125:J125)))","v":0},{"$f":"IF($C125>L$2,0,IF($C125=L$2,0.5,1)*MIN($F125*$F$119,$F125-SUM($G125:K125)))","v":0},{"$f":"IF($C125>M$2,0,IF($C125=M$2,0.5,1)*MIN($F125*$F$119,$F125-SUM($G125:L125)))","v":0},{"$f":"IF($C125>N$2,0,IF($C125=N$2,0.5,1)*MIN($F125*$F$119,$F125-SUM($G125:M125)))","v":0},{"$f":"IF($C125>O$2,0,IF($C125=O$2,0.5,1)*MIN($F125*$F$119,$F125-SUM($G125:N125)))","v":0},{"$f":"IF($C125>P$2,0,IF($C125=P$2,0.5,1)*MIN($F125*$F$119,$F125-SUM($G125:O125)))","v":0},{"$f":"IF($C125>Q$2,0,IF($C125=Q$2,0.5,1)*MIN($F125*$F$119,$F125-SUM($G125:P125)))","v":0},{"$f":"IF($C125>R$2,0,IF($C125=R$2,0.5,1)*MIN($F125*$F$119,$F125-SUM($G125:Q125)))","v":0},{"$f":"IF($C125>S$2,0,IF($C125=S$2,0.5,1)*MIN($F125*$F$119,$F125-SUM($G125:R125)))","v":0},{"$f":"IF($C125>T$2,0,IF($C125=T$2,0.5,1)*MIN($F125*$F$119,$F125-SUM($G125:S125)))","v":0},{"$f":"IF($C125>U$2,0,IF($C125=U$2,0.5,1)*MIN($F125*$F$119,$F125-SUM($G125:T125)))","v":0},{"$f":"IF($C125>V$2,0,IF($C125=V$2,0.5,1)*MIN($F125*$F$119,$F125-SUM($G125:U125)))","v":0},{"$f":"IF($C125>W$2,0,IF($C125=W$2,0.5,1)*MIN($F125*$F$119,$F125-SUM($G125:V125)))","v":0},{"$f":"IF($C125>X$2,0,IF($C125=X$2,0.5,1)*MIN($F125*$F$119,$F125-SUM($G125:W125)))","v":0},{"$f":"IF($C125>Y$2,0,IF($C125=Y$2,0.5,1)*MIN($F125*$F$119,$F125-SUM($G125:X125)))","v":0},{"$f":"IF($C125>Z$2,0,IF($C125=Z$2,0.5,1)*MIN($F125*$F$119,$F125-SUM($G125:Y125)))","v":0},{"$f":"IF($C125>AA$2,0,IF($C125=AA$2,0.5,1)*MIN($F125*$F$119,$F125-SUM($G125:Z125)))","v":0},{"$f":"IF($C125>AB$2,0,IF($C125=AB$2,0.5,1)*MIN($F125*$F$119,$F125-SUM($G125:AA125)))","v":0}]
[null,null,2030,"тыс. руб.",5,0,null,{"$f":"IF($C126>H$2,0,IF($C126=H$2,0.5,1)*MIN($F126*$F$119,$F126-SUM($G126:G126)))","v":0},{"$f":"IF($C126>I$2,0,IF($C126=I$2,0.5,1)*MIN($F126*$F$119,$F126-SUM($G126:H126)))","v":0},{"$f":"IF($C126>J$2,0,IF($C126=J$2,0.5,1)*MIN($F126*$F$119,$F126-SUM($G126:I126)))","v":0},{"$f":"IF($C126>K$2,0,IF($C126=K$2,0.5,1)*MIN($F126*$F$119,$F126-SUM($G126:J126)))","v":0},{"$f":"IF($C126>L$2,0,IF($C126=L$2,0.5,1)*MIN($F126*$F$119,$F126-SUM($G126:K126)))","v":0},{"$f":"IF($C126>M$2,0,IF($C126=M$2,0.5,1)*MIN($F126*$F$119,$F126-SUM($G126:L126)))","v":0},{"$f":"IF($C126>N$2,0,IF($C126=N$2,0.5,1)*MIN($F126*$F$119,$F126-SUM($G126:M126)))","v":0},{"$f":"IF($C126>O$2,0,IF($C126=O$2,0.5,1)*MIN($F126*$F$119,$F126-SUM($G126:N126)))","v":0},{"$f":"IF($C126>P$2,0,IF($C126=P$2,0.5,1)*MIN($F126*$F$119,$F126-SUM($G126:O126)))","v":0},{"$f":"IF($C126>Q$2,0,IF($C126=Q$2,0.5,1)*MIN($F126*$F$119,$F126-SUM($G126:P126)))","v":0},{"$f":"IF($C126>R$2,0,IF($C126=R$2,0.5,1)*MIN($F126*$F$119,$F126-SUM($G126:Q126)))","v":0},{"$f":"IF($C126>S$2,0,IF($C126=S$2,0.5,1)*MIN($F126*$F$119,$F126-SUM($G126:R126)))","v":0},{"$f":"IF($C126>T$2,0,IF($C126=T$2,0.5,1)*MIN($F126*$F$119,$F126-SUM($G126:S126)))","v":0},{"$f":"IF($C126>U$2,0,IF($C126=U$2,0.5,1)*MIN($F126*$F$119,$F126-SUM($G126:T126)))","v":0},{"$f":"IF($C126>V$2,0,IF($C126=V$2,0.5,1)*MIN($F126*$F$119,$F126-SUM($G126:U126)))","v":0},{"$f":"IF($C126>W$2,0,IF($C126=W$2,0.5,1)*MIN($F126*$F$119,$F126-SUM($G126:V126)))","v":0},{"$f":"IF($C126>X$2,0,IF($C126=X$2,0.5,1)*MIN($F126*$F$119,$F126-SUM($G126:W126)))","v":0},{"$f":"IF($C126>Y$2,0,IF($C126=Y$2,0.5,1)*MIN($F126*$F$119,$F126-SUM($G126:X126)))","v":0},{"$f":"IF($C126>Z$2,0,IF($C126=Z$2,0.5,1)*MIN($F126*$F$119,$F126-SUM($G126:Y126)))","v":0},{"$f":"IF($C126>AA$2,0,IF($C126=AA$2,0.5,1)*MIN($F126*$F$119,$F126-SUM($G126:Z126)))","v":0},{"$f":"IF($C126>AB$2,0,IF($C126=AB$2,0.5,1)*MIN($F126*$F$119,$F126-SUM($G126:AA126)))","v":0}]
[null,null,2031,"тыс. руб.",6,0,null,{"$f":"IF($C127>H$2,0,IF($C127=H$2,0.5,1)*MIN($F127*$F$119,$F127-SUM($G127:G127)))","v":0},{"$f":"IF($C127>I$2,0,IF($C127=I$2,0.5,1)*MIN($F127*$F$119,$F127-SUM($G127:H127)))","v":0},{"$f":"IF($C127>J$2,0,IF($C127=J$2,0.5,1)*MIN($F127*$F$119,$F127-SUM($G127:I127)))","v":0},{"$f":"IF($C127>K$2,0,IF($C127=K$2,0.5,1)*MIN($F127*$F$119,$F127-SUM($G127:J127)))","v":0},{"$f":"IF($C127>L$2,0,IF($C127=L$2,0.5,1)*MIN($F127*$F$119,$F127-SUM($G127:K127)))","v":0},{"$f":"IF($C127>M$2,0,IF($C127=M$2,0.5,1)*MIN($F127*$F$119,$F127-SUM($G127:L127)))","v":0},{"$f":"IF($C127>N$2,0,IF($C127=N$2,0.5,1)*MIN($F127*$F$119,$F127-SUM($G127:M127)))","v":0},{"$f":"IF($C127>O$2,0,IF($C127=O$2,0.5,1)*MIN($F127*$F$119,$F127-SUM($G127:N127)))","v":0},{"$f":"IF($C127>P$2,0,IF($C127=P$2,0.5,1)*MIN($F127*$F$119,$F127-SUM($G127:O127)))","v":0},{"$f":"IF($C127>Q$2,0,IF($C127=Q$2,0.5,1)*MIN($F127*$F$119,$F127-SUM($G127:P127)))","v":0},{"$f":"IF($C127>R$2,0,IF($C127=R$2,0.5,1)*MIN($F127*$F$119,$F127-SUM($G127:Q127)))","v":0},{"$f":"IF($C127>S$2,0,IF($C127=S$2,0.5,1)*MIN($F127*$F$119,$F127-SUM($G127:R127)))","v":0},{"$f":"IF($C127>T$2,0,IF($C127=T$2,0.5,1)*MIN($F127*$F$119,$F127-SUM($G127:S127)))","v":0},{"$f":"IF($C127>U$2,0,IF($C127=U$2,0.5,1)*MIN($F127*$F$119,$F127-SUM($G127:T127)))","v":0},{"$f":"IF($C127>V$2,0,IF($C127=V$2,0.5,1)*MIN($F127*$F$119,$F127-SUM($G127:U127)))","v":0},{"$f":"IF($C127>W$2,0,IF($C127=W$2,0.5,1)*MIN($F127*$F$119,$F127-SUM($G127:V127)))","v":0},{"$f":"IF($C127>X$2,0,IF($C127=X$2,0.5,1)*MIN($F127*$F$119,$F127-SUM($G127:W127)))","v":0},{"$f":"IF($C127>Y$2,0,IF($C127=Y$2,0.5,1)*MIN($F127*$F$119,$F127-SUM($G127:X127)))","v":0},{"$f":"IF($C127>Z$2,0,IF($C127=Z$2,0.5,1)*MIN($F127*$F$119,$F127-SUM($G127:Y127)))","v":0},{"$f":"IF($C127>AA$2,0,IF($C127=AA$2,0.5,1)*MIN($F127*$F$119,$F127-SUM($G127:Z127)))","v":0},{"$f":"IF($C127>AB$2,0,IF($C127=AB$2,0.5,1)*MIN($F127*$F$119,$F127-SUM($G127:AA127)))","v":0}]
[null,null,2032,"тыс. руб.",7,0,null,{"$f":"IF($C128>H$2,0,IF($C128=H$2,0.5,1)*MIN($F128*$F$119,$F128-SUM($G128:G128)))","v":0},{"$f":"IF($C128>I$2,0,IF($C128=I$2,0.5,1)*MIN($F128*$F$119,$F128-SUM($G128:H128)))","v":0},{"$f":"IF($C128>J$2,0,IF($C128=J$2,0.5,1)*MIN($F128*$F$119,$F128-SUM($G128:I128)))","v":0},{"$f":"IF($C128>K$2,0,IF($C128=K$2,0.5,1)*MIN($F128*$F$119,$F128-SUM($G128:J128)))","v":0},{"$f":"IF($C128>L$2,0,IF($C128=L$2,0.5,1)*MIN($F128*$F$119,$F128-SUM($G128:K128)))","v":0},{"$f":"IF($C128>M$2,0,IF($C128=M$2,0.5,1)*MIN($F128*$F$119,$F128-SUM($G128:L128)))","v":0},{"$f":"IF($C128>N$2,0,IF($C128=N$2,0.5,1)*MIN($F128*$F$119,$F128-SUM($G128:M128)))","v":0},{"$f":"IF($C128>O$2,0,IF($C128=O$2,0.5,1)*MIN($F128*$F$119,$F128-SUM($G128:N128)))","v":0},{"$f":"IF($C128>P$2,0,IF($C128=P$2,0.5,1)*MIN($F128*$F$119,$F128-SUM($G128:O128)))","v":0},{"$f":"IF($C128>Q$2,0,IF($C128=Q$2,0.5,1)*MIN($F128*$F$119,$F128-SUM($G128:P128)))","v":0},{"$f":"IF($C128>R$2,0,IF($C128=R$2,0.5,1)*MIN($F128*$F$119,$F128-SUM($G128:Q128)))","v":0},{"$f":"IF($C128>S$2,0,IF($C128=S$2,0.5,1)*MIN($F128*$F$119,$F128-SUM($G128:R128)))","v":0},{"$f":"IF($C128>T$2,0,IF($C128=T$2,0.5,1)*MIN($F128*$F$119,$F128-SUM($G128:S128)))","v":0},{"$f":"IF($C128>U$2,0,IF($C128=U$2,0.5,1)*MIN($F128*$F$119,$F128-SUM($G128:T128)))","v":0},{"$f":"IF($C128>V$2,0,IF($C128=V$2,0.5,1)*MIN($F128*$F$119,$F128-SUM($G128:U128)))","v":0},{"$f":"IF($C128>W$2,0,IF($C128=W$2,0.5,1)*MIN($F128*$F$119,$F128-SUM($G128:V128)))","v":0},{"$f":"IF($C128>X$2,0,IF($C128=X$2,0.5,1)*MIN($F128*$F$119,$F128-SUM($G128:W128)))","v":0},{"$f":"IF($C128>Y$2,0,IF($C128=Y$2,0.5,1)*MIN($F128*$F$119,$F128-SUM($G128:X128)))","v":0},{"$f":"IF($C128>Z$2,0,IF($C128=Z$2,0.5,1)*MIN($F128*$F$119,$F128-SUM($G128:Y128)))","v":0},{"$f":"IF($C128>AA$2,0,IF($C128=AA$2,0.5,1)*MIN($F128*$F$119,$F128-SUM($G128:Z128)))","v":0},{"$f":"IF($C128>AB$2,0,IF($C128=AB$2,0.5,1)*MIN($F128*$F$119,$F128-SUM($G128:AA128)))","v":0}]
[null,null,2033,"тыс. руб.",8,0,null,{"$f":"IF($C129>H$2,0,IF($C129=H$2,0.5,1)*MIN($F129*$F$119,$F129-SUM($G129:G129)))","v":0},{"$f":"IF($C129>I$2,0,IF($C129=I$2,0.5,1)*MIN($F129*$F$119,$F129-SUM($G129:H129)))","v":0},{"$f":"IF($C129>J$2,0,IF($C129=J$2,0.5,1)*MIN($F129*$F$119,$F129-SUM($G129:I129)))","v":0},{"$f":"IF($C129>K$2,0,IF($C129=K$2,0.5,1)*MIN($F129*$F$119,$F129-SUM($G129:J129)))","v":0},{"$f":"IF($C129>L$2,0,IF($C129=L$2,0.5,1)*MIN($F129*$F$119,$F129-SUM($G129:K129)))","v":0},{"$f":"IF($C129>M$2,0,IF($C129=M$2,0.5,1)*MIN($F129*$F$119,$F129-SUM($G129:L129)))","v":0},{"$f":"IF($C129>N$2,0,IF($C129=N$2,0.5,1)*MIN($F129*$F$119,$F129-SUM($G129:M129)))","v":0},{"$f":"IF($C129>O$2,0,IF($C129=O$2,0.5,1)*MIN($F129*$F$119,$F129-SUM($G129:N129)))","v":0},{"$f":"IF($C129>P$2,0,IF($C129=P$2,0.5,1)*MIN($F129*$F$119,$F129-SUM($G129:O129)))","v":0},{"$f":"IF($C129>Q$2,0,IF($C129=Q$2,0.5,1)*MIN($F129*$F$119,$F129-SUM($G129:P129)))","v":0},{"$f":"IF($C129>R$2,0,IF($C129=R$2,0.5,1)*MIN($F129*$F$119,$F129-SUM($G129:Q129)))","v":0},{"$f":"IF($C129>S$2,0,IF($C129=S$2,0.5,1)*MIN($F129*$F$119,$F129-SUM($G129:R129)))","v":0},{"$f":"IF($C129>T$2,0,IF($C129=T$2,0.5,1)*MIN($F129*$F$119,$F129-SUM($G129:S129)))","v":0},{"$f":"IF($C129>U$2,0,IF($C129=U$2,0.5,1)*MIN($F129*$F$119,$F129-SUM($G129:T129)))","v":0},{"$f":"IF($C129>V$2,0,IF($C129=V$2,0.5,1)*MIN($F129*$F$119,$F129-SUM($G129:U129)))","v":0},{"$f":"IF($C129>W$2,0,IF($C129=W$2,0.5,1)*MIN($F129*$F$119,$F129-SUM($G129:V129)))","v":0},{"$f":"IF($C129>X$2,0,IF($C129=X$2,0.5,1)*MIN($F129*$F$119,$F129-SUM($G129:W129)))","v":0},{"$f":"IF($C129>Y$2,0,IF($C129=Y$2,0.5,1)*MIN($F129*$F$119,$F129-SUM($G129:X129)))","v":0},{"$f":"IF($C129>Z$2,0,IF($C129=Z$2,0.5,1)*MIN($F129*$F$119,$F129-SUM($G129:Y129)))","v":0},{"$f":"IF($C129>AA$2,0,IF($C129=AA$2,0.5,1)*MIN($F129*$F$119,$F129-SUM($G129:Z129)))","v":0},{"$f":"IF($C129>AB$2,0,IF($C129=AB$2,0.5,1)*MIN($F129*$F$119,$F129-SUM($G129:AA129)))","v":0}]
[null,null,2034,"тыс. руб.",9,0,null,{"$f":"IF($C130>H$2,0,IF($C130=H$2,0.5,1)*MIN($F130*$F$119,$F130-SUM($G130:G130)))","v":0},{"$f":"IF($C130>I$2,0,IF($C130=I$2,0.5,1)*MIN($F130*$F$119,$F130-SUM($G130:H130)))","v":0},{"$f":"IF($C130>J$2,0,IF($C130=J$2,0.5,1)*MIN($F130*$F$119,$F130-SUM($G130:I130)))","v":0},{"$f":"IF($C130>K$2,0,IF($C130=K$2,0.5,1)*MIN($F130*$F$119,$F130-SUM($G130:J130)))","v":0},{"$f":"IF($C130>L$2,0,IF($C130=L$2,0.5,1)*MIN($F130*$F$119,$F130-SUM($G130:K130)))","v":0},{"$f":"IF($C130>M$2,0,IF($C130=M$2,0.5,1)*MIN($F130*$F$119,$F130-SUM($G130:L130)))","v":0},{"$f":"IF($C130>N$2,0,IF($C130=N$2,0.5,1)*MIN($F130*$F$119,$F130-SUM($G130:M130)))","v":0},{"$f":"IF($C130>O$2,0,IF($C130=O$2,0.5,1)*MIN($F130*$F$119,$F130-SUM($G130:N130)))","v":0},{"$f":"IF($C130>P$2,0,IF($C130=P$2,0.5,1)*MIN($F130*$F$119,$F130-SUM($G130:O130)))","v":0},{"$f":"IF($C130>Q$2,0,IF($C130=Q$2,0.5,1)*MIN($F130*$F$119,$F130-SUM($G130:P130)))","v":0},{"$f":"IF($C130>R$2,0,IF($C130=R$2,0.5,1)*MIN($F130*$F$119,$F130-SUM($G130:Q130)))","v":0},{"$f":"IF($C130>S$2,0,IF($C130=S$2,0.5,1)*MIN($F130*$F$119,$F130-SUM($G130:R130)))","v":0},{"$f":"IF($C130>T$2,0,IF($C130=T$2,0.5,1)*MIN($F130*$F$119,$F130-SUM($G130:S130)))","v":0},{"$f":"IF($C130>U$2,0,IF($C130=U$2,0.5,1)*MIN($F130*$F$119,$F130-SUM($G130:T130)))","v":0},{"$f":"IF($C130>V$2,0,IF($C130=V$2,0.5,1)*MIN($F130*$F$119,$F130-SUM($G130:U130)))","v":0},{"$f":"IF($C130>W$2,0,IF($C130=W$2,0.5,1)*MIN($F130*$F$119,$F130-SUM($G130:V130)))","v":0},{"$f":"IF($C130>X$2,0,IF($C130=X$2,0.5,1)*MIN($F130*$F$119,$F130-SUM($G130:W130)))","v":0},{"$f":"IF($C130>Y$2,0,IF($C130=Y$2,0.5,1)*MIN($F130*$F$119,$F130-SUM($G130:X130)))","v":0},{"$f":"IF($C130>Z$2,0,IF($C130=Z$2,0.5,1)*MIN($F130*$F$119,$F130-SUM($G130:Y130)))","v":0},{"$f":"IF($C130>AA$2,0,IF($C130=AA$2,0.5,1)*MIN($F130*$F$119,$F130-SUM($G130:Z130)))","v":0},{"$f":"IF($C130>AB$2,0,IF($C130=AB$2,0.5,1)*MIN($F130*$F$119,$F130-SUM($G130:AA130)))","v":0}]
[null,null,2035,"тыс. руб.",10,0,null,{"$f":"IF($C131>H$2,0,IF($C131=H$2,0.5,1)*MIN($F131*$F$119,$F131-SUM($G131:G131)))","v":0},{"$f":"IF($C131>I$2,0,IF($C131=I$2,0.5,1)*MIN($F131*$F$119,$F131-SUM($G131:H131)))","v":0},{"$f":"IF($C131>J$2,0,IF($C131=J$2,0.5,1)*MIN($F131*$F$119,$F131-SUM($G131:I131)))","v":0},{"$f":"IF($C131>K$2,0,IF($C131=K$2,0.5,1)*MIN($F131*$F$119,$F131-SUM($G131:J131)))","v":0},{"$f":"IF($C131>L$2,0,IF($C131=L$2,0.5,1)*MIN($F131*$F$119,$F131-SUM($G131:K131)))","v":0},{"$f":"IF($C131>M$2,0,IF($C131=M$2,0.5,1)*MIN($F131*$F$119,$F131-SUM($G131:L131)))","v":0},{"$f":"IF($C131>N$2,0,IF($C131=N$2,0.5,1)*MIN($F131*$F$119,$F131-SUM($G131:M131)))","v":0},{"$f":"IF($C131>O$2,0,IF($C131=O$2,0.5,1)*MIN($F131*$F$119,$F131-SUM($G131:N131)))","v":0},{"$f":"IF($C131>P$2,0,IF($C131=P$2,0.5,1)*MIN($F131*$F$119,$F131-SUM($G131:O131)))","v":0},{"$f":"IF($C131>Q$2,0,IF($C131=Q$2,0.5,1)*MIN($F131*$F$119,$F131-SUM($G131:P131)))","v":0},{"$f":"IF($C131>R$2,0,IF($C131=R$2,0.5,1)*MIN($F131*$F$119,$F131-SUM($G131:Q131)))","v":0},{"$f":"IF($C131>S$2,0,IF($C131=S$2,0.5,1)*MIN($F131*$F$119,$F131-SUM($G131:R131)))","v":0},{"$f":"IF($C131>T$2,0,IF($C131=T$2,0.5,1)*MIN($F131*$F$119,$F131-SUM($G131:S131)))","v":0},{"$f":"IF($C131>U$2,0,IF($C131=U$2,0.5,1)*MIN($F131*$F$119,$F131-SUM($G131:T131)))","v":0},{"$f":"IF($C131>V$2,0,IF($C131=V$2,0.5,1)*MIN($F131*$F$119,$F131-SUM($G131:U131)))","v":0},{"$f":"IF($C131>W$2,0,IF($C131=W$2,0.5,1)*MIN($F131*$F$119,$F131-SUM($G131:V131)))","v":0},{"$f":"IF($C131>X$2,0,IF($C131=X$2,0.5,1)*MIN($F131*$F$119,$F131-SUM($G131:W131)))","v":0},{"$f":"IF($C131>Y$2,0,IF($C131=Y$2,0.5,1)*MIN($F131*$F$119,$F131-SUM($G131:X131)))","v":0},{"$f":"IF($C131>Z$2,0,IF($C131=Z$2,0.5,1)*MIN($F131*$F$119,$F131-SUM($G131:Y131)))","v":0},{"$f":"IF($C131>AA$2,0,IF($C131=AA$2,0.5,1)*MIN($F131*$F$119,$F131-SUM($G131:Z131)))","v":0},{"$f":"IF($C131>AB$2,0,IF($C131=AB$2,0.5,1)*MIN($F131*$F$119,$F131-SUM($G131:AA131)))","v":0}]
[null,null,2036,"тыс. руб.",11,0,null,{"$f":"IF($C132>H$2,0,IF($C132=H$2,0.5,1)*MIN($F132*$F$119,$F132-SUM($G132:G132)))","v":0},{"$f":"IF($C132>I$2,0,IF($C132=I$2,0.5,1)*MIN($F132*$F$119,$F132-SUM($G132:H132)))","v":0},{"$f":"IF($C132>J$2,0,IF($C132=J$2,0.5,1)*MIN($F132*$F$119,$F132-SUM($G132:I132)))","v":0},{"$f":"IF($C132>K$2,0,IF($C132=K$2,0.5,1)*MIN($F132*$F$119,$F132-SUM($G132:J132)))","v":0},{"$f":"IF($C132>L$2,0,IF($C132=L$2,0.5,1)*MIN($F132*$F$119,$F132-SUM($G132:K132)))","v":0},{"$f":"IF($C132>M$2,0,IF($C132=M$2,0.5,1)*MIN($F132*$F$119,$F132-SUM($G132:L132)))","v":0},{"$f":"IF($C132>N$2,0,IF($C132=N$2,0.5,1)*MIN($F132*$F$119,$F132-SUM($G132:M132)))","v":0},{"$f":"IF($C132>O$2,0,IF($C132=O$2,0.5,1)*MIN($F132*$F$119,$F132-SUM($G132:N132)))","v":0},{"$f":"IF($C132>P$2,0,IF($C132=P$2,0.5,1)*MIN($F132*$F$119,$F132-SUM($G132:O132)))","v":0},{"$f":"IF($C132>Q$2,0,IF($C132=Q$2,0.5,1)*MIN($F132*$F$119,$F132-SUM($G132:P132)))","v":0},{"$f":"IF($C132>R$2,0,IF($C132=R$2,0.5,1)*MIN($F132*$F$119,$F132-SUM($G132:Q132)))","v":0},{"$f":"IF($C132>S$2,0,IF($C132=S$2,0.5,1)*MIN($F132*$F$119,$F132-SUM($G132:R132)))","v":0},{"$f":"IF($C132>T$2,0,IF($C132=T$2,0.5,1)*MIN($F132*$F$119,$F132-SUM($G132:S132)))","v":0},{"$f":"IF($C132>U$2,0,IF($C132=U$2,0.5,1)*MIN($F132*$F$119,$F132-SUM($G132:T132)))","v":0},{"$f":"IF($C132>V$2,0,IF($C132=V$2,0.5,1)*MIN($F132*$F$119,$F132-SUM($G132:U132)))","v":0},{"$f":"IF($C132>W$2,0,IF($C132=W$2,0.5,1)*MIN($F132*$F$119,$F132-SUM($G132:V132)))","v":0},{"$f":"IF($C132>X$2,0,IF($C132=X$2,0.5,1)*MIN($F132*$F$119,$F132-SUM($G132:W132)))","v":0},{"$f":"IF($C132>Y$2,0,IF($C132=Y$2,0.5,1)*MIN($F132*$F$119,$F132-SUM($G132:X132)))","v":0},{"$f":"IF($C132>Z$2,0,IF($C132=Z$2,0.5,1)*MIN($F132*$F$119,$F132-SUM($G132:Y132)))","v":0},{"$f":"IF($C132>AA$2,0,IF($C132=AA$2,0.5,1)*MIN($F132*$F$119,$F132-SUM($G132:Z132)))","v":0},{"$f":"IF($C132>AB$2,0,IF($C132=AB$2,0.5,1)*MIN($F132*$F$119,$F132-SUM($G132:AA132)))","v":0}]
[null,null,2037,"тыс. руб.",12,0,null,{"$f":"IF($C133>H$2,0,IF($C133=H$2,0.5,1)*MIN($F133*$F$119,$F133-SUM($G133:G133)))","v":0},{"$f":"IF($C133>I$2,0,IF($C133=I$2,0.5,1)*MIN($F133*$F$119,$F133-SUM($G133:H133)))","v":0},{"$f":"IF($C133>J$2,0,IF($C133=J$2,0.5,1)*MIN($F133*$F$119,$F133-SUM($G133:I133)))","v":0},{"$f":"IF($C133>K$2,0,IF($C133=K$2,0.5,1)*MIN($F133*$F$119,$F133-SUM($G133:J133)))","v":0},{"$f":"IF($C133>L$2,0,IF($C133=L$2,0.5,1)*MIN($F133*$F$119,$F133-SUM($G133:K133)))","v":0},{"$f":"IF($C133>M$2,0,IF($C133=M$2,0.5,1)*MIN($F133*$F$119,$F133-SUM($G133:L133)))","v":0},{"$f":"IF($C133>N$2,0,IF($C133=N$2,0.5,1)*MIN($F133*$F$119,$F133-SUM($G133:M133)))","v":0},{"$f":"IF($C133>O$2,0,IF($C133=O$2,0.5,1)*MIN($F133*$F$119,$F133-SUM($G133:N133)))","v":0},{"$f":"IF($C133>P$2,0,IF($C133=P$2,0.5,1)*MIN($F133*$F$119,$F133-SUM($G133:O133)))","v":0},{"$f":"IF($C133>Q$2,0,IF($C133=Q$2,0.5,1)*MIN($F133*$F$119,$F133-SUM($G133:P133)))","v":0},{"$f":"IF($C133>R$2,0,IF($C133=R$2,0.5,1)*MIN($F133*$F$119,$F133-SUM($G133:Q133)))","v":0},{"$f":"IF($C133>S$2,0,IF($C133=S$2,0.5,1)*MIN($F133*$F$119,$F133-SUM($G133:R133)))","v":0},{"$f":"IF($C133>T$2,0,IF($C133=T$2,0.5,1)*MIN($F133*$F$119,$F133-SUM($G133:S133)))","v":0},{"$f":"IF($C133>U$2,0,IF($C133=U$2,0.5,1)*MIN($F133*$F$119,$F133-SUM($G133:T133)))","v":0},{"$f":"IF($C133>V$2,0,IF($C133=V$2,0.5,1)*MIN($F133*$F$119,$F133-SUM($G133:U133)))","v":0},{"$f":"IF($C133>W$2,0,IF($C133=W$2,0.5,1)*MIN($F133*$F$119,$F133-SUM($G133:V133)))","v":0},{"$f":"IF($C133>X$2,0,IF($C133=X$2,0.5,1)*MIN($F133*$F$119,$F133-SUM($G133:W133)))","v":0},{"$f":"IF($C133>Y$2,0,IF($C133=Y$2,0.5,1)*MIN($F133*$F$119,$F133-SUM($G133:X133)))","v":0},{"$f":"IF($C133>Z$2,0,IF($C133=Z$2,0.5,1)*MIN($F133*$F$119,$F133-SUM($G133:Y133)))","v":0},{"$f":"IF($C133>AA$2,0,IF($C133=AA$2,0.5,1)*MIN($F133*$F$119,$F133-SUM($G133:Z133)))","v":0},{"$f":"IF($C133>AB$2,0,IF($C133=AB$2,0.5,1)*MIN($F133*$F$119,$F133-SUM($G133:AA133)))","v":0}]
[null,null,2038,"тыс. руб.",13,0,null,{"$f":"IF($C134>H$2,0,IF($C134=H$2,0.5,1)*MIN($F134*$F$119,$F134-SUM($G134:G134)))","v":0},{"$f":"IF($C134>I$2,0,IF($C134=I$2,0.5,1)*MIN($F134*$F$119,$F134-SUM($G134:H134)))","v":0},{"$f":"IF($C134>J$2,0,IF($C134=J$2,0.5,1)*MIN($F134*$F$119,$F134-SUM($G134:I134)))","v":0},{"$f":"IF($C134>K$2,0,IF($C134=K$2,0.5,1)*MIN($F134*$F$119,$F134-SUM($G134:J134)))","v":0},{"$f":"IF($C134>L$2,0,IF($C134=L$2,0.5,1)*MIN($F134*$F$119,$F134-SUM($G134:K134)))","v":0},{"$f":"IF($C134>M$2,0,IF($C134=M$2,0.5,1)*MIN($F134*$F$119,$F134-SUM($G134:L134)))","v":0},{"$f":"IF($C134>N$2,0,IF($C134=N$2,0.5,1)*MIN($F134*$F$119,$F134-SUM($G134:M134)))","v":0},{"$f":"IF($C134>O$2,0,IF($C134=O$2,0.5,1)*MIN($F134*$F$119,$F134-SUM($G134:N134)))","v":0},{"$f":"IF($C134>P$2,0,IF($C134=P$2,0.5,1)*MIN($F134*$F$119,$F134-SUM($G134:O134)))","v":0},{"$f":"IF($C134>Q$2,0,IF($C134=Q$2,0.5,1)*MIN($F134*$F$119,$F134-SUM($G134:P134)))","v":0},{"$f":"IF($C134>R$2,0,IF($C134=R$2,0.5,1)*MIN($F134*$F$119,$F134-SUM($G134:Q134)))","v":0},{"$f":"IF($C134>S$2,0,IF($C134=S$2,0.5,1)*MIN($F134*$F$119,$F134-SUM($G134:R134)))","v":0},{"$f":"IF($C134>T$2,0,IF($C134=T$2,0.5,1)*MIN($F134*$F$119,$F134-SUM($G134:S134)))","v":0},{"$f":"IF($C134>U$2,0,IF($C134=U$2,0.5,1)*MIN($F134*$F$119,$F134-SUM($G134:T134)))","v":0},{"$f":"IF($C134>V$2,0,IF($C134=V$2,0.5,1)*MIN($F134*$F$119,$F134-SUM($G134:U134)))","v":0},{"$f":"IF($C134>W$2,0,IF($C134=W$2,0.5,1)*MIN($F134*$F$119,$F134-SUM($G134:V134)))","v":0},{"$f":"IF($C134>X$2,0,IF($C134=X$2,0.5,1)*MIN($F134*$F$119,$F134-SUM($G134:W134)))","v":0},{"$f":"IF($C134>Y$2,0,IF($C134=Y$2,0.5,1)*MIN($F134*$F$119,$F134-SUM($G134:X134)))","v":0},{"$f":"IF($C134>Z$2,0,IF($C134=Z$2,0.5,1)*MIN($F134*$F$119,$F134-SUM($G134:Y134)))","v":0},{"$f":"IF($C134>AA$2,0,IF($C134=AA$2,0.5,1)*MIN($F134*$F$119,$F134-SUM($G134:Z134)))","v":0},{"$f":"IF($C134>AB$2,0,IF($C134=AB$2,0.5,1)*MIN($F134*$F$119,$F134-SUM($G134:AA134)))","v":0}]
[null,null,2039,"тыс. руб.",14,0,null,{"$f":"IF($C135>H$2,0,IF($C135=H$2,0.5,1)*MIN($F135*$F$119,$F135-SUM($G135:G135)))","v":0},{"$f":"IF($C135>I$2,0,IF($C135=I$2,0.5,1)*MIN($F135*$F$119,$F135-SUM($G135:H135)))","v":0},{"$f":"IF($C135>J$2,0,IF($C135=J$2,0.5,1)*MIN($F135*$F$119,$F135-SUM($G135:I135)))","v":0},{"$f":"IF($C135>K$2,0,IF($C135=K$2,0.5,1)*MIN($F135*$F$119,$F135-SUM($G135:J135)))","v":0},{"$f":"IF($C135>L$2,0,IF($C135=L$2,0.5,1)*MIN($F135*$F$119,$F135-SUM($G135:K135)))","v":0},{"$f":"IF($C135>M$2,0,IF($C135=M$2,0.5,1)*MIN($F135*$F$119,$F135-SUM($G135:L135)))","v":0},{"$f":"IF($C135>N$2,0,IF($C135=N$2,0.5,1)*MIN($F135*$F$119,$F135-SUM($G135:M135)))","v":0},{"$f":"IF($C135>O$2,0,IF($C135=O$2,0.5,1)*MIN($F135*$F$119,$F135-SUM($G135:N135)))","v":0},{"$f":"IF($C135>P$2,0,IF($C135=P$2,0.5,1)*MIN($F135*$F$119,$F135-SUM($G135:O135)))","v":0},{"$f":"IF($C135>Q$2,0,IF($C135=Q$2,0.5,1)*MIN($F135*$F$119,$F135-SUM($G135:P135)))","v":0},{"$f":"IF($C135>R$2,0,IF($C135=R$2,0.5,1)*MIN($F135*$F$119,$F135-SUM($G135:Q135)))","v":0},{"$f":"IF($C135>S$2,0,IF($C135=S$2,0.5,1)*MIN($F135*$F$119,$F135-SUM($G135:R135)))","v":0},{"$f":"IF($C135>T$2,0,IF($C135=T$2,0.5,1)*MIN($F135*$F$119,$F135-SUM($G135:S135)))","v":0},{"$f":"IF($C135>U$2,0,IF($C135=U$2,0.5,1)*MIN($F135*$F$119,$F135-SUM($G135:T135)))","v":0},{"$f":"IF($C135>V$2,0,IF($C135=V$2,0.5,1)*MIN($F135*$F$119,$F135-SUM($G135:U135)))","v":0},{"$f":"IF($C135>W$2,0,IF($C135=W$2,0.5,1)*MIN($F135*$F$119,$F135-SUM($G135:V135)))","v":0},{"$f":"IF($C135>X$2,0,IF($C135=X$2,0.5,1)*MIN($F135*$F$119,$F135-SUM($G135:W135)))","v":0},{"$f":"IF($C135>Y$2,0,IF($C135=Y$2,0.5,1)*MIN($F135*$F$119,$F135-SUM($G135:X135)))","v":0},{"$f":"IF($C135>Z$2,0,IF($C135=Z$2,0.5,1)*MIN($F135*$F$119,$F135-SUM($G135:Y135)))","v":0},{"$f":"IF($C135>AA$2,0,IF($C135=AA$2,0.5,1)*MIN($F135*$F$119,$F135-SUM($G135:Z135)))","v":0},{"$f":"IF($C135>AB$2,0,IF($C135=AB$2,0.5,1)*MIN($F135*$F$119,$F135-SUM($G135:AA135)))","v":0}]
[null,null,2040,"тыс. руб.",15,0,null,{"$f":"IF($C136>H$2,0,IF($C136=H$2,0.5,1)*MIN($F136*$F$119,$F136-SUM($G136:G136)))","v":0},{"$f":"IF($C136>I$2,0,IF($C136=I$2,0.5,1)*MIN($F136*$F$119,$F136-SUM($G136:H136)))","v":0},{"$f":"IF($C136>J$2,0,IF($C136=J$2,0.5,1)*MIN($F136*$F$119,$F136-SUM($G136:I136)))","v":0},{"$f":"IF($C136>K$2,0,IF($C136=K$2,0.5,1)*MIN($F136*$F$119,$F136-SUM($G136:J136)))","v":0},{"$f":"IF($C136>L$2,0,IF($C136=L$2,0.5,1)*MIN($F136*$F$119,$F136-SUM($G136:K136)))","v":0},{"$f":"IF($C136>M$2,0,IF($C136=M$2,0.5,1)*MIN($F136*$F$119,$F136-SUM($G136:L136)))","v":0},{"$f":"IF($C136>N$2,0,IF($C136=N$2,0.5,1)*MIN($F136*$F$119,$F136-SUM($G136:M136)))","v":0},{"$f":"IF($C136>O$2,0,IF($C136=O$2,0.5,1)*MIN($F136*$F$119,$F136-SUM($G136:N136)))","v":0},{"$f":"IF($C136>P$2,0,IF($C136=P$2,0.5,1)*MIN($F136*$F$119,$F136-SUM($G136:O136)))","v":0},{"$f":"IF($C136>Q$2,0,IF($C136=Q$2,0.5,1)*MIN($F136*$F$119,$F136-SUM($G136:P136)))","v":0},{"$f":"IF($C136>R$2,0,IF($C136=R$2,0.5,1)*MIN($F136*$F$119,$F136-SUM($G136:Q136)))","v":0},{"$f":"IF($C136>S$2,0,IF($C136=S$2,0.5,1)*MIN($F136*$F$119,$F136-SUM($G136:R136)))","v":0},{"$f":"IF($C136>T$2,0,IF($C136=T$2,0.5,1)*MIN($F136*$F$119,$F136-SUM($G136:S136)))","v":0},{"$f":"IF($C136>U$2,0,IF($C136=U$2,0.5,1)*MIN($F136*$F$119,$F136-SUM($G136:T136)))","v":0},{"$f":"IF($C136>V$2,0,IF($C136=V$2,0.5,1)*MIN($F136*$F$119,$F136-SUM($G136:U136)))","v":0},{"$f":"IF($C136>W$2,0,IF($C136=W$2,0.5,1)*MIN($F136*$F$119,$F136-SUM($G136:V136)))","v":0},{"$f":"IF($C136>X$2,0,IF($C136=X$2,0.5,1)*MIN($F136*$F$119,$F136-SUM($G136:W136)))","v":0},{"$f":"IF($C136>Y$2,0,IF($C136=Y$2,0.5,1)*MIN($F136*$F$119,$F136-SUM($G136:X136)))","v":0},{"$f":"IF($C136>Z$2,0,IF($C136=Z$2,0.5,1)*MIN($F136*$F$119,$F136-SUM($G136:Y136)))","v":0},{"$f":"IF($C136>AA$2,0,IF($C136=AA$2,0.5,1)*MIN($F136*$F$119,$F136-SUM($G136:Z136)))","v":0},{"$f":"IF($C136>AB$2,0,IF($C136=AB$2,0.5,1)*MIN($F136*$F$119,$F136-SUM($G136:AA136)))","v":0}]
[null,null,2041,"тыс. руб.",16,0,null,{"$f":"IF($C137>H$2,0,IF($C137=H$2,0.5,1)*MIN($F137*$F$119,$F137-SUM($G137:G137)))","v":0},{"$f":"IF($C137>I$2,0,IF($C137=I$2,0.5,1)*MIN($F137*$F$119,$F137-SUM($G137:H137)))","v":0},{"$f":"IF($C137>J$2,0,IF($C137=J$2,0.5,1)*MIN($F137*$F$119,$F137-SUM($G137:I137)))","v":0},{"$f":"IF($C137>K$2,0,IF($C137=K$2,0.5,1)*MIN($F137*$F$119,$F137-SUM($G137:J137)))","v":0},{"$f":"IF($C137>L$2,0,IF($C137=L$2,0.5,1)*MIN($F137*$F$119,$F137-SUM($G137:K137)))","v":0},{"$f":"IF($C137>M$2,0,IF($C137=M$2,0.5,1)*MIN($F137*$F$119,$F137-SUM($G137:L137)))","v":0},{"$f":"IF($C137>N$2,0,IF($C137=N$2,0.5,1)*MIN($F137*$F$119,$F137-SUM($G137:M137)))","v":0},{"$f":"IF($C137>O$2,0,IF($C137=O$2,0.5,1)*MIN($F137*$F$119,$F137-SUM($G137:N137)))","v":0},{"$f":"IF($C137>P$2,0,IF($C137=P$2,0.5,1)*MIN($F137*$F$119,$F137-SUM($G137:O137)))","v":0},{"$f":"IF($C137>Q$2,0,IF($C137=Q$2,0.5,1)*MIN($F137*$F$119,$F137-SUM($G137:P137)))","v":0},{"$f":"IF($C137>R$2,0,IF($C137=R$2,0.5,1)*MIN($F137*$F$119,$F137-SUM($G137:Q137)))","v":0},{"$f":"IF($C137>S$2,0,IF($C137=S$2,0.5,1)*MIN($F137*$F$119,$F137-SUM($G137:R137)))","v":0},{"$f":"IF($C137>T$2,0,IF($C137=T$2,0.5,1)*MIN($F137*$F$119,$F137-SUM($G137:S137)))","v":0},{"$f":"IF($C137>U$2,0,IF($C137=U$2,0.5,1)*MIN($F137*$F$119,$F137-SUM($G137:T137)))","v":0},{"$f":"IF($C137>V$2,0,IF($C137=V$2,0.5,1)*MIN($F137*$F$119,$F137-SUM($G137:U137)))","v":0},{"$f":"IF($C137>W$2,0,IF($C137=W$2,0.5,1)*MIN($F137*$F$119,$F137-SUM($G137:V137)))","v":0},{"$f":"IF($C137>X$2,0,IF($C137=X$2,0.5,1)*MIN($F137*$F$119,$F137-SUM($G137:W137)))","v":0},{"$f":"IF($C137>Y$2,0,IF($C137=Y$2,0.5,1)*MIN($F137*$F$119,$F137-SUM($G137:X137)))","v":0},{"$f":"IF($C137>Z$2,0,IF($C137=Z$2,0.5,1)*MIN($F137*$F$119,$F137-SUM($G137:Y137)))","v":0},{"$f":"IF($C137>AA$2,0,IF($C137=AA$2,0.5,1)*MIN($F137*$F$119,$F137-SUM($G137:Z137)))","v":0},{"$f":"IF($C137>AB$2,0,IF($C137=AB$2,0.5,1)*MIN($F137*$F$119,$F137-SUM($G137:AA137)))","v":0}]
[null,null,2042,"тыс. руб.",17,0,null,{"$f":"IF($C138>H$2,0,IF($C138=H$2,0.5,1)*MIN($F138*$F$119,$F138-SUM($G138:G138)))","v":0},{"$f":"IF($C138>I$2,0,IF($C138=I$2,0.5,1)*MIN($F138*$F$119,$F138-SUM($G138:H138)))","v":0},{"$f":"IF($C138>J$2,0,IF($C138=J$2,0.5,1)*MIN($F138*$F$119,$F138-SUM($G138:I138)))","v":0},{"$f":"IF($C138>K$2,0,IF($C138=K$2,0.5,1)*MIN($F138*$F$119,$F138-SUM($G138:J138)))","v":0},{"$f":"IF($C138>L$2,0,IF($C138=L$2,0.5,1)*MIN($F138*$F$119,$F138-SUM($G138:K138)))","v":0},{"$f":"IF($C138>M$2,0,IF($C138=M$2,0.5,1)*MIN($F138*$F$119,$F138-SUM($G138:L138)))","v":0},{"$f":"IF($C138>N$2,0,IF($C138=N$2,0.5,1)*MIN($F138*$F$119,$F138-SUM($G138:M138)))","v":0},{"$f":"IF($C138>O$2,0,IF($C138=O$2,0.5,1)*MIN($F138*$F$119,$F138-SUM($G138:N138)))","v":0},{"$f":"IF($C138>P$2,0,IF($C138=P$2,0.5,1)*MIN($F138*$F$119,$F138-SUM($G138:O138)))","v":0},{"$f":"IF($C138>Q$2,0,IF($C138=Q$2,0.5,1)*MIN($F138*$F$119,$F138-SUM($G138:P138)))","v":0},{"$f":"IF($C138>R$2,0,IF($C138=R$2,0.5,1)*MIN($F138*$F$119,$F138-SUM($G138:Q138)))","v":0},{"$f":"IF($C138>S$2,0,IF($C138=S$2,0.5,1)*MIN($F138*$F$119,$F138-SUM($G138:R138)))","v":0},{"$f":"IF($C138>T$2,0,IF($C138=T$2,0.5,1)*MIN($F138*$F$119,$F138-SUM($G138:S138)))","v":0},{"$f":"IF($C138>U$2,0,IF($C138=U$2,0.5,1)*MIN($F138*$F$119,$F138-SUM($G138:T138)))","v":0},{"$f":"IF($C138>V$2,0,IF($C138=V$2,0.5,1)*MIN($F138*$F$119,$F138-SUM($G138:U138)))","v":0},{"$f":"IF($C138>W$2,0,IF($C138=W$2,0.5,1)*MIN($F138*$F$119,$F138-SUM($G138:V138)))","v":0},{"$f":"IF($C138>X$2,0,IF($C138=X$2,0.5,1)*MIN($F138*$F$119,$F138-SUM($G138:W138)))","v":0},{"$f":"IF($C138>Y$2,0,IF($C138=Y$2,0.5,1)*MIN($F138*$F$119,$F138-SUM($G138:X138)))","v":0},{"$f":"IF($C138>Z$2,0,IF($C138=Z$2,0.5,1)*MIN($F138*$F$119,$F138-SUM($G138:Y138)))","v":0},{"$f":"IF($C138>AA$2,0,IF($C138=AA$2,0.5,1)*MIN($F138*$F$119,$F138-SUM($G138:Z138)))","v":0},{"$f":"IF($C138>AB$2,0,IF($C138=AB$2,0.5,1)*MIN($F138*$F$119,$F138-SUM($G138:AA138)))","v":0}]
[null,null,2043,"тыс. руб.",18,0,null,{"$f":"IF($C139>H$2,0,IF($C139=H$2,0.5,1)*MIN($F139*$F$119,$F139-SUM($G139:G139)))","v":0},{"$f":"IF($C139>I$2,0,IF($C139=I$2,0.5,1)*MIN($F139*$F$119,$F139-SUM($G139:H139)))","v":0},{"$f":"IF($C139>J$2,0,IF($C139=J$2,0.5,1)*MIN($F139*$F$119,$F139-SUM($G139:I139)))","v":0},{"$f":"IF($C139>K$2,0,IF($C139=K$2,0.5,1)*MIN($F139*$F$119,$F139-SUM($G139:J139)))","v":0},{"$f":"IF($C139>L$2,0,IF($C139=L$2,0.5,1)*MIN($F139*$F$119,$F139-SUM($G139:K139)))","v":0},{"$f":"IF($C139>M$2,0,IF($C139=M$2,0.5,1)*MIN($F139*$F$119,$F139-SUM($G139:L139)))","v":0},{"$f":"IF($C139>N$2,0,IF($C139=N$2,0.5,1)*MIN($F139*$F$119,$F139-SUM($G139:M139)))","v":0},{"$f":"IF($C139>O$2,0,IF($C139=O$2,0.5,1)*MIN($F139*$F$119,$F139-SUM($G139:N139)))","v":0},{"$f":"IF($C139>P$2,0,IF($C139=P$2,0.5,1)*MIN($F139*$F$119,$F139-SUM($G139:O139)))","v":0},{"$f":"IF($C139>Q$2,0,IF($C139=Q$2,0.5,1)*MIN($F139*$F$119,$F139-SUM($G139:P139)))","v":0},{"$f":"IF($C139>R$2,0,IF($C139=R$2,0.5,1)*MIN($F139*$F$119,$F139-SUM($G139:Q139)))","v":0},{"$f":"IF($C139>S$2,0,IF($C139=S$2,0.5,1)*MIN($F139*$F$119,$F139-SUM($G139:R139)))","v":0},{"$f":"IF($C139>T$2,0,IF($C139=T$2,0.5,1)*MIN($F139*$F$119,$F139-SUM($G139:S139)))","v":0},{"$f":"IF($C139>U$2,0,IF($C139=U$2,0.5,1)*MIN($F139*$F$119,$F139-SUM($G139:T139)))","v":0},{"$f":"IF($C139>V$2,0,IF($C139=V$2,0.5,1)*MIN($F139*$F$119,$F139-SUM($G139:U139)))","v":0},{"$f":"IF($C139>W$2,0,IF($C139=W$2,0.5,1)*MIN($F139*$F$119,$F139-SUM($G139:V139)))","v":0},{"$f":"IF($C139>X$2,0,IF($C139=X$2,0.5,1)*MIN($F139*$F$119,$F139-SUM($G139:W139)))","v":0},{"$f":"IF($C139>Y$2,0,IF($C139=Y$2,0.5,1)*MIN($F139*$F$119,$F139-SUM($G139:X139)))","v":0},{"$f":"IF($C139>Z$2,0,IF($C139=Z$2,0.5,1)*MIN($F139*$F$119,$F139-SUM($G139:Y139)))","v":0},{"$f":"IF($C139>AA$2,0,IF($C139=AA$2,0.5,1)*MIN($F139*$F$119,$F139-SUM($G139:Z139)))","v":0},{"$f":"IF($C139>AB$2,0,IF($C139=AB$2,0.5,1)*MIN($F139*$F$119,$F139-SUM($G139:AA139)))","v":0}]
[null,null,2044,"тыс. руб.",19,0,null,{"$f":"IF($C140>H$2,0,IF($C140=H$2,0.5,1)*MIN($F140*$F$119,$F140-SUM($G140:G140)))","v":0},{"$f":"IF($C140>I$2,0,IF($C140=I$2,0.5,1)*MIN($F140*$F$119,$F140-SUM($G140:H140)))","v":0},{"$f":"IF($C140>J$2,0,IF($C140=J$2,0.5,1)*MIN($F140*$F$119,$F140-SUM($G140:I140)))","v":0},{"$f":"IF($C140>K$2,0,IF($C140=K$2,0.5,1)*MIN($F140*$F$119,$F140-SUM($G140:J140)))","v":0},{"$f":"IF($C140>L$2,0,IF($C140=L$2,0.5,1)*MIN($F140*$F$119,$F140-SUM($G140:K140)))","v":0},{"$f":"IF($C140>M$2,0,IF($C140=M$2,0.5,1)*MIN($F140*$F$119,$F140-SUM($G140:L140)))","v":0},{"$f":"IF($C140>N$2,0,IF($C140=N$2,0.5,1)*MIN($F140*$F$119,$F140-SUM($G140:M140)))","v":0},{"$f":"IF($C140>O$2,0,IF($C140=O$2,0.5,1)*MIN($F140*$F$119,$F140-SUM($G140:N140)))","v":0},{"$f":"IF($C140>P$2,0,IF($C140=P$2,0.5,1)*MIN($F140*$F$119,$F140-SUM($G140:O140)))","v":0},{"$f":"IF($C140>Q$2,0,IF($C140=Q$2,0.5,1)*MIN($F140*$F$119,$F140-SUM($G140:P140)))","v":0},{"$f":"IF($C140>R$2,0,IF($C140=R$2,0.5,1)*MIN($F140*$F$119,$F140-SUM($G140:Q140)))","v":0},{"$f":"IF($C140>S$2,0,IF($C140=S$2,0.5,1)*MIN($F140*$F$119,$F140-SUM($G140:R140)))","v":0},{"$f":"IF($C140>T$2,0,IF($C140=T$2,0.5,1)*MIN($F140*$F$119,$F140-SUM($G140:S140)))","v":0},{"$f":"IF($C140>U$2,0,IF($C140=U$2,0.5,1)*MIN($F140*$F$119,$F140-SUM($G140:T140)))","v":0},{"$f":"IF($C140>V$2,0,IF($C140=V$2,0.5,1)*MIN($F140*$F$119,$F140-SUM($G140:U140)))","v":0},{"$f":"IF($C140>W$2,0,IF($C140=W$2,0.5,1)*MIN($F140*$F$119,$F140-SUM($G140:V140)))","v":0},{"$f":"IF($C140>X$2,0,IF($C140=X$2,0.5,1)*MIN($F140*$F$119,$F140-SUM($G140:W140)))","v":0},{"$f":"IF($C140>Y$2,0,IF($C140=Y$2,0.5,1)*MIN($F140*$F$119,$F140-SUM($G140:X140)))","v":0},{"$f":"IF($C140>Z$2,0,IF($C140=Z$2,0.5,1)*MIN($F140*$F$119,$F140-SUM($G140:Y140)))","v":0},{"$f":"IF($C140>AA$2,0,IF($C140=AA$2,0.5,1)*MIN($F140*$F$119,$F140-SUM($G140:Z140)))","v":0},{"$f":"IF($C140>AB$2,0,IF($C140=AB$2,0.5,1)*MIN($F140*$F$119,$F140-SUM($G140:AA140)))","v":0}]
[null,null,2045,"тыс. руб.",20,0,null,{"$f":"IF($C141>H$2,0,IF($C141=H$2,0.5,1)*MIN($F141*$F$119,$F141-SUM($G141:G141)))","v":0},{"$f":"IF($C141>I$2,0,IF($C141=I$2,0.5,1)*MIN($F141*$F$119,$F141-SUM($G141:H141)))","v":0},{"$f":"IF($C141>J$2,0,IF($C141=J$2,0.5,1)*MIN($F141*$F$119,$F141-SUM($G141:I141)))","v":0},{"$f":"IF($C141>K$2,0,IF($C141=K$2,0.5,1)*MIN($F141*$F$119,$F141-SUM($G141:J141)))","v":0},{"$f":"IF($C141>L$2,0,IF($C141=L$2,0.5,1)*MIN($F141*$F$119,$F141-SUM($G141:K141)))","v":0},{"$f":"IF($C141>M$2,0,IF($C141=M$2,0.5,1)*MIN($F141*$F$119,$F141-SUM($G141:L141)))","v":0},{"$f":"IF($C141>N$2,0,IF($C141=N$2,0.5,1)*MIN($F141*$F$119,$F141-SUM($G141:M141)))","v":0},{"$f":"IF($C141>O$2,0,IF($C141=O$2,0.5,1)*MIN($F141*$F$119,$F141-SUM($G141:N141)))","v":0},{"$f":"IF($C141>P$2,0,IF($C141=P$2,0.5,1)*MIN($F141*$F$119,$F141-SUM($G141:O141)))","v":0},{"$f":"IF($C141>Q$2,0,IF($C141=Q$2,0.5,1)*MIN($F141*$F$119,$F141-SUM($G141:P141)))","v":0},{"$f":"IF($C141>R$2,0,IF($C141=R$2,0.5,1)*MIN($F141*$F$119,$F141-SUM($G141:Q141)))","v":0},{"$f":"IF($C141>S$2,0,IF($C141=S$2,0.5,1)*MIN($F141*$F$119,$F141-SUM($G141:R141)))","v":0},{"$f":"IF($C141>T$2,0,IF($C141=T$2,0.5,1)*MIN($F141*$F$119,$F141-SUM($G141:S141)))","v":0},{"$f":"IF($C141>U$2,0,IF($C141=U$2,0.5,1)*MIN($F141*$F$119,$F141-SUM($G141:T141)))","v":0},{"$f":"IF($C141>V$2,0,IF($C141=V$2,0.5,1)*MIN($F141*$F$119,$F141-SUM($G141:U141)))","v":0},{"$f":"IF($C141>W$2,0,IF($C141=W$2,0.5,1)*MIN($F141*$F$119,$F141-SUM($G141:V141)))","v":0},{"$f":"IF($C141>X$2,0,IF($C141=X$2,0.5,1)*MIN($F141*$F$119,$F141-SUM($G141:W141)))","v":0},{"$f":"IF($C141>Y$2,0,IF($C141=Y$2,0.5,1)*MIN($F141*$F$119,$F141-SUM($G141:X141)))","v":0},{"$f":"IF($C141>Z$2,0,IF($C141=Z$2,0.5,1)*MIN($F141*$F$119,$F141-SUM($G141:Y141)))","v":0},{"$f":"IF($C141>AA$2,0,IF($C141=AA$2,0.5,1)*MIN($F141*$F$119,$F141-SUM($G141:Z141)))","v":0},{"$f":"IF($C141>AB$2,0,IF($C141=AB$2,0.5,1)*MIN($F141*$F$119,$F141-SUM($G141:AA141)))","v":0}]
[]
[null,null,"Первоначальная стоимость активов","тыс. руб.",null,null,null,{"$f":"G143+H40","v":0},0,0,0,0,0,0,0,0,0,0,0,0,0,0,0,0,0,0,0,0]
[null,null,"Амортизация за период","тыс. руб.",null,null,null,{"$f":"H121","v":0},0,0,0,0,0,0,0,0,0,0,0,0,0,0,0,0,0,0,0,0]
[null,null,"Накопленная амортизация","тыс. руб.",null,null,null,{"$f":"G145+H144","v":0},0,0,0,0,0,0,0,0,0,0,0,0,0,0,0,0,0,0,0,0]
[null,null,"Остаточная стоимость активов","тыс. руб.",null,null,null,{"$f":"H143-H145","v":0},0,0,0,0,0,0,0,0,0,0,0,0,0,{"$f":"V143-V145","v":0},0,0,0,0,0,0]
[]
[null,"Нематериальные активы с определенным сроком полезного использования"]
[]
[null,null,"Ставка амортизации","%",null,{"$f":"Предпосылки!F231","v":0.05}]
[]
[null,null,"Амортизация ","тыс. руб.",null,null,null,{"$f":"SUM(H153:H172)","v":0},{"$f":"SUM(I153:I172)","v":0},0,0,0,0,0,0,0,0,0,0,0,0,0,0,0,0,0,0,0]
[null,null,{"$f":"INDEX(H$2:AA$2,,$E153)","v":2026},"тыс. руб.",1,{"$f":"OFFSET($G$41,,E153)","v":0},null,{"$f":"IF($C153>H$2,0,IF($C153=H$2,0.5,1)*MIN($F153*$F$150,$F153-SUM($G153:G153)))","v":0},{"$f":"IF($C153>I$2,0,IF($C153=I$2,0.5,1)*MIN($F153*$F$150,$F153-SUM($G153:H153)))","v":0},{"$f":"IF($C153>J$2,0,IF($C153=J$2,0.5,1)*MIN($F153*$F$150,$F153-SUM($G153:I153)))","v":0},{"$f":"IF($C153>K$2,0,IF($C153=K$2,0.5,1)*MIN($F153*$F$150,$F153-SUM($G153:J153)))","v":0},{"$f":"IF($C153>L$2,0,IF($C153=L$2,0.5,1)*MIN($F153*$F$150,$F153-SUM($G153:K153)))","v":0},{"$f":"IF($C153>M$2,0,IF($C153=M$2,0.5,1)*MIN($F153*$F$150,$F153-SUM($G153:L153)))","v":0},{"$f":"IF($C153>N$2,0,IF($C153=N$2,0.5,1)*MIN($F153*$F$150,$F153-SUM($G153:M153)))","v":0},{"$f":"IF($C153>O$2,0,IF($C153=O$2,0.5,1)*MIN($F153*$F$150,$F153-SUM($G153:N153)))","v":0},{"$f":"IF($C153>P$2,0,IF($C153=P$2,0.5,1)*MIN($F153*$F$150,$F153-SUM($G153:O153)))","v":0},{"$f":"IF($C153>Q$2,0,IF($C153=Q$2,0.5,1)*MIN($F153*$F$150,$F153-SUM($G153:P153)))","v":0},{"$f":"IF($C153>R$2,0,IF($C153=R$2,0.5,1)*MIN($F153*$F$150,$F153-SUM($G153:Q153)))","v":0},{"$f":"IF($C153>S$2,0,IF($C153=S$2,0.5,1)*MIN($F153*$F$150,$F153-SUM($G153:R153)))","v":0},{"$f":"IF($C153>T$2,0,IF($C153=T$2,0.5,1)*MIN($F153*$F$150,$F153-SUM($G153:S153)))","v":0},{"$f":"IF($C153>U$2,0,IF($C153=U$2,0.5,1)*MIN($F153*$F$150,$F153-SUM($G153:T153)))","v":0},{"$f":"IF($C153>V$2,0,IF($C153=V$2,0.5,1)*MIN($F153*$F$150,$F153-SUM($G153:U153)))","v":0},{"$f":"IF($C153>W$2,0,IF($C153=W$2,0.5,1)*MIN($F153*$F$150,$F153-SUM($G153:V153)))","v":0},{"$f":"IF($C153>X$2,0,IF($C153=X$2,0.5,1)*MIN($F153*$F$150,$F153-SUM($G153:W153)))","v":0},{"$f":"IF($C153>Y$2,0,IF($C153=Y$2,0.5,1)*MIN($F153*$F$150,$F153-SUM($G153:X153)))","v":0},{"$f":"IF($C153>Z$2,0,IF($C153=Z$2,0.5,1)*MIN($F153*$F$150,$F153-SUM($G153:Y153)))","v":0},{"$f":"IF($C153>AA$2,0,IF($C153=AA$2,0.5,1)*MIN($F153*$F$150,$F153-SUM($G153:Z153)))","v":0},{"$f":"IF($C153>AB$2,0,IF($C153=AB$2,0.5,1)*MIN($F153*$F$150,$F153-SUM($G153:AA153)))","v":0}]
[null,null,{"$f":"INDEX(H$2:AA$2,,$E154)","v":2027},"тыс. руб.",2,{"$f":"OFFSET($G$41,,E154)","v":0},null,{"$f":"IF($C154>H$2,0,IF($C154=H$2,0.5,1)*MIN($F154*$F$150,$F154-SUM($G154:G154)))","v":0},{"$f":"IF($C154>I$2,0,IF($C154=I$2,0.5,1)*MIN($F154*$F$150,$F154-SUM($G154:H154)))","v":0},{"$f":"IF($C154>J$2,0,IF($C154=J$2,0.5,1)*MIN($F154*$F$150,$F154-SUM($G154:I154)))","v":0},{"$f":"IF($C154>K$2,0,IF($C154=K$2,0.5,1)*MIN($F154*$F$150,$F154-SUM($G154:J154)))","v":0},{"$f":"IF($C154>L$2,0,IF($C154=L$2,0.5,1)*MIN($F154*$F$150,$F154-SUM($G154:K154)))","v":0},{"$f":"IF($C154>M$2,0,IF($C154=M$2,0.5,1)*MIN($F154*$F$150,$F154-SUM($G154:L154)))","v":0},{"$f":"IF($C154>N$2,0,IF($C154=N$2,0.5,1)*MIN($F154*$F$150,$F154-SUM($G154:M154)))","v":0},{"$f":"IF($C154>O$2,0,IF($C154=O$2,0.5,1)*MIN($F154*$F$150,$F154-SUM($G154:N154)))","v":0},{"$f":"IF($C154>P$2,0,IF($C154=P$2,0.5,1)*MIN($F154*$F$150,$F154-SUM($G154:O154)))","v":0},{"$f":"IF($C154>Q$2,0,IF($C154=Q$2,0.5,1)*MIN($F154*$F$150,$F154-SUM($G154:P154)))","v":0},{"$f":"IF($C154>R$2,0,IF($C154=R$2,0.5,1)*MIN($F154*$F$150,$F154-SUM($G154:Q154)))","v":0},{"$f":"IF($C154>S$2,0,IF($C154=S$2,0.5,1)*MIN($F154*$F$150,$F154-SUM($G154:R154)))","v":0},{"$f":"IF($C154>T$2,0,IF($C154=T$2,0.5,1)*MIN($F154*$F$150,$F154-SUM($G154:S154)))","v":0},{"$f":"IF($C154>U$2,0,IF($C154=U$2,0.5,1)*MIN($F154*$F$150,$F154-SUM($G154:T154)))","v":0},{"$f":"IF($C154>V$2,0,IF($C154=V$2,0.5,1)*MIN($F154*$F$150,$F154-SUM($G154:U154)))","v":0},{"$f":"IF($C154>W$2,0,IF($C154=W$2,0.5,1)*MIN($F154*$F$150,$F154-SUM($G154:V154)))","v":0},{"$f":"IF($C154>X$2,0,IF($C154=X$2,0.5,1)*MIN($F154*$F$150,$F154-SUM($G154:W154)))","v":0},{"$f":"IF($C154>Y$2,0,IF($C154=Y$2,0.5,1)*MIN($F154*$F$150,$F154-SUM($G154:X154)))","v":0},{"$f":"IF($C154>Z$2,0,IF($C154=Z$2,0.5,1)*MIN($F154*$F$150,$F154-SUM($G154:Y154)))","v":0},{"$f":"IF($C154>AA$2,0,IF($C154=AA$2,0.5,1)*MIN($F154*$F$150,$F154-SUM($G154:Z154)))","v":0},{"$f":"IF($C154>AB$2,0,IF($C154=AB$2,0.5,1)*MIN($F154*$F$150,$F154-SUM($G154:AA154)))","v":0}]
[null,null,2028,"тыс. руб.",3,0,null,{"$f":"IF($C155>H$2,0,IF($C155=H$2,0.5,1)*MIN($F155*$F$150,$F155-SUM($G155:G155)))","v":0},{"$f":"IF($C155>I$2,0,IF($C155=I$2,0.5,1)*MIN($F155*$F$150,$F155-SUM($G155:H155)))","v":0},{"$f":"IF($C155>J$2,0,IF($C155=J$2,0.5,1)*MIN($F155*$F$150,$F155-SUM($G155:I155)))","v":0},{"$f":"IF($C155>K$2,0,IF($C155=K$2,0.5,1)*MIN($F155*$F$150,$F155-SUM($G155:J155)))","v":0},{"$f":"IF($C155>L$2,0,IF($C155=L$2,0.5,1)*MIN($F155*$F$150,$F155-SUM($G155:K155)))","v":0},{"$f":"IF($C155>M$2,0,IF($C155=M$2,0.5,1)*MIN($F155*$F$150,$F155-SUM($G155:L155)))","v":0},{"$f":"IF($C155>N$2,0,IF($C155=N$2,0.5,1)*MIN($F155*$F$150,$F155-SUM($G155:M155)))","v":0},{"$f":"IF($C155>O$2,0,IF($C155=O$2,0.5,1)*MIN($F155*$F$150,$F155-SUM($G155:N155)))","v":0},{"$f":"IF($C155>P$2,0,IF($C155=P$2,0.5,1)*MIN($F155*$F$150,$F155-SUM($G155:O155)))","v":0},{"$f":"IF($C155>Q$2,0,IF($C155=Q$2,0.5,1)*MIN($F155*$F$150,$F155-SUM($G155:P155)))","v":0},{"$f":"IF($C155>R$2,0,IF($C155=R$2,0.5,1)*MIN($F155*$F$150,$F155-SUM($G155:Q155)))","v":0},{"$f":"IF($C155>S$2,0,IF($C155=S$2,0.5,1)*MIN($F155*$F$150,$F155-SUM($G155:R155)))","v":0},{"$f":"IF($C155>T$2,0,IF($C155=T$2,0.5,1)*MIN($F155*$F$150,$F155-SUM($G155:S155)))","v":0},{"$f":"IF($C155>U$2,0,IF($C155=U$2,0.5,1)*MIN($F155*$F$150,$F155-SUM($G155:T155)))","v":0},{"$f":"IF($C155>V$2,0,IF($C155=V$2,0.5,1)*MIN($F155*$F$150,$F155-SUM($G155:U155)))","v":0},{"$f":"IF($C155>W$2,0,IF($C155=W$2,0.5,1)*MIN($F155*$F$150,$F155-SUM($G155:V155)))","v":0},{"$f":"IF($C155>X$2,0,IF($C155=X$2,0.5,1)*MIN($F155*$F$150,$F155-SUM($G155:W155)))","v":0},{"$f":"IF($C155>Y$2,0,IF($C155=Y$2,0.5,1)*MIN($F155*$F$150,$F155-SUM($G155:X155)))","v":0},{"$f":"IF($C155>Z$2,0,IF($C155=Z$2,0.5,1)*MIN($F155*$F$150,$F155-SUM($G155:Y155)))","v":0},{"$f":"IF($C155>AA$2,0,IF($C155=AA$2,0.5,1)*MIN($F155*$F$150,$F155-SUM($G155:Z155)))","v":0},{"$f":"IF($C155>AB$2,0,IF($C155=AB$2,0.5,1)*MIN($F155*$F$150,$F155-SUM($G155:AA155)))","v":0}]
[null,null,2029,"тыс. руб.",4,0,null,{"$f":"IF($C156>H$2,0,IF($C156=H$2,0.5,1)*MIN($F156*$F$150,$F156-SUM($G156:G156)))","v":0},{"$f":"IF($C156>I$2,0,IF($C156=I$2,0.5,1)*MIN($F156*$F$150,$F156-SUM($G156:H156)))","v":0},{"$f":"IF($C156>J$2,0,IF($C156=J$2,0.5,1)*MIN($F156*$F$150,$F156-SUM($G156:I156)))","v":0},{"$f":"IF($C156>K$2,0,IF($C156=K$2,0.5,1)*MIN($F156*$F$150,$F156-SUM($G156:J156)))","v":0},{"$f":"IF($C156>L$2,0,IF($C156=L$2,0.5,1)*MIN($F156*$F$150,$F156-SUM($G156:K156)))","v":0},{"$f":"IF($C156>M$2,0,IF($C156=M$2,0.5,1)*MIN($F156*$F$150,$F156-SUM($G156:L156)))","v":0},{"$f":"IF($C156>N$2,0,IF($C156=N$2,0.5,1)*MIN($F156*$F$150,$F156-SUM($G156:M156)))","v":0},{"$f":"IF($C156>O$2,0,IF($C156=O$2,0.5,1)*MIN($F156*$F$150,$F156-SUM($G156:N156)))","v":0},{"$f":"IF($C156>P$2,0,IF($C156=P$2,0.5,1)*MIN($F156*$F$150,$F156-SUM($G156:O156)))","v":0},{"$f":"IF($C156>Q$2,0,IF($C156=Q$2,0.5,1)*MIN($F156*$F$150,$F156-SUM($G156:P156)))","v":0},{"$f":"IF($C156>R$2,0,IF($C156=R$2,0.5,1)*MIN($F156*$F$150,$F156-SUM($G156:Q156)))","v":0},{"$f":"IF($C156>S$2,0,IF($C156=S$2,0.5,1)*MIN($F156*$F$150,$F156-SUM($G156:R156)))","v":0},{"$f":"IF($C156>T$2,0,IF($C156=T$2,0.5,1)*MIN($F156*$F$150,$F156-SUM($G156:S156)))","v":0},{"$f":"IF($C156>U$2,0,IF($C156=U$2,0.5,1)*MIN($F156*$F$150,$F156-SUM($G156:T156)))","v":0},{"$f":"IF($C156>V$2,0,IF($C156=V$2,0.5,1)*MIN($F156*$F$150,$F156-SUM($G156:U156)))","v":0},{"$f":"IF($C156>W$2,0,IF($C156=W$2,0.5,1)*MIN($F156*$F$150,$F156-SUM($G156:V156)))","v":0},{"$f":"IF($C156>X$2,0,IF($C156=X$2,0.5,1)*MIN($F156*$F$150,$F156-SUM($G156:W156)))","v":0},{"$f":"IF($C156>Y$2,0,IF($C156=Y$2,0.5,1)*MIN($F156*$F$150,$F156-SUM($G156:X156)))","v":0},{"$f":"IF($C156>Z$2,0,IF($C156=Z$2,0.5,1)*MIN($F156*$F$150,$F156-SUM($G156:Y156)))","v":0},{"$f":"IF($C156>AA$2,0,IF($C156=AA$2,0.5,1)*MIN($F156*$F$150,$F156-SUM($G156:Z156)))","v":0},{"$f":"IF($C156>AB$2,0,IF($C156=AB$2,0.5,1)*MIN($F156*$F$150,$F156-SUM($G156:AA156)))","v":0}]
[null,null,2030,"тыс. руб.",5,0,null,{"$f":"IF($C157>H$2,0,IF($C157=H$2,0.5,1)*MIN($F157*$F$150,$F157-SUM($G157:G157)))","v":0},{"$f":"IF($C157>I$2,0,IF($C157=I$2,0.5,1)*MIN($F157*$F$150,$F157-SUM($G157:H157)))","v":0},{"$f":"IF($C157>J$2,0,IF($C157=J$2,0.5,1)*MIN($F157*$F$150,$F157-SUM($G157:I157)))","v":0},{"$f":"IF($C157>K$2,0,IF($C157=K$2,0.5,1)*MIN($F157*$F$150,$F157-SUM($G157:J157)))","v":0},{"$f":"IF($C157>L$2,0,IF($C157=L$2,0.5,1)*MIN($F157*$F$150,$F157-SUM($G157:K157)))","v":0},{"$f":"IF($C157>M$2,0,IF($C157=M$2,0.5,1)*MIN($F157*$F$150,$F157-SUM($G157:L157)))","v":0},{"$f":"IF($C157>N$2,0,IF($C157=N$2,0.5,1)*MIN($F157*$F$150,$F157-SUM($G157:M157)))","v":0},{"$f":"IF($C157>O$2,0,IF($C157=O$2,0.5,1)*MIN($F157*$F$150,$F157-SUM($G157:N157)))","v":0},{"$f":"IF($C157>P$2,0,IF($C157=P$2,0.5,1)*MIN($F157*$F$150,$F157-SUM($G157:O157)))","v":0},{"$f":"IF($C157>Q$2,0,IF($C157=Q$2,0.5,1)*MIN($F157*$F$150,$F157-SUM($G157:P157)))","v":0},{"$f":"IF($C157>R$2,0,IF($C157=R$2,0.5,1)*MIN($F157*$F$150,$F157-SUM($G157:Q157)))","v":0},{"$f":"IF($C157>S$2,0,IF($C157=S$2,0.5,1)*MIN($F157*$F$150,$F157-SUM($G157:R157)))","v":0},{"$f":"IF($C157>T$2,0,IF($C157=T$2,0.5,1)*MIN($F157*$F$150,$F157-SUM($G157:S157)))","v":0},{"$f":"IF($C157>U$2,0,IF($C157=U$2,0.5,1)*MIN($F157*$F$150,$F157-SUM($G157:T157)))","v":0},{"$f":"IF($C157>V$2,0,IF($C157=V$2,0.5,1)*MIN($F157*$F$150,$F157-SUM($G157:U157)))","v":0},{"$f":"IF($C157>W$2,0,IF($C157=W$2,0.5,1)*MIN($F157*$F$150,$F157-SUM($G157:V157)))","v":0},{"$f":"IF($C157>X$2,0,IF($C157=X$2,0.5,1)*MIN($F157*$F$150,$F157-SUM($G157:W157)))","v":0},{"$f":"IF($C157>Y$2,0,IF($C157=Y$2,0.5,1)*MIN($F157*$F$150,$F157-SUM($G157:X157)))","v":0},{"$f":"IF($C157>Z$2,0,IF($C157=Z$2,0.5,1)*MIN($F157*$F$150,$F157-SUM($G157:Y157)))","v":0},{"$f":"IF($C157>AA$2,0,IF($C157=AA$2,0.5,1)*MIN($F157*$F$150,$F157-SUM($G157:Z157)))","v":0},{"$f":"IF($C157>AB$2,0,IF($C157=AB$2,0.5,1)*MIN($F157*$F$150,$F157-SUM($G157:AA157)))","v":0}]
[null,null,2031,"тыс. руб.",6,0,null,{"$f":"IF($C158>H$2,0,IF($C158=H$2,0.5,1)*MIN($F158*$F$150,$F158-SUM($G158:G158)))","v":0},{"$f":"IF($C158>I$2,0,IF($C158=I$2,0.5,1)*MIN($F158*$F$150,$F158-SUM($G158:H158)))","v":0},{"$f":"IF($C158>J$2,0,IF($C158=J$2,0.5,1)*MIN($F158*$F$150,$F158-SUM($G158:I158)))","v":0},{"$f":"IF($C158>K$2,0,IF($C158=K$2,0.5,1)*MIN($F158*$F$150,$F158-SUM($G158:J158)))","v":0},{"$f":"IF($C158>L$2,0,IF($C158=L$2,0.5,1)*MIN($F158*$F$150,$F158-SUM($G158:K158)))","v":0},{"$f":"IF($C158>M$2,0,IF($C158=M$2,0.5,1)*MIN($F158*$F$150,$F158-SUM($G158:L158)))","v":0},{"$f":"IF($C158>N$2,0,IF($C158=N$2,0.5,1)*MIN($F158*$F$150,$F158-SUM($G158:M158)))","v":0},{"$f":"IF($C158>O$2,0,IF($C158=O$2,0.5,1)*MIN($F158*$F$150,$F158-SUM($G158:N158)))","v":0},{"$f":"IF($C158>P$2,0,IF($C158=P$2,0.5,1)*MIN($F158*$F$150,$F158-SUM($G158:O158)))","v":0},{"$f":"IF($C158>Q$2,0,IF($C158=Q$2,0.5,1)*MIN($F158*$F$150,$F158-SUM($G158:P158)))","v":0},{"$f":"IF($C158>R$2,0,IF($C158=R$2,0.5,1)*MIN($F158*$F$150,$F158-SUM($G158:Q158)))","v":0},{"$f":"IF($C158>S$2,0,IF($C158=S$2,0.5,1)*MIN($F158*$F$150,$F158-SUM($G158:R158)))","v":0},{"$f":"IF($C158>T$2,0,IF($C158=T$2,0.5,1)*MIN($F158*$F$150,$F158-SUM($G158:S158)))","v":0},{"$f":"IF($C158>U$2,0,IF($C158=U$2,0.5,1)*MIN($F158*$F$150,$F158-SUM($G158:T158)))","v":0},{"$f":"IF($C158>V$2,0,IF($C158=V$2,0.5,1)*MIN($F158*$F$150,$F158-SUM($G158:U158)))","v":0},{"$f":"IF($C158>W$2,0,IF($C158=W$2,0.5,1)*MIN($F158*$F$150,$F158-SUM($G158:V158)))","v":0},{"$f":"IF($C158>X$2,0,IF($C158=X$2,0.5,1)*MIN($F158*$F$150,$F158-SUM($G158:W158)))","v":0},{"$f":"IF($C158>Y$2,0,IF($C158=Y$2,0.5,1)*MIN($F158*$F$150,$F158-SUM($G158:X158)))","v":0},{"$f":"IF($C158>Z$2,0,IF($C158=Z$2,0.5,1)*MIN($F158*$F$150,$F158-SUM($G158:Y158)))","v":0},{"$f":"IF($C158>AA$2,0,IF($C158=AA$2,0.5,1)*MIN($F158*$F$150,$F158-SUM($G158:Z158)))","v":0},{"$f":"IF($C158>AB$2,0,IF($C158=AB$2,0.5,1)*MIN($F158*$F$150,$F158-SUM($G158:AA158)))","v":0}]
[null,null,2032,"тыс. руб.",7,0,null,{"$f":"IF($C159>H$2,0,IF($C159=H$2,0.5,1)*MIN($F159*$F$150,$F159-SUM($G159:G159)))","v":0},{"$f":"IF($C159>I$2,0,IF($C159=I$2,0.5,1)*MIN($F159*$F$150,$F159-SUM($G159:H159)))","v":0},{"$f":"IF($C159>J$2,0,IF($C159=J$2,0.5,1)*MIN($F159*$F$150,$F159-SUM($G159:I159)))","v":0},{"$f":"IF($C159>K$2,0,IF($C159=K$2,0.5,1)*MIN($F159*$F$150,$F159-SUM($G159:J159)))","v":0},{"$f":"IF($C159>L$2,0,IF($C159=L$2,0.5,1)*MIN($F159*$F$150,$F159-SUM($G159:K159)))","v":0},{"$f":"IF($C159>M$2,0,IF($C159=M$2,0.5,1)*MIN($F159*$F$150,$F159-SUM($G159:L159)))","v":0},{"$f":"IF($C159>N$2,0,IF($C159=N$2,0.5,1)*MIN($F159*$F$150,$F159-SUM($G159:M159)))","v":0},{"$f":"IF($C159>O$2,0,IF($C159=O$2,0.5,1)*MIN($F159*$F$150,$F159-SUM($G159:N159)))","v":0},{"$f":"IF($C159>P$2,0,IF($C159=P$2,0.5,1)*MIN($F159*$F$150,$F159-SUM($G159:O159)))","v":0},{"$f":"IF($C159>Q$2,0,IF($C159=Q$2,0.5,1)*MIN($F159*$F$150,$F159-SUM($G159:P159)))","v":0},{"$f":"IF($C159>R$2,0,IF($C159=R$2,0.5,1)*MIN($F159*$F$150,$F159-SUM($G159:Q159)))","v":0},{"$f":"IF($C159>S$2,0,IF($C159=S$2,0.5,1)*MIN($F159*$F$150,$F159-SUM($G159:R159)))","v":0},{"$f":"IF($C159>T$2,0,IF($C159=T$2,0.5,1)*MIN($F159*$F$150,$F159-SUM($G159:S159)))","v":0},{"$f":"IF($C159>U$2,0,IF($C159=U$2,0.5,1)*MIN($F159*$F$150,$F159-SUM($G159:T159)))","v":0},{"$f":"IF($C159>V$2,0,IF($C159=V$2,0.5,1)*MIN($F159*$F$150,$F159-SUM($G159:U159)))","v":0},{"$f":"IF($C159>W$2,0,IF($C159=W$2,0.5,1)*MIN($F159*$F$150,$F159-SUM($G159:V159)))","v":0},{"$f":"IF($C159>X$2,0,IF($C159=X$2,0.5,1)*MIN($F159*$F$150,$F159-SUM($G159:W159)))","v":0},{"$f":"IF($C159>Y$2,0,IF($C159=Y$2,0.5,1)*MIN($F159*$F$150,$F159-SUM($G159:X159)))","v":0},{"$f":"IF($C159>Z$2,0,IF($C159=Z$2,0.5,1)*MIN($F159*$F$150,$F159-SUM($G159:Y159)))","v":0},{"$f":"IF($C159>AA$2,0,IF($C159=AA$2,0.5,1)*MIN($F159*$F$150,$F159-SUM($G159:Z159)))","v":0},{"$f":"IF($C159>AB$2,0,IF($C159=AB$2,0.5,1)*MIN($F159*$F$150,$F159-SUM($G159:AA159)))","v":0}]
[null,null,2033,"тыс. руб.",8,0,null,{"$f":"IF($C160>H$2,0,IF($C160=H$2,0.5,1)*MIN($F160*$F$150,$F160-SUM($G160:G160)))","v":0},{"$f":"IF($C160>I$2,0,IF($C160=I$2,0.5,1)*MIN($F160*$F$150,$F160-SUM($G160:H160)))","v":0},{"$f":"IF($C160>J$2,0,IF($C160=J$2,0.5,1)*MIN($F160*$F$150,$F160-SUM($G160:I160)))","v":0},{"$f":"IF($C160>K$2,0,IF($C160=K$2,0.5,1)*MIN($F160*$F$150,$F160-SUM($G160:J160)))","v":0},{"$f":"IF($C160>L$2,0,IF($C160=L$2,0.5,1)*MIN($F160*$F$150,$F160-SUM($G160:K160)))","v":0},{"$f":"IF($C160>M$2,0,IF($C160=M$2,0.5,1)*MIN($F160*$F$150,$F160-SUM($G160:L160)))","v":0},{"$f":"IF($C160>N$2,0,IF($C160=N$2,0.5,1)*MIN($F160*$F$150,$F160-SUM($G160:M160)))","v":0},{"$f":"IF($C160>O$2,0,IF($C160=O$2,0.5,1)*MIN($F160*$F$150,$F160-SUM($G160:N160)))","v":0},{"$f":"IF($C160>P$2,0,IF($C160=P$2,0.5,1)*MIN($F160*$F$150,$F160-SUM($G160:O160)))","v":0},{"$f":"IF($C160>Q$2,0,IF($C160=Q$2,0.5,1)*MIN($F160*$F$150,$F160-SUM($G160:P160)))","v":0},{"$f":"IF($C160>R$2,0,IF($C160=R$2,0.5,1)*MIN($F160*$F$150,$F160-SUM($G160:Q160)))","v":0},{"$f":"IF($C160>S$2,0,IF($C160=S$2,0.5,1)*MIN($F160*$F$150,$F160-SUM($G160:R160)))","v":0},{"$f":"IF($C160>T$2,0,IF($C160=T$2,0.5,1)*MIN($F160*$F$150,$F160-SUM($G160:S160)))","v":0},{"$f":"IF($C160>U$2,0,IF($C160=U$2,0.5,1)*MIN($F160*$F$150,$F160-SUM($G160:T160)))","v":0},{"$f":"IF($C160>V$2,0,IF($C160=V$2,0.5,1)*MIN($F160*$F$150,$F160-SUM($G160:U160)))","v":0},{"$f":"IF($C160>W$2,0,IF($C160=W$2,0.5,1)*MIN($F160*$F$150,$F160-SUM($G160:V160)))","v":0},{"$f":"IF($C160>X$2,0,IF($C160=X$2,0.5,1)*MIN($F160*$F$150,$F160-SUM($G160:W160)))","v":0},{"$f":"IF($C160>Y$2,0,IF($C160=Y$2,0.5,1)*MIN($F160*$F$150,$F160-SUM($G160:X160)))","v":0},{"$f":"IF($C160>Z$2,0,IF($C160=Z$2,0.5,1)*MIN($F160*$F$150,$F160-SUM($G160:Y160)))","v":0},{"$f":"IF($C160>AA$2,0,IF($C160=AA$2,0.5,1)*MIN($F160*$F$150,$F160-SUM($G160:Z160)))","v":0},{"$f":"IF($C160>AB$2,0,IF($C160=AB$2,0.5,1)*MIN($F160*$F$150,$F160-SUM($G160:AA160)))","v":0}]
[null,null,2034,"тыс. руб.",9,0,null,{"$f":"IF($C161>H$2,0,IF($C161=H$2,0.5,1)*MIN($F161*$F$150,$F161-SUM($G161:G161)))","v":0},{"$f":"IF($C161>I$2,0,IF($C161=I$2,0.5,1)*MIN($F161*$F$150,$F161-SUM($G161:H161)))","v":0},{"$f":"IF($C161>J$2,0,IF($C161=J$2,0.5,1)*MIN($F161*$F$150,$F161-SUM($G161:I161)))","v":0},{"$f":"IF($C161>K$2,0,IF($C161=K$2,0.5,1)*MIN($F161*$F$150,$F161-SUM($G161:J161)))","v":0},{"$f":"IF($C161>L$2,0,IF($C161=L$2,0.5,1)*MIN($F161*$F$150,$F161-SUM($G161:K161)))","v":0},{"$f":"IF($C161>M$2,0,IF($C161=M$2,0.5,1)*MIN($F161*$F$150,$F161-SUM($G161:L161)))","v":0},{"$f":"IF($C161>N$2,0,IF($C161=N$2,0.5,1)*MIN($F161*$F$150,$F161-SUM($G161:M161)))","v":0},{"$f":"IF($C161>O$2,0,IF($C161=O$2,0.5,1)*MIN($F161*$F$150,$F161-SUM($G161:N161)))","v":0},{"$f":"IF($C161>P$2,0,IF($C161=P$2,0.5,1)*MIN($F161*$F$150,$F161-SUM($G161:O161)))","v":0},{"$f":"IF($C161>Q$2,0,IF($C161=Q$2,0.5,1)*MIN($F161*$F$150,$F161-SUM($G161:P161)))","v":0},{"$f":"IF($C161>R$2,0,IF($C161=R$2,0.5,1)*MIN($F161*$F$150,$F161-SUM($G161:Q161)))","v":0},{"$f":"IF($C161>S$2,0,IF($C161=S$2,0.5,1)*MIN($F161*$F$150,$F161-SUM($G161:R161)))","v":0},{"$f":"IF($C161>T$2,0,IF($C161=T$2,0.5,1)*MIN($F161*$F$150,$F161-SUM($G161:S161)))","v":0},{"$f":"IF($C161>U$2,0,IF($C161=U$2,0.5,1)*MIN($F161*$F$150,$F161-SUM($G161:T161)))","v":0},{"$f":"IF($C161>V$2,0,IF($C161=V$2,0.5,1)*MIN($F161*$F$150,$F161-SUM($G161:U161)))","v":0},{"$f":"IF($C161>W$2,0,IF($C161=W$2,0.5,1)*MIN($F161*$F$150,$F161-SUM($G161:V161)))","v":0},{"$f":"IF($C161>X$2,0,IF($C161=X$2,0.5,1)*MIN($F161*$F$150,$F161-SUM($G161:W161)))","v":0},{"$f":"IF($C161>Y$2,0,IF($C161=Y$2,0.5,1)*MIN($F161*$F$150,$F161-SUM($G161:X161)))","v":0},{"$f":"IF($C161>Z$2,0,IF($C161=Z$2,0.5,1)*MIN($F161*$F$150,$F161-SUM($G161:Y161)))","v":0},{"$f":"IF($C161>AA$2,0,IF($C161=AA$2,0.5,1)*MIN($F161*$F$150,$F161-SUM($G161:Z161)))","v":0},{"$f":"IF($C161>AB$2,0,IF($C161=AB$2,0.5,1)*MIN($F161*$F$150,$F161-SUM($G161:AA161)))","v":0}]
[null,null,2035,"тыс. руб.",10,0,null,{"$f":"IF($C162>H$2,0,IF($C162=H$2,0.5,1)*MIN($F162*$F$150,$F162-SUM($G162:G162)))","v":0},{"$f":"IF($C162>I$2,0,IF($C162=I$2,0.5,1)*MIN($F162*$F$150,$F162-SUM($G162:H162)))","v":0},{"$f":"IF($C162>J$2,0,IF($C162=J$2,0.5,1)*MIN($F162*$F$150,$F162-SUM($G162:I162)))","v":0},{"$f":"IF($C162>K$2,0,IF($C162=K$2,0.5,1)*MIN($F162*$F$150,$F162-SUM($G162:J162)))","v":0},{"$f":"IF($C162>L$2,0,IF($C162=L$2,0.5,1)*MIN($F162*$F$150,$F162-SUM($G162:K162)))","v":0},{"$f":"IF($C162>M$2,0,IF($C162=M$2,0.5,1)*MIN($F162*$F$150,$F162-SUM($G162:L162)))","v":0},{"$f":"IF($C162>N$2,0,IF($C162=N$2,0.5,1)*MIN($F162*$F$150,$F162-SUM($G162:M162)))","v":0},{"$f":"IF($C162>O$2,0,IF($C162=O$2,0.5,1)*MIN($F162*$F$150,$F162-SUM($G162:N162)))","v":0},{"$f":"IF($C162>P$2,0,IF($C162=P$2,0.5,1)*MIN($F162*$F$150,$F162-SUM($G162:O162)))","v":0},{"$f":"IF($C162>Q$2,0,IF($C162=Q$2,0.5,1)*MIN($F162*$F$150,$F162-SUM($G162:P162)))","v":0},{"$f":"IF($C162>R$2,0,IF($C162=R$2,0.5,1)*MIN($F162*$F$150,$F162-SUM($G162:Q162)))","v":0},{"$f":"IF($C162>S$2,0,IF($C162=S$2,0.5,1)*MIN($F162*$F$150,$F162-SUM($G162:R162)))","v":0},{"$f":"IF($C162>T$2,0,IF($C162=T$2,0.5,1)*MIN($F162*$F$150,$F162-SUM($G162:S162)))","v":0},{"$f":"IF($C162>U$2,0,IF($C162=U$2,0.5,1)*MIN($F162*$F$150,$F162-SUM($G162:T162)))","v":0},{"$f":"IF($C162>V$2,0,IF($C162=V$2,0.5,1)*MIN($F162*$F$150,$F162-SUM($G162:U162)))","v":0},{"$f":"IF($C162>W$2,0,IF($C162=W$2,0.5,1)*MIN($F162*$F$150,$F162-SUM($G162:V162)))","v":0},{"$f":"IF($C162>X$2,0,IF($C162=X$2,0.5,1)*MIN($F162*$F$150,$F162-SUM($G162:W162)))","v":0},{"$f":"IF($C162>Y$2,0,IF($C162=Y$2,0.5,1)*MIN($F162*$F$150,$F162-SUM($G162:X162)))","v":0},{"$f":"IF($C162>Z$2,0,IF($C162=Z$2,0.5,1)*MIN($F162*$F$150,$F162-SUM($G162:Y162)))","v":0},{"$f":"IF($C162>AA$2,0,IF($C162=AA$2,0.5,1)*MIN($F162*$F$150,$F162-SUM($G162:Z162)))","v":0},{"$f":"IF($C162>AB$2,0,IF($C162=AB$2,0.5,1)*MIN($F162*$F$150,$F162-SUM($G162:AA162)))","v":0}]
[null,null,2036,"тыс. руб.",11,0,null,{"$f":"IF($C163>H$2,0,IF($C163=H$2,0.5,1)*MIN($F163*$F$150,$F163-SUM($G163:G163)))","v":0},{"$f":"IF($C163>I$2,0,IF($C163=I$2,0.5,1)*MIN($F163*$F$150,$F163-SUM($G163:H163)))","v":0},{"$f":"IF($C163>J$2,0,IF($C163=J$2,0.5,1)*MIN($F163*$F$150,$F163-SUM($G163:I163)))","v":0},{"$f":"IF($C163>K$2,0,IF($C163=K$2,0.5,1)*MIN($F163*$F$150,$F163-SUM($G163:J163)))","v":0},{"$f":"IF($C163>L$2,0,IF($C163=L$2,0.5,1)*MIN($F163*$F$150,$F163-SUM($G163:K163)))","v":0},{"$f":"IF($C163>M$2,0,IF($C163=M$2,0.5,1)*MIN($F163*$F$150,$F163-SUM($G163:L163)))","v":0},{"$f":"IF($C163>N$2,0,IF($C163=N$2,0.5,1)*MIN($F163*$F$150,$F163-SUM($G163:M163)))","v":0},{"$f":"IF($C163>O$2,0,IF($C163=O$2,0.5,1)*MIN($F163*$F$150,$F163-SUM($G163:N163)))","v":0},{"$f":"IF($C163>P$2,0,IF($C163=P$2,0.5,1)*MIN($F163*$F$150,$F163-SUM($G163:O163)))","v":0},{"$f":"IF($C163>Q$2,0,IF($C163=Q$2,0.5,1)*MIN($F163*$F$150,$F163-SUM($G163:P163)))","v":0},{"$f":"IF($C163>R$2,0,IF($C163=R$2,0.5,1)*MIN($F163*$F$150,$F163-SUM($G163:Q163)))","v":0},{"$f":"IF($C163>S$2,0,IF($C163=S$2,0.5,1)*MIN($F163*$F$150,$F163-SUM($G163:R163)))","v":0},{"$f":"IF($C163>T$2,0,IF($C163=T$2,0.5,1)*MIN($F163*$F$150,$F163-SUM($G163:S163)))","v":0},{"$f":"IF($C163>U$2,0,IF($C163=U$2,0.5,1)*MIN($F163*$F$150,$F163-SUM($G163:T163)))","v":0},{"$f":"IF($C163>V$2,0,IF($C163=V$2,0.5,1)*MIN($F163*$F$150,$F163-SUM($G163:U163)))","v":0},{"$f":"IF($C163>W$2,0,IF($C163=W$2,0.5,1)*MIN($F163*$F$150,$F163-SUM($G163:V163)))","v":0},{"$f":"IF($C163>X$2,0,IF($C163=X$2,0.5,1)*MIN($F163*$F$150,$F163-SUM($G163:W163)))","v":0},{"$f":"IF($C163>Y$2,0,IF($C163=Y$2,0.5,1)*MIN($F163*$F$150,$F163-SUM($G163:X163)))","v":0},{"$f":"IF($C163>Z$2,0,IF($C163=Z$2,0.5,1)*MIN($F163*$F$150,$F163-SUM($G163:Y163)))","v":0},{"$f":"IF($C163>AA$2,0,IF($C163=AA$2,0.5,1)*MIN($F163*$F$150,$F163-SUM($G163:Z163)))","v":0},{"$f":"IF($C163>AB$2,0,IF($C163=AB$2,0.5,1)*MIN($F163*$F$150,$F163-SUM($G163:AA163)))","v":0}]
[null,null,2037,"тыс. руб.",12,0,null,{"$f":"IF($C164>H$2,0,IF($C164=H$2,0.5,1)*MIN($F164*$F$150,$F164-SUM($G164:G164)))","v":0},{"$f":"IF($C164>I$2,0,IF($C164=I$2,0.5,1)*MIN($F164*$F$150,$F164-SUM($G164:H164)))","v":0},{"$f":"IF($C164>J$2,0,IF($C164=J$2,0.5,1)*MIN($F164*$F$150,$F164-SUM($G164:I164)))","v":0},{"$f":"IF($C164>K$2,0,IF($C164=K$2,0.5,1)*MIN($F164*$F$150,$F164-SUM($G164:J164)))","v":0},{"$f":"IF($C164>L$2,0,IF($C164=L$2,0.5,1)*MIN($F164*$F$150,$F164-SUM($G164:K164)))","v":0},{"$f":"IF($C164>M$2,0,IF($C164=M$2,0.5,1)*MIN($F164*$F$150,$F164-SUM($G164:L164)))","v":0},{"$f":"IF($C164>N$2,0,IF($C164=N$2,0.5,1)*MIN($F164*$F$150,$F164-SUM($G164:M164)))","v":0},{"$f":"IF($C164>O$2,0,IF($C164=O$2,0.5,1)*MIN($F164*$F$150,$F164-SUM($G164:N164)))","v":0},{"$f":"IF($C164>P$2,0,IF($C164=P$2,0.5,1)*MIN($F164*$F$150,$F164-SUM($G164:O164)))","v":0},{"$f":"IF($C164>Q$2,0,IF($C164=Q$2,0.5,1)*MIN($F164*$F$150,$F164-SUM($G164:P164)))","v":0},{"$f":"IF($C164>R$2,0,IF($C164=R$2,0.5,1)*MIN($F164*$F$150,$F164-SUM($G164:Q164)))","v":0},{"$f":"IF($C164>S$2,0,IF($C164=S$2,0.5,1)*MIN($F164*$F$150,$F164-SUM($G164:R164)))","v":0},{"$f":"IF($C164>T$2,0,IF($C164=T$2,0.5,1)*MIN($F164*$F$150,$F164-SUM($G164:S164)))","v":0},{"$f":"IF($C164>U$2,0,IF($C164=U$2,0.5,1)*MIN($F164*$F$150,$F164-SUM($G164:T164)))","v":0},{"$f":"IF($C164>V$2,0,IF($C164=V$2,0.5,1)*MIN($F164*$F$150,$F164-SUM($G164:U164)))","v":0},{"$f":"IF($C164>W$2,0,IF($C164=W$2,0.5,1)*MIN($F164*$F$150,$F164-SUM($G164:V164)))","v":0},{"$f":"IF($C164>X$2,0,IF($C164=X$2,0.5,1)*MIN($F164*$F$150,$F164-SUM($G164:W164)))","v":0},{"$f":"IF($C164>Y$2,0,IF($C164=Y$2,0.5,1)*MIN($F164*$F$150,$F164-SUM($G164:X164)))","v":0},{"$f":"IF($C164>Z$2,0,IF($C164=Z$2,0.5,1)*MIN($F164*$F$150,$F164-SUM($G164:Y164)))","v":0},{"$f":"IF($C164>AA$2,0,IF($C164=AA$2,0.5,1)*MIN($F164*$F$150,$F164-SUM($G164:Z164)))","v":0},{"$f":"IF($C164>AB$2,0,IF($C164=AB$2,0.5,1)*MIN($F164*$F$150,$F164-SUM($G164:AA164)))","v":0}]
[null,null,2038,"тыс. руб.",13,0,null,{"$f":"IF($C165>H$2,0,IF($C165=H$2,0.5,1)*MIN($F165*$F$150,$F165-SUM($G165:G165)))","v":0},{"$f":"IF($C165>I$2,0,IF($C165=I$2,0.5,1)*MIN($F165*$F$150,$F165-SUM($G165:H165)))","v":0},{"$f":"IF($C165>J$2,0,IF($C165=J$2,0.5,1)*MIN($F165*$F$150,$F165-SUM($G165:I165)))","v":0},{"$f":"IF($C165>K$2,0,IF($C165=K$2,0.5,1)*MIN($F165*$F$150,$F165-SUM($G165:J165)))","v":0},{"$f":"IF($C165>L$2,0,IF($C165=L$2,0.5,1)*MIN($F165*$F$150,$F165-SUM($G165:K165)))","v":0},{"$f":"IF($C165>M$2,0,IF($C165=M$2,0.5,1)*MIN($F165*$F$150,$F165-SUM($G165:L165)))","v":0},{"$f":"IF($C165>N$2,0,IF($C165=N$2,0.5,1)*MIN($F165*$F$150,$F165-SUM($G165:M165)))","v":0},{"$f":"IF($C165>O$2,0,IF($C165=O$2,0.5,1)*MIN($F165*$F$150,$F165-SUM($G165:N165)))","v":0},{"$f":"IF($C165>P$2,0,IF($C165=P$2,0.5,1)*MIN($F165*$F$150,$F165-SUM($G165:O165)))","v":0},{"$f":"IF($C165>Q$2,0,IF($C165=Q$2,0.5,1)*MIN($F165*$F$150,$F165-SUM($G165:P165)))","v":0},{"$f":"IF($C165>R$2,0,IF($C165=R$2,0.5,1)*MIN($F165*$F$150,$F165-SUM($G165:Q165)))","v":0},{"$f":"IF($C165>S$2,0,IF($C165=S$2,0.5,1)*MIN($F165*$F$150,$F165-SUM($G165:R165)))","v":0},{"$f":"IF($C165>T$2,0,IF($C165=T$2,0.5,1)*MIN($F165*$F$150,$F165-SUM($G165:S165)))","v":0},{"$f":"IF($C165>U$2,0,IF($C165=U$2,0.5,1)*MIN($F165*$F$150,$F165-SUM($G165:T165)))","v":0},{"$f":"IF($C165>V$2,0,IF($C165=V$2,0.5,1)*MIN($F165*$F$150,$F165-SUM($G165:U165)))","v":0},{"$f":"IF($C165>W$2,0,IF($C165=W$2,0.5,1)*MIN($F165*$F$150,$F165-SUM($G165:V165)))","v":0},{"$f":"IF($C165>X$2,0,IF($C165=X$2,0.5,1)*MIN($F165*$F$150,$F165-SUM($G165:W165)))","v":0},{"$f":"IF($C165>Y$2,0,IF($C165=Y$2,0.5,1)*MIN($F165*$F$150,$F165-SUM($G165:X165)))","v":0},{"$f":"IF($C165>Z$2,0,IF($C165=Z$2,0.5,1)*MIN($F165*$F$150,$F165-SUM($G165:Y165)))","v":0},{"$f":"IF($C165>AA$2,0,IF($C165=AA$2,0.5,1)*MIN($F165*$F$150,$F165-SUM($G165:Z165)))","v":0},{"$f":"IF($C165>AB$2,0,IF($C165=AB$2,0.5,1)*MIN($F165*$F$150,$F165-SUM($G165:AA165)))","v":0}]
[null,null,2039,"тыс. руб.",14,0,null,{"$f":"IF($C166>H$2,0,IF($C166=H$2,0.5,1)*MIN($F166*$F$150,$F166-SUM($G166:G166)))","v":0},{"$f":"IF($C166>I$2,0,IF($C166=I$2,0.5,1)*MIN($F166*$F$150,$F166-SUM($G166:H166)))","v":0},{"$f":"IF($C166>J$2,0,IF($C166=J$2,0.5,1)*MIN($F166*$F$150,$F166-SUM($G166:I166)))","v":0},{"$f":"IF($C166>K$2,0,IF($C166=K$2,0.5,1)*MIN($F166*$F$150,$F166-SUM($G166:J166)))","v":0},{"$f":"IF($C166>L$2,0,IF($C166=L$2,0.5,1)*MIN($F166*$F$150,$F166-SUM($G166:K166)))","v":0},{"$f":"IF($C166>M$2,0,IF($C166=M$2,0.5,1)*MIN($F166*$F$150,$F166-SUM($G166:L166)))","v":0},{"$f":"IF($C166>N$2,0,IF($C166=N$2,0.5,1)*MIN($F166*$F$150,$F166-SUM($G166:M166)))","v":0},{"$f":"IF($C166>O$2,0,IF($C166=O$2,0.5,1)*MIN($F166*$F$150,$F166-SUM($G166:N166)))","v":0},{"$f":"IF($C166>P$2,0,IF($C166=P$2,0.5,1)*MIN($F166*$F$150,$F166-SUM($G166:O166)))","v":0},{"$f":"IF($C166>Q$2,0,IF($C166=Q$2,0.5,1)*MIN($F166*$F$150,$F166-SUM($G166:P166)))","v":0},{"$f":"IF($C166>R$2,0,IF($C166=R$2,0.5,1)*MIN($F166*$F$150,$F166-SUM($G166:Q166)))","v":0},{"$f":"IF($C166>S$2,0,IF($C166=S$2,0.5,1)*MIN($F166*$F$150,$F166-SUM($G166:R166)))","v":0},{"$f":"IF($C166>T$2,0,IF($C166=T$2,0.5,1)*MIN($F166*$F$150,$F166-SUM($G166:S166)))","v":0},{"$f":"IF($C166>U$2,0,IF($C166=U$2,0.5,1)*MIN($F166*$F$150,$F166-SUM($G166:T166)))","v":0},{"$f":"IF($C166>V$2,0,IF($C166=V$2,0.5,1)*MIN($F166*$F$150,$F166-SUM($G166:U166)))","v":0},{"$f":"IF($C166>W$2,0,IF($C166=W$2,0.5,1)*MIN($F166*$F$150,$F166-SUM($G166:V166)))","v":0},{"$f":"IF($C166>X$2,0,IF($C166=X$2,0.5,1)*MIN($F166*$F$150,$F166-SUM($G166:W166)))","v":0},{"$f":"IF($C166>Y$2,0,IF($C166=Y$2,0.5,1)*MIN($F166*$F$150,$F166-SUM($G166:X166)))","v":0},{"$f":"IF($C166>Z$2,0,IF($C166=Z$2,0.5,1)*MIN($F166*$F$150,$F166-SUM($G166:Y166)))","v":0},{"$f":"IF($C166>AA$2,0,IF($C166=AA$2,0.5,1)*MIN($F166*$F$150,$F166-SUM($G166:Z166)))","v":0},{"$f":"IF($C166>AB$2,0,IF($C166=AB$2,0.5,1)*MIN($F166*$F$150,$F166-SUM($G166:AA166)))","v":0}]
[null,null,2040,"тыс. руб.",15,0,null,{"$f":"IF($C167>H$2,0,IF($C167=H$2,0.5,1)*MIN($F167*$F$150,$F167-SUM($G167:G167)))","v":0},{"$f":"IF($C167>I$2,0,IF($C167=I$2,0.5,1)*MIN($F167*$F$150,$F167-SUM($G167:H167)))","v":0},{"$f":"IF($C167>J$2,0,IF($C167=J$2,0.5,1)*MIN($F167*$F$150,$F167-SUM($G167:I167)))","v":0},{"$f":"IF($C167>K$2,0,IF($C167=K$2,0.5,1)*MIN($F167*$F$150,$F167-SUM($G167:J167)))","v":0},{"$f":"IF($C167>L$2,0,IF($C167=L$2,0.5,1)*MIN($F167*$F$150,$F167-SUM($G167:K167)))","v":0},{"$f":"IF($C167>M$2,0,IF($C167=M$2,0.5,1)*MIN($F167*$F$150,$F167-SUM($G167:L167)))","v":0},{"$f":"IF($C167>N$2,0,IF($C167=N$2,0.5,1)*MIN($F167*$F$150,$F167-SUM($G167:M167)))","v":0},{"$f":"IF($C167>O$2,0,IF($C167=O$2,0.5,1)*MIN($F167*$F$150,$F167-SUM($G167:N167)))","v":0},{"$f":"IF($C167>P$2,0,IF($C167=P$2,0.5,1)*MIN($F167*$F$150,$F167-SUM($G167:O167)))","v":0},{"$f":"IF($C167>Q$2,0,IF($C167=Q$2,0.5,1)*MIN($F167*$F$150,$F167-SUM($G167:P167)))","v":0},{"$f":"IF($C167>R$2,0,IF($C167=R$2,0.5,1)*MIN($F167*$F$150,$F167-SUM($G167:Q167)))","v":0},{"$f":"IF($C167>S$2,0,IF($C167=S$2,0.5,1)*MIN($F167*$F$150,$F167-SUM($G167:R167)))","v":0},{"$f":"IF($C167>T$2,0,IF($C167=T$2,0.5,1)*MIN($F167*$F$150,$F167-SUM($G167:S167)))","v":0},{"$f":"IF($C167>U$2,0,IF($C167=U$2,0.5,1)*MIN($F167*$F$150,$F167-SUM($G167:T167)))","v":0},{"$f":"IF($C167>V$2,0,IF($C167=V$2,0.5,1)*MIN($F167*$F$150,$F167-SUM($G167:U167)))","v":0},{"$f":"IF($C167>W$2,0,IF($C167=W$2,0.5,1)*MIN($F167*$F$150,$F167-SUM($G167:V167)))","v":0},{"$f":"IF($C167>X$2,0,IF($C167=X$2,0.5,1)*MIN($F167*$F$150,$F167-SUM($G167:W167)))","v":0},{"$f":"IF($C167>Y$2,0,IF($C167=Y$2,0.5,1)*MIN($F167*$F$150,$F167-SUM($G167:X167)))","v":0},{"$f":"IF($C167>Z$2,0,IF($C167=Z$2,0.5,1)*MIN($F167*$F$150,$F167-SUM($G167:Y167)))","v":0},{"$f":"IF($C167>AA$2,0,IF($C167=AA$2,0.5,1)*MIN($F167*$F$150,$F167-SUM($G167:Z167)))","v":0},{"$f":"IF($C167>AB$2,0,IF($C167=AB$2,0.5,1)*MIN($F167*$F$150,$F167-SUM($G167:AA167)))","v":0}]
[null,null,2041,"тыс. руб.",16,0,null,{"$f":"IF($C168>H$2,0,IF($C168=H$2,0.5,1)*MIN($F168*$F$150,$F168-SUM($G168:G168)))","v":0},{"$f":"IF($C168>I$2,0,IF($C168=I$2,0.5,1)*MIN($F168*$F$150,$F168-SUM($G168:H168)))","v":0},{"$f":"IF($C168>J$2,0,IF($C168=J$2,0.5,1)*MIN($F168*$F$150,$F168-SUM($G168:I168)))","v":0},{"$f":"IF($C168>K$2,0,IF($C168=K$2,0.5,1)*MIN($F168*$F$150,$F168-SUM($G168:J168)))","v":0},{"$f":"IF($C168>L$2,0,IF($C168=L$2,0.5,1)*MIN($F168*$F$150,$F168-SUM($G168:K168)))","v":0},{"$f":"IF($C168>M$2,0,IF($C168=M$2,0.5,1)*MIN($F168*$F$150,$F168-SUM($G168:L168)))","v":0},{"$f":"IF($C168>N$2,0,IF($C168=N$2,0.5,1)*MIN($F168*$F$150,$F168-SUM($G168:M168)))","v":0},{"$f":"IF($C168>O$2,0,IF($C168=O$2,0.5,1)*MIN($F168*$F$150,$F168-SUM($G168:N168)))","v":0},{"$f":"IF($C168>P$2,0,IF($C168=P$2,0.5,1)*MIN($F168*$F$150,$F168-SUM($G168:O168)))","v":0},{"$f":"IF($C168>Q$2,0,IF($C168=Q$2,0.5,1)*MIN($F168*$F$150,$F168-SUM($G168:P168)))","v":0},{"$f":"IF($C168>R$2,0,IF($C168=R$2,0.5,1)*MIN($F168*$F$150,$F168-SUM($G168:Q168)))","v":0},{"$f":"IF($C168>S$2,0,IF($C168=S$2,0.5,1)*MIN($F168*$F$150,$F168-SUM($G168:R168)))","v":0},{"$f":"IF($C168>T$2,0,IF($C168=T$2,0.5,1)*MIN($F168*$F$150,$F168-SUM($G168:S168)))","v":0},{"$f":"IF($C168>U$2,0,IF($C168=U$2,0.5,1)*MIN($F168*$F$150,$F168-SUM($G168:T168)))","v":0},{"$f":"IF($C168>V$2,0,IF($C168=V$2,0.5,1)*MIN($F168*$F$150,$F168-SUM($G168:U168)))","v":0},{"$f":"IF($C168>W$2,0,IF($C168=W$2,0.5,1)*MIN($F168*$F$150,$F168-SUM($G168:V168)))","v":0},{"$f":"IF($C168>X$2,0,IF($C168=X$2,0.5,1)*MIN($F168*$F$150,$F168-SUM($G168:W168)))","v":0},{"$f":"IF($C168>Y$2,0,IF($C168=Y$2,0.5,1)*MIN($F168*$F$150,$F168-SUM($G168:X168)))","v":0},{"$f":"IF($C168>Z$2,0,IF($C168=Z$2,0.5,1)*MIN($F168*$F$150,$F168-SUM($G168:Y168)))","v":0},{"$f":"IF($C168>AA$2,0,IF($C168=AA$2,0.5,1)*MIN($F168*$F$150,$F168-SUM($G168:Z168)))","v":0},{"$f":"IF($C168>AB$2,0,IF($C168=AB$2,0.5,1)*MIN($F168*$F$150,$F168-SUM($G168:AA168)))","v":0}]
[null,null,2042,"тыс. руб.",17,0,null,{"$f":"IF($C169>H$2,0,IF($C169=H$2,0.5,1)*MIN($F169*$F$150,$F169-SUM($G169:G169)))","v":0},{"$f":"IF($C169>I$2,0,IF($C169=I$2,0.5,1)*MIN($F169*$F$150,$F169-SUM($G169:H169)))","v":0},{"$f":"IF($C169>J$2,0,IF($C169=J$2,0.5,1)*MIN($F169*$F$150,$F169-SUM($G169:I169)))","v":0},{"$f":"IF($C169>K$2,0,IF($C169=K$2,0.5,1)*MIN($F169*$F$150,$F169-SUM($G169:J169)))","v":0},{"$f":"IF($C169>L$2,0,IF($C169=L$2,0.5,1)*MIN($F169*$F$150,$F169-SUM($G169:K169)))","v":0},{"$f":"IF($C169>M$2,0,IF($C169=M$2,0.5,1)*MIN($F169*$F$150,$F169-SUM($G169:L169)))","v":0},{"$f":"IF($C169>N$2,0,IF($C169=N$2,0.5,1)*MIN($F169*$F$150,$F169-SUM($G169:M169)))","v":0},{"$f":"IF($C169>O$2,0,IF($C169=O$2,0.5,1)*MIN($F169*$F$150,$F169-SUM($G169:N169)))","v":0},{"$f":"IF($C169>P$2,0,IF($C169=P$2,0.5,1)*MIN($F169*$F$150,$F169-SUM($G169:O169)))","v":0},{"$f":"IF($C169>Q$2,0,IF($C169=Q$2,0.5,1)*MIN($F169*$F$150,$F169-SUM($G169:P169)))","v":0},{"$f":"IF($C169>R$2,0,IF($C169=R$2,0.5,1)*MIN($F169*$F$150,$F169-SUM($G169:Q169)))","v":0},{"$f":"IF($C169>S$2,0,IF($C169=S$2,0.5,1)*MIN($F169*$F$150,$F169-SUM($G169:R169)))","v":0},{"$f":"IF($C169>T$2,0,IF($C169=T$2,0.5,1)*MIN($F169*$F$150,$F169-SUM($G169:S169)))","v":0},{"$f":"IF($C169>U$2,0,IF($C169=U$2,0.5,1)*MIN($F169*$F$150,$F169-SUM($G169:T169)))","v":0},{"$f":"IF($C169>V$2,0,IF($C169=V$2,0.5,1)*MIN($F169*$F$150,$F169-SUM($G169:U169)))","v":0},{"$f":"IF($C169>W$2,0,IF($C169=W$2,0.5,1)*MIN($F169*$F$150,$F169-SUM($G169:V169)))","v":0},{"$f":"IF($C169>X$2,0,IF($C169=X$2,0.5,1)*MIN($F169*$F$150,$F169-SUM($G169:W169)))","v":0},{"$f":"IF($C169>Y$2,0,IF($C169=Y$2,0.5,1)*MIN($F169*$F$150,$F169-SUM($G169:X169)))","v":0},{"$f":"IF($C169>Z$2,0,IF($C169=Z$2,0.5,1)*MIN($F169*$F$150,$F169-SUM($G169:Y169)))","v":0},{"$f":"IF($C169>AA$2,0,IF($C169=AA$2,0.5,1)*MIN($F169*$F$150,$F169-SUM($G169:Z169)))","v":0},{"$f":"IF($C169>AB$2,0,IF($C169=AB$2,0.5,1)*MIN($F169*$F$150,$F169-SUM($G169:AA169)))","v":0}]
[null,null,2043,"тыс. руб.",18,0,null,{"$f":"IF($C170>H$2,0,IF($C170=H$2,0.5,1)*MIN($F170*$F$150,$F170-SUM($G170:G170)))","v":0},{"$f":"IF($C170>I$2,0,IF($C170=I$2,0.5,1)*MIN($F170*$F$150,$F170-SUM($G170:H170)))","v":0},{"$f":"IF($C170>J$2,0,IF($C170=J$2,0.5,1)*MIN($F170*$F$150,$F170-SUM($G170:I170)))","v":0},{"$f":"IF($C170>K$2,0,IF($C170=K$2,0.5,1)*MIN($F170*$F$150,$F170-SUM($G170:J170)))","v":0},{"$f":"IF($C170>L$2,0,IF($C170=L$2,0.5,1)*MIN($F170*$F$150,$F170-SUM($G170:K170)))","v":0},{"$f":"IF($C170>M$2,0,IF($C170=M$2,0.5,1)*MIN($F170*$F$150,$F170-SUM($G170:L170)))","v":0},{"$f":"IF($C170>N$2,0,IF($C170=N$2,0.5,1)*MIN($F170*$F$150,$F170-SUM($G170:M170)))","v":0},{"$f":"IF($C170>O$2,0,IF($C170=O$2,0.5,1)*MIN($F170*$F$150,$F170-SUM($G170:N170)))","v":0},{"$f":"IF($C170>P$2,0,IF($C170=P$2,0.5,1)*MIN($F170*$F$150,$F170-SUM($G170:O170)))","v":0},{"$f":"IF($C170>Q$2,0,IF($C170=Q$2,0.5,1)*MIN($F170*$F$150,$F170-SUM($G170:P170)))","v":0},{"$f":"IF($C170>R$2,0,IF($C170=R$2,0.5,1)*MIN($F170*$F$150,$F170-SUM($G170:Q170)))","v":0},{"$f":"IF($C170>S$2,0,IF($C170=S$2,0.5,1)*MIN($F170*$F$150,$F170-SUM($G170:R170)))","v":0},{"$f":"IF($C170>T$2,0,IF($C170=T$2,0.5,1)*MIN($F170*$F$150,$F170-SUM($G170:S170)))","v":0},{"$f":"IF($C170>U$2,0,IF($C170=U$2,0.5,1)*MIN($F170*$F$150,$F170-SUM($G170:T170)))","v":0},{"$f":"IF($C170>V$2,0,IF($C170=V$2,0.5,1)*MIN($F170*$F$150,$F170-SUM($G170:U170)))","v":0},{"$f":"IF($C170>W$2,0,IF($C170=W$2,0.5,1)*MIN($F170*$F$150,$F170-SUM($G170:V170)))","v":0},{"$f":"IF($C170>X$2,0,IF($C170=X$2,0.5,1)*MIN($F170*$F$150,$F170-SUM($G170:W170)))","v":0},{"$f":"IF($C170>Y$2,0,IF($C170=Y$2,0.5,1)*MIN($F170*$F$150,$F170-SUM($G170:X170)))","v":0},{"$f":"IF($C170>Z$2,0,IF($C170=Z$2,0.5,1)*MIN($F170*$F$150,$F170-SUM($G170:Y170)))","v":0},{"$f":"IF($C170>AA$2,0,IF($C170=AA$2,0.5,1)*MIN($F170*$F$150,$F170-SUM($G170:Z170)))","v":0},{"$f":"IF($C170>AB$2,0,IF($C170=AB$2,0.5,1)*MIN($F170*$F$150,$F170-SUM($G170:AA170)))","v":0}]
[null,null,2044,"тыс. руб.",19,0,null,{"$f":"IF($C171>H$2,0,IF($C171=H$2,0.5,1)*MIN($F171*$F$150,$F171-SUM($G171:G171)))","v":0},{"$f":"IF($C171>I$2,0,IF($C171=I$2,0.5,1)*MIN($F171*$F$150,$F171-SUM($G171:H171)))","v":0},{"$f":"IF($C171>J$2,0,IF($C171=J$2,0.5,1)*MIN($F171*$F$150,$F171-SUM($G171:I171)))","v":0},{"$f":"IF($C171>K$2,0,IF($C171=K$2,0.5,1)*MIN($F171*$F$150,$F171-SUM($G171:J171)))","v":0},{"$f":"IF($C171>L$2,0,IF($C171=L$2,0.5,1)*MIN($F171*$F$150,$F171-SUM($G171:K171)))","v":0},{"$f":"IF($C171>M$2,0,IF($C171=M$2,0.5,1)*MIN($F171*$F$150,$F171-SUM($G171:L171)))","v":0},{"$f":"IF($C171>N$2,0,IF($C171=N$2,0.5,1)*MIN($F171*$F$150,$F171-SUM($G171:M171)))","v":0},{"$f":"IF($C171>O$2,0,IF($C171=O$2,0.5,1)*MIN($F171*$F$150,$F171-SUM($G171:N171)))","v":0},{"$f":"IF($C171>P$2,0,IF($C171=P$2,0.5,1)*MIN($F171*$F$150,$F171-SUM($G171:O171)))","v":0},{"$f":"IF($C171>Q$2,0,IF($C171=Q$2,0.5,1)*MIN($F171*$F$150,$F171-SUM($G171:P171)))","v":0},{"$f":"IF($C171>R$2,0,IF($C171=R$2,0.5,1)*MIN($F171*$F$150,$F171-SUM($G171:Q171)))","v":0},{"$f":"IF($C171>S$2,0,IF($C171=S$2,0.5,1)*MIN($F171*$F$150,$F171-SUM($G171:R171)))","v":0},{"$f":"IF($C171>T$2,0,IF($C171=T$2,0.5,1)*MIN($F171*$F$150,$F171-SUM($G171:S171)))","v":0},{"$f":"IF($C171>U$2,0,IF($C171=U$2,0.5,1)*MIN($F171*$F$150,$F171-SUM($G171:T171)))","v":0},{"$f":"IF($C171>V$2,0,IF($C171=V$2,0.5,1)*MIN($F171*$F$150,$F171-SUM($G171:U171)))","v":0},{"$f":"IF($C171>W$2,0,IF($C171=W$2,0.5,1)*MIN($F171*$F$150,$F171-SUM($G171:V171)))","v":0},{"$f":"IF($C171>X$2,0,IF($C171=X$2,0.5,1)*MIN($F171*$F$150,$F171-SUM($G171:W171)))","v":0},{"$f":"IF($C171>Y$2,0,IF($C171=Y$2,0.5,1)*MIN($F171*$F$150,$F171-SUM($G171:X171)))","v":0},{"$f":"IF($C171>Z$2,0,IF($C171=Z$2,0.5,1)*MIN($F171*$F$150,$F171-SUM($G171:Y171)))","v":0},{"$f":"IF($C171>AA$2,0,IF($C171=AA$2,0.5,1)*MIN($F171*$F$150,$F171-SUM($G171:Z171)))","v":0},{"$f":"IF($C171>AB$2,0,IF($C171=AB$2,0.5,1)*MIN($F171*$F$150,$F171-SUM($G171:AA171)))","v":0}]
[null,null,2045,"тыс. руб.",20,0,null,{"$f":"IF($C172>H$2,0,IF($C172=H$2,0.5,1)*MIN($F172*$F$150,$F172-SUM($G172:G172)))","v":0},{"$f":"IF($C172>I$2,0,IF($C172=I$2,0.5,1)*MIN($F172*$F$150,$F172-SUM($G172:H172)))","v":0},{"$f":"IF($C172>J$2,0,IF($C172=J$2,0.5,1)*MIN($F172*$F$150,$F172-SUM($G172:I172)))","v":0},{"$f":"IF($C172>K$2,0,IF($C172=K$2,0.5,1)*MIN($F172*$F$150,$F172-SUM($G172:J172)))","v":0},{"$f":"IF($C172>L$2,0,IF($C172=L$2,0.5,1)*MIN($F172*$F$150,$F172-SUM($G172:K172)))","v":0},{"$f":"IF($C172>M$2,0,IF($C172=M$2,0.5,1)*MIN($F172*$F$150,$F172-SUM($G172:L172)))","v":0},{"$f":"IF($C172>N$2,0,IF($C172=N$2,0.5,1)*MIN($F172*$F$150,$F172-SUM($G172:M172)))","v":0},{"$f":"IF($C172>O$2,0,IF($C172=O$2,0.5,1)*MIN($F172*$F$150,$F172-SUM($G172:N172)))","v":0},{"$f":"IF($C172>P$2,0,IF($C172=P$2,0.5,1)*MIN($F172*$F$150,$F172-SUM($G172:O172)))","v":0},{"$f":"IF($C172>Q$2,0,IF($C172=Q$2,0.5,1)*MIN($F172*$F$150,$F172-SUM($G172:P172)))","v":0},{"$f":"IF($C172>R$2,0,IF($C172=R$2,0.5,1)*MIN($F172*$F$150,$F172-SUM($G172:Q172)))","v":0},{"$f":"IF($C172>S$2,0,IF($C172=S$2,0.5,1)*MIN($F172*$F$150,$F172-SUM($G172:R172)))","v":0},{"$f":"IF($C172>T$2,0,IF($C172=T$2,0.5,1)*MIN($F172*$F$150,$F172-SUM($G172:S172)))","v":0},{"$f":"IF($C172>U$2,0,IF($C172=U$2,0.5,1)*MIN($F172*$F$150,$F172-SUM($G172:T172)))","v":0},{"$f":"IF($C172>V$2,0,IF($C172=V$2,0.5,1)*MIN($F172*$F$150,$F172-SUM($G172:U172)))","v":0},{"$f":"IF($C172>W$2,0,IF($C172=W$2,0.5,1)*MIN($F172*$F$150,$F172-SUM($G172:V172)))","v":0},{"$f":"IF($C172>X$2,0,IF($C172=X$2,0.5,1)*MIN($F172*$F$150,$F172-SUM($G172:W172)))","v":0},{"$f":"IF($C172>Y$2,0,IF($C172=Y$2,0.5,1)*MIN($F172*$F$150,$F172-SUM($G172:X172)))","v":0},{"$f":"IF($C172>Z$2,0,IF($C172=Z$2,0.5,1)*MIN($F172*$F$150,$F172-SUM($G172:Y172)))","v":0},{"$f":"IF($C172>AA$2,0,IF($C172=AA$2,0.5,1)*MIN($F172*$F$150,$F172-SUM($G172:Z172)))","v":0},{"$f":"IF($C172>AB$2,0,IF($C172=AB$2,0.5,1)*MIN($F172*$F$150,$F172-SUM($G172:AA172)))","v":0}]
[]
[null,null,"Первоначальная стоимость активов","тыс. руб.",null,null,null,{"$f":"G174+H41","v":0},0,0,0,0,0,0,0,0,0,0,0,0,0,0,0,0,0,0,0,0]
[null,null,"Амортизация за период","тыс. руб.",null,null,null,{"$f":"H152","v":0},0,0,0,0,0,0,0,0,0,0,0,0,0,0,0,0,0,0,0,0]
[null,null,"Накопленная амортизация","тыс. руб.",null,null,null,{"$f":"G176+H175","v":0},0,0,0,0,0,0,0,0,0,0,0,0,0,0,0,0,0,0,0,0]
[null,null,"Остаточная стоимость активов","тыс. руб.",null,null,null,{"$f":"H174-H176","v":0},{"$f":"I174-I176","v":0},0,0,0,0,0,0,0,0,0,0,0,0,0,0,0,0,0,0,0]

{"sheet":"Выручка и себестоимость","index":12,"n_rows":52,"n_cols":28,"rows_kept":52,"cut":false,"hidden":false,"merged":[[1,2,2,2],[1,3,2,3],[1,4,2,4],[1,5,2,5]]}
[null,null,null,null,{"$f":"\"Лист:  \" & RIGHT(CELL(\"filename\",A1),LEN(CELL(\"filename\",A1))-SEARCH(\"]\",CELL(\"filename\",A1)))","v":"Лист:  Выручка и себестоимость"}]
[null,null,"Параметр","Ед. изм.","Источник","Текущее значение",null,{"$f":"Предпосылки!H2","v":2026},{"$f":"Предпосылки!I2","v":2027},{"$f":"Предпосылки!J2","v":2028},{"$f":"Предпосылки!K2","v":2029},{"$f":"Предпосылки!L2","v":2030},{"$f":"Предпосылки!M2","v":2031},{"$f":"Предпосылки!N2","v":2032},{"$f":"Предпосылки!O2","v":2033},{"$f":"Предпосылки!P2","v":2034},{"$f":"Предпосылки!Q2","v":2035},{"$f":"Предпосылки!R2","v":2036},{"$f":"Предпосылки!S2","v":2037},{"$f":"Предпосылки!T2","v":2038},{"$f":"Предпосылки!U2","v":2039},{"$f":"Предпосылки!V2","v":2040},{"$f":"Предпосылки!W2","v":2041},{"$f":"Предпосылки!X2","v":2042},{"$f":"Предпосылки!Y2","v":2043},{"$f":"Предпосылки!Z2","v":2044},{"$f":"Предпосылки!AA2","v":2045},{"$f":"Предпосылки!AB2","v":2046}]
[null,null,null,null,null,null,null,1,2,3,4,5,6,7,8,9,10,11,12,13,14,15,16,17,18,19,20,21]
[]
[null,"Объем продаж в натуральном выражении"]
[]
[null,null,{"$f":"Предпосылки!C47","v":"Продукция 1"},null,null,null,null,{"$f":"Предпосылки!H47*(1+'Анализ чувствительности (СПИК)'!$D$47)","v":0},{"$f":"Предпосылки!I47*(1+'Анализ чувствительности (СПИК)'!$D$47)","v":0},{"$f":"Предпосылки!J47*(1+'Анализ чувствительности (СПИК)'!$D$47)","v":0},{"$f":"Предпосылки!K47*(1+'Анализ чувствительности (СПИК)'!$D$47)","v":0},{"$f":"Предпосылки!L47*(1+'Анализ чувствительности (СПИК)'!$D$47)","v":0},{"$f":"Предпосылки!M47*(1+'Анализ чувствительности (СПИК)'!$D$47)","v":0},{"$f":"Предпосылки!N47*(1+'Анализ чувствительности (СПИК)'!$D$47)","v":0},{"$f":"Предпосылки!O47*(1+'Анализ чувствительности (СПИК)'!$D$47)","v":0},{"$f":"Предпосылки!P47*(1+'Анализ чувствительности (СПИК)'!$D$47)","v":0},{"$f":"Предпосылки!Q47*(1+'Анализ чувствительности (СПИК)'!$D$47)","v":0},{"$f":"Предпосылки!R47*(1+'Анализ чувствительности (СПИК)'!$D$47)","v":0},{"$f":"Предпосылки!S47*(1+'Анализ чувствительности (СПИК)'!$D$47)","v":0},{"$f":"Предпосылки!T47*(1+'Анализ чувствительности (СПИК)'!$D$47)","v":0},{"$f":"Предпосылки!U47*(1+'Анализ чувствительности (СПИК)'!$D$47)","v":0},{"$f":"Предпосылки!V47*(1+'Анализ чувствительности (СПИК)'!$D$47)","v":0},{"$f":"Предпосылки!W47*(1+'Анализ чувствительности (СПИК)'!$D$47)","v":0},{"$f":"Предпосылки!X47*(1+'Анализ чувствительности (СПИК)'!$D$47)","v":0},{"$f":"Предпосылки!Y47*(1+'Анализ чувствительности (СПИК)'!$D$47)","v":0},{"$f":"Предпосылки!Z47*(1+'Анализ чувствительности (СПИК)'!$D$47)","v":0},{"$f":"Предпосылки!AA47*(1+'Анализ чувствительности (СПИК)'!$D$47)","v":0},{"$f":"Предпосылки!AB47*(1+'Анализ чувствительности (СПИК)'!$D$47)","v":0}]
[null,null,{"$f":"Предпосылки!C48","v":"Продукция 2"},null,null,null,null,{"$f":"Предпосылки!H48*(1+'Анализ чувствительности (СПИК)'!$D$47)","v":0},{"$f":"Предпосылки!I48*(1+'Анализ чувствительности (СПИК)'!$D$47)","v":0},{"$f":"Предпосылки!J48*(1+'Анализ чувствительности (СПИК)'!$D$47)","v":0},{"$f":"Предпосылки!K48*(1+'Анализ чувствительности (СПИК)'!$D$47)","v":0},{"$f":"Предпосылки!L48*(1+'Анализ чувствительности (СПИК)'!$D$47)","v":0},{"$f":"Предпосылки!M48*(1+'Анализ чувствительности (СПИК)'!$D$47)","v":0},{"$f":"Предпосылки!N48*(1+'Анализ чувствительности (СПИК)'!$D$47)","v":0},{"$f":"Предпосылки!O48*(1+'Анализ чувствительности (СПИК)'!$D$47)","v":0},{"$f":"Предпосылки!P48*(1+'Анализ чувствительности (СПИК)'!$D$47)","v":0},{"$f":"Предпосылки!Q48*(1+'Анализ чувствительности (СПИК)'!$D$47)","v":0},{"$f":"Предпосылки!R48*(1+'Анализ чувствительности (СПИК)'!$D$47)","v":0},{"$f":"Предпосылки!S48*(1+'Анализ чувствительности (СПИК)'!$D$47)","v":0},{"$f":"Предпосылки!T48*(1+'Анализ чувствительности (СПИК)'!$D$47)","v":0},{"$f":"Предпосылки!U48*(1+'Анализ чувствительности (СПИК)'!$D$47)","v":0},{"$f":"Предпосылки!V48*(1+'Анализ чувствительности (СПИК)'!$D$47)","v":0},{"$f":"Предпосылки!W48*(1+'Анализ чувствительности (СПИК)'!$D$47)","v":0},{"$f":"Предпосылки!X48*(1+'Анализ чувствительности (СПИК)'!$D$47)","v":0},{"$f":"Предпосылки!Y48*(1+'Анализ чувствительности (СПИК)'!$D$47)","v":0},{"$f":"Предпосылки!Z48*(1+'Анализ чувствительности (СПИК)'!$D$47)","v":0},{"$f":"Предпосылки!AA48*(1+'Анализ чувствительности (СПИК)'!$D$47)","v":0},{"$f":"Предпосылки!AB48*(1+'Анализ чувствительности (СПИК)'!$D$47)","v":0}]
[null,null,{"$f":"Предпосылки!C49","v":"…"}]
[null,null,{"$f":"Предпосылки!C50","v":"Итого"},null,null,null,null,{"$f":"SUM(H7:H8)","v":0},{"$f":"SUM(I7:I8)","v":0},0,0,0,0,0,0,0,0,0,0,0,0,0,0,0,0,0,0,0]
[]
[null,"Выручка от продаж, без НДС"]
[]
[null,null,{"$f":"Предпосылки!C35","v":"Продукция 1"},"тыс. руб.",null,null,null,{"$f":"Предпосылки!H35*H7","v":0},{"$f":"Предпосылки!I35*I7","v":0},{"$f":"Предпосылки!J35*J7","v":0},{"$f":"Предпосылки!K35*K7","v":0},{"$f":"Предпосылки!L35*L7","v":0},{"$f":"Предпосылки!M35*M7","v":0},{"$f":"Предпосылки!N35*N7","v":0},{"$f":"Предпосылки!O35*O7","v":0},{"$f":"Предпосылки!P35*P7","v":0},{"$f":"Предпосылки!Q35*Q7","v":0},{"$f":"Предпосылки!R35*R7","v":0},{"$f":"Предпосылки!S35*S7","v":0},{"$f":"Предпосылки!T35*T7","v":0},{"$f":"Предпосылки!U35*U7","v":0},{"$f":"Предпосылки!V35*V7","v":0},{"$f":"Предпосылки!W35*W7","v":0},{"$f":"Предпосылки!X35*X7","v":0},{"$f":"Предпосылки!Y35*Y7","v":0},{"$f":"Предпосылки!Z35*Z7","v":0},{"$f":"Предпосылки!AA35*AA7","v":0},{"$f":"Предпосылки!AB35*AB7","v":0}]
[null,null,{"$f":"Предпосылки!C36","v":"Продукция 2"},"тыс. руб.",null,null,null,{"$f":"Предпосылки!H36*H8","v":0},{"$f":"Предпосылки!I36*I8","v":0},{"$f":"Предпосылки!J36*J8","v":0},{"$f":"Предпосылки!K36*K8","v":0},{"$f":"Предпосылки!L36*L8","v":0},{"$f":"Предпосылки!M36*M8","v":0},{"$f":"Предпосылки!N36*N8","v":0},{"$f":"Предпосылки!O36*O8","v":0},{"$f":"Предпосылки!P36*P8","v":0},{"$f":"Предпосылки!Q36*Q8","v":0},{"$f":"Предпосылки!R36*R8","v":0},{"$f":"Предпосылки!S36*S8","v":0},{"$f":"Предпосылки!T36*T8","v":0},{"$f":"Предпосылки!U36*U8","v":0},{"$f":"Предпосылки!V36*V8","v":0},{"$f":"Предпосылки!W36*W8","v":0},{"$f":"Предпосылки!X36*X8","v":0},{"$f":"Предпосылки!Y36*Y8","v":0},{"$f":"Предпосылки!Z36*Z8","v":0},{"$f":"Предпосылки!AA36*AA8","v":0},{"$f":"Предпосылки!AB36*AB8","v":0}]
[null,null,{"$f":"Предпосылки!C37","v":"…"}]
[null,null,"Итого","тыс. руб.",null,null,null,{"$f":"SUM(H14:H15)","v":0},{"$f":"SUM(I14:I15)","v":0},0,0,0,0,0,0,0,0,0,0,0,0,0,0,0,0,0,0,0]
[]
[null,null,"Темп прироста по продукции 1 ","%",null,null,null,{"$f":"IFERROR((H14-G14)/G14,\"-\")","v":"-"},{"$f":"IFERROR((I14-H14)/H14,\"-\")","v":"-"},"-","-","-","-","-","-","-","-","-","-","-","-","-",{"$f":"IFERROR((W14-V14)/V14,\"-\")","v":"-"},"-","-","-","-","-"]
[null,null,"Темп прироста по продукции 2","%",null,null,null,{"$f":"IFERROR((H15-G15)/G15,\"-\")","v":"-"},{"$f":"IFERROR((I15-H15)/H15,\"-\")","v":"-"},"-","-","-","-","-","-","-","-","-","-","-","-","-","-","-","-","-","-","-"]
[null,null,"…"]
[null,null,"Темп прироста общей выручки","%",null,null,null,{"$f":"IFERROR((H17-G17)/G17,\"-\")","v":"-"},{"$f":"IFERROR((I17-H17)/H17,\"-\")","v":"-"},"-","-","-","-","-","-","-","-","-","-","-","-","-",{"$f":"IFERROR((W17-V17)/V17,\"-\")","v":"-"},"-","-","-","-","-"]
[]
[null,"Исходящий НДС"]
[]
[null,null,{"$f":"C14","v":"Продукция 1"},"тыс. руб.",null,null,null,{"$f":"H14*Предпосылки!H$294","v":0},{"$f":"I14*Предпосылки!I$294","v":0},{"$f":"J14*Предпосылки!J$294","v":0},{"$f":"K14*Предпосылки!K$294","v":0},{"$f":"L14*Предпосылки!L$294","v":0},{"$f":"M14*Предпосылки!M$294","v":0},{"$f":"N14*Предпосылки!N$294","v":0},{"$f":"O14*Предпосылки!O$294","v":0},{"$f":"P14*Предпосылки!P$294","v":0},{"$f":"Q14*Предпосылки!Q$294","v":0},{"$f":"R14*Предпосылки!R$294","v":0},{"$f":"S14*Предпосылки!S$294","v":0},{"$f":"T14*Предпосылки!T$294","v":0},{"$f":"U14*Предпосылки!U$294","v":0},{"$f":"V14*Предпосылки!V$294","v":0},{"$f":"W14*Предпосылки!W$294","v":0},{"$f":"X14*Предпосылки!X$294","v":0},{"$f":"Y14*Предпосылки!Y$294","v":0},{"$f":"Z14*Предпосылки!Z$294","v":0},{"$f":"AA14*Предпосылки!AA$294","v":0},{"$f":"AB14*Предпосылки!AB$294","v":0}]
[null,null,{"$f":"C15","v":"Продукция 2"},"тыс. руб.",null,null,null,{"$f":"H15*Предпосылки!H$294","v":0},{"$f":"I15*Предпосылки!I$294","v":0},{"$f":"J15*Предпосылки!J$294","v":0},{"$f":"K15*Предпосылки!K$294","v":0},{"$f":"L15*Предпосылки!L$294","v":0},{"$f":"M15*Предпосылки!M$294","v":0},{"$f":"N15*Предпосылки!N$294","v":0},{"$f":"O15*Предпосылки!O$294","v":0},{"$f":"P15*Предпосылки!P$294","v":0},{"$f":"Q15*Предпосылки!Q$294","v":0},{"$f":"R15*Предпосылки!R$294","v":0},{"$f":"S15*Предпосылки!S$294","v":0},{"$f":"T15*Предпосылки!T$294","v":0},{"$f":"U15*Предпосылки!U$294","v":0},{"$f":"V15*Предпосылки!V$294","v":0},{"$f":"W15*Предпосылки!W$294","v":0},{"$f":"X15*Предпосылки!X$294","v":0},{"$f":"Y15*Предпосылки!Y$294","v":0},{"$f":"Z15*Предпосылки!Z$294","v":0},{"$f":"AA15*Предпосылки!AA$294","v":0},{"$f":"AB15*Предпосылки!AB$294","v":0}]
[null,null,{"$f":"C16","v":"…"}]
[null,null,"Итого","тыс. руб.",null,null,null,{"$f":"SUM(H26:H27)","v":0},{"$f":"SUM(I26:I27)","v":0},0,0,0,0,0,0,0,0,0,0,0,0,0,0,0,0,0,0,0]
[]
[null,"Выручка от продаж, с НДС"]
[]
[null,null,{"$f":"C26","v":"Продукция 1"},"тыс. руб.",null,null,null,{"$f":"H14+H26","v":0},{"$f":"I14+I26","v":0},0,0,0,0,0,0,0,0,0,0,0,0,0,0,0,0,0,0,0]
[null,null,{"$f":"C27","v":"Продукция 2"},"тыс. руб.",null,null,null,{"$f":"H15+H27","v":0},{"$f":"I15+I27","v":0},0,0,0,0,0,0,0,0,0,0,0,0,0,0,0,0,0,0,0]
[null,null,{"$f":"C28","v":"…"}]
[null,null,"Итого","тыс. руб.",null,null,null,{"$f":"SUM(H33:H34)","v":0},{"$f":"SUM(I33:I34)","v":0},0,0,0,0,0,0,0,0,0,0,0,0,0,0,0,0,0,0,0]
[]
[null,"Себестоимость продаж"]
[]
[null,"Себестоимость продаж в случае применения льготного тарифа страховых взносов с ФОТ для участников СПИК 1.0, являющихся участниками промышленных кластеров"]
[null,null,"Прямые затраты на производство продукции","тыс. руб.","Лист: Операционные затраты",null,null,{"$f":"'Операционные затраты'!H18+'Операционные затраты'!H24","v":0},{"$f":"'Операционные затраты'!I18+'Операционные затраты'!I24","v":0},{"$f":"'Операционные затраты'!J18+'Операционные затраты'!J24","v":0},{"$f":"'Операционные затраты'!K18+'Операционные затраты'!K24","v":0},{"$f":"'Операционные затраты'!L18+'Операционные затраты'!L24","v":0},{"$f":"'Операционные затраты'!M18+'Операционные затраты'!M24","v":0},{"$f":"'Операционные затраты'!N18+'Операционные затраты'!N24","v":0},{"$f":"'Операционные затраты'!O18+'Операционные затраты'!O24","v":0},{"$f":"'Операционные затраты'!P18+'Операционные затраты'!P24","v":0},{"$f":"'Операционные затраты'!Q18+'Операционные затраты'!Q24","v":0},{"$f":"'Операционные затраты'!R18+'Операционные затраты'!R24","v":0},{"$f":"'Операционные затраты'!S18+'Операционные затраты'!S24","v":0},{"$f":"'Операционные затраты'!T18+'Операционные затраты'!T24","v":0},{"$f":"'Операционные затраты'!U18+'Операционные затраты'!U24","v":0},{"$f":"'Операционные затраты'!V18+'Операционные затраты'!V24","v":0},{"$f":"'Операционные затраты'!W18+'Операционные затраты'!W24","v":0},{"$f":"'Операционные затраты'!X18+'Операционные затраты'!X24","v":0},{"$f":"'Операционные затраты'!Y18+'Операционные затраты'!Y24","v":0},{"$f":"'Операционные затраты'!Z18+'Операционные затраты'!Z24","v":0},{"$f":"'Операционные затраты'!AA18+'Операционные затраты'!AA24","v":0},{"$f":"'Операционные затраты'!AB18+'Операционные затраты'!AB24","v":0}]
[null,null,"Общехозяйственные (производственные) расходы","тыс. руб.","Лист: Операционные затраты",null,null,{"$f":"IF(SUM(Предпосылки!$H$93:$AB$93)=0,Предпосылки!H90,Предпосылки!H93)","v":0},{"$f":"IF(SUM(Предпосылки!$H$93:$AB$93)=0,Предпосылки!I90,Предпосылки!I93)","v":0},{"$f":"IF(SUM(Предпосылки!$H$93:$AB$93)=0,Предпосылки!J90,Предпосылки!J93)","v":0},{"$f":"IF(SUM(Предпосылки!$H$93:$AB$93)=0,Предпосылки!K90,Предпосылки!K93)","v":0},{"$f":"IF(SUM(Предпосылки!$H$93:$AB$93)=0,Предпосылки!L90,Предпосылки!L93)","v":0},{"$f":"IF(SUM(Предпосылки!$H$93:$AB$93)=0,Предпосылки!M90,Предпосылки!M93)","v":0},{"$f":"IF(SUM(Предпосылки!$H$93:$AB$93)=0,Предпосылки!N90,Предпосылки!N93)","v":0},{"$f":"IF(SUM(Предпосылки!$H$93:$AB$93)=0,Предпосылки!O90,Предпосылки!O93)","v":0},{"$f":"IF(SUM(Предпосылки!$H$93:$AB$93)=0,Предпосылки!P90,Предпосылки!P93)","v":0},{"$f":"IF(SUM(Предпосылки!$H$93:$AB$93)=0,Предпосылки!Q90,Предпосылки!Q93)","v":0},{"$f":"IF(SUM(Предпосылки!$H$93:$AB$93)=0,Предпосылки!R90,Предпосылки!R93)","v":0},{"$f":"IF(SUM(Предпосылки!$H$93:$AB$93)=0,Предпосылки!S90,Предпосылки!S93)","v":0},{"$f":"IF(SUM(Предпосылки!$H$93:$AB$93)=0,Предпосылки!T90,Предпосылки!T93)","v":0},{"$f":"IF(SUM(Предпосылки!$H$93:$AB$93)=0,Предпосылки!U90,Предпосылки!U93)","v":0},{"$f":"IF(SUM(Предпосылки!$H$93:$AB$93)=0,Предпосылки!V90,Предпосылки!V93)","v":0},{"$f":"IF(SUM(Предпосылки!$H$93:$AB$93)=0,Предпосылки!W90,Предпосылки!W93)","v":0},{"$f":"IF(SUM(Предпосылки!$H$93:$AB$93)=0,Предпосылки!X90,Предпосылки!X93)","v":0},{"$f":"IF(SUM(Предпосылки!$H$93:$AB$93)=0,Предпосылки!Y90,Предпосылки!Y93)","v":0},{"$f":"IF(SUM(Предпосылки!$H$93:$AB$93)=0,Предпосылки!Z90,Предпосылки!Z93)","v":0},{"$f":"IF(SUM(Предпосылки!$H$93:$AB$93)=0,Предпосылки!AA90,Предпосылки!AA93)","v":0},{"$f":"IF(SUM(Предпосылки!$H$93:$AB$93)=0,Предпосылки!AB90,Предпосылки!AB93)","v":0}]
[null,null,"Расходы на ОТ производственного и вспомогательного персонала","тыс. руб.","Лист: Операционные затраты",null,null,{"$f":"SUM('Операционные затраты'!H77:H78)","v":0},{"$f":"SUM('Операционные затраты'!I77:I78)","v":0},{"$f":"SUM('Операционные затраты'!J77:J78)","v":0},{"$f":"SUM('Операционные затраты'!K77:K78)","v":0},{"$f":"SUM('Операционные затраты'!L77:L78)","v":0},{"$f":"SUM('Операционные затраты'!M77:M78)","v":0},{"$f":"SUM('Операционные затраты'!N77:N78)","v":0},{"$f":"SUM('Операционные затраты'!O77:O78)","v":0},{"$f":"SUM('Операционные затраты'!P77:P78)","v":0},{"$f":"SUM('Операционные затраты'!Q77:Q78)","v":0},{"$f":"SUM('Операционные затраты'!R77:R78)","v":0},{"$f":"SUM('Операционные затраты'!S77:S78)","v":0},{"$f":"SUM('Операционные затраты'!T77:T78)","v":0},{"$f":"SUM('Операционные затраты'!U77:U78)","v":0},{"$f":"SUM('Операционные затраты'!V77:V78)","v":0},{"$f":"SUM('Операционные затраты'!W77:W78)","v":0},{"$f":"SUM('Операционные затраты'!X77:X78)","v":0},{"$f":"SUM('Операционные затраты'!Y77:Y78)","v":0},{"$f":"SUM('Операционные затраты'!Z77:Z78)","v":0},{"$f":"SUM('Операционные затраты'!AA77:AA78)","v":0},{"$f":"SUM('Операционные затраты'!AB77:AB78)","v":0}]
[null,null,"Амортизация производственных активов","тыс. руб.","Лист: Капитальные вложения",null,null,{"$f":"'Капитальные вложения'!H52","v":0},{"$f":"'Капитальные вложения'!I52","v":0},{"$f":"'Капитальные вложения'!J52","v":0},{"$f":"'Капитальные вложения'!K52","v":0},{"$f":"'Капитальные вложения'!L52","v":0},{"$f":"'Капитальные вложения'!M52","v":0},{"$f":"'Капитальные вложения'!N52","v":0},{"$f":"'Капитальные вложения'!O52","v":0},{"$f":"'Капитальные вложения'!P52","v":0},{"$f":"'Капитальные вложения'!Q52","v":0},{"$f":"'Капитальные вложения'!R52","v":0},{"$f":"'Капитальные вложения'!S52","v":0},{"$f":"'Капитальные вложения'!T52","v":0},{"$f":"'Капитальные вложения'!U52","v":0},{"$f":"'Капитальные вложения'!V52","v":0},{"$f":"'Капитальные вложения'!W52","v":0},{"$f":"'Капитальные вложения'!X52","v":0},{"$f":"'Капитальные вложения'!Y52","v":0},{"$f":"'Капитальные вложения'!Z52","v":0},{"$f":"'Капитальные вложения'!AA52","v":0},{"$f":"'Капитальные вложения'!AB52","v":0}]
[null,null,"Итого","тыс. руб.",null,null,null,{"$f":"SUM(H41:H44)","v":0},{"$f":"SUM(I41:I44)","v":0},0,0,0,0,0,0,0,0,0,0,0,0,0,0,0,0,0,0,0]
[]
[null,"Себестоимость продаж в иных случаях"]
[null,null,{"$f":"C41","v":"Прямые затраты на производство продукции"},"тыс. руб.","Лист: Операционные затраты",null,null,{"$f":"'Операционные затраты'!H18+'Операционные затраты'!H24","v":0},{"$f":"'Операционные затраты'!I18+'Операционные затраты'!I24","v":0},{"$f":"'Операционные затраты'!J18+'Операционные затраты'!J24","v":0},{"$f":"'Операционные затраты'!K18+'Операционные затраты'!K24","v":0},{"$f":"'Операционные затраты'!L18+'Операционные затраты'!L24","v":0},{"$f":"'Операционные затраты'!M18+'Операционные затраты'!M24","v":0},{"$f":"'Операционные затраты'!N18+'Операционные затраты'!N24","v":0},{"$f":"'Операционные затраты'!O18+'Операционные затраты'!O24","v":0},{"$f":"'Операционные затраты'!P18+'Операционные затраты'!P24","v":0},{"$f":"'Операционные затраты'!Q18+'Операционные затраты'!Q24","v":0},{"$f":"'Операционные затраты'!R18+'Операционные затраты'!R24","v":0},{"$f":"'Операционные затраты'!S18+'Операционные затраты'!S24","v":0},{"$f":"'Операционные затраты'!T18+'Операционные затраты'!T24","v":0},{"$f":"'Операционные затраты'!U18+'Операционные затраты'!U24","v":0},{"$f":"'Операционные затраты'!V18+'Операционные затраты'!V24","v":0},{"$f":"'Операционные затраты'!W18+'Операционные затраты'!W24","v":0},{"$f":"'Операционные затраты'!X18+'Операционные затраты'!X24","v":0},{"$f":"'Операционные затраты'!Y18+'Операционные затраты'!Y24","v":0},{"$f":"'Операционные затраты'!Z18+'Операционные затраты'!Z24","v":0},{"$f":"'Операционные затраты'!AA18+'Операционные затраты'!AA24","v":0},{"$f":"'Операционные затраты'!AB18+'Операционные затраты'!AB24","v":0}]
[null,null,{"$f":"C42","v":"Общехозяйственные (производственные) расходы"},"тыс. руб.","Лист: Операционные затраты",null,null,{"$f":"IF(SUM(Предпосылки!$H$93:$AB$93)=0,Предпосылки!H90,Предпосылки!H93)","v":0},{"$f":"IF(SUM(Предпосылки!$H$93:$AB$93)=0,Предпосылки!I90,Предпосылки!I93)","v":0},{"$f":"IF(SUM(Предпосылки!$H$93:$AB$93)=0,Предпосылки!J90,Предпосылки!J93)","v":0},{"$f":"IF(SUM(Предпосылки!$H$93:$AB$93)=0,Предпосылки!K90,Предпосылки!K93)","v":0},{"$f":"IF(SUM(Предпосылки!$H$93:$AB$93)=0,Предпосылки!L90,Предпосылки!L93)","v":0},{"$f":"IF(SUM(Предпосылки!$H$93:$AB$93)=0,Предпосылки!M90,Предпосылки!M93)","v":0},{"$f":"IF(SUM(Предпосылки!$H$93:$AB$93)=0,Предпосылки!N90,Предпосылки!N93)","v":0},{"$f":"IF(SUM(Предпосылки!$H$93:$AB$93)=0,Предпосылки!O90,Предпосылки!O93)","v":0},{"$f":"IF(SUM(Предпосылки!$H$93:$AB$93)=0,Предпосылки!P90,Предпосылки!P93)","v":0},{"$f":"IF(SUM(Предпосылки!$H$93:$AB$93)=0,Предпосылки!Q90,Предпосылки!Q93)","v":0},{"$f":"IF(SUM(Предпосылки!$H$93:$AB$93)=0,Предпосылки!R90,Предпосылки!R93)","v":0},{"$f":"IF(SUM(Предпосылки!$H$93:$AB$93)=0,Предпосылки!S90,Предпосылки!S93)","v":0},{"$f":"IF(SUM(Предпосылки!$H$93:$AB$93)=0,Предпосылки!T90,Предпосылки!T93)","v":0},{"$f":"IF(SUM(Предпосылки!$H$93:$AB$93)=0,Предпосылки!U90,Предпосылки!U93)","v":0},{"$f":"IF(SUM(Предпосылки!$H$93:$AB$93)=0,Предпосылки!V90,Предпосылки!V93)","v":0},{"$f":"IF(SUM(Предпосылки!$H$93:$AB$93)=0,Предпосылки!W90,Предпосылки!W93)","v":0},{"$f":"IF(SUM(Предпосылки!$H$93:$AB$93)=0,Предпосылки!X90,Предпосылки!X93)","v":0},{"$f":"IF(SUM(Предпосылки!$H$93:$AB$93)=0,Предпосылки!Y90,Предпосылки!Y93)","v":0},{"$f":"IF(SUM(Предпосылки!$H$93:$AB$93)=0,Предпосылки!Z90,Предпосылки!Z93)","v":0},{"$f":"IF(SUM(Предпосылки!$H$93:$AB$93)=0,Предпосылки!AA90,Предпосылки!AA93)","v":0},{"$f":"IF(SUM(Предпосылки!$H$93:$AB$93)=0,Предпосылки!AB90,Предпосылки!AB93)","v":0}]
[null,null,{"$f":"C43","v":"Расходы на ОТ производственного и вспомогательного персонала"},"тыс. руб.","Лист: Операционные затраты",null,null,{"$f":"SUM('Операционные затраты'!H119:H120)","v":0},{"$f":"SUM('Операционные затраты'!I119:I120)","v":0},{"$f":"SUM('Операционные затраты'!J119:J120)","v":0},{"$f":"SUM('Операционные затраты'!K119:K120)","v":0},{"$f":"SUM('Операционные затраты'!L119:L120)","v":0},{"$f":"SUM('Операционные затраты'!M119:M120)","v":0},{"$f":"SUM('Операционные затраты'!N119:N120)","v":0},{"$f":"SUM('Операционные затраты'!O119:O120)","v":0},{"$f":"SUM('Операционные затраты'!P119:P120)","v":0},{"$f":"SUM('Операционные затраты'!Q119:Q120)","v":0},{"$f":"SUM('Операционные затраты'!R119:R120)","v":0},{"$f":"SUM('Операционные затраты'!S119:S120)","v":0},{"$f":"SUM('Операционные затраты'!T119:T120)","v":0},{"$f":"SUM('Операционные затраты'!U119:U120)","v":0},{"$f":"SUM('Операционные затраты'!V119:V120)","v":0},{"$f":"SUM('Операционные затраты'!W119:W120)","v":0},{"$f":"SUM('Операционные затраты'!X119:X120)","v":0},{"$f":"SUM('Операционные затраты'!Y119:Y120)","v":0},{"$f":"SUM('Операционные затраты'!Z119:Z120)","v":0},{"$f":"SUM('Операционные затраты'!AA119:AA120)","v":0},{"$f":"SUM('Операционные затраты'!AB119:AB120)","v":0}]
[null,null,{"$f":"C44","v":"Амортизация производственных активов"},"тыс. руб.","Лист: Капитальные вложения",null,null,{"$f":"'Капитальные вложения'!H52","v":0},{"$f":"'Капитальные вложения'!I52","v":0},{"$f":"'Капитальные вложения'!J52","v":0},{"$f":"'Капитальные вложения'!K52","v":0},{"$f":"'Капитальные вложения'!L52","v":0},{"$f":"'Капитальные вложения'!M52","v":0},{"$f":"'Капитальные вложения'!N52","v":0},{"$f":"'Капитальные вложения'!O52","v":0},{"$f":"'Капитальные вложения'!P52","v":0},{"$f":"'Капитальные вложения'!Q52","v":0},{"$f":"'Капитальные вложения'!R52","v":0},{"$f":"'Капитальные вложения'!S52","v":0},{"$f":"'Капитальные вложения'!T52","v":0},{"$f":"'Капитальные вложения'!U52","v":0},{"$f":"'Капитальные вложения'!V52","v":0},{"$f":"'Капитальные вложения'!W52","v":0},{"$f":"'Капитальные вложения'!X52","v":0},{"$f":"'Капитальные вложения'!Y52","v":0},{"$f":"'Капитальные вложения'!Z52","v":0},{"$f":"'Капитальные вложения'!AA52","v":0},{"$f":"'Капитальные вложения'!AB52","v":0}]
[null,null,"Итого","тыс. руб.",null,null,null,{"$f":"SUM(H48:H51)","v":0},{"$f":"SUM(I48:I51)","v":0},0,0,0,0,0,0,0,0,0,0,0,0,0,0,0,0,0,0,0]

{"sheet":"Операционные затраты","index":13,"n_rows":165,"n_cols":28,"rows_kept":165,"cut":false,"hidden":false,"merged":[[1,2,2,2],[1,3,2,3],[1,5,2,5],[1,4,2,4]]}
[null,null,null,null,{"$f":"\"Лист:  \" & RIGHT(CELL(\"filename\",A1),LEN(CELL(\"filename\",A1))-SEARCH(\"]\",CELL(\"filename\",A1)))","v":"Лист:  Операционные затраты"}]
[null,null,"Параметр","Ед. изм.","Источник","Текущее значение",null,{"$f":"Предпосылки!H2","v":2026},{"$f":"Предпосылки!I2","v":2027},{"$f":"Предпосылки!J2","v":2028},{"$f":"Предпосылки!K2","v":2029},{"$f":"Предпосылки!L2","v":2030},{"$f":"Предпосылки!M2","v":2031},{"$f":"Предпосылки!N2","v":2032},{"$f":"Предпосылки!O2","v":2033},{"$f":"Предпосылки!P2","v":2034},{"$f":"Предпосылки!Q2","v":2035},{"$f":"Предпосылки!R2","v":2036},{"$f":"Предпосылки!S2","v":2037},{"$f":"Предпосылки!T2","v":2038},{"$f":"Предпосылки!U2","v":2039},{"$f":"Предпосылки!V2","v":2040},{"$f":"Предпосылки!W2","v":2041},{"$f":"Предпосылки!X2","v":2042},{"$f":"Предпосылки!Y2","v":2043},{"$f":"Предпосылки!Z2","v":2044},{"$f":"Предпосылки!AA2","v":2045},{"$f":"Предпосылки!AB2","v":2046}]
[null,null,null,null,null,null,null,1,2,3,4,5,6,7,8,9,10,11,12,13,14,15,16,17,18,19,20,21]
[]
[null,"Объем производства продукции в натуральном выражении"]
[]
[null,null,{"$f":"Предпосылки!C41","v":"Продукция 1"},"ед.",null,null,null,{"$f":"Предпосылки!H41*(1+'Анализ чувствительности (СПИК)'!$D$47)","v":0},{"$f":"Предпосылки!I41*(1+'Анализ чувствительности (СПИК)'!$D$47)","v":0},{"$f":"Предпосылки!J41*(1+'Анализ чувствительности (СПИК)'!$D$47)","v":0},{"$f":"Предпосылки!K41*(1+'Анализ чувствительности (СПИК)'!$D$47)","v":0},{"$f":"Предпосылки!L41*(1+'Анализ чувствительности (СПИК)'!$D$47)","v":0},{"$f":"Предпосылки!M41*(1+'Анализ чувствительности (СПИК)'!$D$47)","v":0},{"$f":"Предпосылки!N41*(1+'Анализ чувствительности (СПИК)'!$D$47)","v":0},{"$f":"Предпосылки!O41*(1+'Анализ чувствительности (СПИК)'!$D$47)","v":0},{"$f":"Предпосылки!P41*(1+'Анализ чувствительности (СПИК)'!$D$47)","v":0},{"$f":"Предпосылки!Q41*(1+'Анализ чувствительности (СПИК)'!$D$47)","v":0},{"$f":"Предпосылки!R41*(1+'Анализ чувствительности (СПИК)'!$D$47)","v":0},{"$f":"Предпосылки!S41*(1+'Анализ чувствительности (СПИК)'!$D$47)","v":0},{"$f":"Предпосылки!T41*(1+'Анализ чувствительности (СПИК)'!$D$47)","v":0},{"$f":"Предпосылки!U41*(1+'Анализ чувствительности (СПИК)'!$D$47)","v":0},{"$f":"Предпосылки!V41*(1+'Анализ чувствительности (СПИК)'!$D$47)","v":0},{"$f":"Предпосылки!W41*(1+'Анализ чувствительности (СПИК)'!$D$47)","v":0},{"$f":"Предпосылки!X41*(1+'Анализ чувствительности (СПИК)'!$D$47)","v":0},{"$f":"Предпосылки!Y41*(1+'Анализ чувствительности (СПИК)'!$D$47)","v":0},{"$f":"Предпосылки!Z41*(1+'Анализ чувствительности (СПИК)'!$D$47)","v":0},{"$f":"Предпосылки!AA41*(1+'Анализ чувствительности (СПИК)'!$D$47)","v":0},{"$f":"Предпосылки!AB41*(1+'Анализ чувствительности (СПИК)'!$D$47)","v":0}]
[null,null,{"$f":"Предпосылки!C42","v":"Продукция 2"},"ед.",null,null,null,{"$f":"Предпосылки!H42*(1+'Анализ чувствительности (СПИК)'!$D$47)","v":0},{"$f":"Предпосылки!I42*(1+'Анализ чувствительности (СПИК)'!$D$47)","v":0},{"$f":"Предпосылки!J42*(1+'Анализ чувствительности (СПИК)'!$D$47)","v":0},{"$f":"Предпосылки!K42*(1+'Анализ чувствительности (СПИК)'!$D$47)","v":0},{"$f":"Предпосылки!L42*(1+'Анализ чувствительности (СПИК)'!$D$47)","v":0},{"$f":"Предпосылки!M42*(1+'Анализ чувствительности (СПИК)'!$D$47)","v":0},{"$f":"Предпосылки!N42*(1+'Анализ чувствительности (СПИК)'!$D$47)","v":0},{"$f":"Предпосылки!O42*(1+'Анализ чувствительности (СПИК)'!$D$47)","v":0},{"$f":"Предпосылки!P42*(1+'Анализ чувствительности (СПИК)'!$D$47)","v":0},{"$f":"Предпосылки!Q42*(1+'Анализ чувствительности (СПИК)'!$D$47)","v":0},{"$f":"Предпосылки!R42*(1+'Анализ чувствительности (СПИК)'!$D$47)","v":0},{"$f":"Предпосылки!S42*(1+'Анализ чувствительности (СПИК)'!$D$47)","v":0},{"$f":"Предпосылки!T42*(1+'Анализ чувствительности (СПИК)'!$D$47)","v":0},{"$f":"Предпосылки!U42*(1+'Анализ чувствительности (СПИК)'!$D$47)","v":0},{"$f":"Предпосылки!V42*(1+'Анализ чувствительности (СПИК)'!$D$47)","v":0},{"$f":"Предпосылки!W42*(1+'Анализ чувствительности (СПИК)'!$D$47)","v":0},{"$f":"Предпосылки!X42*(1+'Анализ чувствительности (СПИК)'!$D$47)","v":0},{"$f":"Предпосылки!Y42*(1+'Анализ чувствительности (СПИК)'!$D$47)","v":0},{"$f":"Предпосылки!Z42*(1+'Анализ чувствительности (СПИК)'!$D$47)","v":0},{"$f":"Предпосылки!AA42*(1+'Анализ чувствительности (СПИК)'!$D$47)","v":0},{"$f":"Предпосылки!AB42*(1+'Анализ чувствительности (СПИК)'!$D$47)","v":0}]
[null,null,{"$f":"Предпосылки!C43","v":"…"},"ед."]
[null,null,"Итого","ед.",null,null,null,{"$f":"SUM(H7:H9)","v":0},{"$f":"SUM(I7:I9)","v":0},0,0,0,0,0,0,0,0,0,0,0,0,0,0,0,0,0,0,0]
[]
[null,"Прямые расходы на производство продукции (без НДС)"]
[]
[null,{"$f":"Предпосылки!B61","v":"Продукция 1"}]
[null,null,{"$f":"Предпосылки!C62","v":"Сырье/материалы 1"},"тыс. руб.",null,null,null,{"$f":"H$7*Предпосылки!H62*Предпосылки!H74","v":0},{"$f":"I$7*Предпосылки!I62*Предпосылки!I74","v":0},{"$f":"J$7*Предпосылки!J62*Предпосылки!J74","v":0},{"$f":"K$7*Предпосылки!K62*Предпосылки!K74","v":0},{"$f":"L$7*Предпосылки!L62*Предпосылки!L74","v":0},{"$f":"M$7*Предпосылки!M62*Предпосылки!M74","v":0},{"$f":"N$7*Предпосылки!N62*Предпосылки!N74","v":0},{"$f":"O$7*Предпосылки!O62*Предпосылки!O74","v":0},{"$f":"P$7*Предпосылки!P62*Предпосылки!P74","v":0},{"$f":"Q$7*Предпосылки!Q62*Предпосылки!Q74","v":0},{"$f":"R$7*Предпосылки!R62*Предпосылки!R74","v":0},{"$f":"S$7*Предпосылки!S62*Предпосылки!S74","v":0},{"$f":"T$7*Предпосылки!T62*Предпосылки!T74","v":0},{"$f":"U$7*Предпосылки!U62*Предпосылки!U74","v":0},{"$f":"V$7*Предпосылки!V62*Предпосылки!V74","v":0},{"$f":"W$7*Предпосылки!W62*Предпосылки!W74","v":0},{"$f":"X$7*Предпосылки!X62*Предпосылки!X74","v":0},{"$f":"Y$7*Предпосылки!Y62*Предпосылки!Y74","v":0},{"$f":"Z$7*Предпосылки!Z62*Предпосылки!Z74","v":0},{"$f":"AA$7*Предпосылки!AA62*Предпосылки!AA74","v":0},{"$f":"AB$7*Предпосылки!AB62*Предпосылки!AB74","v":0}]
[null,null,{"$f":"Предпосылки!C63","v":"Сырье/материалы 2"},"тыс. руб.",null,null,null,{"$f":"H$7*Предпосылки!H63*Предпосылки!H75","v":0},{"$f":"I$7*Предпосылки!I63*Предпосылки!I75","v":0},{"$f":"J$7*Предпосылки!J63*Предпосылки!J75","v":0},{"$f":"K$7*Предпосылки!K63*Предпосылки!K75","v":0},{"$f":"L$7*Предпосылки!L63*Предпосылки!L75","v":0},{"$f":"M$7*Предпосылки!M63*Предпосылки!M75","v":0},{"$f":"N$7*Предпосылки!N63*Предпосылки!N75","v":0},{"$f":"O$7*Предпосылки!O63*Предпосылки!O75","v":0},{"$f":"P$7*Предпосылки!P63*Предпосылки!P75","v":0},{"$f":"Q$7*Предпосылки!Q63*Предпосылки!Q75","v":0},{"$f":"R$7*Предпосылки!R63*Предпосылки!R75","v":0},{"$f":"S$7*Предпосылки!S63*Предпосылки!S75","v":0},{"$f":"T$7*Предпосылки!T63*Предпосылки!T75","v":0},{"$f":"U$7*Предпосылки!U63*Предпосылки!U75","v":0},{"$f":"V$7*Предпосылки!V63*Предпосылки!V75","v":0},{"$f":"W$7*Предпосылки!W63*Предпосылки!W75","v":0},{"$f":"X$7*Предпосылки!X63*Предпосылки!X75","v":0},{"$f":"Y$7*Предпосылки!Y63*Предпосылки!Y75","v":0},{"$f":"Z$7*Предпосылки!Z63*Предпосылки!Z75","v":0},{"$f":"AA$7*Предпосылки!AA63*Предпосылки!AA75","v":0},{"$f":"AB$7*Предпосылки!AB63*Предпосылки!AB75","v":0}]
[null,null,{"$f":"Предпосылки!C64","v":"…"}]
[null,null,"Итого"," тыс. руб.",null,null,null,{"$f":"SUM(H15:H17)","v":0},{"$f":"SUM(I15:I17)","v":0},0,0,0,0,0,0,0,0,0,0,0,0,0,0,0,0,0,0,0]
[]
[null,{"$f":"Предпосылки!B66","v":"Продукция 2"}]
[null,null,{"$f":"C15","v":"Сырье/материалы 1"},"тыс. руб.",null,null,null,{"$f":"H$8*Предпосылки!H67*Предпосылки!H79","v":0},{"$f":"I$8*Предпосылки!I67*Предпосылки!I79","v":0},{"$f":"J$8*Предпосылки!J67*Предпосылки!J79","v":0},{"$f":"K$8*Предпосылки!K67*Предпосылки!K79","v":0},{"$f":"L$8*Предпосылки!L67*Предпосылки!L79","v":0},{"$f":"M$8*Предпосылки!M67*Предпосылки!M79","v":0},{"$f":"N$8*Предпосылки!N67*Предпосылки!N79","v":0},{"$f":"O$8*Предпосылки!O67*Предпосылки!O79","v":0},{"$f":"P$8*Предпосылки!P67*Предпосылки!P79","v":0},{"$f":"Q$8*Предпосылки!Q67*Предпосылки!Q79","v":0},{"$f":"R$8*Предпосылки!R67*Предпосылки!R79","v":0},{"$f":"S$8*Предпосылки!S67*Предпосылки!S79","v":0},{"$f":"T$8*Предпосылки!T67*Предпосылки!T79","v":0},{"$f":"U$8*Предпосылки!U67*Предпосылки!U79","v":0},{"$f":"V$8*Предпосылки!V67*Предпосылки!V79","v":0},{"$f":"W$8*Предпосылки!W67*Предпосылки!W79","v":0},{"$f":"X$8*Предпосылки!X67*Предпосылки!X79","v":0},{"$f":"Y$8*Предпосылки!Y67*Предпосылки!Y79","v":0},{"$f":"Z$8*Предпосылки!Z67*Предпосылки!Z79","v":0},{"$f":"AA$8*Предпосылки!AA67*Предпосылки!AA79","v":0},{"$f":"AB$8*Предпосылки!AB67*Предпосылки!AB79","v":0}]
[null,null,{"$f":"C16","v":"Сырье/материалы 2"},"тыс. руб.",null,null,null,{"$f":"H$8*Предпосылки!H68*Предпосылки!H80","v":0},{"$f":"I$8*Предпосылки!I68*Предпосылки!I80","v":0},{"$f":"J$8*Предпосылки!J68*Предпосылки!J80","v":0},{"$f":"K$8*Предпосылки!K68*Предпосылки!K80","v":0},{"$f":"L$8*Предпосылки!L68*Предпосылки!L80","v":0},{"$f":"M$8*Предпосылки!M68*Предпосылки!M80","v":0},{"$f":"N$8*Предпосылки!N68*Предпосылки!N80","v":0},{"$f":"O$8*Предпосылки!O68*Предпосылки!O80","v":0},{"$f":"P$8*Предпосылки!P68*Предпосылки!P80","v":0},{"$f":"Q$8*Предпосылки!Q68*Предпосылки!Q80","v":0},{"$f":"R$8*Предпосылки!R68*Предпосылки!R80","v":0},{"$f":"S$8*Предпосылки!S68*Предпосылки!S80","v":0},{"$f":"T$8*Предпосылки!T68*Предпосылки!T80","v":0},{"$f":"U$8*Предпосылки!U68*Предпосылки!U80","v":0},{"$f":"V$8*Предпосылки!V68*Предпосылки!V80","v":0},{"$f":"W$8*Предпосылки!W68*Предпосылки!W80","v":0},{"$f":"X$8*Предпосылки!X68*Предпосылки!X80","v":0},{"$f":"Y$8*Предпосылки!Y68*Предпосылки!Y80","v":0},{"$f":"Z$8*Предпосылки!Z68*Предпосылки!Z80","v":0},{"$f":"AA$8*Предпосылки!AA68*Предпосылки!AA80","v":0},{"$f":"AB$8*Предпосылки!AB68*Предпосылки!AB80","v":0}]
[null,null,{"$f":"C17","v":"…"}]
[null,null,"Итого"," тыс. руб.",null,null,null,{"$f":"SUM(H21:H23)","v":0},0,0,0,0,0,0,0,0,0,0,0,0,0,0,0,0,0,0,0,0]
[]
[null,"Расходы на ФОТ"]
[]
[null,{"$f":"Предпосылки!B126","v":"Сотрудники с ФОТ менее 2979 тыс. рублей/год"}]
[null,null,{"$f":"Предпосылки!C127","v":"Производственный персонал"},"тыс. руб.",null,null,null,{"$f":"SUBTOTAL(9,H30:H31)","v":0},{"$f":"SUBTOTAL(9,I30:I31)","v":0},0,0,0,0,0,0,0,0,0,0,0,0,0,0,0,0,0,0,0]
[null,null,{"$f":"Предпосылки!C128","v":"Категория 1"},"тыс. руб.",null,null,null,{"$f":"Предпосылки!H128*Предпосылки!H154*Предпосылки!H$28","v":0},{"$f":"Предпосылки!I128*Предпосылки!I154*Предпосылки!I$28","v":0},{"$f":"Предпосылки!J128*Предпосылки!J154*Предпосылки!J$28","v":0},{"$f":"Предпосылки!K128*Предпосылки!K154*Предпосылки!K$28","v":0},{"$f":"Предпосылки!L128*Предпосылки!L154*Предпосылки!L$28","v":0},{"$f":"Предпосылки!M128*Предпосылки!M154*Предпосылки!M$28","v":0},{"$f":"Предпосылки!N128*Предпосылки!N154*Предпосылки!N$28","v":0},{"$f":"Предпосылки!O128*Предпосылки!O154*Предпосылки!O$28","v":0},{"$f":"Предпосылки!P128*Предпосылки!P154*Предпосылки!P$28","v":0},{"$f":"Предпосылки!Q128*Предпосылки!Q154*Предпосылки!Q$28","v":0},{"$f":"Предпосылки!R128*Предпосылки!R154*Предпосылки!R$28","v":0},{"$f":"Предпосылки!S128*Предпосылки!S154*Предпосылки!S$28","v":0},{"$f":"Предпосылки!T128*Предпосылки!T154*Предпосылки!T$28","v":0},{"$f":"Предпосылки!U128*Предпосылки!U154*Предпосылки!U$28","v":0},{"$f":"Предпосылки!V128*Предпосылки!V154*Предпосылки!V$28","v":0},{"$f":"Предпосылки!W128*Предпосылки!W154*Предпосылки!W$28","v":0},{"$f":"Предпосылки!X128*Предпосылки!X154*Предпосылки!X$28","v":0},{"$f":"Предпосылки!Y128*Предпосылки!Y154*Предпосылки!Y$28","v":0},{"$f":"Предпосылки!Z128*Предпосылки!Z154*Предпосылки!Z$28","v":0},{"$f":"Предпосылки!AA128*Предпосылки!AA154*Предпосылки!AA$28","v":0},{"$f":"Предпосылки!AB128*Предпосылки!AB154*Предпосылки!AB$28","v":0}]
[null,null,{"$f":"Предпосылки!C129","v":"…"},"тыс. руб."]
[null,null,{"$f":"Предпосылки!C130","v":"Вспомогательный персонал"},"тыс. руб.",null,null,null,{"$f":"SUBTOTAL(9,H33:H34)","v":0},{"$f":"SUBTOTAL(9,I33:I34)","v":0},{"$f":"SUBTOTAL(9,J33:J34)","v":0},0,0,0,0,0,0,0,0,0,0,0,0,0,0,0,0,0,0]
[null,null,{"$f":"Предпосылки!C131","v":"Категория 1"},"тыс. руб.",null,null,null,{"$f":"Предпосылки!H131*Предпосылки!H157*Предпосылки!H$28","v":0},{"$f":"Предпосылки!I131*Предпосылки!I157*Предпосылки!I$28","v":0},{"$f":"Предпосылки!J131*Предпосылки!J157*Предпосылки!J$28","v":0},{"$f":"Предпосылки!K131*Предпосылки!K157*Предпосылки!K$28","v":0},{"$f":"Предпосылки!L131*Предпосылки!L157*Предпосылки!L$28","v":0},{"$f":"Предпосылки!M131*Предпосылки!M157*Предпосылки!M$28","v":0},{"$f":"Предпосылки!N131*Предпосылки!N157*Предпосылки!N$28","v":0},{"$f":"Предпосылки!O131*Предпосылки!O157*Предпосылки!O$28","v":0},{"$f":"Предпосылки!P131*Предпосылки!P157*Предпосылки!P$28","v":0},{"$f":"Предпосылки!Q131*Предпосылки!Q157*Предпосылки!Q$28","v":0},{"$f":"Предпосылки!R131*Предпосылки!R157*Предпосылки!R$28","v":0},{"$f":"Предпосылки!S131*Предпосылки!S157*Предпосылки!S$28","v":0},{"$f":"Предпосылки!T131*Предпосылки!T157*Предпосылки!T$28","v":0},{"$f":"Предпосылки!U131*Предпосылки!U157*Предпосылки!U$28","v":0},{"$f":"Предпосылки!V131*Предпосылки!V157*Предпосылки!V$28","v":0},{"$f":"Предпосылки!W131*Предпосылки!W157*Предпосылки!W$28","v":0},{"$f":"Предпосылки!X131*Предпосылки!X157*Предпосылки!X$28","v":0},{"$f":"Предпосылки!Y131*Предпосылки!Y157*Предпосылки!Y$28","v":0},{"$f":"Предпосылки!Z131*Предпосылки!Z157*Предпосылки!Z$28","v":0},{"$f":"Предпосылки!AA131*Предпосылки!AA157*Предпосылки!AA$28","v":0},{"$f":"Предпосылки!AB131*Предпосылки!AB157*Предпосылки!AB$28","v":0}]
[null,null,{"$f":"Предпосылки!C132","v":"…"},"тыс. руб."]
[null,null,{"$f":"Предпосылки!C133","v":"Административный персонал"},"тыс. руб.",null,null,null,{"$f":"SUBTOTAL(9,H36:H37)","v":0},{"$f":"SUBTOTAL(9,I36:I37)","v":0},{"$f":"SUBTOTAL(9,J36:J37)","v":0},0,0,0,0,0,0,0,0,0,0,0,0,0,0,0,0,0,0]
[null,null,{"$f":"Предпосылки!C134","v":"Категория 1"},"тыс. руб.",null,null,null,{"$f":"Предпосылки!H134*Предпосылки!H160*Предпосылки!H$28","v":0},{"$f":"Предпосылки!I134*Предпосылки!I160*Предпосылки!I$28","v":0},{"$f":"Предпосылки!J134*Предпосылки!J160*Предпосылки!J$28","v":0},{"$f":"Предпосылки!K134*Предпосылки!K160*Предпосылки!K$28","v":0},{"$f":"Предпосылки!L134*Предпосылки!L160*Предпосылки!L$28","v":0},{"$f":"Предпосылки!M134*Предпосылки!M160*Предпосылки!M$28","v":0},{"$f":"Предпосылки!N134*Предпосылки!N160*Предпосылки!N$28","v":0},{"$f":"Предпосылки!O134*Предпосылки!O160*Предпосылки!O$28","v":0},{"$f":"Предпосылки!P134*Предпосылки!P160*Предпосылки!P$28","v":0},{"$f":"Предпосылки!Q134*Предпосылки!Q160*Предпосылки!Q$28","v":0},{"$f":"Предпосылки!R134*Предпосылки!R160*Предпосылки!R$28","v":0},{"$f":"Предпосылки!S134*Предпосылки!S160*Предпосылки!S$28","v":0},{"$f":"Предпосылки!T134*Предпосылки!T160*Предпосылки!T$28","v":0},{"$f":"Предпосылки!U134*Предпосылки!U160*Предпосылки!U$28","v":0},{"$f":"Предпосылки!V134*Предпосылки!V160*Предпосылки!V$28","v":0},{"$f":"Предпосылки!W134*Предпосылки!W160*Предпосылки!W$28","v":0},{"$f":"Предпосылки!X134*Предпосылки!X160*Предпосылки!X$28","v":0},{"$f":"Предпосылки!Y134*Предпосылки!Y160*Предпосылки!Y$28","v":0},{"$f":"Предпосылки!Z134*Предпосылки!Z160*Предпосылки!Z$28","v":0},{"$f":"Предпосылки!AA134*Предпосылки!AA160*Предпосылки!AA$28","v":0},{"$f":"Предпосылки!AB134*Предпосылки!AB160*Предпосылки!AB$28","v":0}]
[null,null,{"$f":"Предпосылки!C135","v":"…"},"тыс. руб."]
[null,null,{"$f":"Предпосылки!C136","v":"Итого"},"тыс. руб.",null,null,null,{"$f":"SUBTOTAL(9,H29:H37)","v":0},{"$f":"SUBTOTAL(9,I29:I37)","v":0},0,0,0,0,0,0,0,0,0,0,0,0,0,0,0,0,0,0,0]
[]
[null,{"$f":"Предпосылки!B138","v":"Сотрудники с ФОТ более или равно 2979 тыс. рублей/год (каждый указывается отдельно)"}]
[null,null,{"$f":"Предпосылки!C139","v":"Производственный персонал"},"тыс. руб.",null,null,null,{"$f":"SUBTOTAL(9,H42:H43)","v":0},{"$f":"SUBTOTAL(9,I42:I43)","v":0},0,0,0,0,0,0,0,0,0,0,0,0,0,0,0,0,0,0,0]
[null,null,{"$f":"Предпосылки!C140","v":"Сотрудник 1 "},"тыс. руб.",null,null,null,{"$f":"Предпосылки!H140*Предпосылки!H166*Предпосылки!H$28","v":0},{"$f":"Предпосылки!I140*Предпосылки!I166*Предпосылки!I$28","v":0},{"$f":"Предпосылки!J140*Предпосылки!J166*Предпосылки!J$28","v":0},{"$f":"Предпосылки!K140*Предпосылки!K166*Предпосылки!K$28","v":0},{"$f":"Предпосылки!L140*Предпосылки!L166*Предпосылки!L$28","v":0},{"$f":"Предпосылки!M140*Предпосылки!M166*Предпосылки!M$28","v":0},{"$f":"Предпосылки!N140*Предпосылки!N166*Предпосылки!N$28","v":0},{"$f":"Предпосылки!O140*Предпосылки!O166*Предпосылки!O$28","v":0},{"$f":"Предпосылки!P140*Предпосылки!P166*Предпосылки!P$28","v":0},{"$f":"Предпосылки!Q140*Предпосылки!Q166*Предпосылки!Q$28","v":0},{"$f":"Предпосылки!R140*Предпосылки!R166*Предпосылки!R$28","v":0},{"$f":"Предпосылки!S140*Предпосылки!S166*Предпосылки!S$28","v":0},{"$f":"Предпосылки!T140*Предпосылки!T166*Предпосылки!T$28","v":0},{"$f":"Предпосылки!U140*Предпосылки!U166*Предпосылки!U$28","v":0},{"$f":"Предпосылки!V140*Предпосылки!V166*Предпосылки!V$28","v":0},{"$f":"Предпосылки!W140*Предпосылки!W166*Предпосылки!W$28","v":0},{"$f":"Предпосылки!X140*Предпосылки!X166*Предпосылки!X$28","v":0},{"$f":"Предпосылки!Y140*Предпосылки!Y166*Предпосылки!Y$28","v":0},{"$f":"Предпосылки!Z140*Предпосылки!Z166*Предпосылки!Z$28","v":0},{"$f":"Предпосылки!AA140*Предпосылки!AA166*Предпосылки!AA$28","v":0},{"$f":"Предпосылки!AB140*Предпосылки!AB166*Предпосылки!AB$28","v":0}]
[null,null,{"$f":"Предпосылки!C141","v":"…"},"тыс. руб."]
[null,null,{"$f":"Предпосылки!C142","v":"Вспомогательный персонал"},"тыс. руб.",null,null,null,{"$f":"SUBTOTAL(9,H45:H46)","v":0},{"$f":"SUBTOTAL(9,I45:I46)","v":0},0,0,0,0,0,0,0,0,0,0,0,0,0,0,0,0,0,0,0]
[null,null,{"$f":"Предпосылки!C143","v":"Сотрудник 1 "},"тыс. руб.",null,null,null,{"$f":"Предпосылки!H143*Предпосылки!H169*Предпосылки!H$28","v":0},{"$f":"Предпосылки!I143*Предпосылки!I169*Предпосылки!I$28","v":0},{"$f":"Предпосылки!J143*Предпосылки!J169*Предпосылки!J$28","v":0},{"$f":"Предпосылки!K143*Предпосылки!K169*Предпосылки!K$28","v":0},{"$f":"Предпосылки!L143*Предпосылки!L169*Предпосылки!L$28","v":0},{"$f":"Предпосылки!M143*Предпосылки!M169*Предпосылки!M$28","v":0},{"$f":"Предпосылки!N143*Предпосылки!N169*Предпосылки!N$28","v":0},{"$f":"Предпосылки!O143*Предпосылки!O169*Предпосылки!O$28","v":0},{"$f":"Предпосылки!P143*Предпосылки!P169*Предпосылки!P$28","v":0},{"$f":"Предпосылки!Q143*Предпосылки!Q169*Предпосылки!Q$28","v":0},{"$f":"Предпосылки!R143*Предпосылки!R169*Предпосылки!R$28","v":0},{"$f":"Предпосылки!S143*Предпосылки!S169*Предпосылки!S$28","v":0},{"$f":"Предпосылки!T143*Предпосылки!T169*Предпосылки!T$28","v":0},{"$f":"Предпосылки!U143*Предпосылки!U169*Предпосылки!U$28","v":0},{"$f":"Предпосылки!V143*Предпосылки!V169*Предпосылки!V$28","v":0},{"$f":"Предпосылки!W143*Предпосылки!W169*Предпосылки!W$28","v":0},{"$f":"Предпосылки!X143*Предпосылки!X169*Предпосылки!X$28","v":0},{"$f":"Предпосылки!Y143*Предпосылки!Y169*Предпосылки!Y$28","v":0},{"$f":"Предпосылки!Z143*Предпосылки!Z169*Предпосылки!Z$28","v":0},{"$f":"Предпосылки!AA143*Предпосылки!AA169*Предпосылки!AA$28","v":0},{"$f":"Предпосылки!AB143*Предпосылки!AB169*Предпосылки!AB$28","v":0}]
[null,null,{"$f":"Предпосылки!C144","v":"…"},"тыс. руб."]
[null,null,{"$f":"Предпосылки!C145","v":"Административный персонал"},"тыс. руб.",null,null,null,{"$f":"SUBTOTAL(9,H48:H49)","v":0},{"$f":"SUBTOTAL(9,I48:I49)","v":0},0,0,0,0,0,0,0,0,0,0,0,0,0,0,0,0,0,0,0]
[null,null,{"$f":"Предпосылки!C146","v":"Сотрудник 1 "},"тыс. руб.",null,null,null,{"$f":"Предпосылки!H146*Предпосылки!H172*Предпосылки!H$28","v":0},{"$f":"Предпосылки!I146*Предпосылки!I172*Предпосылки!I$28","v":0},{"$f":"Предпосылки!J146*Предпосылки!J172*Предпосылки!J$28","v":0},{"$f":"Предпосылки!K146*Предпосылки!K172*Предпосылки!K$28","v":0},{"$f":"Предпосылки!L146*Предпосылки!L172*Предпосылки!L$28","v":0},{"$f":"Предпосылки!M146*Предпосылки!M172*Предпосылки!M$28","v":0},{"$f":"Предпосылки!N146*Предпосылки!N172*Предпосылки!N$28","v":0},{"$f":"Предпосылки!O146*Предпосылки!O172*Предпосылки!O$28","v":0},{"$f":"Предпосылки!P146*Предпосылки!P172*Предпосылки!P$28","v":0},{"$f":"Предпосылки!Q146*Предпосылки!Q172*Предпосылки!Q$28","v":0},{"$f":"Предпосылки!R146*Предпосылки!R172*Предпосылки!R$28","v":0},{"$f":"Предпосылки!S146*Предпосылки!S172*Предпосылки!S$28","v":0},{"$f":"Предпосылки!T146*Предпосылки!T172*Предпосылки!T$28","v":0},{"$f":"Предпосылки!U146*Предпосылки!U172*Предпосылки!U$28","v":0},{"$f":"Предпосылки!V146*Предпосылки!V172*Предпосылки!V$28","v":0},{"$f":"Предпосылки!W146*Предпосылки!W172*Предпосылки!W$28","v":0},{"$f":"Предпосылки!X146*Предпосылки!X172*Предпосылки!X$28","v":0},{"$f":"Предпосылки!Y146*Предпосылки!Y172*Предпосылки!Y$28","v":0},{"$f":"Предпосылки!Z146*Предпосылки!Z172*Предпосылки!Z$28","v":0},{"$f":"Предпосылки!AA146*Предпосылки!AA172*Предпосылки!AA$28","v":0},{"$f":"Предпосылки!AB146*Предпосылки!AB172*Предпосылки!AB$28","v":0}]
[null,null,{"$f":"Предпосылки!C147","v":"…"},"тыс. руб."]
[null,null,{"$f":"Предпосылки!C148","v":"Итого"},"тыс. руб.",null,null,null,{"$f":"SUBTOTAL(9,H41:H49)","v":0},{"$f":"SUBTOTAL(9,I41:I49)","v":0},0,0,0,0,0,0,0,0,0,0,0,0,0,0,0,0,0,0,0]
[]
[]
[null,"Совокупный ФОТ",null,"тыс. руб.",null,null,null,{"$f":"SUM(H38,H50)","v":0},{"$f":"SUM(I38,I50)","v":0},0,{"$f":"SUM(K38,K50)","v":0},0,0,0,0,0,0,0,0,0,0,0,0,0,0,0,0,0]
[]
[null,"Взносы во внебюджетные фонды"]
[]
[null,"Страховые взносы с учетом применения льготного тарифа для участников СПИК 1.0, являющихся участниками промышленных кластеров"]
[]
[null,"Отчисления по единому пониженному тарифу"]
[]
[null,"Производственный персонал"]
[null,null,"По общей ставке","тыс. руб.",null,null,null,{"$f":"SUM(H29,Предпосылки!H335*Предпосылки!H139)*Предпосылки!H351","v":0},{"$f":"SUM(I29,Предпосылки!I335*Предпосылки!I139)*Предпосылки!I351","v":0},{"$f":"SUM(J29,Предпосылки!J335*Предпосылки!J139)*Предпосылки!J351","v":0},{"$f":"SUM(K29,Предпосылки!K335*Предпосылки!K139)*Предпосылки!K351","v":0},{"$f":"SUM(L29,Предпосылки!L335*Предпосылки!L139)*Предпосылки!L351","v":0},{"$f":"SUM(M29,Предпосылки!M335*Предпосылки!M139)*Предпосылки!M351","v":0},{"$f":"SUM(N29,Предпосылки!N335*Предпосылки!N139)*Предпосылки!N351","v":0},{"$f":"SUM(O29,Предпосылки!O335*Предпосылки!O139)*Предпосылки!O351","v":0},{"$f":"SUM(P29,Предпосылки!P335*Предпосылки!P139)*Предпосылки!P351","v":0},{"$f":"SUM(Q29,Предпосылки!Q335*Предпосылки!Q139)*Предпосылки!Q351","v":0},{"$f":"SUM(R29,Предпосылки!R335*Предпосылки!R139)*Предпосылки!R351","v":0},{"$f":"SUM(S29,Предпосылки!S335*Предпосылки!S139)*Предпосылки!S351","v":0},{"$f":"SUM(T29,Предпосылки!T335*Предпосылки!T139)*Предпосылки!T351","v":0},{"$f":"SUM(U29,Предпосылки!U335*Предпосылки!U139)*Предпосылки!U351","v":0},{"$f":"SUM(V29,Предпосылки!V335*Предпосылки!V139)*Предпосылки!V351","v":0},{"$f":"SUM(W29,Предпосылки!W335*Предпосылки!W139)*Предпосылки!W351","v":0},{"$f":"SUM(X29,Предпосылки!X335*Предпосылки!X139)*Предпосылки!X351","v":0},{"$f":"SUM(Y29,Предпосылки!Y335*Предпосылки!Y139)*Предпосылки!Y351","v":0},{"$f":"SUM(Z29,Предпосылки!Z335*Предпосылки!Z139)*Предпосылки!Z351","v":0},{"$f":"SUM(AA29,Предпосылки!AA335*Предпосылки!AA139)*Предпосылки!AA351","v":0},{"$f":"SUM(AB29,Предпосылки!AB335*Предпосылки!AB139)*Предпосылки!AB351","v":0}]
[null,null,"По пониженной ставке","тыс. руб.",null,null,null,{"$f":"(H41-Предпосылки!H335*Предпосылки!H139)*Предпосылки!H352","v":0},{"$f":"(I41-Предпосылки!I335*Предпосылки!I139)*Предпосылки!I352","v":0},{"$f":"(J41-Предпосылки!J335*Предпосылки!J139)*Предпосылки!J352","v":0},{"$f":"(K41-Предпосылки!K335*Предпосылки!K139)*Предпосылки!K352","v":0},{"$f":"(L41-Предпосылки!L335*Предпосылки!L139)*Предпосылки!L352","v":0},{"$f":"(M41-Предпосылки!M335*Предпосылки!M139)*Предпосылки!M352","v":0},{"$f":"(N41-Предпосылки!N335*Предпосылки!N139)*Предпосылки!N352","v":0},{"$f":"(O41-Предпосылки!O335*Предпосылки!O139)*Предпосылки!O352","v":0},{"$f":"(P41-Предпосылки!P335*Предпосылки!P139)*Предпосылки!P352","v":0},{"$f":"(Q41-Предпосылки!Q335*Предпосылки!Q139)*Предпосылки!Q352","v":0},{"$f":"(R41-Предпосылки!R335*Предпосылки!R139)*Предпосылки!R352","v":0},{"$f":"(S41-Предпосылки!S335*Предпосылки!S139)*Предпосылки!S352","v":0},{"$f":"(T41-Предпосылки!T335*Предпосылки!T139)*Предпосылки!T352","v":0},{"$f":"(U41-Предпосылки!U335*Предпосылки!U139)*Предпосылки!U352","v":0},{"$f":"(V41-Предпосылки!V335*Предпосылки!V139)*Предпосылки!V352","v":0},{"$f":"(W41-Предпосылки!W335*Предпосылки!W139)*Предпосылки!W352","v":0},{"$f":"(X41-Предпосылки!X335*Предпосылки!X139)*Предпосылки!X352","v":0},{"$f":"(Y41-Предпосылки!Y335*Предпосылки!Y139)*Предпосылки!Y352","v":0},{"$f":"(Z41-Предпосылки!Z335*Предпосылки!Z139)*Предпосылки!Z352","v":0},{"$f":"(AA41-Предпосылки!AA335*Предпосылки!AA139)*Предпосылки!AA352","v":0},{"$f":"(AB41-Предпосылки!AB335*Предпосылки!AB139)*Предпосылки!AB352","v":0}]
[null,null,"На травматизм","тыс. руб.",null,null,null,{"$f":"SUM(H29,H41)*Предпосылки!$F$345","v":0},{"$f":"SUM(I29,I41)*Предпосылки!$F$345","v":0},{"$f":"SUM(J29,J41)*Предпосылки!$F$345","v":0},{"$f":"SUM(K29,K41)*Предпосылки!$F$345","v":0},{"$f":"SUM(L29,L41)*Предпосылки!$F$345","v":0},{"$f":"SUM(M29,M41)*Предпосылки!$F$345","v":0},{"$f":"SUM(N29,N41)*Предпосылки!$F$345","v":0},{"$f":"SUM(O29,O41)*Предпосылки!$F$345","v":0},{"$f":"SUM(P29,P41)*Предпосылки!$F$345","v":0},{"$f":"SUM(Q29,Q41)*Предпосылки!$F$345","v":0},{"$f":"SUM(R29,R41)*Предпосылки!$F$345","v":0},{"$f":"SUM(S29,S41)*Предпосылки!$F$345","v":0},{"$f":"SUM(T29,T41)*Предпосылки!$F$345","v":0},{"$f":"SUM(U29,U41)*Предпосылки!$F$345","v":0},{"$f":"SUM(V29,V41)*Предпосылки!$F$345","v":0},{"$f":"SUM(W29,W41)*Предпосылки!$F$345","v":0},{"$f":"SUM(X29,X41)*Предпосылки!$F$345","v":0},{"$f":"SUM(Y29,Y41)*Предпосылки!$F$345","v":0},{"$f":"SUM(Z29,Z41)*Предпосылки!$F$345","v":0},{"$f":"SUM(AA29,AA41)*Предпосылки!$F$345","v":0},{"$f":"SUM(AB29,AB41)*Предпосылки!$F$345","v":0}]
[null,"Вспомогательный персонал"]
[null,null,"По общей ставке","тыс. руб.",null,null,null,{"$f":"SUM(H32,Предпосылки!H335*Предпосылки!H142)*Предпосылки!H351","v":0},{"$f":"SUM(I32,Предпосылки!I335*Предпосылки!I142)*Предпосылки!I351","v":0},{"$f":"SUM(J32,Предпосылки!J335*Предпосылки!J142)*Предпосылки!J351","v":0},{"$f":"SUM(K32,Предпосылки!K335*Предпосылки!K142)*Предпосылки!K351","v":0},{"$f":"SUM(L32,Предпосылки!L335*Предпосылки!L142)*Предпосылки!L351","v":0},{"$f":"SUM(M32,Предпосылки!M335*Предпосылки!M142)*Предпосылки!M351","v":0},{"$f":"SUM(N32,Предпосылки!N335*Предпосылки!N142)*Предпосылки!N351","v":0},{"$f":"SUM(O32,Предпосылки!O335*Предпосылки!O142)*Предпосылки!O351","v":0},{"$f":"SUM(P32,Предпосылки!P335*Предпосылки!P142)*Предпосылки!P351","v":0},{"$f":"SUM(Q32,Предпосылки!Q335*Предпосылки!Q142)*Предпосылки!Q351","v":0},{"$f":"SUM(R32,Предпосылки!R335*Предпосылки!R142)*Предпосылки!R351","v":0},{"$f":"SUM(S32,Предпосылки!S335*Предпосылки!S142)*Предпосылки!S351","v":0},{"$f":"SUM(T32,Предпосылки!T335*Предпосылки!T142)*Предпосылки!T351","v":0},{"$f":"SUM(U32,Предпосылки!U335*Предпосылки!U142)*Предпосылки!U351","v":0},{"$f":"SUM(V32,Предпосылки!V335*Предпосылки!V142)*Предпосылки!V351","v":0},{"$f":"SUM(W32,Предпосылки!W335*Предпосылки!W142)*Предпосылки!W351","v":0},{"$f":"SUM(X32,Предпосылки!X335*Предпосылки!X142)*Предпосылки!X351","v":0},{"$f":"SUM(Y32,Предпосылки!Y335*Предпосылки!Y142)*Предпосылки!Y351","v":0},{"$f":"SUM(Z32,Предпосылки!Z335*Предпосылки!Z142)*Предпосылки!Z351","v":0},{"$f":"SUM(AA32,Предпосылки!AA335*Предпосылки!AA142)*Предпосылки!AA351","v":0},{"$f":"SUM(AB32,Предпосылки!AB335*Предпосылки!AB142)*Предпосылки!AB351","v":0}]
[null,null,"По пониженной ставке","тыс. руб.",null,null,null,{"$f":"(H44-Предпосылки!H335*Предпосылки!H142)*Предпосылки!H352","v":0},{"$f":"(I44-Предпосылки!I335*Предпосылки!I142)*Предпосылки!I352","v":0},{"$f":"(J44-Предпосылки!J335*Предпосылки!J142)*Предпосылки!J352","v":0},{"$f":"(K44-Предпосылки!K335*Предпосылки!K142)*Предпосылки!K352","v":0},{"$f":"(L44-Предпосылки!L335*Предпосылки!L142)*Предпосылки!L352","v":0},{"$f":"(M44-Предпосылки!M335*Предпосылки!M142)*Предпосылки!M352","v":0},{"$f":"(N44-Предпосылки!N335*Предпосылки!N142)*Предпосылки!N352","v":0},{"$f":"(O44-Предпосылки!O335*Предпосылки!O142)*Предпосылки!O352","v":0},{"$f":"(P44-Предпосылки!P335*Предпосылки!P142)*Предпосылки!P352","v":0},{"$f":"(Q44-Предпосылки!Q335*Предпосылки!Q142)*Предпосылки!Q352","v":0},{"$f":"(R44-Предпосылки!R335*Предпосылки!R142)*Предпосылки!R352","v":0},{"$f":"(S44-Предпосылки!S335*Предпосылки!S142)*Предпосылки!S352","v":0},{"$f":"(T44-Предпосылки!T335*Предпосылки!T142)*Предпосылки!T352","v":0},{"$f":"(U44-Предпосылки!U335*Предпосылки!U142)*Предпосылки!U352","v":0},{"$f":"(V44-Предпосылки!V335*Предпосылки!V142)*Предпосылки!V352","v":0},{"$f":"(W44-Предпосылки!W335*Предпосылки!W142)*Предпосылки!W352","v":0},{"$f":"(X44-Предпосылки!X335*Предпосылки!X142)*Предпосылки!X352","v":0},{"$f":"(Y44-Предпосылки!Y335*Предпосылки!Y142)*Предпосылки!Y352","v":0},{"$f":"(Z44-Предпосылки!Z335*Предпосылки!Z142)*Предпосылки!Z352","v":0},{"$f":"(AA44-Предпосылки!AA335*Предпосылки!AA142)*Предпосылки!AA352","v":0},{"$f":"(AB44-Предпосылки!AB335*Предпосылки!AB142)*Предпосылки!AB352","v":0}]
[null,null,"На травматизм","тыс. руб.",null,null,null,{"$f":"SUM(H32,H44)*Предпосылки!$F$345","v":0},{"$f":"SUM(I32,I44)*Предпосылки!$F$345","v":0},{"$f":"SUM(J32,J44)*Предпосылки!$F$345","v":0},{"$f":"SUM(K32,K44)*Предпосылки!$F$345","v":0},{"$f":"SUM(L32,L44)*Предпосылки!$F$345","v":0},{"$f":"SUM(M32,M44)*Предпосылки!$F$345","v":0},{"$f":"SUM(N32,N44)*Предпосылки!$F$345","v":0},{"$f":"SUM(O32,O44)*Предпосылки!$F$345","v":0},{"$f":"SUM(P32,P44)*Предпосылки!$F$345","v":0},{"$f":"SUM(Q32,Q44)*Предпосылки!$F$345","v":0},{"$f":"SUM(R32,R44)*Предпосылки!$F$345","v":0},{"$f":"SUM(S32,S44)*Предпосылки!$F$345","v":0},{"$f":"SUM(T32,T44)*Предпосылки!$F$345","v":0},{"$f":"SUM(U32,U44)*Предпосылки!$F$345","v":0},{"$f":"SUM(V32,V44)*Предпосылки!$F$345","v":0},{"$f":"SUM(W32,W44)*Предпосылки!$F$345","v":0},{"$f":"SUM(X32,X44)*Предпосылки!$F$345","v":0},{"$f":"SUM(Y32,Y44)*Предпосылки!$F$345","v":0},{"$f":"SUM(Z32,Z44)*Предпосылки!$F$345","v":0},{"$f":"SUM(AA32,AA44)*Предпосылки!$F$345","v":0},{"$f":"SUM(AB32,AB44)*Предпосылки!$F$345","v":0}]
[null,"Административный персонал"]
[null,null,"По общей ставке","тыс. руб.",null,null,null,{"$f":"SUM(H35,Предпосылки!H335*Предпосылки!H145)*Предпосылки!H351","v":0},{"$f":"SUM(I35,Предпосылки!I335*Предпосылки!I145)*Предпосылки!I351","v":0},{"$f":"SUM(J35,Предпосылки!J335*Предпосылки!J145)*Предпосылки!J351","v":0},{"$f":"SUM(K35,Предпосылки!K335*Предпосылки!K145)*Предпосылки!K351","v":0},{"$f":"SUM(L35,Предпосылки!L335*Предпосылки!L145)*Предпосылки!L351","v":0},{"$f":"SUM(M35,Предпосылки!M335*Предпосылки!M145)*Предпосылки!M351","v":0},{"$f":"SUM(N35,Предпосылки!N335*Предпосылки!N145)*Предпосылки!N351","v":0},{"$f":"SUM(O35,Предпосылки!O335*Предпосылки!O145)*Предпосылки!O351","v":0},{"$f":"SUM(P35,Предпосылки!P335*Предпосылки!P145)*Предпосылки!P351","v":0},{"$f":"SUM(Q35,Предпосылки!Q335*Предпосылки!Q145)*Предпосылки!Q351","v":0},{"$f":"SUM(R35,Предпосылки!R335*Предпосылки!R145)*Предпосылки!R351","v":0},{"$f":"SUM(S35,Предпосылки!S335*Предпосылки!S145)*Предпосылки!S351","v":0},{"$f":"SUM(T35,Предпосылки!T335*Предпосылки!T145)*Предпосылки!T351","v":0},{"$f":"SUM(U35,Предпосылки!U335*Предпосылки!U145)*Предпосылки!U351","v":0},{"$f":"SUM(V35,Предпосылки!V335*Предпосылки!V145)*Предпосылки!V351","v":0},{"$f":"SUM(W35,Предпосылки!W335*Предпосылки!W145)*Предпосылки!W351","v":0},{"$f":"SUM(X35,Предпосылки!X335*Предпосылки!X145)*Предпосылки!X351","v":0},{"$f":"SUM(Y35,Предпосылки!Y335*Предпосылки!Y145)*Предпосылки!Y351","v":0},{"$f":"SUM(Z35,Предпосылки!Z335*Предпосылки!Z145)*Предпосылки!Z351","v":0},{"$f":"SUM(AA35,Предпосылки!AA335*Предпосылки!AA145)*Предпосылки!AA351","v":0},{"$f":"SUM(AB35,Предпосылки!AB335*Предпосылки!AB145)*Предпосылки!AB351","v":0}]
[null,null,"По пониженной ставке","тыс. руб.",null,null,null,{"$f":"(H47-Предпосылки!H335*Предпосылки!H145)*Предпосылки!H352","v":0},{"$f":"(I47-Предпосылки!I335*Предпосылки!I145)*Предпосылки!I352","v":0},{"$f":"(J47-Предпосылки!J335*Предпосылки!J145)*Предпосылки!J352","v":0},{"$f":"(K47-Предпосылки!K335*Предпосылки!K145)*Предпосылки!K352","v":0},{"$f":"(L47-Предпосылки!L335*Предпосылки!L145)*Предпосылки!L352","v":0},{"$f":"(M47-Предпосылки!M335*Предпосылки!M145)*Предпосылки!M352","v":0},{"$f":"(N47-Предпосылки!N335*Предпосылки!N145)*Предпосылки!N352","v":0},{"$f":"(O47-Предпосылки!O335*Предпосылки!O145)*Предпосылки!O352","v":0},{"$f":"(P47-Предпосылки!P335*Предпосылки!P145)*Предпосылки!P352","v":0},{"$f":"(Q47-Предпосылки!Q335*Предпосылки!Q145)*Предпосылки!Q352","v":0},{"$f":"(R47-Предпосылки!R335*Предпосылки!R145)*Предпосылки!R352","v":0},{"$f":"(S47-Предпосылки!S335*Предпосылки!S145)*Предпосылки!S352","v":0},{"$f":"(T47-Предпосылки!T335*Предпосылки!T145)*Предпосылки!T352","v":0},{"$f":"(U47-Предпосылки!U335*Предпосылки!U145)*Предпосылки!U352","v":0},{"$f":"(V47-Предпосылки!V335*Предпосылки!V145)*Предпосылки!V352","v":0},{"$f":"(W47-Предпосылки!W335*Предпосылки!W145)*Предпосылки!W352","v":0},{"$f":"(X47-Предпосылки!X335*Предпосылки!X145)*Предпосылки!X352","v":0},{"$f":"(Y47-Предпосылки!Y335*Предпосылки!Y145)*Предпосылки!Y352","v":0},{"$f":"(Z47-Предпосылки!Z335*Предпосылки!Z145)*Предпосылки!Z352","v":0},{"$f":"(AA47-Предпосылки!AA335*Предпосылки!AA145)*Предпосылки!AA352","v":0},{"$f":"(AB47-Предпосылки!AB335*Предпосылки!AB145)*Предпосылки!AB352","v":0}]
[null,null,"На травматизм","тыс. руб.",null,null,null,{"$f":"SUM(H35,H47)*Предпосылки!$F$345","v":0},{"$f":"SUM(I35,I47)*Предпосылки!$F$345","v":0},{"$f":"SUM(J35,J47)*Предпосылки!$F$345","v":0},{"$f":"SUM(K35,K47)*Предпосылки!$F$345","v":0},{"$f":"SUM(L35,L47)*Предпосылки!$F$345","v":0},{"$f":"SUM(M35,M47)*Предпосылки!$F$345","v":0},{"$f":"SUM(N35,N47)*Предпосылки!$F$345","v":0},{"$f":"SUM(O35,O47)*Предпосылки!$F$345","v":0},{"$f":"SUM(P35,P47)*Предпосылки!$F$345","v":0},{"$f":"SUM(Q35,Q47)*Предпосылки!$F$345","v":0},{"$f":"SUM(R35,R47)*Предпосылки!$F$345","v":0},{"$f":"SUM(S35,S47)*Предпосылки!$F$345","v":0},{"$f":"SUM(T35,T47)*Предпосылки!$F$345","v":0},{"$f":"SUM(U35,U47)*Предпосылки!$F$345","v":0},{"$f":"SUM(V35,V47)*Предпосылки!$F$345","v":0},{"$f":"SUM(W35,W47)*Предпосылки!$F$345","v":0},{"$f":"SUM(X35,X47)*Предпосылки!$F$345","v":0},{"$f":"SUM(Y35,Y47)*Предпосылки!$F$345","v":0},{"$f":"SUM(Z35,Z47)*Предпосылки!$F$345","v":0},{"$f":"SUM(AA35,AA47)*Предпосылки!$F$345","v":0},{"$f":"SUM(AB35,AB47)*Предпосылки!$F$345","v":0}]
[null,null,"Итого","тыс. руб.",null,null,null,{"$f":"SUBTOTAL(9,H62:H72)","v":0},{"$f":"SUBTOTAL(9,I62:I72)","v":0},0,0,0,0,0,0,0,0,0,0,0,0,0,0,0,0,0,0,0]
[]
[null,"Совокупные расходы на персонал"]
[]
[null,"Производственный персонал",null,"тыс. руб.",null,null,null,{"$f":"SUM(H29,H41,H62:H64)","v":0},{"$f":"SUM(I29,I41,I62:I64)","v":0},0,0,0,0,0,0,0,0,0,0,0,0,0,0,0,0,0,0,0]
[null,"Вспомогательный персонал",null,"тыс. руб.",null,null,null,{"$f":"SUM(H32,H44,H66:H68)","v":0},{"$f":"SUM(I32,I44,I66:I68)","v":0},0,0,0,0,0,0,0,0,0,0,0,0,0,0,0,0,0,0,0]
[null,"Административный персонал",null,"тыс. руб.",null,null,null,{"$f":"SUM(H35,H47,H70:H72)","v":0},{"$f":"SUM(I35,I47,I70:I72)","v":0},0,0,0,0,0,0,0,0,0,0,0,0,0,0,0,0,0,0,0]
[null,null,"Итого","тыс. руб.",null,null,null,{"$f":"SUM(H77:H79)","v":0},{"$f":"SUM(I77:I79)","v":0},0,0,0,0,0,0,0,0,0,0,0,0,0,0,0,0,0,0,0]
[]
[null,"Страховые взносы в иных случаях"]
[]
[null,"ПФР"]
[null,"Производственный персонал",null,"тыс. руб."]
[null,null,"По общей ставке","тыс. руб.",null,null,null,{"$f":"SUM(H29,Предпосылки!H335*Предпосылки!H139)*Предпосылки!H340","v":0},{"$f":"SUM(I29,Предпосылки!I335*Предпосылки!I139)*Предпосылки!I340","v":0},{"$f":"SUM(J29,Предпосылки!J335*Предпосылки!J139)*Предпосылки!J340","v":0},{"$f":"SUM(K29,Предпосылки!K335*Предпосылки!K139)*Предпосылки!K340","v":0},{"$f":"SUM(L29,Предпосылки!L335*Предпосылки!L139)*Предпосылки!L340","v":0},{"$f":"SUM(M29,Предпосылки!M335*Предпосылки!M139)*Предпосылки!M340","v":0},{"$f":"SUM(N29,Предпосылки!N335*Предпосылки!N139)*Предпосылки!N340","v":0},{"$f":"SUM(O29,Предпосылки!O335*Предпосылки!O139)*Предпосылки!O340","v":0},{"$f":"SUM(P29,Предпосылки!P335*Предпосылки!P139)*Предпосылки!P340","v":0},{"$f":"SUM(Q29,Предпосылки!Q335*Предпосылки!Q139)*Предпосылки!Q340","v":0},{"$f":"SUM(R29,Предпосылки!R335*Предпосылки!R139)*Предпосылки!R340","v":0},{"$f":"SUM(S29,Предпосылки!S335*Предпосылки!S139)*Предпосылки!S340","v":0},{"$f":"SUM(T29,Предпосылки!T335*Предпосылки!T139)*Предпосылки!T340","v":0},{"$f":"SUM(U29,Предпосылки!U335*Предпосылки!U139)*Предпосылки!U340","v":0},{"$f":"SUM(V29,Предпосылки!V335*Предпосылки!V139)*Предпосылки!V340","v":0},{"$f":"SUM(W29,Предпосылки!W335*Предпосылки!W139)*Предпосылки!W340","v":0},{"$f":"SUM(X29,Предпосылки!X335*Предпосылки!X139)*Предпосылки!X340","v":0},{"$f":"SUM(Y29,Предпосылки!Y335*Предпосылки!Y139)*Предпосылки!Y340","v":0},{"$f":"SUM(Z29,Предпосылки!Z335*Предпосылки!Z139)*Предпосылки!Z340","v":0},{"$f":"SUM(AA29,Предпосылки!AA335*Предпосылки!AA139)*Предпосылки!AA340","v":0},{"$f":"SUM(AB29,Предпосылки!AB335*Предпосылки!AB139)*Предпосылки!AB340","v":0}]
[null,null,"По пониженной ставке","тыс. руб.",null,null,null,{"$f":"(H41-Предпосылки!H335*Предпосылки!H139)*Предпосылки!H341","v":0},{"$f":"(I41-Предпосылки!I335*Предпосылки!I139)*Предпосылки!I341","v":0},{"$f":"(J41-Предпосылки!J335*Предпосылки!J139)*Предпосылки!J341","v":0},{"$f":"(K41-Предпосылки!K335*Предпосылки!K139)*Предпосылки!K341","v":0},{"$f":"(L41-Предпосылки!L335*Предпосылки!L139)*Предпосылки!L341","v":0},{"$f":"(M41-Предпосылки!M335*Предпосылки!M139)*Предпосылки!M341","v":0},{"$f":"(N41-Предпосылки!N335*Предпосылки!N139)*Предпосылки!N341","v":0},{"$f":"(O41-Предпосылки!O335*Предпосылки!O139)*Предпосылки!O341","v":0},{"$f":"(P41-Предпосылки!P335*Предпосылки!P139)*Предпосылки!P341","v":0},{"$f":"(Q41-Предпосылки!Q335*Предпосылки!Q139)*Предпосылки!Q341","v":0},{"$f":"(R41-Предпосылки!R335*Предпосылки!R139)*Предпосылки!R341","v":0},{"$f":"(S41-Предпосылки!S335*Предпосылки!S139)*Предпосылки!S341","v":0},{"$f":"(T41-Предпосылки!T335*Предпосылки!T139)*Предпосылки!T341","v":0},{"$f":"(U41-Предпосылки!U335*Предпосылки!U139)*Предпосылки!U341","v":0},{"$f":"(V41-Предпосылки!V335*Предпосылки!V139)*Предпосылки!V341","v":0},{"$f":"(W41-Предпосылки!W335*Предпосылки!W139)*Предпосылки!W341","v":0},{"$f":"(X41-Предпосылки!X335*Предпосылки!X139)*Предпосылки!X341","v":0},{"$f":"(Y41-Предпосылки!Y335*Предпосылки!Y139)*Предпосылки!Y341","v":0},{"$f":"(Z41-Предпосылки!Z335*Предпосылки!Z139)*Предпосылки!Z341","v":0},{"$f":"(AA41-Предпосылки!AA335*Предпосылки!AA139)*Предпосылки!AA341","v":0},{"$f":"(AB41-Предпосылки!AB335*Предпосылки!AB139)*Предпосылки!AB341","v":0}]
[null,"Вспомогательный персонал",null,"тыс. руб."]
[null,null,"По общей ставке","тыс. руб.",null,null,null,{"$f":"SUM(H32,Предпосылки!H335*Предпосылки!H142)*Предпосылки!H340","v":0},{"$f":"SUM(I32,Предпосылки!I335*Предпосылки!I142)*Предпосылки!I340","v":0},{"$f":"SUM(J32,Предпосылки!J335*Предпосылки!J142)*Предпосылки!J340","v":0},{"$f":"SUM(K32,Предпосылки!K335*Предпосылки!K142)*Предпосылки!K340","v":0},{"$f":"SUM(L32,Предпосылки!L335*Предпосылки!L142)*Предпосылки!L340","v":0},{"$f":"SUM(M32,Предпосылки!M335*Предпосылки!M142)*Предпосылки!M340","v":0},{"$f":"SUM(N32,Предпосылки!N335*Предпосылки!N142)*Предпосылки!N340","v":0},{"$f":"SUM(O32,Предпосылки!O335*Предпосылки!O142)*Предпосылки!O340","v":0},{"$f":"SUM(P32,Предпосылки!P335*Предпосылки!P142)*Предпосылки!P340","v":0},{"$f":"SUM(Q32,Предпосылки!Q335*Предпосылки!Q142)*Предпосылки!Q340","v":0},{"$f":"SUM(R32,Предпосылки!R335*Предпосылки!R142)*Предпосылки!R340","v":0},{"$f":"SUM(S32,Предпосылки!S335*Предпосылки!S142)*Предпосылки!S340","v":0},{"$f":"SUM(T32,Предпосылки!T335*Предпосылки!T142)*Предпосылки!T340","v":0},{"$f":"SUM(U32,Предпосылки!U335*Предпосылки!U142)*Предпосылки!U340","v":0},{"$f":"SUM(V32,Предпосылки!V335*Предпосылки!V142)*Предпосылки!V340","v":0},{"$f":"SUM(W32,Предпосылки!W335*Предпосылки!W142)*Предпосылки!W340","v":0},{"$f":"SUM(X32,Предпосылки!X335*Предпосылки!X142)*Предпосылки!X340","v":0},{"$f":"SUM(Y32,Предпосылки!Y335*Предпосылки!Y142)*Предпосылки!Y340","v":0},{"$f":"SUM(Z32,Предпосылки!Z335*Предпосылки!Z142)*Предпосылки!Z340","v":0},{"$f":"SUM(AA32,Предпосылки!AA335*Предпосылки!AA142)*Предпосылки!AA340","v":0},{"$f":"SUM(AB32,Предпосылки!AB335*Предпосылки!AB142)*Предпосылки!AB340","v":0}]
[null,null,"По пониженной ставке","тыс. руб.",null,null,null,{"$f":"(H44-Предпосылки!H335*Предпосылки!H142)*Предпосылки!H341","v":0},{"$f":"(I44-Предпосылки!I335*Предпосылки!I142)*Предпосылки!I341","v":0},{"$f":"(J44-Предпосылки!J335*Предпосылки!J142)*Предпосылки!J341","v":0},{"$f":"(K44-Предпосылки!K335*Предпосылки!K142)*Предпосылки!K341","v":0},{"$f":"(L44-Предпосылки!L335*Предпосылки!L142)*Предпосылки!L341","v":0},{"$f":"(M44-Предпосылки!M335*Предпосылки!M142)*Предпосылки!M341","v":0},{"$f":"(N44-Предпосылки!N335*Предпосылки!N142)*Предпосылки!N341","v":0},{"$f":"(O44-Предпосылки!O335*Предпосылки!O142)*Предпосылки!O341","v":0},{"$f":"(P44-Предпосылки!P335*Предпосылки!P142)*Предпосылки!P341","v":0},{"$f":"(Q44-Предпосылки!Q335*Предпосылки!Q142)*Предпосылки!Q341","v":0},{"$f":"(R44-Предпосылки!R335*Предпосылки!R142)*Предпосылки!R341","v":0},{"$f":"(S44-Предпосылки!S335*Предпосылки!S142)*Предпосылки!S341","v":0},{"$f":"(T44-Предпосылки!T335*Предпосылки!T142)*Предпосылки!T341","v":0},{"$f":"(U44-Предпосылки!U335*Предпосылки!U142)*Предпосылки!U341","v":0},{"$f":"(V44-Предпосылки!V335*Предпосылки!V142)*Предпосылки!V341","v":0},{"$f":"(W44-Предпосылки!W335*Предпосылки!W142)*Предпосылки!W341","v":0},{"$f":"(X44-Предпосылки!X335*Предпосылки!X142)*Предпосылки!X341","v":0},{"$f":"(Y44-Предпосылки!Y335*Предпосылки!Y142)*Предпосылки!Y341","v":0},{"$f":"(Z44-Предпосылки!Z335*Предпосылки!Z142)*Предпосылки!Z341","v":0},{"$f":"(AA44-Предпосылки!AA335*Предпосылки!AA142)*Предпосылки!AA341","v":0},{"$f":"(AB44-Предпосылки!AB335*Предпосылки!AB142)*Предпосылки!AB341","v":0}]
[null,"Административный персонал",null,"тыс. руб."]
[null,null,"По общей ставке","тыс. руб.",null,null,null,{"$f":"SUM(H35,Предпосылки!H335*Предпосылки!H145)*Предпосылки!H340","v":0},{"$f":"SUM(I35,Предпосылки!I335*Предпосылки!I145)*Предпосылки!I340","v":0},{"$f":"SUM(J35,Предпосылки!J335*Предпосылки!J145)*Предпосылки!J340","v":0},{"$f":"SUM(K35,Предпосылки!K335*Предпосылки!K145)*Предпосылки!K340","v":0},{"$f":"SUM(L35,Предпосылки!L335*Предпосылки!L145)*Предпосылки!L340","v":0},{"$f":"SUM(M35,Предпосылки!M335*Предпосылки!M145)*Предпосылки!M340","v":0},{"$f":"SUM(N35,Предпосылки!N335*Предпосылки!N145)*Предпосылки!N340","v":0},{"$f":"SUM(O35,Предпосылки!O335*Предпосылки!O145)*Предпосылки!O340","v":0},{"$f":"SUM(P35,Предпосылки!P335*Предпосылки!P145)*Предпосылки!P340","v":0},{"$f":"SUM(Q35,Предпосылки!Q335*Предпосылки!Q145)*Предпосылки!Q340","v":0},{"$f":"SUM(R35,Предпосылки!R335*Предпосылки!R145)*Предпосылки!R340","v":0},{"$f":"SUM(S35,Предпосылки!S335*Предпосылки!S145)*Предпосылки!S340","v":0},{"$f":"SUM(T35,Предпосылки!T335*Предпосылки!T145)*Предпосылки!T340","v":0},{"$f":"SUM(U35,Предпосылки!U335*Предпосылки!U145)*Предпосылки!U340","v":0},{"$f":"SUM(V35,Предпосылки!V335*Предпосылки!V145)*Предпосылки!V340","v":0},{"$f":"SUM(W35,Предпосылки!W335*Предпосылки!W145)*Предпосылки!W340","v":0},{"$f":"SUM(X35,Предпосылки!X335*Предпосылки!X145)*Предпосылки!X340","v":0},{"$f":"SUM(Y35,Предпосылки!Y335*Предпосылки!Y145)*Предпосылки!Y340","v":0},{"$f":"SUM(Z35,Предпосылки!Z335*Предпосылки!Z145)*Предпосылки!Z340","v":0},{"$f":"SUM(AA35,Предпосылки!AA335*Предпосылки!AA145)*Предпосылки!AA340","v":0},{"$f":"SUM(AB35,Предпосылки!AB335*Предпосылки!AB145)*Предпосылки!AB340","v":0}]
[null,null,"По пониженной ставке","тыс. руб.",null,null,null,{"$f":"(H47-Предпосылки!H335*Предпосылки!H145)*Предпосылки!H341","v":0},{"$f":"(I47-Предпосылки!I335*Предпосылки!I145)*Предпосылки!I341","v":0},{"$f":"(J47-Предпосылки!J335*Предпосылки!J145)*Предпосылки!J341","v":0},{"$f":"(K47-Предпосылки!K335*Предпосылки!K145)*Предпосылки!K341","v":0},{"$f":"(L47-Предпосылки!L335*Предпосылки!L145)*Предпосылки!L341","v":0},{"$f":"(M47-Предпосылки!M335*Предпосылки!M145)*Предпосылки!M341","v":0},{"$f":"(N47-Предпосылки!N335*Предпосылки!N145)*Предпосылки!N341","v":0},{"$f":"(O47-Предпосылки!O335*Предпосылки!O145)*Предпосылки!O341","v":0},{"$f":"(P47-Предпосылки!P335*Предпосылки!P145)*Предпосылки!P341","v":0},{"$f":"(Q47-Предпосылки!Q335*Предпосылки!Q145)*Предпосылки!Q341","v":0},{"$f":"(R47-Предпосылки!R335*Предпосылки!R145)*Предпосылки!R341","v":0},{"$f":"(S47-Предпосылки!S335*Предпосылки!S145)*Предпосылки!S341","v":0},{"$f":"(T47-Предпосылки!T335*Предпосылки!T145)*Предпосылки!T341","v":0},{"$f":"(U47-Предпосылки!U335*Предпосылки!U145)*Предпосылки!U341","v":0},{"$f":"(V47-Предпосылки!V335*Предпосылки!V145)*Предпосылки!V341","v":0},{"$f":"(W47-Предпосылки!W335*Предпосылки!W145)*Предпосылки!W341","v":0},{"$f":"(X47-Предпосылки!X335*Предпосылки!X145)*Предпосылки!X341","v":0},{"$f":"(Y47-Предпосылки!Y335*Предпосылки!Y145)*Предпосылки!Y341","v":0},{"$f":"(Z47-Предпосылки!Z335*Предпосылки!Z145)*Предпосылки!Z341","v":0},{"$f":"(AA47-Предпосылки!AA335*Предпосылки!AA145)*Предпосылки!AA341","v":0},{"$f":"(AB47-Предпосылки!AB335*Предпосылки!AB145)*Предпосылки!AB341","v":0}]
[null,null,"Итого","тыс. руб.",null,null,null,{"$f":"SUBTOTAL(9,H86:H93)","v":0},{"$f":"SUBTOTAL(9,I85:I93)","v":0},0,0,0,0,0,0,0,0,0,0,0,0,0,0,0,0,0,0,0]
[]
[null,"ФСС"]
[null,"Производственный персонал",null,"тыс. руб."]
[null,null,"По общей ставке","тыс. руб.",null,null,null,{"$f":"SUM(H29,Предпосылки!H335*Предпосылки!H139)*Предпосылки!H343","v":0},{"$f":"SUM(I29,Предпосылки!I335*Предпосылки!I139)*Предпосылки!I343","v":0},{"$f":"SUM(J29,Предпосылки!J335*Предпосылки!J139)*Предпосылки!J343","v":0},{"$f":"SUM(K29,Предпосылки!K335*Предпосылки!K139)*Предпосылки!K343","v":0},{"$f":"SUM(L29,Предпосылки!L335*Предпосылки!L139)*Предпосылки!L343","v":0},{"$f":"SUM(M29,Предпосылки!M335*Предпосылки!M139)*Предпосылки!M343","v":0},{"$f":"SUM(N29,Предпосылки!N335*Предпосылки!N139)*Предпосылки!N343","v":0},{"$f":"SUM(O29,Предпосылки!O335*Предпосылки!O139)*Предпосылки!O343","v":0},{"$f":"SUM(P29,Предпосылки!P335*Предпосылки!P139)*Предпосылки!P343","v":0},{"$f":"SUM(Q29,Предпосылки!Q335*Предпосылки!Q139)*Предпосылки!Q343","v":0},{"$f":"SUM(R29,Предпосылки!R335*Предпосылки!R139)*Предпосылки!R343","v":0},{"$f":"SUM(S29,Предпосылки!S335*Предпосылки!S139)*Предпосылки!S343","v":0},{"$f":"SUM(T29,Предпосылки!T335*Предпосылки!T139)*Предпосылки!T343","v":0},{"$f":"SUM(U29,Предпосылки!U335*Предпосылки!U139)*Предпосылки!U343","v":0},{"$f":"SUM(V29,Предпосылки!V335*Предпосылки!V139)*Предпосылки!V343","v":0},{"$f":"SUM(W29,Предпосылки!W335*Предпосылки!W139)*Предпосылки!W343","v":0},{"$f":"SUM(X29,Предпосылки!X335*Предпосылки!X139)*Предпосылки!X343","v":0},{"$f":"SUM(Y29,Предпосылки!Y335*Предпосылки!Y139)*Предпосылки!Y343","v":0},{"$f":"SUM(Z29,Предпосылки!Z335*Предпосылки!Z139)*Предпосылки!Z343","v":0},{"$f":"SUM(AA29,Предпосылки!AA335*Предпосылки!AA139)*Предпосылки!AA343","v":0},{"$f":"SUM(AB29,Предпосылки!AB335*Предпосылки!AB139)*Предпосылки!AB343","v":0}]
[null,null,"По пониженной ставке","тыс. руб.",null,null,null,{"$f":"(H41-Предпосылки!H335*Предпосылки!H139)*Предпосылки!H344","v":0},{"$f":"(I41-Предпосылки!I335*Предпосылки!I139)*Предпосылки!I344","v":0},{"$f":"(J41-Предпосылки!J335*Предпосылки!J139)*Предпосылки!J344","v":0},{"$f":"(K41-Предпосылки!K335*Предпосылки!K139)*Предпосылки!K344","v":0},{"$f":"(L41-Предпосылки!L335*Предпосылки!L139)*Предпосылки!L344","v":0},{"$f":"(M41-Предпосылки!M335*Предпосылки!M139)*Предпосылки!M344","v":0},{"$f":"(N41-Предпосылки!N335*Предпосылки!N139)*Предпосылки!N344","v":0},{"$f":"(O41-Предпосылки!O335*Предпосылки!O139)*Предпосылки!O344","v":0},{"$f":"(P41-Предпосылки!P335*Предпосылки!P139)*Предпосылки!P344","v":0},{"$f":"(Q41-Предпосылки!Q335*Предпосылки!Q139)*Предпосылки!Q344","v":0},{"$f":"(R41-Предпосылки!R335*Предпосылки!R139)*Предпосылки!R344","v":0},{"$f":"(S41-Предпосылки!S335*Предпосылки!S139)*Предпосылки!S344","v":0},{"$f":"(T41-Предпосылки!T335*Предпосылки!T139)*Предпосылки!T344","v":0},{"$f":"(U41-Предпосылки!U335*Предпосылки!U139)*Предпосылки!U344","v":0},{"$f":"(V41-Предпосылки!V335*Предпосылки!V139)*Предпосылки!V344","v":0},{"$f":"(W41-Предпосылки!W335*Предпосылки!W139)*Предпосылки!W344","v":0},{"$f":"(X41-Предпосылки!X335*Предпосылки!X139)*Предпосылки!X344","v":0},{"$f":"(Y41-Предпосылки!Y335*Предпосылки!Y139)*Предпосылки!Y344","v":0},{"$f":"(Z41-Предпосылки!Z335*Предпосылки!Z139)*Предпосылки!Z344","v":0},{"$f":"(AA41-Предпосылки!AA335*Предпосылки!AA139)*Предпосылки!AA344","v":0},{"$f":"(AB41-Предпосылки!AB335*Предпосылки!AB139)*Предпосылки!AB344","v":0}]
[null,null,"На травматизм",null,null,null,null,{"$f":"SUM(H29,H41)*Предпосылки!H345","v":0},{"$f":"SUM(I29,I41)*Предпосылки!I345","v":0},{"$f":"SUM(J29,J41)*Предпосылки!J345","v":0},{"$f":"SUM(K29,K41)*Предпосылки!K345","v":0},{"$f":"SUM(L29,L41)*Предпосылки!L345","v":0},{"$f":"SUM(M29,M41)*Предпосылки!M345","v":0},{"$f":"SUM(N29,N41)*Предпосылки!N345","v":0},{"$f":"SUM(O29,O41)*Предпосылки!O345","v":0},{"$f":"SUM(P29,P41)*Предпосылки!P345","v":0},{"$f":"SUM(Q29,Q41)*Предпосылки!Q345","v":0},{"$f":"SUM(R29,R41)*Предпосылки!R345","v":0},{"$f":"SUM(S29,S41)*Предпосылки!S345","v":0},{"$f":"SUM(T29,T41)*Предпосылки!T345","v":0},{"$f":"SUM(U29,U41)*Предпосылки!U345","v":0},{"$f":"SUM(V29,V41)*Предпосылки!V345","v":0},{"$f":"SUM(W29,W41)*Предпосылки!W345","v":0},{"$f":"SUM(X29,X41)*Предпосылки!X345","v":0},{"$f":"SUM(Y29,Y41)*Предпосылки!Y345","v":0},{"$f":"SUM(Z29,Z41)*Предпосылки!Z345","v":0},{"$f":"SUM(AA29,AA41)*Предпосылки!AA345","v":0},{"$f":"SUM(AB29,AB41)*Предпосылки!AB345","v":0}]
[null,"Вспомогательный персонал",null,"тыс. руб."]
[null,null,"По общей ставке","тыс. руб.",null,null,null,{"$f":"SUM(H32,Предпосылки!H335*Предпосылки!H142)*Предпосылки!H343","v":0},{"$f":"SUM(I32,Предпосылки!I335*Предпосылки!I142)*Предпосылки!I343","v":0},{"$f":"SUM(J32,Предпосылки!J335*Предпосылки!J142)*Предпосылки!J343","v":0},{"$f":"SUM(K32,Предпосылки!K335*Предпосылки!K142)*Предпосылки!K343","v":0},{"$f":"SUM(L32,Предпосылки!L335*Предпосылки!L142)*Предпосылки!L343","v":0},{"$f":"SUM(M32,Предпосылки!M335*Предпосылки!M142)*Предпосылки!M343","v":0},{"$f":"SUM(N32,Предпосылки!N335*Предпосылки!N142)*Предпосылки!N343","v":0},{"$f":"SUM(O32,Предпосылки!O335*Предпосылки!O142)*Предпосылки!O343","v":0},{"$f":"SUM(P32,Предпосылки!P335*Предпосылки!P142)*Предпосылки!P343","v":0},{"$f":"SUM(Q32,Предпосылки!Q335*Предпосылки!Q142)*Предпосылки!Q343","v":0},{"$f":"SUM(R32,Предпосылки!R335*Предпосылки!R142)*Предпосылки!R343","v":0},{"$f":"SUM(S32,Предпосылки!S335*Предпосылки!S142)*Предпосылки!S343","v":0},{"$f":"SUM(T32,Предпосылки!T335*Предпосылки!T142)*Предпосылки!T343","v":0},{"$f":"SUM(U32,Предпосылки!U335*Предпосылки!U142)*Предпосылки!U343","v":0},{"$f":"SUM(V32,Предпосылки!V335*Предпосылки!V142)*Предпосылки!V343","v":0},{"$f":"SUM(W32,Предпосылки!W335*Предпосылки!W142)*Предпосылки!W343","v":0},{"$f":"SUM(X32,Предпосылки!X335*Предпосылки!X142)*Предпосылки!X343","v":0},{"$f":"SUM(Y32,Предпосылки!Y335*Предпосылки!Y142)*Предпосылки!Y343","v":0},{"$f":"SUM(Z32,Предпосылки!Z335*Предпосылки!Z142)*Предпосылки!Z343","v":0},{"$f":"SUM(AA32,Предпосылки!AA335*Предпосылки!AA142)*Предпосылки!AA343","v":0},{"$f":"SUM(AB32,Предпосылки!AB335*Предпосылки!AB142)*Предпосылки!AB343","v":0}]
[null,null,"По пониженной ставке","тыс. руб.",null,null,null,{"$f":"(H44-Предпосылки!H335*Предпосылки!H142)*Предпосылки!H344","v":0},{"$f":"(I44-Предпосылки!I335*Предпосылки!I142)*Предпосылки!I344","v":0},{"$f":"(J44-Предпосылки!J335*Предпосылки!J142)*Предпосылки!J344","v":0},{"$f":"(K44-Предпосылки!K335*Предпосылки!K142)*Предпосылки!K344","v":0},{"$f":"(L44-Предпосылки!L335*Предпосылки!L142)*Предпосылки!L344","v":0},{"$f":"(M44-Предпосылки!M335*Предпосылки!M142)*Предпосылки!M344","v":0},{"$f":"(N44-Предпосылки!N335*Предпосылки!N142)*Предпосылки!N344","v":0},{"$f":"(O44-Предпосылки!O335*Предпосылки!O142)*Предпосылки!O344","v":0},{"$f":"(P44-Предпосылки!P335*Предпосылки!P142)*Предпосылки!P344","v":0},{"$f":"(Q44-Предпосылки!Q335*Предпосылки!Q142)*Предпосылки!Q344","v":0},{"$f":"(R44-Предпосылки!R335*Предпосылки!R142)*Предпосылки!R344","v":0},{"$f":"(S44-Предпосылки!S335*Предпосылки!S142)*Предпосылки!S344","v":0},{"$f":"(T44-Предпосылки!T335*Предпосылки!T142)*Предпосылки!T344","v":0},{"$f":"(U44-Предпосылки!U335*Предпосылки!U142)*Предпосылки!U344","v":0},{"$f":"(V44-Предпосылки!V335*Предпосылки!V142)*Предпосылки!V344","v":0},{"$f":"(W44-Предпосылки!W335*Предпосылки!W142)*Предпосылки!W344","v":0},{"$f":"(X44-Предпосылки!X335*Предпосылки!X142)*Предпосылки!X344","v":0},{"$f":"(Y44-Предпосылки!Y335*Предпосылки!Y142)*Предпосылки!Y344","v":0},{"$f":"(Z44-Предпосылки!Z335*Предпосылки!Z142)*Предпосылки!Z344","v":0},{"$f":"(AA44-Предпосылки!AA335*Предпосылки!AA142)*Предпосылки!AA344","v":0},{"$f":"(AB44-Предпосылки!AB335*Предпосылки!AB142)*Предпосылки!AB344","v":0}]
[null,null,"На травматизм",null,null,null,null,{"$f":"SUM(H32,H44)*Предпосылки!H345","v":0},{"$f":"SUM(I32,I44)*Предпосылки!I345","v":0},{"$f":"SUM(J32,J44)*Предпосылки!J345","v":0},{"$f":"SUM(K32,K44)*Предпосылки!K345","v":0},{"$f":"SUM(L32,L44)*Предпосылки!L345","v":0},{"$f":"SUM(M32,M44)*Предпосылки!M345","v":0},{"$f":"SUM(N32,N44)*Предпосылки!N345","v":0},{"$f":"SUM(O32,O44)*Предпосылки!O345","v":0},{"$f":"SUM(P32,P44)*Предпосылки!P345","v":0},{"$f":"SUM(Q32,Q44)*Предпосылки!Q345","v":0},{"$f":"SUM(R32,R44)*Предпосылки!R345","v":0},{"$f":"SUM(S32,S44)*Предпосылки!S345","v":0},{"$f":"SUM(T32,T44)*Предпосылки!T345","v":0},{"$f":"SUM(U32,U44)*Предпосылки!U345","v":0},{"$f":"SUM(V32,V44)*Предпосылки!V345","v":0},{"$f":"SUM(W32,W44)*Предпосылки!W345","v":0},{"$f":"SUM(X32,X44)*Предпосылки!X345","v":0},{"$f":"SUM(Y32,Y44)*Предпосылки!Y345","v":0},{"$f":"SUM(Z32,Z44)*Предпосылки!Z345","v":0},{"$f":"SUM(AA32,AA44)*Предпосылки!AA345","v":0},{"$f":"SUM(AB32,AB44)*Предпосылки!AB345","v":0}]
[null,"Административный персонал",null,"тыс. руб."]
[null,null,"По общей ставке","тыс. руб.",null,null,null,{"$f":"SUM(H35,Предпосылки!H335*Предпосылки!H145)*Предпосылки!H343","v":0},{"$f":"SUM(I35,Предпосылки!I335*Предпосылки!I145)*Предпосылки!I343","v":0},{"$f":"SUM(J35,Предпосылки!J335*Предпосылки!J145)*Предпосылки!J343","v":0},{"$f":"SUM(K35,Предпосылки!K335*Предпосылки!K145)*Предпосылки!K343","v":0},{"$f":"SUM(L35,Предпосылки!L335*Предпосылки!L145)*Предпосылки!L343","v":0},{"$f":"SUM(M35,Предпосылки!M335*Предпосылки!M145)*Предпосылки!M343","v":0},{"$f":"SUM(N35,Предпосылки!N335*Предпосылки!N145)*Предпосылки!N343","v":0},{"$f":"SUM(O35,Предпосылки!O335*Предпосылки!O145)*Предпосылки!O343","v":0},{"$f":"SUM(P35,Предпосылки!P335*Предпосылки!P145)*Предпосылки!P343","v":0},{"$f":"SUM(Q35,Предпосылки!Q335*Предпосылки!Q145)*Предпосылки!Q343","v":0},{"$f":"SUM(R35,Предпосылки!R335*Предпосылки!R145)*Предпосылки!R343","v":0},{"$f":"SUM(S35,Предпосылки!S335*Предпосылки!S145)*Предпосылки!S343","v":0},{"$f":"SUM(T35,Предпосылки!T335*Предпосылки!T145)*Предпосылки!T343","v":0},{"$f":"SUM(U35,Предпосылки!U335*Предпосылки!U145)*Предпосылки!U343","v":0},{"$f":"SUM(V35,Предпосылки!V335*Предпосылки!V145)*Предпосылки!V343","v":0},{"$f":"SUM(W35,Предпосылки!W335*Предпосылки!W145)*Предпосылки!W343","v":0},{"$f":"SUM(X35,Предпосылки!X335*Предпосылки!X145)*Предпосылки!X343","v":0},{"$f":"SUM(Y35,Предпосылки!Y335*Предпосылки!Y145)*Предпосылки!Y343","v":0},{"$f":"SUM(Z35,Предпосылки!Z335*Предпосылки!Z145)*Предпосылки!Z343","v":0},{"$f":"SUM(AA35,Предпосылки!AA335*Предпосылки!AA145)*Предпосылки!AA343","v":0},{"$f":"SUM(AB35,Предпосылки!AB335*Предпосылки!AB145)*Предпосылки!AB343","v":0}]
[null,null,"По пониженной ставке","тыс. руб.",null,null,null,{"$f":"(H47-Предпосылки!H335*Предпосылки!H145)*Предпосылки!H344","v":0},{"$f":"(I47-Предпосылки!I335*Предпосылки!I145)*Предпосылки!I344","v":0},{"$f":"(J47-Предпосылки!J335*Предпосылки!J145)*Предпосылки!J344","v":0},{"$f":"(K47-Предпосылки!K335*Предпосылки!K145)*Предпосылки!K344","v":0},{"$f":"(L47-Предпосылки!L335*Предпосылки!L145)*Предпосылки!L344","v":0},{"$f":"(M47-Предпосылки!M335*Предпосылки!M145)*Предпосылки!M344","v":0},{"$f":"(N47-Предпосылки!N335*Предпосылки!N145)*Предпосылки!N344","v":0},{"$f":"(O47-Предпосылки!O335*Предпосылки!O145)*Предпосылки!O344","v":0},{"$f":"(P47-Предпосылки!P335*Предпосылки!P145)*Предпосылки!P344","v":0},{"$f":"(Q47-Предпосылки!Q335*Предпосылки!Q145)*Предпосылки!Q344","v":0},{"$f":"(R47-Предпосылки!R335*Предпосылки!R145)*Предпосылки!R344","v":0},{"$f":"(S47-Предпосылки!S335*Предпосылки!S145)*Предпосылки!S344","v":0},{"$f":"(T47-Предпосылки!T335*Предпосылки!T145)*Предпосылки!T344","v":0},{"$f":"(U47-Предпосылки!U335*Предпосылки!U145)*Предпосылки!U344","v":0},{"$f":"(V47-Предпосылки!V335*Предпосылки!V145)*Предпосылки!V344","v":0},{"$f":"(W47-Предпосылки!W335*Предпосылки!W145)*Предпосылки!W344","v":0},{"$f":"(X47-Предпосылки!X335*Предпосылки!X145)*Предпосылки!X344","v":0},{"$f":"(Y47-Предпосылки!Y335*Предпосылки!Y145)*Предпосылки!Y344","v":0},{"$f":"(Z47-Предпосылки!Z335*Предпосылки!Z145)*Предпосылки!Z344","v":0},{"$f":"(AA47-Предпосылки!AA335*Предпосылки!AA145)*Предпосылки!AA344","v":0},{"$f":"(AB47-Предпосылки!AB335*Предпосылки!AB145)*Предпосылки!AB344","v":0}]
[null,null,"На травматизм",null,null,null,null,{"$f":"SUM(H35,H47)*Предпосылки!H345","v":0},{"$f":"SUM(I35,I47)*Предпосылки!I345","v":0},{"$f":"SUM(J35,J47)*Предпосылки!J345","v":0},{"$f":"SUM(K35,K47)*Предпосылки!K345","v":0},{"$f":"SUM(L35,L47)*Предпосылки!L345","v":0},{"$f":"SUM(M35,M47)*Предпосылки!M345","v":0},{"$f":"SUM(N35,N47)*Предпосылки!N345","v":0},{"$f":"SUM(O35,O47)*Предпосылки!O345","v":0},{"$f":"SUM(P35,P47)*Предпосылки!P345","v":0},{"$f":"SUM(Q35,Q47)*Предпосылки!Q345","v":0},{"$f":"SUM(R35,R47)*Предпосылки!R345","v":0},{"$f":"SUM(S35,S47)*Предпосылки!S345","v":0},{"$f":"SUM(T35,T47)*Предпосылки!T345","v":0},{"$f":"SUM(U35,U47)*Предпосылки!U345","v":0},{"$f":"SUM(V35,V47)*Предпосылки!V345","v":0},{"$f":"SUM(W35,W47)*Предпосылки!W345","v":0},{"$f":"SUM(X35,X47)*Предпосылки!X345","v":0},{"$f":"SUM(Y35,Y47)*Предпосылки!Y345","v":0},{"$f":"SUM(Z35,Z47)*Предпосылки!Z345","v":0},{"$f":"SUM(AA35,AA47)*Предпосылки!AA345","v":0},{"$f":"SUM(AB35,AB47)*Предпосылки!AB345","v":0}]
[null,null,"Итого","тыс. руб.",null,null,null,{"$f":"SUBTOTAL(9,H97:H108)","v":0},{"$f":"SUBTOTAL(9,I97:I108)","v":0},0,0,0,0,0,0,0,0,0,0,0,0,0,0,0,0,0,0,0]
[]
[null,"ФОМС"]
[null,"Производственный персонал",null,"тыс. руб.",null,null,null,{"$f":"SUM(H29,H41)*Предпосылки!H347","v":0},{"$f":"SUM(I29,I41)*Предпосылки!I347","v":0},{"$f":"SUM(J29,J41)*Предпосылки!J347","v":0},{"$f":"SUM(K29,K41)*Предпосылки!K347","v":0},{"$f":"SUM(L29,L41)*Предпосылки!L347","v":0},{"$f":"SUM(M29,M41)*Предпосылки!M347","v":0},{"$f":"SUM(N29,N41)*Предпосылки!N347","v":0},{"$f":"SUM(O29,O41)*Предпосылки!O347","v":0},{"$f":"SUM(P29,P41)*Предпосылки!P347","v":0},{"$f":"SUM(Q29,Q41)*Предпосылки!Q347","v":0},{"$f":"SUM(R29,R41)*Предпосылки!R347","v":0},{"$f":"SUM(S29,S41)*Предпосылки!S347","v":0},{"$f":"SUM(T29,T41)*Предпосылки!T347","v":0},{"$f":"SUM(U29,U41)*Предпосылки!U347","v":0},{"$f":"SUM(V29,V41)*Предпосылки!V347","v":0},{"$f":"SUM(W29,W41)*Предпосылки!W347","v":0},{"$f":"SUM(X29,X41)*Предпосылки!X347","v":0},{"$f":"SUM(Y29,Y41)*Предпосылки!Y347","v":0},{"$f":"SUM(Z29,Z41)*Предпосылки!Z347","v":0},{"$f":"SUM(AA29,AA41)*Предпосылки!AA347","v":0},{"$f":"SUM(AB29,AB41)*Предпосылки!AB347","v":0}]
[null,"Вспомогательный персонал",null,"тыс. руб.",null,null,null,{"$f":"SUM(H32,H44)*Предпосылки!H347","v":0},{"$f":"SUM(I32,I44)*Предпосылки!I347","v":0},{"$f":"SUM(J32,J44)*Предпосылки!J347","v":0},{"$f":"SUM(K32,K44)*Предпосылки!K347","v":0},{"$f":"SUM(L32,L44)*Предпосылки!L347","v":0},{"$f":"SUM(M32,M44)*Предпосылки!M347","v":0},{"$f":"SUM(N32,N44)*Предпосылки!N347","v":0},{"$f":"SUM(O32,O44)*Предпосылки!O347","v":0},{"$f":"SUM(P32,P44)*Предпосылки!P347","v":0},{"$f":"SUM(Q32,Q44)*Предпосылки!Q347","v":0},{"$f":"SUM(R32,R44)*Предпосылки!R347","v":0},{"$f":"SUM(S32,S44)*Предпосылки!S347","v":0},{"$f":"SUM(T32,T44)*Предпосылки!T347","v":0},{"$f":"SUM(U32,U44)*Предпосылки!U347","v":0},{"$f":"SUM(V32,V44)*Предпосылки!V347","v":0},{"$f":"SUM(W32,W44)*Предпосылки!W347","v":0},{"$f":"SUM(X32,X44)*Предпосылки!X347","v":0},{"$f":"SUM(Y32,Y44)*Предпосылки!Y347","v":0},{"$f":"SUM(Z32,Z44)*Предпосылки!Z347","v":0},{"$f":"SUM(AA32,AA44)*Предпосылки!AA347","v":0},{"$f":"SUM(AB32,AB44)*Предпосылки!AB347","v":0}]
[null,"Административный персонал",null,"тыс. руб.",null,null,null,{"$f":"SUM(H35,H47)*Предпосылки!H347","v":0},{"$f":"SUM(I35,I47)*Предпосылки!I347","v":0},{"$f":"SUM(J35,J47)*Предпосылки!J347","v":0},{"$f":"SUM(K35,K47)*Предпосылки!K347","v":0},{"$f":"SUM(L35,L47)*Предпосылки!L347","v":0},{"$f":"SUM(M35,M47)*Предпосылки!M347","v":0},{"$f":"SUM(N35,N47)*Предпосылки!N347","v":0},{"$f":"SUM(O35,O47)*Предпосылки!O347","v":0},{"$f":"SUM(P35,P47)*Предпосылки!P347","v":0},{"$f":"SUM(Q35,Q47)*Предпосылки!Q347","v":0},{"$f":"SUM(R35,R47)*Предпосылки!R347","v":0},{"$f":"SUM(S35,S47)*Предпосылки!S347","v":0},{"$f":"SUM(T35,T47)*Предпосылки!T347","v":0},{"$f":"SUM(U35,U47)*Предпосылки!U347","v":0},{"$f":"SUM(V35,V47)*Предпосылки!V347","v":0},{"$f":"SUM(W35,W47)*Предпосылки!W347","v":0},{"$f":"SUM(X35,X47)*Предпосылки!X347","v":0},{"$f":"SUM(Y35,Y47)*Предпосылки!Y347","v":0},{"$f":"SUM(Z35,Z47)*Предпосылки!Z347","v":0},{"$f":"SUM(AA35,AA47)*Предпосылки!AA347","v":0},{"$f":"SUM(AB35,AB47)*Предпосылки!AB347","v":0}]
[null,null,"Итого","тыс. руб.",null,null,null,{"$f":"SUM(H112:H114)","v":0},{"$f":"SUM(I112:I114)","v":0},0,0,0,0,0,0,0,0,0,0,0,0,0,0,0,0,0,0,0]
[]
[null,"Совокупные расходы на персонал"]
[]
[null,"Производственный персонал",null,"тыс. руб.",null,null,null,{"$f":"SUM(H29,H41,H86:H87,H98:H100,H112)","v":0},{"$f":"SUM(I29,I41,I86:I87,I98:I100,I112)","v":0},0,0,0,0,0,0,0,0,0,0,0,0,0,0,0,0,0,0,0]
[null,"Вспомогательный персонал",null,"тыс. руб.",null,null,null,{"$f":"SUM(H32,H44,H89:H90,H102:H104,H113)","v":0},{"$f":"SUM(I32,I44,I89:I90,I102:I104,I113)","v":0},0,0,0,0,0,0,0,0,0,0,0,0,0,0,0,0,0,0,0]
[null,"Административный персонал",null,"тыс. руб.",null,null,null,{"$f":"SUM(H35,H47,H92:H93,H106:H108,H114)","v":0},{"$f":"SUM(I35,I47,I92:I93,I106:I108,I114)","v":0},0,0,0,0,0,0,0,0,0,0,0,0,0,0,0,0,0,0,0]
[null,null,"Итого","тыс. руб.",null,null,null,{"$f":"SUM(H119:H121)","v":0},{"$f":"SUM(I119:I121)","v":0},0,0,0,0,0,0,0,0,0,0,0,0,0,0,0,0,0,0,0]
[]
[null,"Расчеты с сотрудниками по заработной плате"]
[]
[null,null,"Задолженность на начало периода","тыс. руб.",null,null,null,{"$f":"G129","v":0},{"$f":"H129","v":0},0,0,0,0,0,0,0,0,0,0,0,0,0,{"$f":"V129","v":0},0,0,0,0,0]
[null,null,"Начисление заработной платы","тыс. руб.",null,null,null,{"$f":"H53","v":0},{"$f":"I53","v":0},0,0,0,0,0,0,0,0,0,0,0,0,0,0,0,0,0,0,0]
[null,null,"Уплата заработной платы в том числе НДФЛ (-)","тыс. руб.",null,null,null,{"$f":"-H127*Предпосылки!$F$370-H126","v":0},{"$f":"-I127*Предпосылки!$F$370-I126","v":0},{"$f":"-J127*Предпосылки!$F$370-J126","v":0},{"$f":"-K127*Предпосылки!$F$370-K126","v":0},{"$f":"-L127*Предпосылки!$F$370-L126","v":0},{"$f":"-M127*Предпосылки!$F$370-M126","v":0},{"$f":"-N127*Предпосылки!$F$370-N126","v":0},{"$f":"-O127*Предпосылки!$F$370-O126","v":0},{"$f":"-P127*Предпосылки!$F$370-P126","v":0},{"$f":"-Q127*Предпосылки!$F$370-Q126","v":0},{"$f":"-R127*Предпосылки!$F$370-R126","v":0},{"$f":"-S127*Предпосылки!$F$370-S126","v":0},{"$f":"-T127*Предпосылки!$F$370-T126","v":0},{"$f":"-U127*Предпосылки!$F$370-U126","v":0},{"$f":"-V127*Предпосылки!$F$370-V126","v":0},{"$f":"-W127*Предпосылки!$F$370-W126","v":0},{"$f":"-X127*Предпосылки!$F$370-X126","v":0},{"$f":"-Y127*Предпосылки!$F$370-Y126","v":0},{"$f":"-Z127*Предпосылки!$F$370-Z126","v":0},{"$f":"-AA127*Предпосылки!$F$370-AA126","v":0},{"$f":"-AB127*Предпосылки!$F$370-AB126","v":0}]
[null,null,"Задолженность на конец периода в том числе НДФЛ","тыс. руб.",null,null,null,{"$f":"SUM(H126:H128)","v":0},{"$f":"SUM(I126:I128)","v":0},0,0,0,0,0,0,0,0,0,0,0,0,0,0,0,0,0,0,0]
[]
[null,"Расчеты по страховым взносам во внебюджетные фонды "]
[]
[null,"Страховые взносы с учетом применения льготного тарифа для участников СПИК 1.0, являющихся участниками промышленных кластеров"]
[]
[null,"ИТОГО"]
[null,null,"Задолженность  на  начало периода","тыс. руб.",null,null,null,{"$f":"G139","v":0},0,0,0,0,0,0,0,0,0,0,0,0,0,0,0,0,0,0,0,0]
[null,null,"Начисление взносов","тыс. руб.",null,null,null,{"$f":"H73","v":0},{"$f":"I73","v":0},0,0,0,0,0,0,0,0,0,0,0,0,0,0,0,0,0,0,0]
[null,null,"Уплата взносов (-)","тыс. руб.",null,null,null,{"$f":"-H137*Предпосылки!$F$384-H136","v":0},{"$f":"-I137*Предпосылки!$F$384-I136","v":0},{"$f":"-J137*Предпосылки!$F$384-J136","v":0},{"$f":"-K137*Предпосылки!$F$384-K136","v":0},{"$f":"-L137*Предпосылки!$F$384-L136","v":0},{"$f":"-M137*Предпосылки!$F$384-M136","v":0},{"$f":"-N137*Предпосылки!$F$384-N136","v":0},{"$f":"-O137*Предпосылки!$F$384-O136","v":0},{"$f":"-P137*Предпосылки!$F$384-P136","v":0},{"$f":"-Q137*Предпосылки!$F$384-Q136","v":0},{"$f":"-R137*Предпосылки!$F$384-R136","v":0},{"$f":"-S137*Предпосылки!$F$384-S136","v":0},{"$f":"-T137*Предпосылки!$F$384-T136","v":0},{"$f":"-U137*Предпосылки!$F$384-U136","v":0},{"$f":"-V137*Предпосылки!$F$384-V136","v":0},{"$f":"-W137*Предпосылки!$F$384-W136","v":0},{"$f":"-X137*Предпосылки!$F$384-X136","v":0},{"$f":"-Y137*Предпосылки!$F$384-Y136","v":0},{"$f":"-Z137*Предпосылки!$F$384-Z136","v":0},{"$f":"-AA137*Предпосылки!$F$384-AA136","v":0},{"$f":"-AB137*Предпосылки!$F$384-AB136","v":0}]
[null,null,"Задолженность на конец периода","тыс. руб.",null,null,null,{"$f":"SUM(H136:H138)","v":0},{"$f":"SUM(I136:I138)","v":0},0,0,0,0,0,0,0,0,0,0,0,0,0,0,0,0,0,0,0]
[]
[null,"Страховые взносы в иных случаях"]
[]
[null,"ПФР"]
[null,null,"Задолженность  на  начало периода","тыс. руб.",null,null,null,{"$f":"G147","v":0},{"$f":"H147","v":0},0,0,0,0,0,0,0,0,0,0,0,0,0,{"$f":"V147","v":0},0,0,0,0,0]
[null,null,"Начисление взносов","тыс. руб.",null,null,null,{"$f":"H94","v":0},{"$f":"I94","v":0},0,0,0,0,0,0,0,0,0,0,0,0,0,0,0,0,0,0,0]
[null,null,"Уплата взносов (-)","тыс. руб.",null,null,null,{"$f":"-H145*Предпосылки!$F$384-H144","v":0},{"$f":"-I145*Предпосылки!$F$384-I144","v":0},{"$f":"-J145*Предпосылки!$F$384-J144","v":0},{"$f":"-K145*Предпосылки!$F$384-K144","v":0},{"$f":"-L145*Предпосылки!$F$384-L144","v":0},{"$f":"-M145*Предпосылки!$F$384-M144","v":0},{"$f":"-N145*Предпосылки!$F$384-N144","v":0},{"$f":"-O145*Предпосылки!$F$384-O144","v":0},{"$f":"-P145*Предпосылки!$F$384-P144","v":0},{"$f":"-Q145*Предпосылки!$F$384-Q144","v":0},{"$f":"-R145*Предпосылки!$F$384-R144","v":0},{"$f":"-S145*Предпосылки!$F$384-S144","v":0},{"$f":"-T145*Предпосылки!$F$384-T144","v":0},{"$f":"-U145*Предпосылки!$F$384-U144","v":0},{"$f":"-V145*Предпосылки!$F$384-V144","v":0},{"$f":"-W145*Предпосылки!$F$384-W144","v":0},{"$f":"-X145*Предпосылки!$F$384-X144","v":0},{"$f":"-Y145*Предпосылки!$F$384-Y144","v":0},{"$f":"-Z145*Предпосылки!$F$384-Z144","v":0},{"$f":"-AA145*Предпосылки!$F$384-AA144","v":0},{"$f":"-AB145*Предпосылки!$F$384-AB144","v":0}]
[null,null,"Задолженность на конец периода","тыс. руб.",null,null,null,{"$f":"SUM(H144:H146)","v":0},{"$f":"SUM(I144:I146)","v":0},0,0,0,0,0,0,0,0,0,0,0,0,0,0,0,0,0,0,0]
[]
[null,"ФСС"]
[null,null,"Задолженность  на  начало периода","тыс. руб.",null,null,null,{"$f":"G153","v":0},{"$f":"H153","v":0},0,0,0,0,0,0,0,0,0,0,0,0,0,{"$f":"V153","v":0},0,0,0,0,0]
[null,null,"Начисление взносов","тыс. руб.",null,null,null,{"$f":"H109","v":0},0,0,0,0,0,0,0,0,0,0,0,0,0,0,0,0,0,0,0,0]
[null,null,"Уплата взносов (-)","тыс. руб.",null,null,null,{"$f":"-H151*Предпосылки!$F$384-H150","v":0},{"$f":"-I151*Предпосылки!$F$384-I150","v":0},{"$f":"-J151*Предпосылки!$F$384-J150","v":0},{"$f":"-K151*Предпосылки!$F$384-K150","v":0},{"$f":"-L151*Предпосылки!$F$384-L150","v":0},{"$f":"-M151*Предпосылки!$F$384-M150","v":0},{"$f":"-N151*Предпосылки!$F$384-N150","v":0},{"$f":"-O151*Предпосылки!$F$384-O150","v":0},{"$f":"-P151*Предпосылки!$F$384-P150","v":0},{"$f":"-Q151*Предпосылки!$F$384-Q150","v":0},{"$f":"-R151*Предпосылки!$F$384-R150","v":0},{"$f":"-S151*Предпосылки!$F$384-S150","v":0},{"$f":"-T151*Предпосылки!$F$384-T150","v":0},{"$f":"-U151*Предпосылки!$F$384-U150","v":0},{"$f":"-V151*Предпосылки!$F$384-V150","v":0},{"$f":"-W151*Предпосылки!$F$384-W150","v":0},{"$f":"-X151*Предпосылки!$F$384-X150","v":0},{"$f":"-Y151*Предпосылки!$F$384-Y150","v":0},{"$f":"-Z151*Предпосылки!$F$384-Z150","v":0},{"$f":"-AA151*Предпосылки!$F$384-AA150","v":0},{"$f":"-AB151*Предпосылки!$F$384-AB150","v":0}]
[null,null,"Задолженность на конец периода","тыс. руб.",null,null,null,{"$f":"SUM(H150:H152)","v":0},0,0,0,0,0,0,0,0,0,0,0,0,0,{"$f":"SUM(V150:V152)","v":0},0,0,0,0,0,0]
[]
[null,"ФОМС"]
[null,null,"Задолженность  на  начало периода","тыс. руб.",null,null,null,{"$f":"G159","v":0},{"$f":"H159","v":0},0,0,0,0,0,0,0,0,0,0,0,0,0,{"$f":"V159","v":0},0,0,0,0,0]
[null,null,"Начисление взносов","тыс. руб.",null,null,null,{"$f":"H115","v":0},0,0,0,0,0,0,0,0,0,0,0,0,0,0,0,0,0,0,0,0]
[null,null,"Уплата взносов (-)","тыс. руб.",null,null,null,{"$f":"-H157*Предпосылки!$F$384-H156","v":0},{"$f":"-I157*Предпосылки!$F$384-I156","v":0},{"$f":"-J157*Предпосылки!$F$384-J156","v":0},{"$f":"-K157*Предпосылки!$F$384-K156","v":0},{"$f":"-L157*Предпосылки!$F$384-L156","v":0},{"$f":"-M157*Предпосылки!$F$384-M156","v":0},{"$f":"-N157*Предпосылки!$F$384-N156","v":0},{"$f":"-O157*Предпосылки!$F$384-O156","v":0},{"$f":"-P157*Предпосылки!$F$384-P156","v":0},{"$f":"-Q157*Предпосылки!$F$384-Q156","v":0},{"$f":"-R157*Предпосылки!$F$384-R156","v":0},{"$f":"-S157*Предпосылки!$F$384-S156","v":0},{"$f":"-T157*Предпосылки!$F$384-T156","v":0},{"$f":"-U157*Предпосылки!$F$384-U156","v":0},{"$f":"-V157*Предпосылки!$F$384-V156","v":0},{"$f":"-W157*Предпосылки!$F$384-W156","v":0},{"$f":"-X157*Предпосылки!$F$384-X156","v":0},{"$f":"-Y157*Предпосылки!$F$384-Y156","v":0},{"$f":"-Z157*Предпосылки!$F$384-Z156","v":0},{"$f":"-AA157*Предпосылки!$F$384-AA156","v":0},{"$f":"-AB157*Предпосылки!$F$384-AB156","v":0}]
[null,null,"Задолженность на конец периода","тыс. руб.",null,null,null,{"$f":"SUM(H156:H158)","v":0},0,0,0,0,0,0,0,0,0,0,0,0,0,{"$f":"SUM(V156:V158)","v":0},0,0,0,0,0,0]
[]
[null,"ИТОГО"]
[null,null,"Задолженность  на  начало периода","тыс. руб.",null,null,null,{"$f":"SUM(H144,H150,H156)","v":0},0,0,0,0,0,0,0,0,0,0,0,0,0,0,0,0,0,0,0,0]
[null,null,"Начисление взносов","тыс. руб.",null,null,null,{"$f":"SUM(H145,H151,H157)","v":0},{"$f":"SUM(I145,I151,I157)","v":0},0,0,0,0,0,0,0,0,0,0,0,0,0,0,{"$f":"SUM(X145,X151,X157)","v":0},0,0,0,0]
[null,null,"Уплата взносов (-)","тыс. руб.",null,null,null,0,0,0,0,0,0,0,0,0,0,0,0,0,0,0,0,0,0,0,0,0]
[null,null,"Задолженность на конец периода","тыс. руб.",null,null,null,0,0,0,0,0,0,0,0,0,0,0,0,0,0,0,0,0,0,0,0,0]

{"sheet":"Оборотный капитал","index":14,"n_rows":146,"n_cols":28,"rows_kept":146,"cut":false,"hidden":false,"merged":[[1,2,2,2],[1,3,2,3],[1,4,2,4],[1,5,2,5]]}
[null,null,null,null,{"$f":"\"Лист:  \" & RIGHT(CELL(\"filename\",A1),LEN(CELL(\"filename\",A1))-SEARCH(\"]\",CELL(\"filename\",A1)))","v":"Лист:  Оборотный капитал"}]
[null,null,"Параметр","Ед. изм.","Источник","Текущее значение",null,{"$f":"Предпосылки!H2","v":2026},{"$f":"Предпосылки!I2","v":2027},{"$f":"Предпосылки!J2","v":2028},{"$f":"Предпосылки!K2","v":2029},{"$f":"Предпосылки!L2","v":2030},{"$f":"Предпосылки!M2","v":2031},{"$f":"Предпосылки!N2","v":2032},{"$f":"Предпосылки!O2","v":2033},{"$f":"Предпосылки!P2","v":2034},{"$f":"Предпосылки!Q2","v":2035},{"$f":"Предпосылки!R2","v":2036},{"$f":"Предпосылки!S2","v":2037},{"$f":"Предпосылки!T2","v":2038},{"$f":"Предпосылки!U2","v":2039},{"$f":"Предпосылки!V2","v":2040},{"$f":"Предпосылки!W2","v":2041},{"$f":"Предпосылки!X2","v":2042},{"$f":"Предпосылки!Y2","v":2043},{"$f":"Предпосылки!Z2","v":2044},{"$f":"Предпосылки!AA2","v":2045},{"$f":"Предпосылки!AB2","v":2046}]
[null,null,null,null,null,null,null,1,2,3,4,5,6,7,8,9,10,11,12,13,14,15,16,17,18,19,20,21]
[]
[null,null,"Дней в отчетном периоде","дн",null,null,null,{"$f":"Предпосылки!H12","v":365},{"$f":"Предпосылки!I12","v":365},{"$f":"Предпосылки!J12","v":366},{"$f":"Предпосылки!K12","v":365},{"$f":"Предпосылки!L12","v":365},{"$f":"Предпосылки!M12","v":365},{"$f":"Предпосылки!N12","v":366},{"$f":"Предпосылки!O12","v":365},{"$f":"Предпосылки!P12","v":365},{"$f":"Предпосылки!Q12","v":365},{"$f":"Предпосылки!R12","v":366},{"$f":"Предпосылки!S12","v":365},{"$f":"Предпосылки!T12","v":365},{"$f":"Предпосылки!U12","v":365},{"$f":"Предпосылки!V12","v":366},{"$f":"Предпосылки!W12","v":365},{"$f":"Предпосылки!X12","v":365},{"$f":"Предпосылки!Y12","v":365},{"$f":"Предпосылки!Z12","v":366},{"$f":"Предпосылки!AA12","v":365},{"$f":"Предпосылки!AB12","v":365}]
[]
[null,"Запасы (без НДС)"]
[]
[null,"Прямые расходы"]
[null,{"$f":"Предпосылки!B61","v":"Продукция 1"}]
[null,null,{"$f":"Предпосылки!C62","v":"Сырье/материалы 1"},"тыс. руб.","Лист: Операционные затраты",null,null,{"$f":"'Операционные затраты'!H15","v":0},{"$f":"'Операционные затраты'!I15","v":0},{"$f":"'Операционные затраты'!J15","v":0},{"$f":"'Операционные затраты'!K15","v":0},{"$f":"'Операционные затраты'!L15","v":0},{"$f":"'Операционные затраты'!M15","v":0},{"$f":"'Операционные затраты'!N15","v":0},{"$f":"'Операционные затраты'!O15","v":0},{"$f":"'Операционные затраты'!P15","v":0},{"$f":"'Операционные затраты'!Q15","v":0},{"$f":"'Операционные затраты'!R15","v":0},{"$f":"'Операционные затраты'!S15","v":0},{"$f":"'Операционные затраты'!T15","v":0},{"$f":"'Операционные затраты'!U15","v":0},{"$f":"'Операционные затраты'!V15","v":0},{"$f":"'Операционные затраты'!W15","v":0},{"$f":"'Операционные затраты'!X15","v":0},{"$f":"'Операционные затраты'!Y15","v":0},{"$f":"'Операционные затраты'!Z15","v":0},{"$f":"'Операционные затраты'!AA15","v":0},{"$f":"'Операционные затраты'!AB15","v":0}]
[null,null,{"$f":"Предпосылки!C63","v":"Сырье/материалы 2"},"тыс. руб.","Лист: Операционные затраты",null,null,{"$f":"'Операционные затраты'!H16","v":0},{"$f":"'Операционные затраты'!I16","v":0},{"$f":"'Операционные затраты'!J16","v":0},{"$f":"'Операционные затраты'!K16","v":0},{"$f":"'Операционные затраты'!L16","v":0},{"$f":"'Операционные затраты'!M16","v":0},{"$f":"'Операционные затраты'!N16","v":0},{"$f":"'Операционные затраты'!O16","v":0},{"$f":"'Операционные затраты'!P16","v":0},{"$f":"'Операционные затраты'!Q16","v":0},{"$f":"'Операционные затраты'!R16","v":0},{"$f":"'Операционные затраты'!S16","v":0},{"$f":"'Операционные затраты'!T16","v":0},{"$f":"'Операционные затраты'!U16","v":0},{"$f":"'Операционные затраты'!V16","v":0},{"$f":"'Операционные затраты'!W16","v":0},{"$f":"'Операционные затраты'!X16","v":0},{"$f":"'Операционные затраты'!Y16","v":0},{"$f":"'Операционные затраты'!Z16","v":0},{"$f":"'Операционные затраты'!AA16","v":0},{"$f":"'Операционные затраты'!AB16","v":0}]
[null,null,{"$f":"Предпосылки!C64","v":"…"}]
[null,{"$f":"Предпосылки!B66","v":"Продукция 2"}]
[null,null,{"$f":"Предпосылки!C67","v":"Сырье/материалы 1"},"тыс. руб.","Лист: Операционные затраты",null,null,{"$f":"'Операционные затраты'!H21","v":0},{"$f":"'Операционные затраты'!I21","v":0},{"$f":"'Операционные затраты'!J21","v":0},{"$f":"'Операционные затраты'!K21","v":0},{"$f":"'Операционные затраты'!L21","v":0},{"$f":"'Операционные затраты'!M21","v":0},{"$f":"'Операционные затраты'!N21","v":0},{"$f":"'Операционные затраты'!O21","v":0},{"$f":"'Операционные затраты'!P21","v":0},{"$f":"'Операционные затраты'!Q21","v":0},{"$f":"'Операционные затраты'!R21","v":0},{"$f":"'Операционные затраты'!S21","v":0},{"$f":"'Операционные затраты'!T21","v":0},{"$f":"'Операционные затраты'!U21","v":0},{"$f":"'Операционные затраты'!V21","v":0},{"$f":"'Операционные затраты'!W21","v":0},{"$f":"'Операционные затраты'!X21","v":0},{"$f":"'Операционные затраты'!Y21","v":0},{"$f":"'Операционные затраты'!Z21","v":0},{"$f":"'Операционные затраты'!AA21","v":0},{"$f":"'Операционные затраты'!AB21","v":0}]
[null,null,{"$f":"Предпосылки!C68","v":"Сырье/материалы 2"},"тыс. руб.","Лист: Операционные затраты",null,null,{"$f":"'Операционные затраты'!H22","v":0},{"$f":"'Операционные затраты'!I22","v":0},{"$f":"'Операционные затраты'!J22","v":0},{"$f":"'Операционные затраты'!K22","v":0},{"$f":"'Операционные затраты'!L22","v":0},{"$f":"'Операционные затраты'!M22","v":0},{"$f":"'Операционные затраты'!N22","v":0},{"$f":"'Операционные затраты'!O22","v":0},{"$f":"'Операционные затраты'!P22","v":0},{"$f":"'Операционные затраты'!Q22","v":0},{"$f":"'Операционные затраты'!R22","v":0},{"$f":"'Операционные затраты'!S22","v":0},{"$f":"'Операционные затраты'!T22","v":0},{"$f":"'Операционные затраты'!U22","v":0},{"$f":"'Операционные затраты'!V22","v":0},{"$f":"'Операционные затраты'!W22","v":0},{"$f":"'Операционные затраты'!X22","v":0},{"$f":"'Операционные затраты'!Y22","v":0},{"$f":"'Операционные затраты'!Z22","v":0},{"$f":"'Операционные затраты'!AA22","v":0},{"$f":"'Операционные затраты'!AB22","v":0}]
[null,null,{"$f":"Предпосылки!C69","v":"…"}]
[null,"Итого:",null,"тыс. руб.",null,null,null,{"$f":"SUM(H11:H12,H15:H16)","v":0},0,0,0,0,0,0,0,0,0,0,0,0,0,0,0,0,0,0,0,0]
[]
[null,"Остаток запасов на начало периода"]
[null,{"$f":"Предпосылки!B61","v":"Продукция 1"}]
[null,null,{"$f":"Предпосылки!C62","v":"Сырье/материалы 1"},"тыс. руб.",null,null,null,{"$f":"H11*Предпосылки!H238/H$5","v":0},{"$f":"I11*Предпосылки!I238/I$5","v":0},{"$f":"J11*Предпосылки!J238/J$5","v":0},{"$f":"K11*Предпосылки!K238/K$5","v":0},{"$f":"L11*Предпосылки!L238/L$5","v":0},{"$f":"M11*Предпосылки!M238/M$5","v":0},{"$f":"N11*Предпосылки!N238/N$5","v":0},{"$f":"O11*Предпосылки!O238/O$5","v":0},{"$f":"P11*Предпосылки!P238/P$5","v":0},{"$f":"Q11*Предпосылки!Q238/Q$5","v":0},{"$f":"R11*Предпосылки!R238/R$5","v":0},{"$f":"S11*Предпосылки!S238/S$5","v":0},{"$f":"T11*Предпосылки!T238/T$5","v":0},{"$f":"U11*Предпосылки!U238/U$5","v":0},{"$f":"V11*Предпосылки!V238/V$5","v":0},{"$f":"W11*Предпосылки!W238/W$5","v":0},{"$f":"X11*Предпосылки!X238/X$5","v":0},{"$f":"Y11*Предпосылки!Y238/Y$5","v":0},{"$f":"Z11*Предпосылки!Z238/Z$5","v":0},{"$f":"AA11*Предпосылки!AA238/AA$5","v":0},{"$f":"AB11*Предпосылки!AB238/AB$5","v":0}]
[null,null,{"$f":"Предпосылки!C63","v":"Сырье/материалы 2"},"тыс. руб.",null,null,null,{"$f":"H12*Предпосылки!H239/H$5","v":0},{"$f":"I12*Предпосылки!I239/I$5","v":0},{"$f":"J12*Предпосылки!J239/J$5","v":0},{"$f":"K12*Предпосылки!K239/K$5","v":0},{"$f":"L12*Предпосылки!L239/L$5","v":0},{"$f":"M12*Предпосылки!M239/M$5","v":0},{"$f":"N12*Предпосылки!N239/N$5","v":0},{"$f":"O12*Предпосылки!O239/O$5","v":0},{"$f":"P12*Предпосылки!P239/P$5","v":0},{"$f":"Q12*Предпосылки!Q239/Q$5","v":0},{"$f":"R12*Предпосылки!R239/R$5","v":0},{"$f":"S12*Предпосылки!S239/S$5","v":0},{"$f":"T12*Предпосылки!T239/T$5","v":0},{"$f":"U12*Предпосылки!U239/U$5","v":0},{"$f":"V12*Предпосылки!V239/V$5","v":0},{"$f":"W12*Предпосылки!W239/W$5","v":0},{"$f":"X12*Предпосылки!X239/X$5","v":0},{"$f":"Y12*Предпосылки!Y239/Y$5","v":0},{"$f":"Z12*Предпосылки!Z239/Z$5","v":0},{"$f":"AA12*Предпосылки!AA239/AA$5","v":0},{"$f":"AB12*Предпосылки!AB239/AB$5","v":0}]
[null,null,{"$f":"Предпосылки!C64","v":"…"}]
[null,{"$f":"Предпосылки!B66","v":"Продукция 2"}]
[null,null,{"$f":"Предпосылки!C67","v":"Сырье/материалы 1"},"тыс. руб.",null,null,null,{"$f":"H15*Предпосылки!H242/H$5","v":0},{"$f":"I15*Предпосылки!I242/I$5","v":0},{"$f":"J15*Предпосылки!J242/J$5","v":0},{"$f":"K15*Предпосылки!K242/K$5","v":0},{"$f":"L15*Предпосылки!L242/L$5","v":0},{"$f":"M15*Предпосылки!M242/M$5","v":0},{"$f":"N15*Предпосылки!N242/N$5","v":0},{"$f":"O15*Предпосылки!O242/O$5","v":0},{"$f":"P15*Предпосылки!P242/P$5","v":0},{"$f":"Q15*Предпосылки!Q242/Q$5","v":0},{"$f":"R15*Предпосылки!R242/R$5","v":0},{"$f":"S15*Предпосылки!S242/S$5","v":0},{"$f":"T15*Предпосылки!T242/T$5","v":0},{"$f":"U15*Предпосылки!U242/U$5","v":0},{"$f":"V15*Предпосылки!V242/V$5","v":0},{"$f":"W15*Предпосылки!W242/W$5","v":0},{"$f":"X15*Предпосылки!X242/X$5","v":0},{"$f":"Y15*Предпосылки!Y242/Y$5","v":0},{"$f":"Z15*Предпосылки!Z242/Z$5","v":0},{"$f":"AA15*Предпосылки!AA242/AA$5","v":0},{"$f":"AB15*Предпосылки!AB242/AB$5","v":0}]
[null,null,{"$f":"Предпосылки!C68","v":"Сырье/материалы 2"},"тыс. руб.",null,null,null,{"$f":"H16*Предпосылки!H243/H$5","v":0},{"$f":"I16*Предпосылки!I243/I$5","v":0},{"$f":"J16*Предпосылки!J243/J$5","v":0},{"$f":"K16*Предпосылки!K243/K$5","v":0},{"$f":"L16*Предпосылки!L243/L$5","v":0},{"$f":"M16*Предпосылки!M243/M$5","v":0},{"$f":"N16*Предпосылки!N243/N$5","v":0},{"$f":"O16*Предпосылки!O243/O$5","v":0},{"$f":"P16*Предпосылки!P243/P$5","v":0},{"$f":"Q16*Предпосылки!Q243/Q$5","v":0},{"$f":"R16*Предпосылки!R243/R$5","v":0},{"$f":"S16*Предпосылки!S243/S$5","v":0},{"$f":"T16*Предпосылки!T243/T$5","v":0},{"$f":"U16*Предпосылки!U243/U$5","v":0},{"$f":"V16*Предпосылки!V243/V$5","v":0},{"$f":"W16*Предпосылки!W243/W$5","v":0},{"$f":"X16*Предпосылки!X243/X$5","v":0},{"$f":"Y16*Предпосылки!Y243/Y$5","v":0},{"$f":"Z16*Предпосылки!Z243/Z$5","v":0},{"$f":"AA16*Предпосылки!AA243/AA$5","v":0},{"$f":"AB16*Предпосылки!AB243/AB$5","v":0}]
[null,null,{"$f":"Предпосылки!C69","v":"…"}]
[null,"Итого:",null,"тыс. руб.",null,null,null,{"$f":"SUM(H22:H23,H26:H27)","v":0},{"$f":"SUM(I22:I23,I26:I27)","v":0},0,0,0,0,0,0,0,0,0,0,0,0,0,0,0,0,0,0,0]
[]
[null,"Дополнительные инвестиции в запасы"]
[null,{"$f":"B21","v":"Продукция 1"}]
[null,null,{"$f":"C22","v":"Сырье/материалы 1"},"тыс. руб.",null,null,null,{"$f":"I22-H22","v":0},{"$f":"J22-I22","v":0},0,0,0,0,0,0,0,0,0,0,0,0,0,{"$f":"X22-W22","v":0},0,0,0,0,0]
[null,null,{"$f":"C23","v":"Сырье/материалы 2"},"тыс. руб.",null,null,null,{"$f":"I23-H23","v":0},{"$f":"J23-I23","v":0},0,0,0,0,0,0,0,0,0,0,0,0,0,0,0,0,0,0,0]
[null,null,{"$f":"C24","v":"…"}]
[null,{"$f":"B25","v":"Продукция 2"}]
[null,null,{"$f":"C26","v":"Сырье/материалы 1"},"тыс. руб.",null,null,null,{"$f":"I26-H26","v":0},{"$f":"J26-I26","v":0},0,0,0,0,0,0,0,0,0,0,0,0,0,{"$f":"X26-W26","v":0},0,0,0,0,0]
[null,null,{"$f":"C27","v":"Сырье/материалы 2"},"тыс. руб.",null,null,null,{"$f":"I27-H27","v":0},{"$f":"J27-I27","v":0},0,0,0,0,0,0,0,0,0,0,0,0,0,0,0,0,0,0,0]
[null,null,{"$f":"C28","v":"…"}]
[null,"Итого:",null,"тыс. руб.",null,null,null,{"$f":"SUM(H33:H34,H37:H38)","v":0},{"$f":"SUM(I33:I34,I37:I38)","v":0},0,0,0,0,0,0,0,0,0,0,0,0,0,0,0,0,0,0,0]
[]
[null,"Остаток  запасов на начало периода",null,"тыс. руб.",null,null,null,{"$f":"H29","v":0},{"$f":"I29","v":0},0,0,0,0,0,0,0,0,0,0,0,0,0,0,0,0,0,0,0]
[null,"Начисление прямых затрат",null,"тыс. руб.",null,null,null,{"$f":"H18","v":0},{"$f":"I18","v":0},0,0,0,0,0,0,0,0,0,0,0,0,0,0,0,0,0,0,0]
[null,"Потребность в закупке запасов",null,"тыс. руб.",null,null,null,{"$f":"SUM(-H42,H43,H45)","v":0},{"$f":"SUM(-I42,I43,I45)","v":0},{"$f":"SUM(-J42,J43,J45)","v":0},0,0,0,0,0,0,0,0,0,0,0,0,0,0,0,0,0,0]
[null,"Остаток запасов на конец периода",null,"тыс. руб.",null,null,null,{"$f":"I42","v":0},{"$f":"J42","v":0},0,0,0,0,0,0,0,0,0,0,0,0,0,{"$f":"X42","v":0},0,0,0,0,0]
[]
[null,"Расчеты с покупателями"]
[]
[null,null,"Выручка (с  НДС)","тыс. руб.","Лист: Выручка и себестоимость",null,null,{"$f":"'Выручка и себестоимость'!H36","v":0},{"$f":"'Выручка и себестоимость'!I36","v":0},{"$f":"'Выручка и себестоимость'!J36","v":0},{"$f":"'Выручка и себестоимость'!K36","v":0},{"$f":"'Выручка и себестоимость'!L36","v":0},{"$f":"'Выручка и себестоимость'!M36","v":0},{"$f":"'Выручка и себестоимость'!N36","v":0},{"$f":"'Выручка и себестоимость'!O36","v":0},{"$f":"'Выручка и себестоимость'!P36","v":0},{"$f":"'Выручка и себестоимость'!Q36","v":0},{"$f":"'Выручка и себестоимость'!R36","v":0},{"$f":"'Выручка и себестоимость'!S36","v":0},{"$f":"'Выручка и себестоимость'!T36","v":0},{"$f":"'Выручка и себестоимость'!U36","v":0},{"$f":"'Выручка и себестоимость'!V36","v":0},{"$f":"'Выручка и себестоимость'!W36","v":0},{"$f":"'Выручка и себестоимость'!X36","v":0},{"$f":"'Выручка и себестоимость'!Y36","v":0},{"$f":"'Выручка и себестоимость'!Z36","v":0},{"$f":"'Выручка и себестоимость'!AA36","v":0},{"$f":"'Выручка и себестоимость'!AB36","v":0}]
[]
[null,null,"Планируется к получению в качестве аванса","тыс. руб.",null,null,null,{"$f":"H$49*Предпосылки!$F388","v":0},{"$f":"I$49*Предпосылки!$F388","v":0},{"$f":"J$49*Предпосылки!$F388","v":0},{"$f":"K$49*Предпосылки!$F388","v":0},{"$f":"L$49*Предпосылки!$F388","v":0},{"$f":"M$49*Предпосылки!$F388","v":0},{"$f":"N$49*Предпосылки!$F388","v":0},{"$f":"O$49*Предпосылки!$F388","v":0},{"$f":"P$49*Предпосылки!$F388","v":0},{"$f":"Q$49*Предпосылки!$F388","v":0},{"$f":"R$49*Предпосылки!$F388","v":0},{"$f":"S$49*Предпосылки!$F388","v":0},{"$f":"T$49*Предпосылки!$F388","v":0},{"$f":"U$49*Предпосылки!$F388","v":0},{"$f":"V$49*Предпосылки!$F388","v":0},{"$f":"W$49*Предпосылки!$F388","v":0},{"$f":"X$49*Предпосылки!$F388","v":0},{"$f":"Y$49*Предпосылки!$F388","v":0},{"$f":"Z$49*Предпосылки!$F388","v":0},{"$f":"AA$49*Предпосылки!$F388","v":0},{"$f":"AB$49*Предпосылки!$F388","v":0}]
[null,null,"Планируется к получению после поставки","тыс. руб.",null,null,null,{"$f":"H$49*Предпосылки!$F393","v":0},{"$f":"I$49*Предпосылки!$F393","v":0},{"$f":"J$49*Предпосылки!$F393","v":0},{"$f":"K$49*Предпосылки!$F393","v":0},{"$f":"L$49*Предпосылки!$F393","v":0},{"$f":"M$49*Предпосылки!$F393","v":0},{"$f":"N$49*Предпосылки!$F393","v":0},{"$f":"O$49*Предпосылки!$F393","v":0},{"$f":"P$49*Предпосылки!$F393","v":0},{"$f":"Q$49*Предпосылки!$F393","v":0},{"$f":"R$49*Предпосылки!$F393","v":0},{"$f":"S$49*Предпосылки!$F393","v":0},{"$f":"T$49*Предпосылки!$F393","v":0},{"$f":"U$49*Предпосылки!$F393","v":0},{"$f":"V$49*Предпосылки!$F393","v":0},{"$f":"W$49*Предпосылки!$F393","v":0},{"$f":"X$49*Предпосылки!$F393","v":0},{"$f":"Y$49*Предпосылки!$F393","v":0},{"$f":"Z$49*Предпосылки!$F393","v":0},{"$f":"AA$49*Предпосылки!$F393","v":0},{"$f":"AB$49*Предпосылки!$F393","v":0}]
[]
[null,null,"Поступления авансового платежа в периоде соответствующем признанию выручки ","тыс. руб.",null,null,null,{"$f":"H51","v":0},{"$f":"I51*Предпосылки!I390","v":0},{"$f":"J51*Предпосылки!J390","v":0},{"$f":"K51*Предпосылки!K390","v":0},{"$f":"L51*Предпосылки!L390","v":0},{"$f":"M51*Предпосылки!M390","v":0},{"$f":"N51*Предпосылки!N390","v":0},{"$f":"O51*Предпосылки!O390","v":0},{"$f":"P51*Предпосылки!P390","v":0},{"$f":"Q51*Предпосылки!Q390","v":0},{"$f":"R51*Предпосылки!R390","v":0},{"$f":"S51*Предпосылки!S390","v":0},{"$f":"T51*Предпосылки!T390","v":0},{"$f":"U51*Предпосылки!U390","v":0},{"$f":"V51*Предпосылки!V390","v":0},{"$f":"W51*Предпосылки!W390","v":0},{"$f":"X51*Предпосылки!X390","v":0},{"$f":"Y51*Предпосылки!Y390","v":0},{"$f":"Z51*Предпосылки!Z390","v":0},{"$f":"AA51*Предпосылки!AA390","v":0},{"$f":"AB51*Предпосылки!AB390","v":0}]
[null,null,"Поступления авансового платежа от выручки, признаваемой в следующем периоде","тыс. руб.",null,null,null,{"$f":"I51-I54","v":0},{"$f":"J51-J54","v":0},0,0,0,0,0,0,0,0,0,0,0,0,0,0,0,0,0,{"$f":"AB51-AB54","v":0},0]
[null,null,"Поступление последующего платежа в периоде, соответствующем признанию выручки","тыс. руб.",null,null,null,{"$f":"H52*Предпосылки!H395","v":0},{"$f":"I52*Предпосылки!I395","v":0},{"$f":"J52*Предпосылки!J395","v":0},{"$f":"K52*Предпосылки!K395","v":0},{"$f":"L52*Предпосылки!L395","v":0},{"$f":"M52*Предпосылки!M395","v":0},{"$f":"N52*Предпосылки!N395","v":0},{"$f":"O52*Предпосылки!O395","v":0},{"$f":"P52*Предпосылки!P395","v":0},{"$f":"Q52*Предпосылки!Q395","v":0},{"$f":"R52*Предпосылки!R395","v":0},{"$f":"S52*Предпосылки!S395","v":0},{"$f":"T52*Предпосылки!T395","v":0},{"$f":"U52*Предпосылки!U395","v":0},{"$f":"V52*Предпосылки!V395","v":0},{"$f":"W52*Предпосылки!W395","v":0},{"$f":"X52*Предпосылки!X395","v":0},{"$f":"Y52*Предпосылки!Y395","v":0},{"$f":"Z52*Предпосылки!Z395","v":0},{"$f":"AA52*Предпосылки!AA395","v":0},{"$f":"AB52*Предпосылки!AB395","v":0}]
[null,null,"Поступление последующего платежа к выручке, признанной в предыдущем периоде","тыс. руб.",null,null,null,{"$f":"G52-G56","v":0},{"$f":"H52-H56","v":0},0,0,0,0,0,0,0,0,0,0,0,0,0,0,0,0,0,0,0]
[null,null,"Итого поступления от покупателей:","тыс. руб.",null,null,null,{"$f":"SUM(H54:H57)","v":0},{"$f":"SUM(I54:I57)","v":0},{"$f":"SUM(J54:J57)","v":0},0,0,0,0,0,0,0,0,0,0,0,0,0,0,0,0,0,0]
[]
[null,"Расчеты с поставщиками и подрядчиками"]
[]
[null,"Расчеты с поставщиками запасов"]
[]
[null,null,"Планируемые затраты на запасы (без НДС)","тыс. руб.",null,null,null,{"$f":"H44","v":0},0,0,0,0,0,0,0,0,0,0,0,0,0,0,0,0,0,0,0,0]
[null,null,"Планируемые затраты на запасы (с НДС)","тыс. руб.",null,null,null,{"$f":"H64*(One+Предпосылки!H$294)","v":0},{"$f":"I64*(One+Предпосылки!I$294)","v":0},{"$f":"J64*(One+Предпосылки!J$294)","v":0},{"$f":"K64*(One+Предпосылки!K$294)","v":0},{"$f":"L64*(One+Предпосылки!L$294)","v":0},{"$f":"M64*(One+Предпосылки!M$294)","v":0},{"$f":"N64*(One+Предпосылки!N$294)","v":0},{"$f":"O64*(One+Предпосылки!O$294)","v":0},{"$f":"P64*(One+Предпосылки!P$294)","v":0},{"$f":"Q64*(One+Предпосылки!Q$294)","v":0},{"$f":"R64*(One+Предпосылки!R$294)","v":0},{"$f":"S64*(One+Предпосылки!S$294)","v":0},{"$f":"T64*(One+Предпосылки!T$294)","v":0},{"$f":"U64*(One+Предпосылки!U$294)","v":0},{"$f":"V64*(One+Предпосылки!V$294)","v":0},{"$f":"W64*(One+Предпосылки!W$294)","v":0},{"$f":"X64*(One+Предпосылки!X$294)","v":0},{"$f":"Y64*(One+Предпосылки!Y$294)","v":0},{"$f":"Z64*(One+Предпосылки!Z$294)","v":0},{"$f":"AA64*(One+Предпосылки!AA$294)","v":0},{"$f":"AB64*(One+Предпосылки!AB$294)","v":0}]
[]
[null,null,"Планируется к оплате в качестве аванса","тыс. руб.",null,null,null,{"$f":"H$65*Предпосылки!$F406","v":0},{"$f":"I$65*Предпосылки!$F406","v":0},{"$f":"J$65*Предпосылки!$F406","v":0},{"$f":"K$65*Предпосылки!$F406","v":0},{"$f":"L$65*Предпосылки!$F406","v":0},{"$f":"M$65*Предпосылки!$F406","v":0},{"$f":"N$65*Предпосылки!$F406","v":0},{"$f":"O$65*Предпосылки!$F406","v":0},{"$f":"P$65*Предпосылки!$F406","v":0},{"$f":"Q$65*Предпосылки!$F406","v":0},{"$f":"R$65*Предпосылки!$F406","v":0},{"$f":"S$65*Предпосылки!$F406","v":0},{"$f":"T$65*Предпосылки!$F406","v":0},{"$f":"U$65*Предпосылки!$F406","v":0},{"$f":"V$65*Предпосылки!$F406","v":0},{"$f":"W$65*Предпосылки!$F406","v":0},{"$f":"X$65*Предпосылки!$F406","v":0},{"$f":"Y$65*Предпосылки!$F406","v":0},{"$f":"Z$65*Предпосылки!$F406","v":0},{"$f":"AA$65*Предпосылки!$F406","v":0},{"$f":"AB$65*Предпосылки!$F406","v":0}]
[null,null,"Планируется к оплате после поставки","тыс. руб.",null,null,null,{"$f":"H$65*Предпосылки!$F411","v":0},{"$f":"I$65*Предпосылки!$F411","v":0},{"$f":"J$65*Предпосылки!$F411","v":0},{"$f":"K$65*Предпосылки!$F411","v":0},{"$f":"L$65*Предпосылки!$F411","v":0},{"$f":"M$65*Предпосылки!$F411","v":0},{"$f":"N$65*Предпосылки!$F411","v":0},{"$f":"O$65*Предпосылки!$F411","v":0},{"$f":"P$65*Предпосылки!$F411","v":0},{"$f":"Q$65*Предпосылки!$F411","v":0},{"$f":"R$65*Предпосылки!$F411","v":0},{"$f":"S$65*Предпосылки!$F411","v":0},{"$f":"T$65*Предпосылки!$F411","v":0},{"$f":"U$65*Предпосылки!$F411","v":0},{"$f":"V$65*Предпосылки!$F411","v":0},{"$f":"W$65*Предпосылки!$F411","v":0},{"$f":"X$65*Предпосылки!$F411","v":0},{"$f":"Y$65*Предпосылки!$F411","v":0},{"$f":"Z$65*Предпосылки!$F411","v":0},{"$f":"AA$65*Предпосылки!$F411","v":0},{"$f":"AB$65*Предпосылки!$F411","v":0}]
[]
[null,null,"Уплата авансового платежа в периоде, соответствующем признанию запасов","тыс. руб.",null,null,null,{"$f":"H67","v":0},{"$f":"I67*Предпосылки!I408","v":0},{"$f":"J67*Предпосылки!J408","v":0},{"$f":"K67*Предпосылки!K408","v":0},{"$f":"L67*Предпосылки!L408","v":0},{"$f":"M67*Предпосылки!M408","v":0},{"$f":"N67*Предпосылки!N408","v":0},{"$f":"O67*Предпосылки!O408","v":0},{"$f":"P67*Предпосылки!P408","v":0},{"$f":"Q67*Предпосылки!Q408","v":0},{"$f":"R67*Предпосылки!R408","v":0},{"$f":"S67*Предпосылки!S408","v":0},{"$f":"T67*Предпосылки!T408","v":0},{"$f":"U67*Предпосылки!U408","v":0},{"$f":"V67*Предпосылки!V408","v":0},{"$f":"W67*Предпосылки!W408","v":0},{"$f":"X67*Предпосылки!X408","v":0},{"$f":"Y67*Предпосылки!Y408","v":0},{"$f":"Z67*Предпосылки!Z408","v":0},{"$f":"AA67*Предпосылки!AA408","v":0},{"$f":"AB67*Предпосылки!AB408","v":0}]
[null,null,"Уплата авансового платежа от запасов, приобретаемых в следующем периоде","тыс. руб.",null,null,null,{"$f":"I67-I70","v":0},{"$f":"J67-J70","v":0},0,0,0,0,0,0,0,0,0,0,0,0,0,0,0,0,0,{"$f":"AB67-AB70","v":0},0]
[null,null,"Перечисление последующего платежа в периоде, соответствующем признанию запасов","тыс. руб.",null,null,null,{"$f":"H68*Предпосылки!H413","v":0},{"$f":"I68*Предпосылки!I413","v":0},{"$f":"J68*Предпосылки!J413","v":0},{"$f":"K68*Предпосылки!K413","v":0},{"$f":"L68*Предпосылки!L413","v":0},{"$f":"M68*Предпосылки!M413","v":0},{"$f":"N68*Предпосылки!N413","v":0},{"$f":"O68*Предпосылки!O413","v":0},{"$f":"P68*Предпосылки!P413","v":0},{"$f":"Q68*Предпосылки!Q413","v":0},{"$f":"R68*Предпосылки!R413","v":0},{"$f":"S68*Предпосылки!S413","v":0},{"$f":"T68*Предпосылки!T413","v":0},{"$f":"U68*Предпосылки!U413","v":0},{"$f":"V68*Предпосылки!V413","v":0},{"$f":"W68*Предпосылки!W413","v":0},{"$f":"X68*Предпосылки!X413","v":0},{"$f":"Y68*Предпосылки!Y413","v":0},{"$f":"Z68*Предпосылки!Z413","v":0},{"$f":"AA68*Предпосылки!AA413","v":0},{"$f":"AB68*Предпосылки!AB413","v":0}]
[null,null,"Перечисление последующего платежа по запасам, признанным в предыдущем периоде","тыс. руб.",null,null,null,{"$f":"G68-G72","v":0},{"$f":"H68-H72","v":0},0,0,0,0,0,0,0,0,0,0,0,0,0,0,0,0,0,0,0]
[null,null,"Итого оплата запасов:","тыс. руб.",null,null,null,{"$f":"SUM(H70:H73)","v":0},0,0,0,0,0,0,0,0,0,0,0,0,0,{"$f":"SUM(V70:V73)","v":0},0,0,0,0,0,0]
[]
[null,"Расчеты по общехозяйственным расходам(общепроизводственным, коммерческим и управленческим)"]
[]
[null,null,"Сумма учтенных затрат (без НДС)","тыс. руб.","Лист: Операционные затраты",null,null,{"$f":"Предпосылки!H107","v":0},{"$f":"Предпосылки!I107","v":0},{"$f":"Предпосылки!J107","v":0},{"$f":"Предпосылки!K107","v":0},{"$f":"Предпосылки!L107","v":0},{"$f":"Предпосылки!M107","v":0},{"$f":"Предпосылки!N107","v":0},{"$f":"Предпосылки!O107","v":0},{"$f":"Предпосылки!P107","v":0},{"$f":"Предпосылки!Q107","v":0},{"$f":"Предпосылки!R107","v":0},{"$f":"Предпосылки!S107","v":0},{"$f":"Предпосылки!T107","v":0},{"$f":"Предпосылки!U107","v":0},{"$f":"Предпосылки!V107","v":0},{"$f":"Предпосылки!W107","v":0},{"$f":"Предпосылки!X107","v":0},{"$f":"Предпосылки!Y107","v":0},{"$f":"Предпосылки!Z107","v":0},{"$f":"Предпосылки!AA107","v":0},{"$f":"Предпосылки!AB107","v":0}]
[null,null,"Сумма учтенных затрат (с НДС)","тыс. руб.",null,null,null,{"$f":"H78*(One+Предпосылки!H$294)","v":0},{"$f":"I78*(One+Предпосылки!I$294)","v":0},{"$f":"J78*(One+Предпосылки!J$294)","v":0},{"$f":"K78*(One+Предпосылки!K$294)","v":0},{"$f":"L78*(One+Предпосылки!L$294)","v":0},{"$f":"M78*(One+Предпосылки!M$294)","v":0},{"$f":"N78*(One+Предпосылки!N$294)","v":0},{"$f":"O78*(One+Предпосылки!O$294)","v":0},{"$f":"P78*(One+Предпосылки!P$294)","v":0},{"$f":"Q78*(One+Предпосылки!Q$294)","v":0},{"$f":"R78*(One+Предпосылки!R$294)","v":0},{"$f":"S78*(One+Предпосылки!S$294)","v":0},{"$f":"T78*(One+Предпосылки!T$294)","v":0},{"$f":"U78*(One+Предпосылки!U$294)","v":0},{"$f":"V78*(One+Предпосылки!V$294)","v":0},{"$f":"W78*(One+Предпосылки!W$294)","v":0},{"$f":"X78*(One+Предпосылки!X$294)","v":0},{"$f":"Y78*(One+Предпосылки!Y$294)","v":0},{"$f":"Z78*(One+Предпосылки!Z$294)","v":0},{"$f":"AA78*(One+Предпосылки!AA$294)","v":0},{"$f":"AB78*(One+Предпосылки!AB$294)","v":0}]
[]
[null,null,"Планируется к оплате в качестве аванса","тыс. руб.",null,null,null,{"$f":"H$79*Предпосылки!$F419","v":0},{"$f":"I$79*Предпосылки!$F419","v":0},{"$f":"J$79*Предпосылки!$F419","v":0},{"$f":"K$79*Предпосылки!$F419","v":0},{"$f":"L$79*Предпосылки!$F419","v":0},{"$f":"M$79*Предпосылки!$F419","v":0},{"$f":"N$79*Предпосылки!$F419","v":0},{"$f":"O$79*Предпосылки!$F419","v":0},{"$f":"P$79*Предпосылки!$F419","v":0},{"$f":"Q$79*Предпосылки!$F419","v":0},{"$f":"R$79*Предпосылки!$F419","v":0},{"$f":"S$79*Предпосылки!$F419","v":0},{"$f":"T$79*Предпосылки!$F419","v":0},{"$f":"U$79*Предпосылки!$F419","v":0},{"$f":"V$79*Предпосылки!$F419","v":0},{"$f":"W$79*Предпосылки!$F419","v":0},{"$f":"X$79*Предпосылки!$F419","v":0},{"$f":"Y$79*Предпосылки!$F419","v":0},{"$f":"Z$79*Предпосылки!$F419","v":0},{"$f":"AA$79*Предпосылки!$F419","v":0},{"$f":"AB$79*Предпосылки!$F419","v":0}]
[null,null,"Планируется к оплате после поставки / оказания услуг","тыс. руб.",null,null,null,{"$f":"H$79*Предпосылки!$F424","v":0},{"$f":"I$79*Предпосылки!$F424","v":0},{"$f":"J$79*Предпосылки!$F424","v":0},{"$f":"K$79*Предпосылки!$F424","v":0},{"$f":"L$79*Предпосылки!$F424","v":0},{"$f":"M$79*Предпосылки!$F424","v":0},{"$f":"N$79*Предпосылки!$F424","v":0},{"$f":"O$79*Предпосылки!$F424","v":0},{"$f":"P$79*Предпосылки!$F424","v":0},{"$f":"Q$79*Предпосылки!$F424","v":0},{"$f":"R$79*Предпосылки!$F424","v":0},{"$f":"S$79*Предпосылки!$F424","v":0},{"$f":"T$79*Предпосылки!$F424","v":0},{"$f":"U$79*Предпосылки!$F424","v":0},{"$f":"V$79*Предпосылки!$F424","v":0},{"$f":"W$79*Предпосылки!$F424","v":0},{"$f":"X$79*Предпосылки!$F424","v":0},{"$f":"Y$79*Предпосылки!$F424","v":0},{"$f":"Z$79*Предпосылки!$F424","v":0},{"$f":"AA$79*Предпосылки!$F424","v":0},{"$f":"AB$79*Предпосылки!$F424","v":0}]
[]
[null,null,"Уплата авансового платежа в периоде, соответствующем признанию запасов","тыс. руб.",null,null,null,{"$f":"H81","v":0},{"$f":"I81*Предпосылки!I421","v":0},{"$f":"J81*Предпосылки!J421","v":0},{"$f":"K81*Предпосылки!K421","v":0},{"$f":"L81*Предпосылки!L421","v":0},{"$f":"M81*Предпосылки!M421","v":0},{"$f":"N81*Предпосылки!N421","v":0},{"$f":"O81*Предпосылки!O421","v":0},{"$f":"P81*Предпосылки!P421","v":0},{"$f":"Q81*Предпосылки!Q421","v":0},{"$f":"R81*Предпосылки!R421","v":0},{"$f":"S81*Предпосылки!S421","v":0},{"$f":"T81*Предпосылки!T421","v":0},{"$f":"U81*Предпосылки!U421","v":0},{"$f":"V81*Предпосылки!V421","v":0},{"$f":"W81*Предпосылки!W421","v":0},{"$f":"X81*Предпосылки!X421","v":0},{"$f":"Y81*Предпосылки!Y421","v":0},{"$f":"Z81*Предпосылки!Z421","v":0},{"$f":"AA81*Предпосылки!AA421","v":0},{"$f":"AB81*Предпосылки!AB421","v":0}]
[null,null,"Уплата авансового платежа от запасов, приобретаемых в следующем периоде","тыс. руб.",null,null,null,{"$f":"I81-I84","v":0},{"$f":"J81-J84","v":0},{"$f":"K81-K84","v":0},0,0,0,0,0,0,0,0,0,0,0,0,0,0,0,0,{"$f":"AB81-AB84","v":0},0]
[null,null,"Перечисление последующего платежа в периоде, соответствующем признанию запасов","тыс. руб.",null,null,null,{"$f":"H82*Предпосылки!H426","v":0},{"$f":"I82*Предпосылки!I426","v":0},{"$f":"J82*Предпосылки!J426","v":0},{"$f":"K82*Предпосылки!K426","v":0},{"$f":"L82*Предпосылки!L426","v":0},{"$f":"M82*Предпосылки!M426","v":0},{"$f":"N82*Предпосылки!N426","v":0},{"$f":"O82*Предпосылки!O426","v":0},{"$f":"P82*Предпосылки!P426","v":0},{"$f":"Q82*Предпосылки!Q426","v":0},{"$f":"R82*Предпосылки!R426","v":0},{"$f":"S82*Предпосылки!S426","v":0},{"$f":"T82*Предпосылки!T426","v":0},{"$f":"U82*Предпосылки!U426","v":0},{"$f":"V82*Предпосылки!V426","v":0},{"$f":"W82*Предпосылки!W426","v":0},{"$f":"X82*Предпосылки!X426","v":0},{"$f":"Y82*Предпосылки!Y426","v":0},{"$f":"Z82*Предпосылки!Z426","v":0},{"$f":"AA82*Предпосылки!AA426","v":0},{"$f":"AB82*Предпосылки!AB426","v":0}]
[null,null,"Перечисление последующего платежа по запасам, признанным в предыдущем периоде","тыс. руб.",null,null,null,{"$f":"G82-G86","v":0},{"$f":"H82-H86","v":0},0,0,0,0,0,0,0,0,0,0,0,0,0,0,0,0,0,0,0]
[null,null,"Итого оплата общехозяйственных расходов:","тыс. руб.",null,null,null,{"$f":"SUM(H84:H87)","v":0},0,0,0,0,0,0,0,0,0,0,0,0,0,{"$f":"SUM(V84:V87)","v":0},0,0,0,0,0,0]
[]
[null,"Расчеты по прочим расходам"]
[]
[null,null,"Сумма учтенных затрат (без НДС)","тыс. руб.","Лист: Операционные затраты",null,null,{"$f":"Предпосылки!H114","v":0},{"$f":"Предпосылки!I114","v":0},{"$f":"Предпосылки!J114","v":0},{"$f":"Предпосылки!K114","v":0},{"$f":"Предпосылки!L114","v":0},{"$f":"Предпосылки!M114","v":0},{"$f":"Предпосылки!N114","v":0},{"$f":"Предпосылки!O114","v":0},{"$f":"Предпосылки!P114","v":0},{"$f":"Предпосылки!Q114","v":0},{"$f":"Предпосылки!R114","v":0},{"$f":"Предпосылки!S114","v":0},{"$f":"Предпосылки!T114","v":0},{"$f":"Предпосылки!U114","v":0},{"$f":"Предпосылки!V114","v":0},{"$f":"Предпосылки!W114","v":0},{"$f":"Предпосылки!X114","v":0},{"$f":"Предпосылки!Y114","v":0},{"$f":"Предпосылки!Z114","v":0},{"$f":"Предпосылки!AA114","v":0},{"$f":"Предпосылки!AB114","v":0}]
[null,null,"Сумма учтенных затрат (с НДС)","тыс. руб.","Лист: Операционные затраты",null,null,{"$f":"SUMPRODUCT(Предпосылки!$F118:$F120,Предпосылки!H111:H113)*(1+Предпосылки!H$294)+SUMIF(Предпосылки!$F118:$F120,0,Предпосылки!H111:H113)","v":0},{"$f":"SUMPRODUCT(Предпосылки!$F118:$F120,Предпосылки!I111:I113)*(1+Предпосылки!I$294)+SUMIF(Предпосылки!$F118:$F120,0,Предпосылки!I111:I113)","v":0},{"$f":"SUMPRODUCT(Предпосылки!$F118:$F120,Предпосылки!J111:J113)*(1+Предпосылки!J$294)+SUMIF(Предпосылки!$F118:$F120,0,Предпосылки!J111:J113)","v":0},{"$f":"SUMPRODUCT(Предпосылки!$F118:$F120,Предпосылки!K111:K113)*(1+Предпосылки!K$294)+SUMIF(Предпосылки!$F118:$F120,0,Предпосылки!K111:K113)","v":0},{"$f":"SUMPRODUCT(Предпосылки!$F118:$F120,Предпосылки!L111:L113)*(1+Предпосылки!L$294)+SUMIF(Предпосылки!$F118:$F120,0,Предпосылки!L111:L113)","v":0},{"$f":"SUMPRODUCT(Предпосылки!$F118:$F120,Предпосылки!M111:M113)*(1+Предпосылки!M$294)+SUMIF(Предпосылки!$F118:$F120,0,Предпосылки!M111:M113)","v":0},{"$f":"SUMPRODUCT(Предпосылки!$F118:$F120,Предпосылки!N111:N113)*(1+Предпосылки!N$294)+SUMIF(Предпосылки!$F118:$F120,0,Предпосылки!N111:N113)","v":0},{"$f":"SUMPRODUCT(Предпосылки!$F118:$F120,Предпосылки!O111:O113)*(1+Предпосылки!O$294)+SUMIF(Предпосылки!$F118:$F120,0,Предпосылки!O111:O113)","v":0},{"$f":"SUMPRODUCT(Предпосылки!$F118:$F120,Предпосылки!P111:P113)*(1+Предпосылки!P$294)+SUMIF(Предпосылки!$F118:$F120,0,Предпосылки!P111:P113)","v":0},{"$f":"SUMPRODUCT(Предпосылки!$F118:$F120,Предпосылки!Q111:Q113)*(1+Предпосылки!Q$294)+SUMIF(Предпосылки!$F118:$F120,0,Предпосылки!Q111:Q113)","v":0},{"$f":"SUMPRODUCT(Предпосылки!$F118:$F120,Предпосылки!R111:R113)*(1+Предпосылки!R$294)+SUMIF(Предпосылки!$F118:$F120,0,Предпосылки!R111:R113)","v":0},{"$f":"SUMPRODUCT(Предпосылки!$F118:$F120,Предпосылки!S111:S113)*(1+Предпосылки!S$294)+SUMIF(Предпосылки!$F118:$F120,0,Предпосылки!S111:S113)","v":0},{"$f":"SUMPRODUCT(Предпосылки!$F118:$F120,Предпосылки!T111:T113)*(1+Предпосылки!T$294)+SUMIF(Предпосылки!$F118:$F120,0,Предпосылки!T111:T113)","v":0},{"$f":"SUMPRODUCT(Предпосылки!$F118:$F120,Предпосылки!U111:U113)*(1+Предпосылки!U$294)+SUMIF(Предпосылки!$F118:$F120,0,Предпосылки!U111:U113)","v":0},{"$f":"SUMPRODUCT(Предпосылки!$F118:$F120,Предпосылки!V111:V113)*(1+Предпосылки!V$294)+SUMIF(Предпосылки!$F118:$F120,0,Предпосылки!V111:V113)","v":0},{"$f":"SUMPRODUCT(Предпосылки!$F118:$F120,Предпосылки!W111:W113)*(1+Предпосылки!W$294)+SUMIF(Предпосылки!$F118:$F120,0,Предпосылки!W111:W113)","v":0},{"$f":"SUMPRODUCT(Предпосылки!$F118:$F120,Предпосылки!X111:X113)*(1+Предпосылки!X$294)+SUMIF(Предпосылки!$F118:$F120,0,Предпосылки!X111:X113)","v":0},{"$f":"SUMPRODUCT(Предпосылки!$F118:$F120,Предпосылки!Y111:Y113)*(1+Предпосылки!Y$294)+SUMIF(Предпосылки!$F118:$F120,0,Предпосылки!Y111:Y113)","v":0},{"$f":"SUMPRODUCT(Предпосылки!$F118:$F120,Предпосылки!Z111:Z113)*(1+Предпосылки!Z$294)+SUMIF(Предпосылки!$F118:$F120,0,Предпосылки!Z111:Z113)","v":0},{"$f":"SUMPRODUCT(Предпосылки!$F118:$F120,Предпосылки!AA111:AA113)*(1+Предпосылки!AA$294)+SUMIF(Предпосылки!$F118:$F120,0,Предпосылки!AA111:AA113)","v":0},{"$f":"SUMPRODUCT(Предпосылки!$F118:$F120,Предпосылки!AB111:AB113)*(1+Предпосылки!AB$294)+SUMIF(Предпосылки!$F118:$F120,0,Предпосылки!AB111:AB113)","v":0}]
[]
[null,null,"Оплата прочих расходов","тыс. руб.",null,null,null,{"$f":"H93*Предпосылки!$F$429","v":0},{"$f":"I93*Предпосылки!$F$429","v":0},{"$f":"J93*Предпосылки!$F$429","v":0},{"$f":"K93*Предпосылки!$F$429","v":0},{"$f":"L93*Предпосылки!$F$429","v":0},{"$f":"M93*Предпосылки!$F$429","v":0},{"$f":"N93*Предпосылки!$F$429","v":0},{"$f":"O93*Предпосылки!$F$429","v":0},{"$f":"P93*Предпосылки!$F$429","v":0},{"$f":"Q93*Предпосылки!$F$429","v":0},{"$f":"R93*Предпосылки!$F$429","v":0},{"$f":"S93*Предпосылки!$F$429","v":0},{"$f":"T93*Предпосылки!$F$429","v":0},{"$f":"U93*Предпосылки!$F$429","v":0},{"$f":"V93*Предпосылки!$F$429","v":0},{"$f":"W93*Предпосылки!$F$429","v":0},{"$f":"X93*Предпосылки!$F$429","v":0},{"$f":"Y93*Предпосылки!$F$429","v":0},{"$f":"Z93*Предпосылки!$F$429","v":0},{"$f":"AA93*Предпосылки!$F$429","v":0},{"$f":"AB93*Предпосылки!$F$429","v":0}]
[]
[null,"Дебиторская задолженность"]
[]
[null,null,"Дебиторская задолженность на начало периода","тыс. руб.",null,null,null,{"$f":"G103","v":0},{"$f":"H103","v":0},0,0,0,0,0,0,0,0,0,0,0,0,0,{"$f":"V103","v":0},0,0,0,0,0]
[null,null,"Формирование дебиторской задолженности от расчетов с покупателями","тыс. руб.",null,null,null,{"$f":"I57","v":0},0,0,0,0,0,0,0,0,0,0,0,0,0,0,0,0,0,0,0,0]
[null,null,"Формирование дебиторской задолженности от расчетов по запасам","тыс. руб.",null,null,null,{"$f":"H71","v":0},0,0,0,0,0,0,0,0,0,0,0,0,0,0,0,0,0,0,0,0]
[null,null,"Формирование дебиторской задолженности от расчетов по общехозяйственным расходам","тыс. руб.",null,null,null,{"$f":"H85","v":0},{"$f":"I85","v":0},0,0,0,0,0,0,0,0,0,0,0,0,0,0,0,0,0,0,0]
[null,null,"Дебиторская задолженность на конец периода","тыс. руб.",null,null,null,{"$f":"SUM(H100:H102)","v":0},0,0,0,0,0,0,0,0,0,0,0,0,0,0,0,0,0,0,0,0]
[]
[null,"Кредиторская задолженность "]
[]
[null,"Расчеты с покупателями, поставщиками, подрядчиками"]
[null,null,"Кредиторская задолженность на начало периода","тыс. руб.",null,null,null,{"$f":"G112","v":0},0,0,0,0,0,0,0,0,0,0,0,0,0,0,0,0,0,0,0,0]
[null,null,"Формирование кредиторской задолженности от расчетов с покупателями","тыс. руб.",null,null,null,{"$f":"H55","v":0},0,0,0,0,0,0,0,0,0,0,0,0,0,0,0,0,0,0,0,0]
[null,null,"Формирование кредиторской задолженности от расчетов по запасам","тыс. руб.",null,null,null,{"$f":"I73","v":0},0,0,0,0,0,0,0,0,0,0,0,0,0,0,0,0,0,0,0,0]
[null,null,"Формирование кредиторской задолженности от расчетов по общехозяйственным расходам","тыс. руб.",null,null,null,{"$f":"I87","v":0},0,0,0,0,0,0,0,0,0,0,0,0,0,0,0,0,0,0,0,0]
[null,null,"Кредиторская задолженность на конец периода","тыс. руб.",null,null,null,{"$f":"SUM(H109:H111)","v":0},0,0,0,0,0,0,0,0,0,0,0,0,0,0,0,0,0,0,0,0]
[]
[null,"Расчеты с сотрудниками"]
[null,null,"Кредиторская задолженность по оплате труда (без НДФЛ) на конец периода","тыс. руб.","Лист: Операционные затраты",null,null,{"$f":"'Операционные затраты'!H129-H122","v":0},{"$f":"'Операционные затраты'!I129-I122","v":0},{"$f":"'Операционные затраты'!J129-J122","v":0},{"$f":"'Операционные затраты'!K129-K122","v":0},{"$f":"'Операционные затраты'!L129-L122","v":0},{"$f":"'Операционные затраты'!M129-M122","v":0},{"$f":"'Операционные затраты'!N129-N122","v":0},{"$f":"'Операционные затраты'!O129-O122","v":0},{"$f":"'Операционные затраты'!P129-P122","v":0},{"$f":"'Операционные затраты'!Q129-Q122","v":0},{"$f":"'Операционные затраты'!R129-R122","v":0},{"$f":"'Операционные затраты'!S129-S122","v":0},{"$f":"'Операционные затраты'!T129-T122","v":0},{"$f":"'Операционные затраты'!U129-U122","v":0},{"$f":"'Операционные затраты'!V129-V122","v":0},{"$f":"'Операционные затраты'!W129-W122","v":0},{"$f":"'Операционные затраты'!X129-X122","v":0},{"$f":"'Операционные затраты'!Y129-Y122","v":0},{"$f":"'Операционные затраты'!Z129-Z122","v":0},{"$f":"'Операционные затраты'!AA129-AA122","v":0},{"$f":"'Операционные затраты'!AB129-AB122","v":0}]
[]
[null,"Расчеты по налогам и страховым взносам"]
[]
[null,null,"С учетом СПИК"]
[null,null,"Кредиторская задолженность на конец периода по:"]
[null,null,"НДС","тыс. руб.","Лист: Налоги",null,null,{"$f":"Налоги!H28","v":0},{"$f":"Налоги!I28","v":0},{"$f":"Налоги!J28","v":0},{"$f":"Налоги!K28","v":0},{"$f":"Налоги!L28","v":0},{"$f":"Налоги!M28","v":0},{"$f":"Налоги!N28","v":0},{"$f":"Налоги!O28","v":0},{"$f":"Налоги!P28","v":0},{"$f":"Налоги!Q28","v":0},{"$f":"Налоги!R28","v":0},{"$f":"Налоги!S28","v":0},{"$f":"Налоги!T28","v":0},{"$f":"Налоги!U28","v":0},{"$f":"Налоги!V28","v":0},{"$f":"Налоги!W28","v":0},{"$f":"Налоги!X28","v":0},{"$f":"Налоги!Y28","v":0},{"$f":"Налоги!Z28","v":0},{"$f":"Налоги!AA28","v":0},{"$f":"Налоги!AB28","v":0}]
[null,null,"НДФЛ","тыс. руб.","Лист: Налоги",null,null,{"$f":"Налоги!H124","v":0},{"$f":"Налоги!I124","v":0},{"$f":"Налоги!J124","v":0},{"$f":"Налоги!K124","v":0},{"$f":"Налоги!L124","v":0},{"$f":"Налоги!M124","v":0},{"$f":"Налоги!N124","v":0},{"$f":"Налоги!O124","v":0},{"$f":"Налоги!P124","v":0},{"$f":"Налоги!Q124","v":0},{"$f":"Налоги!R124","v":0},{"$f":"Налоги!S124","v":0},{"$f":"Налоги!T124","v":0},{"$f":"Налоги!U124","v":0},{"$f":"Налоги!V124","v":0},{"$f":"Налоги!W124","v":0},{"$f":"Налоги!X124","v":0},{"$f":"Налоги!Y124","v":0},{"$f":"Налоги!Z124","v":0},{"$f":"Налоги!AA124","v":0},{"$f":"Налоги!AB124","v":0}]
[null,null,"Налог на прибыль организаций","тыс. руб.","Лист: Налоги",null,null,{"$f":"Налоги!H154","v":0},{"$f":"Налоги!I154","v":0},{"$f":"Налоги!J154","v":0},{"$f":"Налоги!K154","v":0},{"$f":"Налоги!L154","v":0},{"$f":"Налоги!M154","v":0},{"$f":"Налоги!N154","v":0},{"$f":"Налоги!O154","v":0},{"$f":"Налоги!P154","v":0},{"$f":"Налоги!Q154","v":0},{"$f":"Налоги!R154","v":0},{"$f":"Налоги!S154","v":0},{"$f":"Налоги!T154","v":0},{"$f":"Налоги!U154","v":0},{"$f":"Налоги!V154","v":0},{"$f":"Налоги!W154","v":0},{"$f":"Налоги!X154","v":0},{"$f":"Налоги!Y154","v":0},{"$f":"Налоги!Z154","v":0},{"$f":"Налоги!AA154","v":0},{"$f":"Налоги!AB154","v":0}]
[null,null,"Налог на имущество организаций","тыс. руб.","Лист: Налоги",null,null,{"$f":"Налоги!H190","v":0},{"$f":"Налоги!I190","v":0},{"$f":"Налоги!J190","v":0},{"$f":"Налоги!K190","v":0},{"$f":"Налоги!L190","v":0},{"$f":"Налоги!M190","v":0},{"$f":"Налоги!N190","v":0},{"$f":"Налоги!O190","v":0},{"$f":"Налоги!P190","v":0},{"$f":"Налоги!Q190","v":0},{"$f":"Налоги!R190","v":0},{"$f":"Налоги!S190","v":0},{"$f":"Налоги!T190","v":0},{"$f":"Налоги!U190","v":0},{"$f":"Налоги!V190","v":0},{"$f":"Налоги!W190","v":0},{"$f":"Налоги!X190","v":0},{"$f":"Налоги!Y190","v":0},{"$f":"Налоги!Z190","v":0},{"$f":"Налоги!AA190","v":0},{"$f":"Налоги!AB190","v":0}]
[null,null,"Земельный налог","тыс. руб.","Лист: Налоги",null,null,{"$f":"Налоги!H204","v":0},{"$f":"Налоги!I204","v":0},{"$f":"Налоги!J204","v":0},{"$f":"Налоги!K204","v":0},{"$f":"Налоги!L204","v":0},{"$f":"Налоги!M204","v":0},{"$f":"Налоги!N204","v":0},{"$f":"Налоги!O204","v":0},{"$f":"Налоги!P204","v":0},{"$f":"Налоги!Q204","v":0},{"$f":"Налоги!R204","v":0},{"$f":"Налоги!S204","v":0},{"$f":"Налоги!T204","v":0},{"$f":"Налоги!U204","v":0},{"$f":"Налоги!V204","v":0},{"$f":"Налоги!W204","v":0},{"$f":"Налоги!X204","v":0},{"$f":"Налоги!Y204","v":0},{"$f":"Налоги!Z204","v":0},{"$f":"Налоги!AA204","v":0},{"$f":"Налоги!AB204","v":0}]
[null,null,"Транспортный налог","тыс. руб.","Лист: Налоги",null,null,{"$f":"Налоги!H218","v":0},{"$f":"Налоги!I218","v":0},{"$f":"Налоги!J218","v":0},{"$f":"Налоги!K218","v":0},{"$f":"Налоги!L218","v":0},{"$f":"Налоги!M218","v":0},{"$f":"Налоги!N218","v":0},{"$f":"Налоги!O218","v":0},{"$f":"Налоги!P218","v":0},{"$f":"Налоги!Q218","v":0},{"$f":"Налоги!R218","v":0},{"$f":"Налоги!S218","v":0},{"$f":"Налоги!T218","v":0},{"$f":"Налоги!U218","v":0},{"$f":"Налоги!V218","v":0},{"$f":"Налоги!W218","v":0},{"$f":"Налоги!X218","v":0},{"$f":"Налоги!Y218","v":0},{"$f":"Налоги!Z218","v":0},{"$f":"Налоги!AA218","v":0},{"$f":"Налоги!AB218","v":0}]
[null,null,"Страховые взносы во внебюджетные фонды","тыс. руб.","Лист: Операционные затраты",null,null,{"$f":"IF(Предпосылки!$F$291=1,'Операционные затраты'!H139,'Операционные затраты'!H165)","v":0},{"$f":"IF(Предпосылки!$F$291=1,'Операционные затраты'!I139,'Операционные затраты'!I165)","v":0},{"$f":"IF(Предпосылки!$F$291=1,'Операционные затраты'!J139,'Операционные затраты'!J165)","v":0},{"$f":"IF(Предпосылки!$F$291=1,'Операционные затраты'!K139,'Операционные затраты'!K165)","v":0},{"$f":"IF(Предпосылки!$F$291=1,'Операционные затраты'!L139,'Операционные затраты'!L165)","v":0},{"$f":"IF(Предпосылки!$F$291=1,'Операционные затраты'!M139,'Операционные затраты'!M165)","v":0},{"$f":"IF(Предпосылки!$F$291=1,'Операционные затраты'!N139,'Операционные затраты'!N165)","v":0},{"$f":"IF(Предпосылки!$F$291=1,'Операционные затраты'!O139,'Операционные затраты'!O165)","v":0},{"$f":"IF(Предпосылки!$F$291=1,'Операционные затраты'!P139,'Операционные затраты'!P165)","v":0},{"$f":"IF(Предпосылки!$F$291=1,'Операционные затраты'!Q139,'Операционные затраты'!Q165)","v":0},{"$f":"IF(Предпосылки!$F$291=1,'Операционные затраты'!R139,'Операционные затраты'!R165)","v":0},{"$f":"IF(Предпосылки!$F$291=1,'Операционные затраты'!S139,'Операционные затраты'!S165)","v":0},{"$f":"IF(Предпосылки!$F$291=1,'Операционные затраты'!T139,'Операционные затраты'!T165)","v":0},{"$f":"IF(Предпосылки!$F$291=1,'Операционные затраты'!U139,'Операционные затраты'!U165)","v":0},{"$f":"IF(Предпосылки!$F$291=1,'Операционные затраты'!V139,'Операционные затраты'!V165)","v":0},{"$f":"IF(Предпосылки!$F$291=1,'Операционные затраты'!W139,'Операционные затраты'!W165)","v":0},{"$f":"IF(Предпосылки!$F$291=1,'Операционные затраты'!X139,'Операционные затраты'!X165)","v":0},{"$f":"IF(Предпосылки!$F$291=1,'Операционные затраты'!Y139,'Операционные затраты'!Y165)","v":0},{"$f":"IF(Предпосылки!$F$291=1,'Операционные затраты'!Z139,'Операционные затраты'!Z165)","v":0},{"$f":"IF(Предпосылки!$F$291=1,'Операционные затраты'!AA139,'Операционные затраты'!AA165)","v":0},{"$f":"IF(Предпосылки!$F$291=1,'Операционные затраты'!AB139,'Операционные затраты'!AB165)","v":0}]
[null,null,"Итого:","тыс. руб.",null,null,null,{"$f":"SUM(H121:H127)","v":0},{"$f":"SUM(I121:I127)","v":0},0,0,0,0,0,0,0,0,0,0,0,0,0,0,0,0,0,0,{"$f":"SUM(AB121:AB127)","v":0}]
[]
[null,null,"Без учета СПИК"]
[null,null,"Кредиторская задолженность на конец периода по:"]
[null,null,"НДС","тыс. руб.","Лист: Налоги",null,null,{"$f":"Налоги!H28","v":0},{"$f":"Налоги!I28","v":0},{"$f":"Налоги!J28","v":0},{"$f":"Налоги!K28","v":0},{"$f":"Налоги!L28","v":0},{"$f":"Налоги!M28","v":0},{"$f":"Налоги!N28","v":0},{"$f":"Налоги!O28","v":0},{"$f":"Налоги!P28","v":0},{"$f":"Налоги!Q28","v":0},{"$f":"Налоги!R28","v":0},{"$f":"Налоги!S28","v":0},{"$f":"Налоги!T28","v":0},{"$f":"Налоги!U28","v":0},{"$f":"Налоги!V28","v":0},{"$f":"Налоги!W28","v":0},{"$f":"Налоги!X28","v":0},{"$f":"Налоги!Y28","v":0},{"$f":"Налоги!Z28","v":0},{"$f":"Налоги!AA28","v":0},{"$f":"Налоги!AB28","v":0}]
[null,null,"НДФЛ","тыс. руб.","Лист: Налоги",null,null,{"$f":"Налоги!H124","v":0},{"$f":"Налоги!I124","v":0},{"$f":"Налоги!J124","v":0},{"$f":"Налоги!K124","v":0},{"$f":"Налоги!L124","v":0},{"$f":"Налоги!M124","v":0},{"$f":"Налоги!N124","v":0},{"$f":"Налоги!O124","v":0},{"$f":"Налоги!P124","v":0},{"$f":"Налоги!Q124","v":0},{"$f":"Налоги!R124","v":0},{"$f":"Налоги!S124","v":0},{"$f":"Налоги!T124","v":0},{"$f":"Налоги!U124","v":0},{"$f":"Налоги!V124","v":0},{"$f":"Налоги!W124","v":0},{"$f":"Налоги!X124","v":0},{"$f":"Налоги!Y124","v":0},{"$f":"Налоги!Z124","v":0},{"$f":"Налоги!AA124","v":0},{"$f":"Налоги!AB124","v":0}]
[null,null,"Налог на прибыль организаций","тыс. руб.","Лист: Налоги",null,null,{"$f":"Налоги!H182","v":0},{"$f":"Налоги!I182","v":0},{"$f":"Налоги!J182","v":0},{"$f":"Налоги!K182","v":0},{"$f":"Налоги!L182","v":0},{"$f":"Налоги!M182","v":0},{"$f":"Налоги!N182","v":0},{"$f":"Налоги!O182","v":0},{"$f":"Налоги!P182","v":0},{"$f":"Налоги!Q182","v":0},{"$f":"Налоги!R182","v":0},{"$f":"Налоги!S182","v":0},{"$f":"Налоги!T182","v":0},{"$f":"Налоги!U182","v":0},{"$f":"Налоги!V182","v":0},{"$f":"Налоги!W182","v":0},{"$f":"Налоги!X182","v":0},{"$f":"Налоги!Y182","v":0},{"$f":"Налоги!Z182","v":0},{"$f":"Налоги!AA182","v":0},{"$f":"Налоги!AB182","v":0}]
[null,null,"Налог на имущество организаций","тыс. руб.","Лист: Налоги",null,null,{"$f":"Налоги!H196","v":0},{"$f":"Налоги!I196","v":0},{"$f":"Налоги!J196","v":0},{"$f":"Налоги!K196","v":0},{"$f":"Налоги!L196","v":0},{"$f":"Налоги!M196","v":0},{"$f":"Налоги!N196","v":0},{"$f":"Налоги!O196","v":0},{"$f":"Налоги!P196","v":0},{"$f":"Налоги!Q196","v":0},{"$f":"Налоги!R196","v":0},{"$f":"Налоги!S196","v":0},{"$f":"Налоги!T196","v":0},{"$f":"Налоги!U196","v":0},{"$f":"Налоги!V196","v":0},{"$f":"Налоги!W196","v":0},{"$f":"Налоги!X196","v":0},{"$f":"Налоги!Y196","v":0},{"$f":"Налоги!Z196","v":0},{"$f":"Налоги!AA196","v":0},{"$f":"Налоги!AB196","v":0}]
[null,null,"Земельный налог","тыс. руб.","Лист: Налоги",null,null,{"$f":"Налоги!H210","v":0},{"$f":"Налоги!I210","v":0},{"$f":"Налоги!J210","v":0},{"$f":"Налоги!K210","v":0},{"$f":"Налоги!L210","v":0},{"$f":"Налоги!M210","v":0},{"$f":"Налоги!N210","v":0},{"$f":"Налоги!O210","v":0},{"$f":"Налоги!P210","v":0},{"$f":"Налоги!Q210","v":0},{"$f":"Налоги!R210","v":0},{"$f":"Налоги!S210","v":0},{"$f":"Налоги!T210","v":0},{"$f":"Налоги!U210","v":0},{"$f":"Налоги!V210","v":0},{"$f":"Налоги!W210","v":0},{"$f":"Налоги!X210","v":0},{"$f":"Налоги!Y210","v":0},{"$f":"Налоги!Z210","v":0},{"$f":"Налоги!AA210","v":0},{"$f":"Налоги!AB210","v":0}]
[null,null,"Транспортный налог","тыс. руб.","Лист: Налоги",null,null,{"$f":"Налоги!H224","v":0},{"$f":"Налоги!I224","v":0},{"$f":"Налоги!J224","v":0},{"$f":"Налоги!K224","v":0},{"$f":"Налоги!L224","v":0},{"$f":"Налоги!M224","v":0},{"$f":"Налоги!N224","v":0},{"$f":"Налоги!O224","v":0},{"$f":"Налоги!P224","v":0},{"$f":"Налоги!Q224","v":0},{"$f":"Налоги!R224","v":0},{"$f":"Налоги!S224","v":0},{"$f":"Налоги!T224","v":0},{"$f":"Налоги!U224","v":0},{"$f":"Налоги!V224","v":0},{"$f":"Налоги!W224","v":0},{"$f":"Налоги!X224","v":0},{"$f":"Налоги!Y224","v":0},{"$f":"Налоги!Z224","v":0},{"$f":"Налоги!AA224","v":0},{"$f":"Налоги!AB224","v":0}]
[null,null,"Страховые взносы во внебюджетные фонды","тыс. руб.","Лист: Операционные затраты",null,null,{"$f":"'Операционные затраты'!H165","v":0},{"$f":"'Операционные затраты'!I165","v":0},{"$f":"'Операционные затраты'!J165","v":0},{"$f":"'Операционные затраты'!K165","v":0},{"$f":"'Операционные затраты'!L165","v":0},{"$f":"'Операционные затраты'!M165","v":0},{"$f":"'Операционные затраты'!N165","v":0},{"$f":"'Операционные затраты'!O165","v":0},{"$f":"'Операционные затраты'!P165","v":0},{"$f":"'Операционные затраты'!Q165","v":0},{"$f":"'Операционные затраты'!R165","v":0},{"$f":"'Операционные затраты'!S165","v":0},{"$f":"'Операционные затраты'!T165","v":0},{"$f":"'Операционные затраты'!U165","v":0},{"$f":"'Операционные затраты'!V165","v":0},{"$f":"'Операционные затраты'!W165","v":0},{"$f":"'Операционные затраты'!X165","v":0},{"$f":"'Операционные затраты'!Y165","v":0},{"$f":"'Операционные затраты'!Z165","v":0},{"$f":"'Операционные затраты'!AA165","v":0},{"$f":"'Операционные затраты'!AB165","v":0}]
[null,null,"Итого:","тыс. руб.",null,null,null,{"$f":"SUM(H132:H138)","v":0},{"$f":"SUM(I132:I138)","v":0},0,0,0,0,0,0,0,0,0,0,0,0,0,0,0,0,0,0,{"$f":"SUM(AB132:AB138)","v":0}]
[]
[null,"Расчеты с разными дебиторами и кредиторами"]
[null,null,"Кредиторская задолженность на конец периода по оплате процентов по кредитам и займам (Со СПИК)","тыс. руб.","Лист: Финансирование",null,null,{"$f":"Финансирование!H115","v":0},{"$f":"Финансирование!I115","v":0},{"$f":"Финансирование!J115","v":0},{"$f":"Финансирование!K115","v":0},{"$f":"Финансирование!L115","v":0},{"$f":"Финансирование!M115","v":0},{"$f":"Финансирование!N115","v":0},{"$f":"Финансирование!O115","v":0},{"$f":"Финансирование!P115","v":0},{"$f":"Финансирование!Q115","v":0},{"$f":"Финансирование!R115","v":0},{"$f":"Финансирование!S115","v":0},{"$f":"Финансирование!T115","v":0},{"$f":"Финансирование!U115","v":0},{"$f":"Финансирование!V115","v":0},{"$f":"Финансирование!W115","v":0},{"$f":"Финансирование!X115","v":0},{"$f":"Финансирование!Y115","v":0},{"$f":"Финансирование!Z115","v":0},{"$f":"Финансирование!AA115","v":0},{"$f":"Финансирование!AB115","v":0}]
[null,null,"Кредиторская задолженность на конец периода по оплате процентов по кредитам и займам (Без СПИК)","тыс. руб.","Лист: Финансирование",null,null,{"$f":"Финансирование!H122","v":0},{"$f":"Финансирование!I122","v":0},{"$f":"Финансирование!J122","v":0},{"$f":"Финансирование!K122","v":0},{"$f":"Финансирование!L122","v":0},{"$f":"Финансирование!M122","v":0},{"$f":"Финансирование!N122","v":0},{"$f":"Финансирование!O122","v":0},{"$f":"Финансирование!P122","v":0},{"$f":"Финансирование!Q122","v":0},{"$f":"Финансирование!R122","v":0},{"$f":"Финансирование!S122","v":0},{"$f":"Финансирование!T122","v":0},{"$f":"Финансирование!U122","v":0},{"$f":"Финансирование!V122","v":0},{"$f":"Финансирование!W122","v":0},{"$f":"Финансирование!X122","v":0},{"$f":"Финансирование!Y122","v":0},{"$f":"Финансирование!Z122","v":0},{"$f":"Финансирование!AA122","v":0},{"$f":"Финансирование!AB122","v":0}]
[]
[null,"Итого Кредиторская задолженность на конец периода (Со СПИК)",null,null,null,null,null,{"$f":"SUM(H112,H115,H128,H142)","v":0},0,0,0,0,0,0,0,0,0,0,0,0,0,0,0,0,0,0,0,0]
[null,"Итого Кредиторская задолженность на конец периода (Без СПИК)",null,null,null,null,null,{"$f":"SUM(H112,H115,H139,H143)","v":0},{"$f":"SUM(I112,I115,I139,I143)","v":0},0,0,0,0,0,0,0,0,0,0,0,0,0,0,0,0,0,0,{"$f":"SUM(AB112,AB115,AB139,AB143)","v":0}]

{"sheet":"Налоги","index":15,"n_rows":301,"n_cols":28,"rows_kept":301,"cut":false,"hidden":false,"merged":[[1,2,2,2],[1,3,2,3],[1,4,2,4],[1,5,2,5]]}
[null,null,null,null,{"$f":"\"Лист:  \" & RIGHT(CELL(\"filename\",A1),LEN(CELL(\"filename\",A1))-SEARCH(\"]\",CELL(\"filename\",A1)))","v":"Лист:  Налоги"}]
[null,null,"Параметр","Ед. изм.","Источник","Текущее значение",null,{"$f":"Предпосылки!H2","v":2026},{"$f":"Предпосылки!I2","v":2027},{"$f":"Предпосылки!J2","v":2028},{"$f":"Предпосылки!K2","v":2029},{"$f":"Предпосылки!L2","v":2030},{"$f":"Предпосылки!M2","v":2031},{"$f":"Предпосылки!N2","v":2032},{"$f":"Предпосылки!O2","v":2033},{"$f":"Предпосылки!P2","v":2034},{"$f":"Предпосылки!Q2","v":2035},{"$f":"Предпосылки!R2","v":2036},{"$f":"Предпосылки!S2","v":2037},{"$f":"Предпосылки!T2","v":2038},{"$f":"Предпосылки!U2","v":2039},{"$f":"Предпосылки!V2","v":2040},{"$f":"Предпосылки!W2","v":2041},{"$f":"Предпосылки!X2","v":2042},{"$f":"Предпосылки!Y2","v":2043},{"$f":"Предпосылки!Z2","v":2044},{"$f":"Предпосылки!AA2","v":2045},{"$f":"Предпосылки!AB2","v":2046}]
[null,null,null,null,null,null,null,1,2,3,4,5,6,7,8,9,10,11,12,13,14,15,16,17,18,19,20,21]
[]
[null,"НДС"]
[]
[null,"Входящий НДС"]
[null,null,"НДС по капитальным затратам","тыс. руб.","Лист: Капитальные вложения",null,null,{"$f":"'Капитальные вложения'!H31","v":0},{"$f":"'Капитальные вложения'!I31","v":0},{"$f":"'Капитальные вложения'!J31","v":0},{"$f":"'Капитальные вложения'!K31","v":0},{"$f":"'Капитальные вложения'!L31","v":0},{"$f":"'Капитальные вложения'!M31","v":0},{"$f":"'Капитальные вложения'!N31","v":0},{"$f":"'Капитальные вложения'!O31","v":0},{"$f":"'Капитальные вложения'!P31","v":0},{"$f":"'Капитальные вложения'!Q31","v":0},{"$f":"'Капитальные вложения'!R31","v":0},{"$f":"'Капитальные вложения'!S31","v":0},{"$f":"'Капитальные вложения'!T31","v":0},{"$f":"'Капитальные вложения'!U31","v":0},{"$f":"'Капитальные вложения'!V31","v":0},{"$f":"'Капитальные вложения'!W31","v":0},{"$f":"'Капитальные вложения'!X31","v":0},{"$f":"'Капитальные вложения'!Y31","v":0},{"$f":"'Капитальные вложения'!Z31","v":0},{"$f":"'Капитальные вложения'!AA31","v":0},{"$f":"'Капитальные вложения'!AB31","v":0}]
[null,null,"НДС по запасам","тыс. руб.",null,null,null,{"$f":"'Оборотный капитал'!H44*Предпосылки!H$294","v":0},{"$f":"'Оборотный капитал'!I44*Предпосылки!I$294","v":0},{"$f":"'Оборотный капитал'!J44*Предпосылки!J$294","v":0},{"$f":"'Оборотный капитал'!K44*Предпосылки!K$294","v":0},{"$f":"'Оборотный капитал'!L44*Предпосылки!L$294","v":0},{"$f":"'Оборотный капитал'!M44*Предпосылки!M$294","v":0},{"$f":"'Оборотный капитал'!N44*Предпосылки!N$294","v":0},{"$f":"'Оборотный капитал'!O44*Предпосылки!O$294","v":0},{"$f":"'Оборотный капитал'!P44*Предпосылки!P$294","v":0},{"$f":"'Оборотный капитал'!Q44*Предпосылки!Q$294","v":0},{"$f":"'Оборотный капитал'!R44*Предпосылки!R$294","v":0},{"$f":"'Оборотный капитал'!S44*Предпосылки!S$294","v":0},{"$f":"'Оборотный капитал'!T44*Предпосылки!T$294","v":0},{"$f":"'Оборотный капитал'!U44*Предпосылки!U$294","v":0},{"$f":"'Оборотный капитал'!V44*Предпосылки!V$294","v":0},{"$f":"'Оборотный капитал'!W44*Предпосылки!W$294","v":0},{"$f":"'Оборотный капитал'!X44*Предпосылки!X$294","v":0},{"$f":"'Оборотный капитал'!Y44*Предпосылки!Y$294","v":0},{"$f":"'Оборотный капитал'!Z44*Предпосылки!Z$294","v":0},{"$f":"'Оборотный капитал'!AA44*Предпосылки!AA$294","v":0},{"$f":"'Оборотный капитал'!AB44*Предпосылки!AB$294","v":0}]
[null,null,"НДС по общехозяйственным затратам","тыс. руб.",null,null,null,{"$f":"Предпосылки!H107*Предпосылки!H$294","v":0},{"$f":"Предпосылки!I107*Предпосылки!I$294","v":0},{"$f":"Предпосылки!J107*Предпосылки!J$294","v":0},{"$f":"Предпосылки!K107*Предпосылки!K$294","v":0},{"$f":"Предпосылки!L107*Предпосылки!L$294","v":0},{"$f":"Предпосылки!M107*Предпосылки!M$294","v":0},{"$f":"Предпосылки!N107*Предпосылки!N$294","v":0},{"$f":"Предпосылки!O107*Предпосылки!O$294","v":0},{"$f":"Предпосылки!P107*Предпосылки!P$294","v":0},{"$f":"Предпосылки!Q107*Предпосылки!Q$294","v":0},{"$f":"Предпосылки!R107*Предпосылки!R$294","v":0},{"$f":"Предпосылки!S107*Предпосылки!S$294","v":0},{"$f":"Предпосылки!T107*Предпосылки!T$294","v":0},{"$f":"Предпосылки!U107*Предпосылки!U$294","v":0},{"$f":"Предпосылки!V107*Предпосылки!V$294","v":0},{"$f":"Предпосылки!W107*Предпосылки!W$294","v":0},{"$f":"Предпосылки!X107*Предпосылки!X$294","v":0},{"$f":"Предпосылки!Y107*Предпосылки!Y$294","v":0},{"$f":"Предпосылки!Z107*Предпосылки!Z$294","v":0},{"$f":"Предпосылки!AA107*Предпосылки!AA$294","v":0},{"$f":"Предпосылки!AB107*Предпосылки!AB$294","v":0}]
[null,null,"НДС по прочим расходам","тыс. руб.",null,null,null,{"$f":"IF(Предпосылки!$F$118=1,Предпосылки!H111*Предпосылки!H$294,0)\n+IF(Предпосылки!$F$119=1,Предпосылки!H112*Предпосылки!H$294,0)\n+IF(Предпосылки!$F$120=1,Предпосылки!H113*Предпосылки!H$294,0)","v":0},{"$f":"IF(Предпосылки!$F$118=1,Предпосылки!I111*Предпосылки!I$294,0)\n+IF(Предпосылки!$F$119=1,Предпосылки!I112*Предпосылки!I$294,0)\n+IF(Предпосылки!$F$120=1,Предпосылки!I113*Предпосылки!I$294,0)","v":0},{"$f":"IF(Предпосылки!$F$118=1,Предпосылки!J111*Предпосылки!J$294,0)\n+IF(Предпосылки!$F$119=1,Предпосылки!J112*Предпосылки!J$294,0)\n+IF(Предпосылки!$F$120=1,Предпосылки!J113*Предпосылки!J$294,0)","v":0},{"$f":"IF(Предпосылки!$F$118=1,Предпосылки!K111*Предпосылки!K$294,0)\n+IF(Предпосылки!$F$119=1,Предпосылки!K112*Предпосылки!K$294,0)\n+IF(Предпосылки!$F$120=1,Предпосылки!K113*Предпосылки!K$294,0)","v":0},{"$f":"IF(Предпосылки!$F$118=1,Предпосылки!L111*Предпосылки!L$294,0)\n+IF(Предпосылки!$F$119=1,Предпосылки!L112*Предпосылки!L$294,0)\n+IF(Предпосылки!$F$120=1,Предпосылки!L113*Предпосылки!L$294,0)","v":0},{"$f":"IF(Предпосылки!$F$118=1,Предпосылки!M111*Предпосылки!M$294,0)\n+IF(Предпосылки!$F$119=1,Предпосылки!M112*Предпосылки!M$294,0)\n+IF(Предпосылки!$F$120=1,Предпосылки!M113*Предпосылки!M$294,0)","v":0},{"$f":"IF(Предпосылки!$F$118=1,Предпосылки!N111*Предпосылки!N$294,0)\n+IF(Предпосылки!$F$119=1,Предпосылки!N112*Предпосылки!N$294,0)\n+IF(Предпосылки!$F$120=1,Предпосылки!N113*Предпосылки!N$294,0)","v":0},{"$f":"IF(Предпосылки!$F$118=1,Предпосылки!O111*Предпосылки!O$294,0)\n+IF(Предпосылки!$F$119=1,Предпосылки!O112*Предпосылки!O$294,0)\n+IF(Предпосылки!$F$120=1,Предпосылки!O113*Предпосылки!O$294,0)","v":0},{"$f":"IF(Предпосылки!$F$118=1,Предпосылки!P111*Предпосылки!P$294,0)\n+IF(Предпосылки!$F$119=1,Предпосылки!P112*Предпосылки!P$294,0)\n+IF(Предпосылки!$F$120=1,Предпосылки!P113*Предпосылки!P$294,0)","v":0},{"$f":"IF(Предпосылки!$F$118=1,Предпосылки!Q111*Предпосылки!Q$294,0)\n+IF(Предпосылки!$F$119=1,Предпосылки!Q112*Предпосылки!Q$294,0)\n+IF(Предпосылки!$F$120=1,Предпосылки!Q113*Предпосылки!Q$294,0)","v":0},{"$f":"IF(Предпосылки!$F$118=1,Предпосылки!R111*Предпосылки!R$294,0)\n+IF(Предпосылки!$F$119=1,Предпосылки!R112*Предпосылки!R$294,0)\n+IF(Предпосылки!$F$120=1,Предпосылки!R113*Предпосылки!R$294,0)","v":0},{"$f":"IF(Предпосылки!$F$118=1,Предпосылки!S111*Предпосылки!S$294,0)\n+IF(Предпосылки!$F$119=1,Предпосылки!S112*Предпосылки!S$294,0)\n+IF(Предпосылки!$F$120=1,Предпосылки!S113*Предпосылки!S$294,0)","v":0},{"$f":"IF(Предпосылки!$F$118=1,Предпосылки!T111*Предпосылки!T$294,0)\n+IF(Предпосылки!$F$119=1,Предпосылки!T112*Предпосылки!T$294,0)\n+IF(Предпосылки!$F$120=1,Предпосылки!T113*Предпосылки!T$294,0)","v":0},{"$f":"IF(Предпосылки!$F$118=1,Предпосылки!U111*Предпосылки!U$294,0)\n+IF(Предпосылки!$F$119=1,Предпосылки!U112*Предпосылки!U$294,0)\n+IF(Предпосылки!$F$120=1,Предпосылки!U113*Предпосылки!U$294,0)","v":0},{"$f":"IF(Предпосылки!$F$118=1,Предпосылки!V111*Предпосылки!V$294,0)\n+IF(Предпосылки!$F$119=1,Предпосылки!V112*Предпосылки!V$294,0)\n+IF(Предпосылки!$F$120=1,Предпосылки!V113*Предпосылки!V$294,0)","v":0},{"$f":"IF(Предпосылки!$F$118=1,Предпосылки!W111*Предпосылки!W$294,0)\n+IF(Предпосылки!$F$119=1,Предпосылки!W112*Предпосылки!W$294,0)\n+IF(Предпосылки!$F$120=1,Предпосылки!W113*Предпосылки!W$294,0)","v":0},{"$f":"IF(Предпосылки!$F$118=1,Предпосылки!X111*Предпосылки!X$294,0)\n+IF(Предпосылки!$F$119=1,Предпосылки!X112*Предпосылки!X$294,0)\n+IF(Предпосылки!$F$120=1,Предпосылки!X113*Предпосылки!X$294,0)","v":0},{"$f":"IF(Предпосылки!$F$118=1,Предпосылки!Y111*Предпосылки!Y$294,0)\n+IF(Предпосылки!$F$119=1,Предпосылки!Y112*Предпосылки!Y$294,0)\n+IF(Предпосылки!$F$120=1,Предпосылки!Y113*Предпосылки!Y$294,0)","v":0},{"$f":"IF(Предпосылки!$F$118=1,Предпосылки!Z111*Предпосылки!Z$294,0)\n+IF(Предпосылки!$F$119=1,Предпосылки!Z112*Предпосылки!Z$294,0)\n+IF(Предпосылки!$F$120=1,Предпосылки!Z113*Предпосылки!Z$294,0)","v":0},{"$f":"IF(Предпосылки!$F$118=1,Предпосылки!AA111*Предпосылки!AA$294,0)\n+IF(Предпосылки!$F$119=1,Предпосылки!AA112*Предпосылки!AA$294,0)\n+IF(Предпосылки!$F$120=1,Предпосылки!AA113*Предпосылки!AA$294,0)","v":0},{"$f":"IF(Предпосылки!$F$118=1,Предпосылки!AB111*Предпосылки!AB$294,0)\n+IF(Предпосылки!$F$119=1,Предпосылки!AB112*Предпосылки!AB$294,0)\n+IF(Предпосылки!$F$120=1,Предпосылки!AB113*Предпосылки!AB$294,0)","v":0}]
[null,null,"Итого:","тыс. руб.",null,null,null,{"$f":"SUM(H8:H11)","v":0},{"$f":"SUM(I8:I11)","v":0},0,0,0,0,0,0,0,0,0,0,0,0,0,0,0,0,0,0,{"$f":"SUM(AB8:AB11)","v":0}]
[]
[null,"Исходящий НДС"]
[null,null,"НДС по выручке","тыс. руб.","Лист: Выручка и себестоимость",null,null,{"$f":"'Выручка и себестоимость'!H29","v":0},{"$f":"'Выручка и себестоимость'!I29","v":0},{"$f":"'Выручка и себестоимость'!J29","v":0},{"$f":"'Выручка и себестоимость'!K29","v":0},{"$f":"'Выручка и себестоимость'!L29","v":0},{"$f":"'Выручка и себестоимость'!M29","v":0},{"$f":"'Выручка и себестоимость'!N29","v":0},{"$f":"'Выручка и себестоимость'!O29","v":0},{"$f":"'Выручка и себестоимость'!P29","v":0},{"$f":"'Выручка и себестоимость'!Q29","v":0},{"$f":"'Выручка и себестоимость'!R29","v":0},{"$f":"'Выручка и себестоимость'!S29","v":0},{"$f":"'Выручка и себестоимость'!T29","v":0},{"$f":"'Выручка и себестоимость'!U29","v":0},{"$f":"'Выручка и себестоимость'!V29","v":0},{"$f":"'Выручка и себестоимость'!W29","v":0},{"$f":"'Выручка и себестоимость'!X29","v":0},{"$f":"'Выручка и себестоимость'!Y29","v":0},{"$f":"'Выручка и себестоимость'!Z29","v":0},{"$f":"'Выручка и себестоимость'!AA29","v":0},{"$f":"'Выручка и себестоимость'!AB29","v":0}]
[null,null,"Итого:","тыс. руб.",null,null,null,{"$f":"H15","v":0},{"$f":"I15","v":0},{"$f":"J15","v":0},0,0,0,0,0,0,0,0,0,0,0,0,0,0,0,0,0,{"$f":"AB15","v":0}]
[]
[null," Расчеты по НДС"]
[]
[null,null,"НДС по приобретенным ценностям на начало периода","тыс. руб.",null,null,null,{"$f":"G23","v":0},{"$f":"H23","v":0},0,0,0,0,0,0,0,0,0,0,0,0,0,{"$f":"V23","v":0},0,0,0,0,0]
[null,null,"НДС к возмещению","тыс. руб.",null,null,null,{"$f":"-MIN(H16-H12,0)","v":0},{"$f":"-MIN(I16-I12,0)","v":0},0,0,0,0,0,0,0,0,0,0,0,0,0,0,0,0,0,0,{"$f":"-MIN(AB16-AB12,0)","v":0}]
[null,null,"Возмещение НДС ","тыс. руб.",null,"по",null,{"$f":"(G21*(One-Предпосылки!$F$375)+H21*Предпосылки!$F$375)","v":0},{"$f":"(H21*(One-Предпосылки!$F$375)+I21*Предпосылки!$F$375)","v":0},{"$f":"(I21*(One-Предпосылки!$F$375)+J21*Предпосылки!$F$375)","v":0},{"$f":"(J21*(One-Предпосылки!$F$375)+K21*Предпосылки!$F$375)","v":0},{"$f":"(K21*(One-Предпосылки!$F$375)+L21*Предпосылки!$F$375)","v":0},{"$f":"(L21*(One-Предпосылки!$F$375)+M21*Предпосылки!$F$375)","v":0},{"$f":"(M21*(One-Предпосылки!$F$375)+N21*Предпосылки!$F$375)","v":0},{"$f":"(N21*(One-Предпосылки!$F$375)+O21*Предпосылки!$F$375)","v":0},{"$f":"(O21*(One-Предпосылки!$F$375)+P21*Предпосылки!$F$375)","v":0},{"$f":"(P21*(One-Предпосылки!$F$375)+Q21*Предпосылки!$F$375)","v":0},{"$f":"(Q21*(One-Предпосылки!$F$375)+R21*Предпосылки!$F$375)","v":0},{"$f":"(R21*(One-Предпосылки!$F$375)+S21*Предпосылки!$F$375)","v":0},{"$f":"(S21*(One-Предпосылки!$F$375)+T21*Предпосылки!$F$375)","v":0},{"$f":"(T21*(One-Предпосылки!$F$375)+U21*Предпосылки!$F$375)","v":0},{"$f":"(U21*(One-Предпосылки!$F$375)+V21*Предпосылки!$F$375)","v":0},{"$f":"(V21*(One-Предпосылки!$F$375)+W21*Предпосылки!$F$375)","v":0},{"$f":"(W21*(One-Предпосылки!$F$375)+X21*Предпосылки!$F$375)","v":0},{"$f":"(X21*(One-Предпосылки!$F$375)+Y21*Предпосылки!$F$375)","v":0},{"$f":"(Y21*(One-Предпосылки!$F$375)+Z21*Предпосылки!$F$375)","v":0},{"$f":"(Z21*(One-Предпосылки!$F$375)+AA21*Предпосылки!$F$375)","v":0},{"$f":"(AA21*(One-Предпосылки!$F$375)+AB21*Предпосылки!$F$375)","v":0}]
[null,null,"НДС по приобретенным ценностям на конец периода","тыс. руб.",null,null,null,{"$f":"H20+H21-H22","v":0},{"$f":"I20+I21-I22","v":0},0,0,0,0,0,0,0,0,0,0,0,0,0,0,0,0,0,0,{"$f":"AB20+AB21-AB22","v":0}]
[]
[null,null,"Задолженность по НДС перед бюджетом на начало периода","тыс. руб.",null,null,null,{"$f":"G28","v":0},{"$f":"H28","v":0},0,0,0,0,0,0,0,0,0,0,0,{"$f":"T28","v":0},0,{"$f":"V28","v":0},0,0,0,0,0]
[null,null,"НДС к уплате","тыс. руб.",null,null,null,{"$f":"MAX(H16-H12,0)","v":0},{"$f":"MAX(I16-I12,0)","v":0},0,0,0,0,0,0,0,0,0,0,0,0,0,0,0,0,0,0,{"$f":"MAX(AB16-AB12,0)","v":0}]
[null,null,"Уплата НДС (-)","тыс. руб.",null,null,null,{"$f":"-H26*Предпосылки!$F$376-H25","v":0},{"$f":"-I26*Предпосылки!$F$376-I25","v":0},{"$f":"-J26*Предпосылки!$F$376-J25","v":0},{"$f":"-K26*Предпосылки!$F$376-K25","v":0},{"$f":"-L26*Предпосылки!$F$376-L25","v":0},{"$f":"-M26*Предпосылки!$F$376-M25","v":0},{"$f":"-N26*Предпосылки!$F$376-N25","v":0},{"$f":"-O26*Предпосылки!$F$376-O25","v":0},{"$f":"-P26*Предпосылки!$F$376-P25","v":0},{"$f":"-Q26*Предпосылки!$F$376-Q25","v":0},{"$f":"-R26*Предпосылки!$F$376-R25","v":0},{"$f":"-S26*Предпосылки!$F$376-S25","v":0},{"$f":"-T26*Предпосылки!$F$376-T25","v":0},{"$f":"-U26*Предпосылки!$F$376-U25","v":0},{"$f":"-V26*Предпосылки!$F$376-V25","v":0},{"$f":"-W26*Предпосылки!$F$376-W25","v":0},{"$f":"-X26*Предпосылки!$F$376-X25","v":0},{"$f":"-Y26*Предпосылки!$F$376-Y25","v":0},{"$f":"-Z26*Предпосылки!$F$376-Z25","v":0},{"$f":"-AA26*Предпосылки!$F$376-AA25","v":0},{"$f":"-AB26*Предпосылки!$F$376-AB25","v":0}]
[null,null,"Задолженность перед бюджетом на конец периода","тыс. руб.",null,null,null,{"$f":"SUM(H25:H27)","v":0},{"$f":"SUM(I25:I27)","v":0},0,0,0,0,0,0,0,0,0,0,0,0,0,0,0,0,0,0,{"$f":"SUM(AB25:AB27)","v":0}]
[]
[null,"НДФЛ"]
[]
[null,"Начисление НДФЛ"]
[null,{"$f":"Предпосылки!C305","v":0.13},"(доход не превышает 2,4 млн руб.)"]
[null,{"$f":"Предпосылки!B152","v":"Сотрудники с ФОТ менее 2979 тыс. рублей/год"}]
[null,null,{"$f":"Предпосылки!C153","v":"Производственный персонал"},"тыс. руб.",null,null,null,{"$f":"SUBTOTAL(9,H36:H37)","v":0},{"$f":"SUBTOTAL(9,I36:I37)","v":0},0,0,0,0,0,0,0,0,0,0,0,0,0,0,0,0,0,0,{"$f":"SUBTOTAL(9,AB36:AB37)","v":0}]
[null,null,{"$f":"Предпосылки!C154","v":"Категория 1"},"тыс. руб.",null,null,null,{"$f":"IF('Операционные затраты'!H30>Предпосылки!$E$305*Предпосылки!H128,\nПредпосылки!$E$305*Предпосылки!H128*$B$33,'Операционные затраты'!H30*$B$33)","v":0},{"$f":"IF('Операционные затраты'!I30>Предпосылки!$E$305*Предпосылки!I128,\nПредпосылки!$E$305*Предпосылки!I128*$B$33,'Операционные затраты'!I30*$B$33)","v":0},{"$f":"IF('Операционные затраты'!J30>Предпосылки!$E$305*Предпосылки!J128,\nПредпосылки!$E$305*Предпосылки!J128*$B$33,'Операционные затраты'!J30*$B$33)","v":0},{"$f":"IF('Операционные затраты'!K30>Предпосылки!$E$305*Предпосылки!K128,\nПредпосылки!$E$305*Предпосылки!K128*$B$33,'Операционные затраты'!K30*$B$33)","v":0},{"$f":"IF('Операционные затраты'!L30>Предпосылки!$E$305*Предпосылки!L128,\nПредпосылки!$E$305*Предпосылки!L128*$B$33,'Операционные затраты'!L30*$B$33)","v":0},{"$f":"IF('Операционные затраты'!M30>Предпосылки!$E$305*Предпосылки!M128,\nПредпосылки!$E$305*Предпосылки!M128*$B$33,'Операционные затраты'!M30*$B$33)","v":0},{"$f":"IF('Операционные затраты'!N30>Предпосылки!$E$305*Предпосылки!N128,\nПредпосылки!$E$305*Предпосылки!N128*$B$33,'Операционные затраты'!N30*$B$33)","v":0},{"$f":"IF('Операционные затраты'!O30>Предпосылки!$E$305*Предпосылки!O128,\nПредпосылки!$E$305*Предпосылки!O128*$B$33,'Операционные затраты'!O30*$B$33)","v":0},{"$f":"IF('Операционные затраты'!P30>Предпосылки!$E$305*Предпосылки!P128,\nПредпосылки!$E$305*Предпосылки!P128*$B$33,'Операционные затраты'!P30*$B$33)","v":0},{"$f":"IF('Операционные затраты'!Q30>Предпосылки!$E$305*Предпосылки!Q128,\nПредпосылки!$E$305*Предпосылки!Q128*$B$33,'Операционные затраты'!Q30*$B$33)","v":0},{"$f":"IF('Операционные затраты'!R30>Предпосылки!$E$305*Предпосылки!R128,\nПредпосылки!$E$305*Предпосылки!R128*$B$33,'Операционные затраты'!R30*$B$33)","v":0},{"$f":"IF('Операционные затраты'!S30>Предпосылки!$E$305*Предпосылки!S128,\nПредпосылки!$E$305*Предпосылки!S128*$B$33,'Операционные затраты'!S30*$B$33)","v":0},{"$f":"IF('Операционные затраты'!T30>Предпосылки!$E$305*Предпосылки!T128,\nПредпосылки!$E$305*Предпосылки!T128*$B$33,'Операционные затраты'!T30*$B$33)","v":0},{"$f":"IF('Операционные затраты'!U30>Предпосылки!$E$305*Предпосылки!U128,\nПредпосылки!$E$305*Предпосылки!U128*$B$33,'Операционные затраты'!U30*$B$33)","v":0},{"$f":"IF('Операционные затраты'!V30>Предпосылки!$E$305*Предпосылки!V128,\nПредпосылки!$E$305*Предпосылки!V128*$B$33,'Операционные затраты'!V30*$B$33)","v":0},{"$f":"IF('Операционные затраты'!W30>Предпосылки!$E$305*Предпосылки!W128,\nПредпосылки!$E$305*Предпосылки!W128*$B$33,'Операционные затраты'!W30*$B$33)","v":0},{"$f":"IF('Операционные затраты'!X30>Предпосылки!$E$305*Предпосылки!X128,\nПредпосылки!$E$305*Предпосылки!X128*$B$33,'Операционные затраты'!X30*$B$33)","v":0},{"$f":"IF('Операционные затраты'!Y30>Предпосылки!$E$305*Предпосылки!Y128,\nПредпосылки!$E$305*Предпосылки!Y128*$B$33,'Операционные затраты'!Y30*$B$33)","v":0},{"$f":"IF('Операционные затраты'!Z30>Предпосылки!$E$305*Предпосылки!Z128,\nПредпосылки!$E$305*Предпосылки!Z128*$B$33,'Операционные затраты'!Z30*$B$33)","v":0},{"$f":"IF('Операционные затраты'!AA30>Предпосылки!$E$305*Предпосылки!AA128,\nПредпосылки!$E$305*Предпосылки!AA128*$B$33,'Операционные затраты'!AA30*$B$33)","v":0},{"$f":"IF('Операционные затраты'!AB30>Предпосылки!$E$305*Предпосылки!AB128,\nПредпосылки!$E$305*Предпосылки!AB128*$B$33,'Операционные затраты'!AB30*$B$33)","v":0}]
[null,null,{"$f":"Предпосылки!C155","v":"…"},"тыс. руб.",null,null,null,{"$f":"IF('Операционные затраты'!H31>Предпосылки!$E$305*Предпосылки!H129,\nПредпосылки!$E$305*Предпосылки!H129*$B$33,'Операционные затраты'!H31*$B$33)","v":0},{"$f":"IF('Операционные затраты'!I31>Предпосылки!$E$305*Предпосылки!I129,\nПредпосылки!$E$305*Предпосылки!I129*$B$33,'Операционные затраты'!I31*$B$33)","v":0},{"$f":"IF('Операционные затраты'!J31>Предпосылки!$E$305*Предпосылки!J129,\nПредпосылки!$E$305*Предпосылки!J129*$B$33,'Операционные затраты'!J31*$B$33)","v":0},{"$f":"IF('Операционные затраты'!K31>Предпосылки!$E$305*Предпосылки!K129,\nПредпосылки!$E$305*Предпосылки!K129*$B$33,'Операционные затраты'!K31*$B$33)","v":0},{"$f":"IF('Операционные затраты'!L31>Предпосылки!$E$305*Предпосылки!L129,\nПредпосылки!$E$305*Предпосылки!L129*$B$33,'Операционные затраты'!L31*$B$33)","v":0},{"$f":"IF('Операционные затраты'!M31>Предпосылки!$E$305*Предпосылки!M129,\nПредпосылки!$E$305*Предпосылки!M129*$B$33,'Операционные затраты'!M31*$B$33)","v":0},{"$f":"IF('Операционные затраты'!N31>Предпосылки!$E$305*Предпосылки!N129,\nПредпосылки!$E$305*Предпосылки!N129*$B$33,'Операционные затраты'!N31*$B$33)","v":0},{"$f":"IF('Операционные затраты'!O31>Предпосылки!$E$305*Предпосылки!O129,\nПредпосылки!$E$305*Предпосылки!O129*$B$33,'Операционные затраты'!O31*$B$33)","v":0},{"$f":"IF('Операционные затраты'!P31>Предпосылки!$E$305*Предпосылки!P129,\nПредпосылки!$E$305*Предпосылки!P129*$B$33,'Операционные затраты'!P31*$B$33)","v":0},{"$f":"IF('Операционные затраты'!Q31>Предпосылки!$E$305*Предпосылки!Q129,\nПредпосылки!$E$305*Предпосылки!Q129*$B$33,'Операционные затраты'!Q31*$B$33)","v":0},{"$f":"IF('Операционные затраты'!R31>Предпосылки!$E$305*Предпосылки!R129,\nПредпосылки!$E$305*Предпосылки!R129*$B$33,'Операционные затраты'!R31*$B$33)","v":0},{"$f":"IF('Операционные затраты'!S31>Предпосылки!$E$305*Предпосылки!S129,\nПредпосылки!$E$305*Предпосылки!S129*$B$33,'Операционные затраты'!S31*$B$33)","v":0},{"$f":"IF('Операционные затраты'!T31>Предпосылки!$E$305*Предпосылки!T129,\nПредпосылки!$E$305*Предпосылки!T129*$B$33,'Операционные затраты'!T31*$B$33)","v":0},{"$f":"IF('Операционные затраты'!U31>Предпосылки!$E$305*Предпосылки!U129,\nПредпосылки!$E$305*Предпосылки!U129*$B$33,'Операционные затраты'!U31*$B$33)","v":0},{"$f":"IF('Операционные затраты'!V31>Предпосылки!$E$305*Предпосылки!V129,\nПредпосылки!$E$305*Предпосылки!V129*$B$33,'Операционные затраты'!V31*$B$33)","v":0},{"$f":"IF('Операционные затраты'!W31>Предпосылки!$E$305*Предпосылки!W129,\nПредпосылки!$E$305*Предпосылки!W129*$B$33,'Операционные затраты'!W31*$B$33)","v":0},{"$f":"IF('Операционные затраты'!X31>Предпосылки!$E$305*Предпосылки!X129,\nПредпосылки!$E$305*Предпосылки!X129*$B$33,'Операционные затраты'!X31*$B$33)","v":0},{"$f":"IF('Операционные затраты'!Y31>Предпосылки!$E$305*Предпосылки!Y129,\nПредпосылки!$E$305*Предпосылки!Y129*$B$33,'Операционные затраты'!Y31*$B$33)","v":0},{"$f":"IF('Операционные затраты'!Z31>Предпосылки!$E$305*Предпосылки!Z129,\nПредпосылки!$E$305*Предпосылки!Z129*$B$33,'Операционные затраты'!Z31*$B$33)","v":0},{"$f":"IF('Операционные затраты'!AA31>Предпосылки!$E$305*Предпосылки!AA129,\nПредпосылки!$E$305*Предпосылки!AA129*$B$33,'Операционные затраты'!AA31*$B$33)","v":0},{"$f":"IF('Операционные затраты'!AB31>Предпосылки!$E$305*Предпосылки!AB129,\nПредпосылки!$E$305*Предпосылки!AB129*$B$33,'Операционные затраты'!AB31*$B$33)","v":0}]
[null,null,{"$f":"Предпосылки!C156","v":"Вспомогательный персонал"},"тыс. руб.",null,null,null,{"$f":"SUBTOTAL(9,H39:H40)","v":0},{"$f":"SUBTOTAL(9,I39:I40)","v":0},0,0,0,0,0,0,0,0,0,0,0,0,0,0,0,0,0,0,{"$f":"SUBTOTAL(9,AB39:AB40)","v":0}]
[null,null,{"$f":"Предпосылки!C157","v":"Категория 1"},"тыс. руб.",null,null,null,{"$f":"IF('Операционные затраты'!H33>Предпосылки!$E$305*Предпосылки!H131,\nПредпосылки!$E$305*Предпосылки!H131*$B$33,'Операционные затраты'!H33*$B$33)","v":0},{"$f":"IF('Операционные затраты'!I33>Предпосылки!$E$305*Предпосылки!I131,\nПредпосылки!$E$305*Предпосылки!I131*$B$33,'Операционные затраты'!I33*$B$33)","v":0},{"$f":"IF('Операционные затраты'!J33>Предпосылки!$E$305*Предпосылки!J131,\nПредпосылки!$E$305*Предпосылки!J131*$B$33,'Операционные затраты'!J33*$B$33)","v":0},{"$f":"IF('Операционные затраты'!K33>Предпосылки!$E$305*Предпосылки!K131,\nПредпосылки!$E$305*Предпосылки!K131*$B$33,'Операционные затраты'!K33*$B$33)","v":0},{"$f":"IF('Операционные затраты'!L33>Предпосылки!$E$305*Предпосылки!L131,\nПредпосылки!$E$305*Предпосылки!L131*$B$33,'Операционные затраты'!L33*$B$33)","v":0},{"$f":"IF('Операционные затраты'!M33>Предпосылки!$E$305*Предпосылки!M131,\nПредпосылки!$E$305*Предпосылки!M131*$B$33,'Операционные затраты'!M33*$B$33)","v":0},{"$f":"IF('Операционные затраты'!N33>Предпосылки!$E$305*Предпосылки!N131,\nПредпосылки!$E$305*Предпосылки!N131*$B$33,'Операционные затраты'!N33*$B$33)","v":0},{"$f":"IF('Операционные затраты'!O33>Предпосылки!$E$305*Предпосылки!O131,\nПредпосылки!$E$305*Предпосылки!O131*$B$33,'Операционные затраты'!O33*$B$33)","v":0},{"$f":"IF('Операционные затраты'!P33>Предпосылки!$E$305*Предпосылки!P131,\nПредпосылки!$E$305*Предпосылки!P131*$B$33,'Операционные затраты'!P33*$B$33)","v":0},{"$f":"IF('Операционные затраты'!Q33>Предпосылки!$E$305*Предпосылки!Q131,\nПредпосылки!$E$305*Предпосылки!Q131*$B$33,'Операционные затраты'!Q33*$B$33)","v":0},{"$f":"IF('Операционные затраты'!R33>Предпосылки!$E$305*Предпосылки!R131,\nПредпосылки!$E$305*Предпосылки!R131*$B$33,'Операционные затраты'!R33*$B$33)","v":0},{"$f":"IF('Операционные затраты'!S33>Предпосылки!$E$305*Предпосылки!S131,\nПредпосылки!$E$305*Предпосылки!S131*$B$33,'Операционные затраты'!S33*$B$33)","v":0},{"$f":"IF('Операционные затраты'!T33>Предпосылки!$E$305*Предпосылки!T131,\nПредпосылки!$E$305*Предпосылки!T131*$B$33,'Операционные затраты'!T33*$B$33)","v":0},{"$f":"IF('Операционные затраты'!U33>Предпосылки!$E$305*Предпосылки!U131,\nПредпосылки!$E$305*Предпосылки!U131*$B$33,'Операционные затраты'!U33*$B$33)","v":0},{"$f":"IF('Операционные затраты'!V33>Предпосылки!$E$305*Предпосылки!V131,\nПредпосылки!$E$305*Предпосылки!V131*$B$33,'Операционные затраты'!V33*$B$33)","v":0},{"$f":"IF('Операционные затраты'!W33>Предпосылки!$E$305*Предпосылки!W131,\nПредпосылки!$E$305*Предпосылки!W131*$B$33,'Операционные затраты'!W33*$B$33)","v":0},{"$f":"IF('Операционные затраты'!X33>Предпосылки!$E$305*Предпосылки!X131,\nПредпосылки!$E$305*Предпосылки!X131*$B$33,'Операционные затраты'!X33*$B$33)","v":0},{"$f":"IF('Операционные затраты'!Y33>Предпосылки!$E$305*Предпосылки!Y131,\nПредпосылки!$E$305*Предпосылки!Y131*$B$33,'Операционные затраты'!Y33*$B$33)","v":0},{"$f":"IF('Операционные затраты'!Z33>Предпосылки!$E$305*Предпосылки!Z131,\nПредпосылки!$E$305*Предпосылки!Z131*$B$33,'Операционные затраты'!Z33*$B$33)","v":0},{"$f":"IF('Операционные затраты'!AA33>Предпосылки!$E$305*Предпосылки!AA131,\nПредпосылки!$E$305*Предпосылки!AA131*$B$33,'Операционные затраты'!AA33*$B$33)","v":0},{"$f":"IF('Операционные затраты'!AB33>Предпосылки!$E$305*Предпосылки!AB131,\nПредпосылки!$E$305*Предпосылки!AB131*$B$33,'Операционные затраты'!AB33*$B$33)","v":0}]
[null,null,{"$f":"Предпосылки!C158","v":"…"},"тыс. руб.",null,null,null,{"$f":"IF('Операционные затраты'!H34>Предпосылки!$E$305*Предпосылки!H132,\nПредпосылки!$E$305*Предпосылки!H132*$B$33,'Операционные затраты'!H34*$B$33)","v":0},{"$f":"IF('Операционные затраты'!I34>Предпосылки!$E$305*Предпосылки!I132,\nПредпосылки!$E$305*Предпосылки!I132*$B$33,'Операционные затраты'!I34*$B$33)","v":0},{"$f":"IF('Операционные затраты'!J34>Предпосылки!$E$305*Предпосылки!J132,\nПредпосылки!$E$305*Предпосылки!J132*$B$33,'Операционные затраты'!J34*$B$33)","v":0},{"$f":"IF('Операционные затраты'!K34>Предпосылки!$E$305*Предпосылки!K132,\nПредпосылки!$E$305*Предпосылки!K132*$B$33,'Операционные затраты'!K34*$B$33)","v":0},{"$f":"IF('Операционные затраты'!L34>Предпосылки!$E$305*Предпосылки!L132,\nПредпосылки!$E$305*Предпосылки!L132*$B$33,'Операционные затраты'!L34*$B$33)","v":0},{"$f":"IF('Операционные затраты'!M34>Предпосылки!$E$305*Предпосылки!M132,\nПредпосылки!$E$305*Предпосылки!M132*$B$33,'Операционные затраты'!M34*$B$33)","v":0},{"$f":"IF('Операционные затраты'!N34>Предпосылки!$E$305*Предпосылки!N132,\nПредпосылки!$E$305*Предпосылки!N132*$B$33,'Операционные затраты'!N34*$B$33)","v":0},{"$f":"IF('Операционные затраты'!O34>Предпосылки!$E$305*Предпосылки!O132,\nПредпосылки!$E$305*Предпосылки!O132*$B$33,'Операционные затраты'!O34*$B$33)","v":0},{"$f":"IF('Операционные затраты'!P34>Предпосылки!$E$305*Предпосылки!P132,\nПредпосылки!$E$305*Предпосылки!P132*$B$33,'Операционные затраты'!P34*$B$33)","v":0},{"$f":"IF('Операционные затраты'!Q34>Предпосылки!$E$305*Предпосылки!Q132,\nПредпосылки!$E$305*Предпосылки!Q132*$B$33,'Операционные затраты'!Q34*$B$33)","v":0},{"$f":"IF('Операционные затраты'!R34>Предпосылки!$E$305*Предпосылки!R132,\nПредпосылки!$E$305*Предпосылки!R132*$B$33,'Операционные затраты'!R34*$B$33)","v":0},{"$f":"IF('Операционные затраты'!S34>Предпосылки!$E$305*Предпосылки!S132,\nПредпосылки!$E$305*Предпосылки!S132*$B$33,'Операционные затраты'!S34*$B$33)","v":0},{"$f":"IF('Операционные затраты'!T34>Предпосылки!$E$305*Предпосылки!T132,\nПредпосылки!$E$305*Предпосылки!T132*$B$33,'Операционные затраты'!T34*$B$33)","v":0},{"$f":"IF('Операционные затраты'!U34>Предпосылки!$E$305*Предпосылки!U132,\nПредпосылки!$E$305*Предпосылки!U132*$B$33,'Операционные затраты'!U34*$B$33)","v":0},{"$f":"IF('Операционные затраты'!V34>Предпосылки!$E$305*Предпосылки!V132,\nПредпосылки!$E$305*Предпосылки!V132*$B$33,'Операционные затраты'!V34*$B$33)","v":0},{"$f":"IF('Операционные затраты'!W34>Предпосылки!$E$305*Предпосылки!W132,\nПредпосылки!$E$305*Предпосылки!W132*$B$33,'Операционные затраты'!W34*$B$33)","v":0},{"$f":"IF('Операционные затраты'!X34>Предпосылки!$E$305*Предпосылки!X132,\nПредпосылки!$E$305*Предпосылки!X132*$B$33,'Операционные затраты'!X34*$B$33)","v":0},{"$f":"IF('Операционные затраты'!Y34>Предпосылки!$E$305*Предпосылки!Y132,\nПредпосылки!$E$305*Предпосылки!Y132*$B$33,'Операционные затраты'!Y34*$B$33)","v":0},{"$f":"IF('Операционные затраты'!Z34>Предпосылки!$E$305*Предпосылки!Z132,\nПредпосылки!$E$305*Предпосылки!Z132*$B$33,'Операционные затраты'!Z34*$B$33)","v":0},{"$f":"IF('Операционные затраты'!AA34>Предпосылки!$E$305*Предпосылки!AA132,\nПредпосылки!$E$305*Предпосылки!AA132*$B$33,'Операционные затраты'!AA34*$B$33)","v":0},{"$f":"IF('Операционные затраты'!AB34>Предпосылки!$E$305*Предпосылки!AB132,\nПредпосылки!$E$305*Предпосылки!AB132*$B$33,'Операционные затраты'!AB34*$B$33)","v":0}]
[null,null,{"$f":"Предпосылки!C159","v":"Административный персонал"},"тыс. руб.",null,null,null,{"$f":"SUBTOTAL(9,H42:H43)","v":0},{"$f":"SUBTOTAL(9,I42:I43)","v":0},0,0,0,0,0,0,0,0,0,0,0,0,0,0,0,0,0,0,{"$f":"SUBTOTAL(9,AB42:AB43)","v":0}]
[null,null,{"$f":"Предпосылки!C160","v":"Категория 1"},"тыс. руб.",null,null,null,{"$f":"IF('Операционные затраты'!H36>Предпосылки!$E$305*Предпосылки!H134,\nПредпосылки!$E$305*Предпосылки!H134*$B$33,'Операционные затраты'!H36*$B$33)","v":0},{"$f":"IF('Операционные затраты'!I36>Предпосылки!$E$305*Предпосылки!I134,\nПредпосылки!$E$305*Предпосылки!I134*$B$33,'Операционные затраты'!I36*$B$33)","v":0},{"$f":"IF('Операционные затраты'!J36>Предпосылки!$E$305*Предпосылки!J134,\nПредпосылки!$E$305*Предпосылки!J134*$B$33,'Операционные затраты'!J36*$B$33)","v":0},{"$f":"IF('Операционные затраты'!K36>Предпосылки!$E$305*Предпосылки!K134,\nПредпосылки!$E$305*Предпосылки!K134*$B$33,'Операционные затраты'!K36*$B$33)","v":0},{"$f":"IF('Операционные затраты'!L36>Предпосылки!$E$305*Предпосылки!L134,\nПредпосылки!$E$305*Предпосылки!L134*$B$33,'Операционные затраты'!L36*$B$33)","v":0},{"$f":"IF('Операционные затраты'!M36>Предпосылки!$E$305*Предпосылки!M134,\nПредпосылки!$E$305*Предпосылки!M134*$B$33,'Операционные затраты'!M36*$B$33)","v":0},{"$f":"IF('Операционные затраты'!N36>Предпосылки!$E$305*Предпосылки!N134,\nПредпосылки!$E$305*Предпосылки!N134*$B$33,'Операционные затраты'!N36*$B$33)","v":0},{"$f":"IF('Операционные затраты'!O36>Предпосылки!$E$305*Предпосылки!O134,\nПредпосылки!$E$305*Предпосылки!O134*$B$33,'Операционные затраты'!O36*$B$33)","v":0},{"$f":"IF('Операционные затраты'!P36>Предпосылки!$E$305*Предпосылки!P134,\nПредпосылки!$E$305*Предпосылки!P134*$B$33,'Операционные затраты'!P36*$B$33)","v":0},{"$f":"IF('Операционные затраты'!Q36>Предпосылки!$E$305*Предпосылки!Q134,\nПредпосылки!$E$305*Предпосылки!Q134*$B$33,'Операционные затраты'!Q36*$B$33)","v":0},{"$f":"IF('Операционные затраты'!R36>Предпосылки!$E$305*Предпосылки!R134,\nПредпосылки!$E$305*Предпосылки!R134*$B$33,'Операционные затраты'!R36*$B$33)","v":0},{"$f":"IF('Операционные затраты'!S36>Предпосылки!$E$305*Предпосылки!S134,\nПредпосылки!$E$305*Предпосылки!S134*$B$33,'Операционные затраты'!S36*$B$33)","v":0},{"$f":"IF('Операционные затраты'!T36>Предпосылки!$E$305*Предпосылки!T134,\nПредпосылки!$E$305*Предпосылки!T134*$B$33,'Операционные затраты'!T36*$B$33)","v":0},{"$f":"IF('Операционные затраты'!U36>Предпосылки!$E$305*Предпосылки!U134,\nПредпосылки!$E$305*Предпосылки!U134*$B$33,'Операционные затраты'!U36*$B$33)","v":0},{"$f":"IF('Операционные затраты'!V36>Предпосылки!$E$305*Предпосылки!V134,\nПредпосылки!$E$305*Предпосылки!V134*$B$33,'Операционные затраты'!V36*$B$33)","v":0},{"$f":"IF('Операционные затраты'!W36>Предпосылки!$E$305*Предпосылки!W134,\nПредпосылки!$E$305*Предпосылки!W134*$B$33,'Операционные затраты'!W36*$B$33)","v":0},{"$f":"IF('Операционные затраты'!X36>Предпосылки!$E$305*Предпосылки!X134,\nПредпосылки!$E$305*Предпосылки!X134*$B$33,'Операционные затраты'!X36*$B$33)","v":0},{"$f":"IF('Операционные затраты'!Y36>Предпосылки!$E$305*Предпосылки!Y134,\nПредпосылки!$E$305*Предпосылки!Y134*$B$33,'Операционные затраты'!Y36*$B$33)","v":0},{"$f":"IF('Операционные затраты'!Z36>Предпосылки!$E$305*Предпосылки!Z134,\nПредпосылки!$E$305*Предпосылки!Z134*$B$33,'Операционные затраты'!Z36*$B$33)","v":0},{"$f":"IF('Операционные затраты'!AA36>Предпосылки!$E$305*Предпосылки!AA134,\nПредпосылки!$E$305*Предпосылки!AA134*$B$33,'Операционные затраты'!AA36*$B$33)","v":0},{"$f":"IF('Операционные затраты'!AB36>Предпосылки!$E$305*Предпосылки!AB134,\nПредпосылки!$E$305*Предпосылки!AB134*$B$33,'Операционные затраты'!AB36*$B$33)","v":0}]
[null,null,{"$f":"Предпосылки!C161","v":"…"},"тыс. руб.",null,null,null,{"$f":"IF('Операционные затраты'!H37>Предпосылки!$E$305*Предпосылки!H135,\nПредпосылки!$E$305*Предпосылки!H135*$B$33,'Операционные затраты'!H37*$B$33)","v":0},{"$f":"IF('Операционные затраты'!I37>Предпосылки!$E$305*Предпосылки!I135,\nПредпосылки!$E$305*Предпосылки!I135*$B$33,'Операционные затраты'!I37*$B$33)","v":0},{"$f":"IF('Операционные затраты'!J37>Предпосылки!$E$305*Предпосылки!J135,\nПредпосылки!$E$305*Предпосылки!J135*$B$33,'Операционные затраты'!J37*$B$33)","v":0},{"$f":"IF('Операционные затраты'!K37>Предпосылки!$E$305*Предпосылки!K135,\nПредпосылки!$E$305*Предпосылки!K135*$B$33,'Операционные затраты'!K37*$B$33)","v":0},{"$f":"IF('Операционные затраты'!L37>Предпосылки!$E$305*Предпосылки!L135,\nПредпосылки!$E$305*Предпосылки!L135*$B$33,'Операционные затраты'!L37*$B$33)","v":0},{"$f":"IF('Операционные затраты'!M37>Предпосылки!$E$305*Предпосылки!M135,\nПредпосылки!$E$305*Предпосылки!M135*$B$33,'Операционные затраты'!M37*$B$33)","v":0},{"$f":"IF('Операционные затраты'!N37>Предпосылки!$E$305*Предпосылки!N135,\nПредпосылки!$E$305*Предпосылки!N135*$B$33,'Операционные затраты'!N37*$B$33)","v":0},{"$f":"IF('Операционные затраты'!O37>Предпосылки!$E$305*Предпосылки!O135,\nПредпосылки!$E$305*Предпосылки!O135*$B$33,'Операционные затраты'!O37*$B$33)","v":0},{"$f":"IF('Операционные затраты'!P37>Предпосылки!$E$305*Предпосылки!P135,\nПредпосылки!$E$305*Предпосылки!P135*$B$33,'Операционные затраты'!P37*$B$33)","v":0},{"$f":"IF('Операционные затраты'!Q37>Предпосылки!$E$305*Предпосылки!Q135,\nПредпосылки!$E$305*Предпосылки!Q135*$B$33,'Операционные затраты'!Q37*$B$33)","v":0},{"$f":"IF('Операционные затраты'!R37>Предпосылки!$E$305*Предпосылки!R135,\nПредпосылки!$E$305*Предпосылки!R135*$B$33,'Операционные затраты'!R37*$B$33)","v":0},{"$f":"IF('Операционные затраты'!S37>Предпосылки!$E$305*Предпосылки!S135,\nПредпосылки!$E$305*Предпосылки!S135*$B$33,'Операционные затраты'!S37*$B$33)","v":0},{"$f":"IF('Операционные затраты'!T37>Предпосылки!$E$305*Предпосылки!T135,\nПредпосылки!$E$305*Предпосылки!T135*$B$33,'Операционные затраты'!T37*$B$33)","v":0},{"$f":"IF('Операционные затраты'!U37>Предпосылки!$E$305*Предпосылки!U135,\nПредпосылки!$E$305*Предпосылки!U135*$B$33,'Операционные затраты'!U37*$B$33)","v":0},{"$f":"IF('Операционные затраты'!V37>Предпосылки!$E$305*Предпосылки!V135,\nПредпосылки!$E$305*Предпосылки!V135*$B$33,'Операционные затраты'!V37*$B$33)","v":0},{"$f":"IF('Операционные затраты'!W37>Предпосылки!$E$305*Предпосылки!W135,\nПредпосылки!$E$305*Предпосылки!W135*$B$33,'Операционные затраты'!W37*$B$33)","v":0},{"$f":"IF('Операционные затраты'!X37>Предпосылки!$E$305*Предпосылки!X135,\nПредпосылки!$E$305*Предпосылки!X135*$B$33,'Операционные затраты'!X37*$B$33)","v":0},{"$f":"IF('Операционные затраты'!Y37>Предпосылки!$E$305*Предпосылки!Y135,\nПредпосылки!$E$305*Предпосылки!Y135*$B$33,'Операционные затраты'!Y37*$B$33)","v":0},{"$f":"IF('Операционные затраты'!Z37>Предпосылки!$E$305*Предпосылки!Z135,\nПредпосылки!$E$305*Предпосылки!Z135*$B$33,'Операционные затраты'!Z37*$B$33)","v":0},{"$f":"IF('Операционные затраты'!AA37>Предпосылки!$E$305*Предпосылки!AA135,\nПредпосылки!$E$305*Предпосылки!AA135*$B$33,'Операционные затраты'!AA37*$B$33)","v":0},{"$f":"IF('Операционные затраты'!AB37>Предпосылки!$E$305*Предпосылки!AB135,\nПредпосылки!$E$305*Предпосылки!AB135*$B$33,'Операционные затраты'!AB37*$B$33)","v":0}]
[null,null,"Итого","тыс. руб.",null,null,null,{"$f":"SUBTOTAL(9,H35:H43)","v":0},{"$f":"SUBTOTAL(9,I35:I43)","v":0},0,0,0,0,0,0,0,0,0,0,0,0,0,0,0,0,0,0,{"$f":"SUBTOTAL(9,AB35:AB43)","v":0}]
[]
[null,{"$f":"Предпосылки!B138","v":"Сотрудники с ФОТ более или равно 2979 тыс. рублей/год (каждый указывается отдельно)"}]
[null,null,{"$f":"Предпосылки!C139","v":"Производственный персонал"},{"$f":"D35","v":"тыс. руб."},null,null,null,{"$f":"SUBTOTAL(9,H48:H49)","v":0},{"$f":"SUBTOTAL(9,I48:I49)","v":0},0,0,0,0,0,0,0,0,0,0,0,0,0,0,0,0,0,0,{"$f":"SUBTOTAL(9,AB48:AB49)","v":0}]
[null,null,{"$f":"Предпосылки!C140","v":"Сотрудник 1 "},{"$f":"D36","v":"тыс. руб."},null,null,null,{"$f":"IF('Операционные затраты'!H42>Предпосылки!$E$305,\nПредпосылки!$E$305*$B$33,'Операционные затраты'!H42*$B$33)","v":0},{"$f":"IF('Операционные затраты'!I42>Предпосылки!$E$305,\nПредпосылки!$E$305*$B$33,'Операционные затраты'!I42*$B$33)","v":0},{"$f":"IF('Операционные затраты'!J42>Предпосылки!$E$305,\nПредпосылки!$E$305*$B$33,'Операционные затраты'!J42*$B$33)","v":0},{"$f":"IF('Операционные затраты'!K42>Предпосылки!$E$305,\nПредпосылки!$E$305*$B$33,'Операционные затраты'!K42*$B$33)","v":0},{"$f":"IF('Операционные затраты'!L42>Предпосылки!$E$305,\nПредпосылки!$E$305*$B$33,'Операционные затраты'!L42*$B$33)","v":0},{"$f":"IF('Операционные затраты'!M42>Предпосылки!$E$305,\nПредпосылки!$E$305*$B$33,'Операционные затраты'!M42*$B$33)","v":0},{"$f":"IF('Операционные затраты'!N42>Предпосылки!$E$305,\nПредпосылки!$E$305*$B$33,'Операционные затраты'!N42*$B$33)","v":0},{"$f":"IF('Операционные затраты'!O42>Предпосылки!$E$305,\nПредпосылки!$E$305*$B$33,'Операционные затраты'!O42*$B$33)","v":0},{"$f":"IF('Операционные затраты'!P42>Предпосылки!$E$305,\nПредпосылки!$E$305*$B$33,'Операционные затраты'!P42*$B$33)","v":0},{"$f":"IF('Операционные затраты'!Q42>Предпосылки!$E$305,\nПредпосылки!$E$305*$B$33,'Операционные затраты'!Q42*$B$33)","v":0},{"$f":"IF('Операционные затраты'!R42>Предпосылки!$E$305,\nПредпосылки!$E$305*$B$33,'Операционные затраты'!R42*$B$33)","v":0},{"$f":"IF('Операционные затраты'!S42>Предпосылки!$E$305,\nПредпосылки!$E$305*$B$33,'Операционные затраты'!S42*$B$33)","v":0},{"$f":"IF('Операционные затраты'!T42>Предпосылки!$E$305,\nПредпосылки!$E$305*$B$33,'Операционные затраты'!T42*$B$33)","v":0},{"$f":"IF('Операционные затраты'!U42>Предпосылки!$E$305,\nПредпосылки!$E$305*$B$33,'Операционные затраты'!U42*$B$33)","v":0},{"$f":"IF('Операционные затраты'!V42>Предпосылки!$E$305,\nПредпосылки!$E$305*$B$33,'Операционные затраты'!V42*$B$33)","v":0},{"$f":"IF('Операционные затраты'!W42>Предпосылки!$E$305,\nПредпосылки!$E$305*$B$33,'Операционные затраты'!W42*$B$33)","v":0},{"$f":"IF('Операционные затраты'!X42>Предпосылки!$E$305,\nПредпосылки!$E$305*$B$33,'Операционные затраты'!X42*$B$33)","v":0},{"$f":"IF('Операционные затраты'!Y42>Предпосылки!$E$305,\nПредпосылки!$E$305*$B$33,'Операционные затраты'!Y42*$B$33)","v":0},{"$f":"IF('Операционные затраты'!Z42>Предпосылки!$E$305,\nПредпосылки!$E$305*$B$33,'Операционные затраты'!Z42*$B$33)","v":0},{"$f":"IF('Операционные затраты'!AA42>Предпосылки!$E$305,\nПредпосылки!$E$305*$B$33,'Операционные затраты'!AA42*$B$33)","v":0},{"$f":"IF('Операционные затраты'!AB42>Предпосылки!$E$305,\nПредпосылки!$E$305*$B$33,'Операционные затраты'!AB42*$B$33)","v":0}]
[null,null,{"$f":"Предпосылки!C141","v":"…"},"тыс. руб.",null,null,null,{"$f":"IF('Операционные затраты'!H43>Предпосылки!$E$305,\nПредпосылки!$E$305*$B$33,'Операционные затраты'!H43*$B$33)","v":0},{"$f":"IF('Операционные затраты'!I43>Предпосылки!$E$305,\nПредпосылки!$E$305*$B$33,'Операционные затраты'!I43*$B$33)","v":0},{"$f":"IF('Операционные затраты'!J43>Предпосылки!$E$305,\nПредпосылки!$E$305*$B$33,'Операционные затраты'!J43*$B$33)","v":0},{"$f":"IF('Операционные затраты'!K43>Предпосылки!$E$305,\nПредпосылки!$E$305*$B$33,'Операционные затраты'!K43*$B$33)","v":0},{"$f":"IF('Операционные затраты'!L43>Предпосылки!$E$305,\nПредпосылки!$E$305*$B$33,'Операционные затраты'!L43*$B$33)","v":0},{"$f":"IF('Операционные затраты'!M43>Предпосылки!$E$305,\nПредпосылки!$E$305*$B$33,'Операционные затраты'!M43*$B$33)","v":0},{"$f":"IF('Операционные затраты'!N43>Предпосылки!$E$305,\nПредпосылки!$E$305*$B$33,'Операционные затраты'!N43*$B$33)","v":0},{"$f":"IF('Операционные затраты'!O43>Предпосылки!$E$305,\nПредпосылки!$E$305*$B$33,'Операционные затраты'!O43*$B$33)","v":0},{"$f":"IF('Операционные затраты'!P43>Предпосылки!$E$305,\nПредпосылки!$E$305*$B$33,'Операционные затраты'!P43*$B$33)","v":0},{"$f":"IF('Операционные затраты'!Q43>Предпосылки!$E$305,\nПредпосылки!$E$305*$B$33,'Операционные затраты'!Q43*$B$33)","v":0},{"$f":"IF('Операционные затраты'!R43>Предпосылки!$E$305,\nПредпосылки!$E$305*$B$33,'Операционные затраты'!R43*$B$33)","v":0},{"$f":"IF('Операционные затраты'!S43>Предпосылки!$E$305,\nПредпосылки!$E$305*$B$33,'Операционные затраты'!S43*$B$33)","v":0},{"$f":"IF('Операционные затраты'!T43>Предпосылки!$E$305,\nПредпосылки!$E$305*$B$33,'Операционные затраты'!T43*$B$33)","v":0},{"$f":"IF('Операционные затраты'!U43>Предпосылки!$E$305,\nПредпосылки!$E$305*$B$33,'Операционные затраты'!U43*$B$33)","v":0},{"$f":"IF('Операционные затраты'!V43>Предпосылки!$E$305,\nПредпосылки!$E$305*$B$33,'Операционные затраты'!V43*$B$33)","v":0},{"$f":"IF('Операционные затраты'!W43>Предпосылки!$E$305,\nПредпосылки!$E$305*$B$33,'Операционные затраты'!W43*$B$33)","v":0},{"$f":"IF('Операционные затраты'!X43>Предпосылки!$E$305,\nПредпосылки!$E$305*$B$33,'Операционные затраты'!X43*$B$33)","v":0},{"$f":"IF('Операционные затраты'!Y43>Предпосылки!$E$305,\nПредпосылки!$E$305*$B$33,'Операционные затраты'!Y43*$B$33)","v":0},{"$f":"IF('Операционные затраты'!Z43>Предпосылки!$E$305,\nПредпосылки!$E$305*$B$33,'Операционные затраты'!Z43*$B$33)","v":0},{"$f":"IF('Операционные затраты'!AA43>Предпосылки!$E$305,\nПредпосылки!$E$305*$B$33,'Операционные затраты'!AA43*$B$33)","v":0},{"$f":"IF('Операционные затраты'!AB43>Предпосылки!$E$305,\nПредпосылки!$E$305*$B$33,'Операционные затраты'!AB43*$B$33)","v":0}]
[null,null,{"$f":"Предпосылки!C142","v":"Вспомогательный персонал"},"тыс. руб.",null,null,null,{"$f":"SUBTOTAL(9,H51:H52)","v":0},{"$f":"SUBTOTAL(9,I51:I52)","v":0},0,0,0,0,0,0,0,0,0,0,0,0,0,0,0,0,0,0,{"$f":"SUBTOTAL(9,AB51:AB52)","v":0}]
[null,null,{"$f":"Предпосылки!C143","v":"Сотрудник 1 "},"тыс. руб.",null,null,null,{"$f":"IF('Операционные затраты'!H45>Предпосылки!$E$305,\nПредпосылки!$E$305*$B$33,'Операционные затраты'!H45*$B$33)","v":0},{"$f":"IF('Операционные затраты'!I45>Предпосылки!$E$305,\nПредпосылки!$E$305*$B$33,'Операционные затраты'!I45*$B$33)","v":0},{"$f":"IF('Операционные затраты'!J45>Предпосылки!$E$305,\nПредпосылки!$E$305*$B$33,'Операционные затраты'!J45*$B$33)","v":0},{"$f":"IF('Операционные затраты'!K45>Предпосылки!$E$305,\nПредпосылки!$E$305*$B$33,'Операционные затраты'!K45*$B$33)","v":0},{"$f":"IF('Операционные затраты'!L45>Предпосылки!$E$305,\nПредпосылки!$E$305*$B$33,'Операционные затраты'!L45*$B$33)","v":0},{"$f":"IF('Операционные затраты'!M45>Предпосылки!$E$305,\nПредпосылки!$E$305*$B$33,'Операционные затраты'!M45*$B$33)","v":0},{"$f":"IF('Операционные затраты'!N45>Предпосылки!$E$305,\nПредпосылки!$E$305*$B$33,'Операционные затраты'!N45*$B$33)","v":0},{"$f":"IF('Операционные затраты'!O45>Предпосылки!$E$305,\nПредпосылки!$E$305*$B$33,'Операционные затраты'!O45*$B$33)","v":0},{"$f":"IF('Операционные затраты'!P45>Предпосылки!$E$305,\nПредпосылки!$E$305*$B$33,'Операционные затраты'!P45*$B$33)","v":0},{"$f":"IF('Операционные затраты'!Q45>Предпосылки!$E$305,\nПредпосылки!$E$305*$B$33,'Операционные затраты'!Q45*$B$33)","v":0},{"$f":"IF('Операционные затраты'!R45>Предпосылки!$E$305,\nПредпосылки!$E$305*$B$33,'Операционные затраты'!R45*$B$33)","v":0},{"$f":"IF('Операционные затраты'!S45>Предпосылки!$E$305,\nПредпосылки!$E$305*$B$33,'Операционные затраты'!S45*$B$33)","v":0},{"$f":"IF('Операционные затраты'!T45>Предпосылки!$E$305,\nПредпосылки!$E$305*$B$33,'Операционные затраты'!T45*$B$33)","v":0},{"$f":"IF('Операционные затраты'!U45>Предпосылки!$E$305,\nПредпосылки!$E$305*$B$33,'Операционные затраты'!U45*$B$33)","v":0},{"$f":"IF('Операционные затраты'!V45>Предпосылки!$E$305,\nПредпосылки!$E$305*$B$33,'Операционные затраты'!V45*$B$33)","v":0},{"$f":"IF('Операционные затраты'!W45>Предпосылки!$E$305,\nПредпосылки!$E$305*$B$33,'Операционные затраты'!W45*$B$33)","v":0},{"$f":"IF('Операционные затраты'!X45>Предпосылки!$E$305,\nПредпосылки!$E$305*$B$33,'Операционные затраты'!X45*$B$33)","v":0},{"$f":"IF('Операционные затраты'!Y45>Предпосылки!$E$305,\nПредпосылки!$E$305*$B$33,'Операционные затраты'!Y45*$B$33)","v":0},{"$f":"IF('Операционные затраты'!Z45>Предпосылки!$E$305,\nПредпосылки!$E$305*$B$33,'Операционные затраты'!Z45*$B$33)","v":0},{"$f":"IF('Операционные затраты'!AA45>Предпосылки!$E$305,\nПредпосылки!$E$305*$B$33,'Операционные затраты'!AA45*$B$33)","v":0},{"$f":"IF('Операционные затраты'!AB45>Предпосылки!$E$305,\nПредпосылки!$E$305*$B$33,'Операционные затраты'!AB45*$B$33)","v":0}]
[null,null,{"$f":"Предпосылки!C144","v":"…"},"тыс. руб.",null,null,null,{"$f":"IF('Операционные затраты'!H46>Предпосылки!$E$305,\nПредпосылки!$E$305*$B$33,'Операционные затраты'!H46*$B$33)","v":0},{"$f":"IF('Операционные затраты'!I46>Предпосылки!$E$305,\nПредпосылки!$E$305*$B$33,'Операционные затраты'!I46*$B$33)","v":0},{"$f":"IF('Операционные затраты'!J46>Предпосылки!$E$305,\nПредпосылки!$E$305*$B$33,'Операционные затраты'!J46*$B$33)","v":0},{"$f":"IF('Операционные затраты'!K46>Предпосылки!$E$305,\nПредпосылки!$E$305*$B$33,'Операционные затраты'!K46*$B$33)","v":0},{"$f":"IF('Операционные затраты'!L46>Предпосылки!$E$305,\nПредпосылки!$E$305*$B$33,'Операционные затраты'!L46*$B$33)","v":0},{"$f":"IF('Операционные затраты'!M46>Предпосылки!$E$305,\nПредпосылки!$E$305*$B$33,'Операционные затраты'!M46*$B$33)","v":0},{"$f":"IF('Операционные затраты'!N46>Предпосылки!$E$305,\nПредпосылки!$E$305*$B$33,'Операционные затраты'!N46*$B$33)","v":0},{"$f":"IF('Операционные затраты'!O46>Предпосылки!$E$305,\nПредпосылки!$E$305*$B$33,'Операционные затраты'!O46*$B$33)","v":0},{"$f":"IF('Операционные затраты'!P46>Предпосылки!$E$305,\nПредпосылки!$E$305*$B$33,'Операционные затраты'!P46*$B$33)","v":0},{"$f":"IF('Операционные затраты'!Q46>Предпосылки!$E$305,\nПредпосылки!$E$305*$B$33,'Операционные затраты'!Q46*$B$33)","v":0},{"$f":"IF('Операционные затраты'!R46>Предпосылки!$E$305,\nПредпосылки!$E$305*$B$33,'Операционные затраты'!R46*$B$33)","v":0},{"$f":"IF('Операционные затраты'!S46>Предпосылки!$E$305,\nПредпосылки!$E$305*$B$33,'Операционные затраты'!S46*$B$33)","v":0},{"$f":"IF('Операционные затраты'!T46>Предпосылки!$E$305,\nПредпосылки!$E$305*$B$33,'Операционные затраты'!T46*$B$33)","v":0},{"$f":"IF('Операционные затраты'!U46>Предпосылки!$E$305,\nПредпосылки!$E$305*$B$33,'Операционные затраты'!U46*$B$33)","v":0},{"$f":"IF('Операционные затраты'!V46>Предпосылки!$E$305,\nПредпосылки!$E$305*$B$33,'Операционные затраты'!V46*$B$33)","v":0},{"$f":"IF('Операционные затраты'!W46>Предпосылки!$E$305,\nПредпосылки!$E$305*$B$33,'Операционные затраты'!W46*$B$33)","v":0},{"$f":"IF('Операционные затраты'!X46>Предпосылки!$E$305,\nПредпосылки!$E$305*$B$33,'Операционные затраты'!X46*$B$33)","v":0},{"$f":"IF('Операционные затраты'!Y46>Предпосылки!$E$305,\nПредпосылки!$E$305*$B$33,'Операционные затраты'!Y46*$B$33)","v":0},{"$f":"IF('Операционные затраты'!Z46>Предпосылки!$E$305,\nПредпосылки!$E$305*$B$33,'Операционные затраты'!Z46*$B$33)","v":0},{"$f":"IF('Операционные затраты'!AA46>Предпосылки!$E$305,\nПредпосылки!$E$305*$B$33,'Операционные затраты'!AA46*$B$33)","v":0},{"$f":"IF('Операционные затраты'!AB46>Предпосылки!$E$305,\nПредпосылки!$E$305*$B$33,'Операционные затраты'!AB46*$B$33)","v":0}]
[null,null,{"$f":"Предпосылки!C145","v":"Административный персонал"},"тыс. руб.",null,null,null,{"$f":"SUBTOTAL(9,H54:H55)","v":0},{"$f":"SUBTOTAL(9,I54:I55)","v":0},0,0,0,0,0,0,0,0,0,0,0,0,0,0,0,0,0,0,{"$f":"SUBTOTAL(9,AB54:AB55)","v":0}]
[null,null,{"$f":"Предпосылки!C146","v":"Сотрудник 1 "},"тыс. руб.",null,null,null,{"$f":"IF('Операционные затраты'!H48>Предпосылки!$E$305,\nПредпосылки!$E$305*$B$33,'Операционные затраты'!H48*$B$33)","v":0},{"$f":"IF('Операционные затраты'!I48>Предпосылки!$E$305,\nПредпосылки!$E$305*$B$33,'Операционные затраты'!I48*$B$33)","v":0},{"$f":"IF('Операционные затраты'!J48>Предпосылки!$E$305,\nПредпосылки!$E$305*$B$33,'Операционные затраты'!J48*$B$33)","v":0},{"$f":"IF('Операционные затраты'!K48>Предпосылки!$E$305,\nПредпосылки!$E$305*$B$33,'Операционные затраты'!K48*$B$33)","v":0},{"$f":"IF('Операционные затраты'!L48>Предпосылки!$E$305,\nПредпосылки!$E$305*$B$33,'Операционные затраты'!L48*$B$33)","v":0},{"$f":"IF('Операционные затраты'!M48>Предпосылки!$E$305,\nПредпосылки!$E$305*$B$33,'Операционные затраты'!M48*$B$33)","v":0},{"$f":"IF('Операционные затраты'!N48>Предпосылки!$E$305,\nПредпосылки!$E$305*$B$33,'Операционные затраты'!N48*$B$33)","v":0},{"$f":"IF('Операционные затраты'!O48>Предпосылки!$E$305,\nПредпосылки!$E$305*$B$33,'Операционные затраты'!O48*$B$33)","v":0},{"$f":"IF('Операционные затраты'!P48>Предпосылки!$E$305,\nПредпосылки!$E$305*$B$33,'Операционные затраты'!P48*$B$33)","v":0},{"$f":"IF('Операционные затраты'!Q48>Предпосылки!$E$305,\nПредпосылки!$E$305*$B$33,'Операционные затраты'!Q48*$B$33)","v":0},{"$f":"IF('Операционные затраты'!R48>Предпосылки!$E$305,\nПредпосылки!$E$305*$B$33,'Операционные затраты'!R48*$B$33)","v":0},{"$f":"IF('Операционные затраты'!S48>Предпосылки!$E$305,\nПредпосылки!$E$305*$B$33,'Операционные затраты'!S48*$B$33)","v":0},{"$f":"IF('Операционные затраты'!T48>Предпосылки!$E$305,\nПредпосылки!$E$305*$B$33,'Операционные затраты'!T48*$B$33)","v":0},{"$f":"IF('Операционные затраты'!U48>Предпосылки!$E$305,\nПредпосылки!$E$305*$B$33,'Операционные затраты'!U48*$B$33)","v":0},{"$f":"IF('Операционные затраты'!V48>Предпосылки!$E$305,\nПредпосылки!$E$305*$B$33,'Операционные затраты'!V48*$B$33)","v":0},{"$f":"IF('Операционные затраты'!W48>Предпосылки!$E$305,\nПредпосылки!$E$305*$B$33,'Операционные затраты'!W48*$B$33)","v":0},{"$f":"IF('Операционные затраты'!X48>Предпосылки!$E$305,\nПредпосылки!$E$305*$B$33,'Операционные затраты'!X48*$B$33)","v":0},{"$f":"IF('Операционные затраты'!Y48>Предпосылки!$E$305,\nПредпосылки!$E$305*$B$33,'Операционные затраты'!Y48*$B$33)","v":0},{"$f":"IF('Операционные затраты'!Z48>Предпосылки!$E$305,\nПредпосылки!$E$305*$B$33,'Операционные затраты'!Z48*$B$33)","v":0},{"$f":"IF('Операционные затраты'!AA48>Предпосылки!$E$305,\nПредпосылки!$E$305*$B$33,'Операционные затраты'!AA48*$B$33)","v":0},{"$f":"IF('Операционные затраты'!AB48>Предпосылки!$E$305,\nПредпосылки!$E$305*$B$33,'Операционные затраты'!AB48*$B$33)","v":0}]
[null,null,{"$f":"Предпосылки!C147","v":"…"},"тыс. руб.",null,null,null,{"$f":"IF('Операционные затраты'!H49>Предпосылки!$E$305,\nПредпосылки!$E$305*$B$33,'Операционные затраты'!H49*$B$33)","v":0},{"$f":"IF('Операционные затраты'!I49>Предпосылки!$E$305,\nПредпосылки!$E$305*$B$33,'Операционные затраты'!I49*$B$33)","v":0},{"$f":"IF('Операционные затраты'!J49>Предпосылки!$E$305,\nПредпосылки!$E$305*$B$33,'Операционные затраты'!J49*$B$33)","v":0},{"$f":"IF('Операционные затраты'!K49>Предпосылки!$E$305,\nПредпосылки!$E$305*$B$33,'Операционные затраты'!K49*$B$33)","v":0},{"$f":"IF('Операционные затраты'!L49>Предпосылки!$E$305,\nПредпосылки!$E$305*$B$33,'Операционные затраты'!L49*$B$33)","v":0},{"$f":"IF('Операционные затраты'!M49>Предпосылки!$E$305,\nПредпосылки!$E$305*$B$33,'Операционные затраты'!M49*$B$33)","v":0},{"$f":"IF('Операционные затраты'!N49>Предпосылки!$E$305,\nПредпосылки!$E$305*$B$33,'Операционные затраты'!N49*$B$33)","v":0},{"$f":"IF('Операционные затраты'!O49>Предпосылки!$E$305,\nПредпосылки!$E$305*$B$33,'Операционные затраты'!O49*$B$33)","v":0},{"$f":"IF('Операционные затраты'!P49>Предпосылки!$E$305,\nПредпосылки!$E$305*$B$33,'Операционные затраты'!P49*$B$33)","v":0},{"$f":"IF('Операционные затраты'!Q49>Предпосылки!$E$305,\nПредпосылки!$E$305*$B$33,'Операционные затраты'!Q49*$B$33)","v":0},{"$f":"IF('Операционные затраты'!R49>Предпосылки!$E$305,\nПредпосылки!$E$305*$B$33,'Операционные затраты'!R49*$B$33)","v":0},{"$f":"IF('Операционные затраты'!S49>Предпосылки!$E$305,\nПредпосылки!$E$305*$B$33,'Операционные затраты'!S49*$B$33)","v":0},{"$f":"IF('Операционные затраты'!T49>Предпосылки!$E$305,\nПредпосылки!$E$305*$B$33,'Операционные затраты'!T49*$B$33)","v":0},{"$f":"IF('Операционные затраты'!U49>Предпосылки!$E$305,\nПредпосылки!$E$305*$B$33,'Операционные затраты'!U49*$B$33)","v":0},{"$f":"IF('Операционные затраты'!V49>Предпосылки!$E$305,\nПредпосылки!$E$305*$B$33,'Операционные затраты'!V49*$B$33)","v":0},{"$f":"IF('Операционные затраты'!W49>Предпосылки!$E$305,\nПредпосылки!$E$305*$B$33,'Операционные затраты'!W49*$B$33)","v":0},{"$f":"IF('Операционные затраты'!X49>Предпосылки!$E$305,\nПредпосылки!$E$305*$B$33,'Операционные затраты'!X49*$B$33)","v":0},{"$f":"IF('Операционные затраты'!Y49>Предпосылки!$E$305,\nПредпосылки!$E$305*$B$33,'Операционные затраты'!Y49*$B$33)","v":0},{"$f":"IF('Операционные затраты'!Z49>Предпосылки!$E$305,\nПредпосылки!$E$305*$B$33,'Операционные затраты'!Z49*$B$33)","v":0},{"$f":"IF('Операционные затраты'!AA49>Предпосылки!$E$305,\nПредпосылки!$E$305*$B$33,'Операционные затраты'!AA49*$B$33)","v":0},{"$f":"IF('Операционные затраты'!AB49>Предпосылки!$E$305,\nПредпосылки!$E$305*$B$33,'Операционные затраты'!AB49*$B$33)","v":0}]
[null,null,{"$f":"Предпосылки!C148","v":"Итого"},"тыс. руб.",null,null,null,{"$f":"SUBTOTAL(9,H47:H55)","v":0},{"$f":"SUBTOTAL(9,I47:I55)","v":0},0,0,0,0,0,0,0,0,0,0,0,0,0,0,0,0,0,0,{"$f":"SUBTOTAL(9,AB47:AB55)","v":0}]
[null,null,"ИТОГО НДФЛ 13%","тыс. руб.",null,null,null,{"$f":"H44+H56","v":0},{"$f":"I44+I56","v":0},0,0,0,0,0,0,0,0,0,0,0,0,0,0,0,0,0,0,{"$f":"AB44+AB56","v":0}]
[null,null,"Доля от всего начисленного НДФЛ","%",null,null,null,{"$f":"IFERROR(H57/H$122,0)","v":0},{"$f":"IFERROR(I57/I$122,0)","v":0},0,0,0,0,0,0,0,0,0,0,0,0,0,0,0,0,0,0,{"$f":"IFERROR(AB57/AB$122,0)","v":0}]
[]
[null,{"$f":"Предпосылки!C306","v":0.15},"(доход от 2,4 млн руб. до 5 млн руб.)  "]
[null,{"$f":"B46","v":"Сотрудники с ФОТ более или равно 2979 тыс. рублей/год (каждый указывается отдельно)"}]
[null,null,{"$f":"C47","v":"Производственный персонал"},"тыс. руб.",null,null,null,{"$f":"SUBTOTAL(9,H63:H64)","v":0},{"$f":"SUBTOTAL(9,I63:I64)","v":0},0,0,0,0,0,0,0,0,0,0,0,0,0,0,0,0,0,0,{"$f":"SUBTOTAL(9,AB63:AB64)","v":0}]
[null,null,"Сотрудник 1 ","тыс. руб.",null,null,null,{"$f":"IF(H48=0,0,\nIF('Операционные затраты'!H42<Предпосылки!$D$306,0,\nIF('Операционные затраты'!H42>Предпосылки!$E$306,\n(Предпосылки!$E$306-Предпосылки!$E$305)*$B$60,('Операционные затраты'!H42-Предпосылки!$E$305)*$B$60)))","v":0},{"$f":"IF(I48=0,0,\nIF('Операционные затраты'!I42<Предпосылки!$D$306,0,\nIF('Операционные затраты'!I42>Предпосылки!$E$306,\n(Предпосылки!$E$306-Предпосылки!$E$305)*$B$60,('Операционные затраты'!I42-Предпосылки!$E$305)*$B$60)))","v":0},{"$f":"IF(J48=0,0,\nIF('Операционные затраты'!J42<Предпосылки!$D$306,0,\nIF('Операционные затраты'!J42>Предпосылки!$E$306,\n(Предпосылки!$E$306-Предпосылки!$E$305)*$B$60,('Операционные затраты'!J42-Предпосылки!$E$305)*$B$60)))","v":0},{"$f":"IF(K48=0,0,\nIF('Операционные затраты'!K42<Предпосылки!$D$306,0,\nIF('Операционные затраты'!K42>Предпосылки!$E$306,\n(Предпосылки!$E$306-Предпосылки!$E$305)*$B$60,('Операционные затраты'!K42-Предпосылки!$E$305)*$B$60)))","v":0},{"$f":"IF(L48=0,0,\nIF('Операционные затраты'!L42<Предпосылки!$D$306,0,\nIF('Операционные затраты'!L42>Предпосылки!$E$306,\n(Предпосылки!$E$306-Предпосылки!$E$305)*$B$60,('Операционные затраты'!L42-Предпосылки!$E$305)*$B$60)))","v":0},{"$f":"IF(M48=0,0,\nIF('Операционные затраты'!M42<Предпосылки!$D$306,0,\nIF('Операционные затраты'!M42>Предпосылки!$E$306,\n(Предпосылки!$E$306-Предпосылки!$E$305)*$B$60,('Операционные затраты'!M42-Предпосылки!$E$305)*$B$60)))","v":0},{"$f":"IF(N48=0,0,\nIF('Операционные затраты'!N42<Предпосылки!$D$306,0,\nIF('Операционные затраты'!N42>Предпосылки!$E$306,\n(Предпосылки!$E$306-Предпосылки!$E$305)*$B$60,('Операционные затраты'!N42-Предпосылки!$E$305)*$B$60)))","v":0},{"$f":"IF(O48=0,0,\nIF('Операционные затраты'!O42<Предпосылки!$D$306,0,\nIF('Операционные затраты'!O42>Предпосылки!$E$306,\n(Предпосылки!$E$306-Предпосылки!$E$305)*$B$60,('Операционные затраты'!O42-Предпосылки!$E$305)*$B$60)))","v":0},{"$f":"IF(P48=0,0,\nIF('Операционные затраты'!P42<Предпосылки!$D$306,0,\nIF('Операционные затраты'!P42>Предпосылки!$E$306,\n(Предпосылки!$E$306-Предпосылки!$E$305)*$B$60,('Операционные затраты'!P42-Предпосылки!$E$305)*$B$60)))","v":0},{"$f":"IF(Q48=0,0,\nIF('Операционные затраты'!Q42<Предпосылки!$D$306,0,\nIF('Операционные затраты'!Q42>Предпосылки!$E$306,\n(Предпосылки!$E$306-Предпосылки!$E$305)*$B$60,('Операционные затраты'!Q42-Предпосылки!$E$305)*$B$60)))","v":0},{"$f":"IF(R48=0,0,\nIF('Операционные затраты'!R42<Предпосылки!$D$306,0,\nIF('Операционные затраты'!R42>Предпосылки!$E$306,\n(Предпосылки!$E$306-Предпосылки!$E$305)*$B$60,('Операционные затраты'!R42-Предпосылки!$E$305)*$B$60)))","v":0},{"$f":"IF(S48=0,0,\nIF('Операционные затраты'!S42<Предпосылки!$D$306,0,\nIF('Операционные затраты'!S42>Предпосылки!$E$306,\n(Предпосылки!$E$306-Предпосылки!$E$305)*$B$60,('Операционные затраты'!S42-Предпосылки!$E$305)*$B$60)))","v":0},{"$f":"IF(T48=0,0,\nIF('Операционные затраты'!T42<Предпосылки!$D$306,0,\nIF('Операционные затраты'!T42>Предпосылки!$E$306,\n(Предпосылки!$E$306-Предпосылки!$E$305)*$B$60,('Операционные затраты'!T42-Предпосылки!$E$305)*$B$60)))","v":0},{"$f":"IF(U48=0,0,\nIF('Операционные затраты'!U42<Предпосылки!$D$306,0,\nIF('Операционные затраты'!U42>Предпосылки!$E$306,\n(Предпосылки!$E$306-Предпосылки!$E$305)*$B$60,('Операционные затраты'!U42-Предпосылки!$E$305)*$B$60)))","v":0},{"$f":"IF(V48=0,0,\nIF('Операционные затраты'!V42<Предпосылки!$D$306,0,\nIF('Операционные затраты'!V42>Предпосылки!$E$306,\n(Предпосылки!$E$306-Предпосылки!$E$305)*$B$60,('Операционные затраты'!V42-Предпосылки!$E$305)*$B$60)))","v":0},{"$f":"IF(W48=0,0,\nIF('Операционные затраты'!W42<Предпосылки!$D$306,0,\nIF('Операционные затраты'!W42>Предпосылки!$E$306,\n(Предпосылки!$E$306-Предпосылки!$E$305)*$B$60,('Операционные затраты'!W42-Предпосылки!$E$305)*$B$60)))","v":0},{"$f":"IF(X48=0,0,\nIF('Операционные затраты'!X42<Предпосылки!$D$306,0,\nIF('Операционные затраты'!X42>Предпосылки!$E$306,\n(Предпосылки!$E$306-Предпосылки!$E$305)*$B$60,('Операционные затраты'!X42-Предпосылки!$E$305)*$B$60)))","v":0},{"$f":"IF(Y48=0,0,\nIF('Операционные затраты'!Y42<Предпосылки!$D$306,0,\nIF('Операционные затраты'!Y42>Предпосылки!$E$306,\n(Предпосылки!$E$306-Предпосылки!$E$305)*$B$60,('Операционные затраты'!Y42-Предпосылки!$E$305)*$B$60)))","v":0},{"$f":"IF(Z48=0,0,\nIF('Операционные затраты'!Z42<Предпосылки!$D$306,0,\nIF('Операционные затраты'!Z42>Предпосылки!$E$306,\n(Предпосылки!$E$306-Предпосылки!$E$305)*$B$60,('Операционные затраты'!Z42-Предпосылки!$E$305)*$B$60)))","v":0},{"$f":"IF(AA48=0,0,\nIF('Операционные затраты'!AA42<Предпосылки!$D$306,0,\nIF('Операционные затраты'!AA42>Предпосылки!$E$306,\n(Предпосылки!$E$306-Предпосылки!$E$305)*$B$60,('Операционные затраты'!AA42-Предпосылки!$E$305)*$B$60)))","v":0},{"$f":"IF(AB48=0,0,\nIF('Операционные затраты'!AB42<Предпосылки!$D$306,0,\nIF('Операционные затраты'!AB42>Предпосылки!$E$306,\n(Предпосылки!$E$306-Предпосылки!$E$305)*$B$60,('Операционные затраты'!AB42-Предпосылки!$E$305)*$B$60)))","v":0}]
[null,null,"…","тыс. руб.",null,null,null,{"$f":"IF(H49=0,0,\nIF('Операционные затраты'!H43<Предпосылки!$D$306,0,\nIF('Операционные затраты'!H43>Предпосылки!$E$306,\n(Предпосылки!$E$306-Предпосылки!$E$305)*$B$60,('Операционные затраты'!H43-Предпосылки!$E$305)*$B$60)))","v":0},{"$f":"IF(I49=0,0,\nIF('Операционные затраты'!I43<Предпосылки!$D$306,0,\nIF('Операционные затраты'!I43>Предпосылки!$E$306,\n(Предпосылки!$E$306-Предпосылки!$E$305)*$B$60,('Операционные затраты'!I43-Предпосылки!$E$305)*$B$60)))","v":0},{"$f":"IF(J49=0,0,\nIF('Операционные затраты'!J43<Предпосылки!$D$306,0,\nIF('Операционные затраты'!J43>Предпосылки!$E$306,\n(Предпосылки!$E$306-Предпосылки!$E$305)*$B$60,('Операционные затраты'!J43-Предпосылки!$E$305)*$B$60)))","v":0},{"$f":"IF(K49=0,0,\nIF('Операционные затраты'!K43<Предпосылки!$D$306,0,\nIF('Операционные затраты'!K43>Предпосылки!$E$306,\n(Предпосылки!$E$306-Предпосылки!$E$305)*$B$60,('Операционные затраты'!K43-Предпосылки!$E$305)*$B$60)))","v":0},{"$f":"IF(L49=0,0,\nIF('Операционные затраты'!L43<Предпосылки!$D$306,0,\nIF('Операционные затраты'!L43>Предпосылки!$E$306,\n(Предпосылки!$E$306-Предпосылки!$E$305)*$B$60,('Операционные затраты'!L43-Предпосылки!$E$305)*$B$60)))","v":0},{"$f":"IF(M49=0,0,\nIF('Операционные затраты'!M43<Предпосылки!$D$306,0,\nIF('Операционные затраты'!M43>Предпосылки!$E$306,\n(Предпосылки!$E$306-Предпосылки!$E$305)*$B$60,('Операционные затраты'!M43-Предпосылки!$E$305)*$B$60)))","v":0},{"$f":"IF(N49=0,0,\nIF('Операционные затраты'!N43<Предпосылки!$D$306,0,\nIF('Операционные затраты'!N43>Предпосылки!$E$306,\n(Предпосылки!$E$306-Предпосылки!$E$305)*$B$60,('Операционные затраты'!N43-Предпосылки!$E$305)*$B$60)))","v":0},{"$f":"IF(O49=0,0,\nIF('Операционные затраты'!O43<Предпосылки!$D$306,0,\nIF('Операционные затраты'!O43>Предпосылки!$E$306,\n(Предпосылки!$E$306-Предпосылки!$E$305)*$B$60,('Операционные затраты'!O43-Предпосылки!$E$305)*$B$60)))","v":0},{"$f":"IF(P49=0,0,\nIF('Операционные затраты'!P43<Предпосылки!$D$306,0,\nIF('Операционные затраты'!P43>Предпосылки!$E$306,\n(Предпосылки!$E$306-Предпосылки!$E$305)*$B$60,('Операционные затраты'!P43-Предпосылки!$E$305)*$B$60)))","v":0},{"$f":"IF(Q49=0,0,\nIF('Операционные затраты'!Q43<Предпосылки!$D$306,0,\nIF('Операционные затраты'!Q43>Предпосылки!$E$306,\n(Предпосылки!$E$306-Предпосылки!$E$305)*$B$60,('Операционные затраты'!Q43-Предпосылки!$E$305)*$B$60)))","v":0},{"$f":"IF(R49=0,0,\nIF('Операционные затраты'!R43<Предпосылки!$D$306,0,\nIF('Операционные затраты'!R43>Предпосылки!$E$306,\n(Предпосылки!$E$306-Предпосылки!$E$305)*$B$60,('Операционные затраты'!R43-Предпосылки!$E$305)*$B$60)))","v":0},{"$f":"IF(S49=0,0,\nIF('Операционные затраты'!S43<Предпосылки!$D$306,0,\nIF('Операционные затраты'!S43>Предпосылки!$E$306,\n(Предпосылки!$E$306-Предпосылки!$E$305)*$B$60,('Операционные затраты'!S43-Предпосылки!$E$305)*$B$60)))","v":0},{"$f":"IF(T49=0,0,\nIF('Операционные затраты'!T43<Предпосылки!$D$306,0,\nIF('Операционные затраты'!T43>Предпосылки!$E$306,\n(Предпосылки!$E$306-Предпосылки!$E$305)*$B$60,('Операционные затраты'!T43-Предпосылки!$E$305)*$B$60)))","v":0},{"$f":"IF(U49=0,0,\nIF('Операционные затраты'!U43<Предпосылки!$D$306,0,\nIF('Операционные затраты'!U43>Предпосылки!$E$306,\n(Предпосылки!$E$306-Предпосылки!$E$305)*$B$60,('Операционные затраты'!U43-Предпосылки!$E$305)*$B$60)))","v":0},{"$f":"IF(V49=0,0,\nIF('Операционные затраты'!V43<Предпосылки!$D$306,0,\nIF('Операционные затраты'!V43>Предпосылки!$E$306,\n(Предпосылки!$E$306-Предпосылки!$E$305)*$B$60,('Операционные затраты'!V43-Предпосылки!$E$305)*$B$60)))","v":0},{"$f":"IF(W49=0,0,\nIF('Операционные затраты'!W43<Предпосылки!$D$306,0,\nIF('Операционные затраты'!W43>Предпосылки!$E$306,\n(Предпосылки!$E$306-Предпосылки!$E$305)*$B$60,('Операционные затраты'!W43-Предпосылки!$E$305)*$B$60)))","v":0},{"$f":"IF(X49=0,0,\nIF('Операционные затраты'!X43<Предпосылки!$D$306,0,\nIF('Операционные затраты'!X43>Предпосылки!$E$306,\n(Предпосылки!$E$306-Предпосылки!$E$305)*$B$60,('Операционные затраты'!X43-Предпосылки!$E$305)*$B$60)))","v":0},{"$f":"IF(Y49=0,0,\nIF('Операционные затраты'!Y43<Предпосылки!$D$306,0,\nIF('Операционные затраты'!Y43>Предпосылки!$E$306,\n(Предпосылки!$E$306-Предпосылки!$E$305)*$B$60,('Операционные затраты'!Y43-Предпосылки!$E$305)*$B$60)))","v":0},{"$f":"IF(Z49=0,0,\nIF('Операционные затраты'!Z43<Предпосылки!$D$306,0,\nIF('Операционные затраты'!Z43>Предпосылки!$E$306,\n(Предпосылки!$E$306-Предпосылки!$E$305)*$B$60,('Операционные затраты'!Z43-Предпосылки!$E$305)*$B$60)))","v":0},{"$f":"IF(AA49=0,0,\nIF('Операционные затраты'!AA43<Предпосылки!$D$306,0,\nIF('Операционные затраты'!AA43>Предпосылки!$E$306,\n(Предпосылки!$E$306-Предпосылки!$E$305)*$B$60,('Операционные затраты'!AA43-Предпосылки!$E$305)*$B$60)))","v":0},{"$f":"IF(AB49=0,0,\nIF('Операционные затраты'!AB43<Предпосылки!$D$306,0,\nIF('Операционные затраты'!AB43>Предпосылки!$E$306,\n(Предпосылки!$E$306-Предпосылки!$E$305)*$B$60,('Операционные затраты'!AB43-Предпосылки!$E$305)*$B$60)))","v":0}]
[null,null,"Вспомогательный персонал","тыс. руб.",null,null,null,{"$f":"SUBTOTAL(9,H66:H67)","v":0},{"$f":"SUBTOTAL(9,I66:I67)","v":0},0,0,0,0,0,0,0,0,0,0,0,0,0,0,0,0,0,0,{"$f":"SUBTOTAL(9,AB66:AB67)","v":0}]
[null,null,"Сотрудник 1 ","тыс. руб.",null,null,null,{"$f":"IF(H51=0,0,\nIF('Операционные затраты'!H45<Предпосылки!$D$306,0,\nIF('Операционные затраты'!H45>Предпосылки!$E$306,\n(Предпосылки!$E$306-Предпосылки!$E$305)*$B$60,('Операционные затраты'!H45-Предпосылки!$E$305)*$B$60)))","v":0},{"$f":"IF(I51=0,0,\nIF('Операционные затраты'!I45<Предпосылки!$D$306,0,\nIF('Операционные затраты'!I45>Предпосылки!$E$306,\n(Предпосылки!$E$306-Предпосылки!$E$305)*$B$60,('Операционные затраты'!I45-Предпосылки!$E$305)*$B$60)))","v":0},{"$f":"IF(J51=0,0,\nIF('Операционные затраты'!J45<Предпосылки!$D$306,0,\nIF('Операционные затраты'!J45>Предпосылки!$E$306,\n(Предпосылки!$E$306-Предпосылки!$E$305)*$B$60,('Операционные затраты'!J45-Предпосылки!$E$305)*$B$60)))","v":0},{"$f":"IF(K51=0,0,\nIF('Операционные затраты'!K45<Предпосылки!$D$306,0,\nIF('Операционные затраты'!K45>Предпосылки!$E$306,\n(Предпосылки!$E$306-Предпосылки!$E$305)*$B$60,('Операционные затраты'!K45-Предпосылки!$E$305)*$B$60)))","v":0},{"$f":"IF(L51=0,0,\nIF('Операционные затраты'!L45<Предпосылки!$D$306,0,\nIF('Операционные затраты'!L45>Предпосылки!$E$306,\n(Предпосылки!$E$306-Предпосылки!$E$305)*$B$60,('Операционные затраты'!L45-Предпосылки!$E$305)*$B$60)))","v":0},{"$f":"IF(M51=0,0,\nIF('Операционные затраты'!M45<Предпосылки!$D$306,0,\nIF('Операционные затраты'!M45>Предпосылки!$E$306,\n(Предпосылки!$E$306-Предпосылки!$E$305)*$B$60,('Операционные затраты'!M45-Предпосылки!$E$305)*$B$60)))","v":0},{"$f":"IF(N51=0,0,\nIF('Операционные затраты'!N45<Предпосылки!$D$306,0,\nIF('Операционные затраты'!N45>Предпосылки!$E$306,\n(Предпосылки!$E$306-Предпосылки!$E$305)*$B$60,('Операционные затраты'!N45-Предпосылки!$E$305)*$B$60)))","v":0},{"$f":"IF(O51=0,0,\nIF('Операционные затраты'!O45<Предпосылки!$D$306,0,\nIF('Операционные затраты'!O45>Предпосылки!$E$306,\n(Предпосылки!$E$306-Предпосылки!$E$305)*$B$60,('Операционные затраты'!O45-Предпосылки!$E$305)*$B$60)))","v":0},{"$f":"IF(P51=0,0,\nIF('Операционные затраты'!P45<Предпосылки!$D$306,0,\nIF('Операционные затраты'!P45>Предпосылки!$E$306,\n(Предпосылки!$E$306-Предпосылки!$E$305)*$B$60,('Операционные затраты'!P45-Предпосылки!$E$305)*$B$60)))","v":0},{"$f":"IF(Q51=0,0,\nIF('Операционные затраты'!Q45<Предпосылки!$D$306,0,\nIF('Операционные затраты'!Q45>Предпосылки!$E$306,\n(Предпосылки!$E$306-Предпосылки!$E$305)*$B$60,('Операционные затраты'!Q45-Предпосылки!$E$305)*$B$60)))","v":0},{"$f":"IF(R51=0,0,\nIF('Операционные затраты'!R45<Предпосылки!$D$306,0,\nIF('Операционные затраты'!R45>Предпосылки!$E$306,\n(Предпосылки!$E$306-Предпосылки!$E$305)*$B$60,('Операционные затраты'!R45-Предпосылки!$E$305)*$B$60)))","v":0},{"$f":"IF(S51=0,0,\nIF('Операционные затраты'!S45<Предпосылки!$D$306,0,\nIF('Операционные затраты'!S45>Предпосылки!$E$306,\n(Предпосылки!$E$306-Предпосылки!$E$305)*$B$60,('Операционные затраты'!S45-Предпосылки!$E$305)*$B$60)))","v":0},{"$f":"IF(T51=0,0,\nIF('Операционные затраты'!T45<Предпосылки!$D$306,0,\nIF('Операционные затраты'!T45>Предпосылки!$E$306,\n(Предпосылки!$E$306-Предпосылки!$E$305)*$B$60,('Операционные затраты'!T45-Предпосылки!$E$305)*$B$60)))","v":0},{"$f":"IF(U51=0,0,\nIF('Операционные затраты'!U45<Предпосылки!$D$306,0,\nIF('Операционные затраты'!U45>Предпосылки!$E$306,\n(Предпосылки!$E$306-Предпосылки!$E$305)*$B$60,('Операционные затраты'!U45-Предпосылки!$E$305)*$B$60)))","v":0},{"$f":"IF(V51=0,0,\nIF('Операционные затраты'!V45<Предпосылки!$D$306,0,\nIF('Операционные затраты'!V45>Предпосылки!$E$306,\n(Предпосылки!$E$306-Предпосылки!$E$305)*$B$60,('Операционные затраты'!V45-Предпосылки!$E$305)*$B$60)))","v":0},{"$f":"IF(W51=0,0,\nIF('Операционные затраты'!W45<Предпосылки!$D$306,0,\nIF('Операционные затраты'!W45>Предпосылки!$E$306,\n(Предпосылки!$E$306-Предпосылки!$E$305)*$B$60,('Операционные затраты'!W45-Предпосылки!$E$305)*$B$60)))","v":0},{"$f":"IF(X51=0,0,\nIF('Операционные затраты'!X45<Предпосылки!$D$306,0,\nIF('Операционные затраты'!X45>Предпосылки!$E$306,\n(Предпосылки!$E$306-Предпосылки!$E$305)*$B$60,('Операционные затраты'!X45-Предпосылки!$E$305)*$B$60)))","v":0},{"$f":"IF(Y51=0,0,\nIF('Операционные затраты'!Y45<Предпосылки!$D$306,0,\nIF('Операционные затраты'!Y45>Предпосылки!$E$306,\n(Предпосылки!$E$306-Предпосылки!$E$305)*$B$60,('Операционные затраты'!Y45-Предпосылки!$E$305)*$B$60)))","v":0},{"$f":"IF(Z51=0,0,\nIF('Операционные затраты'!Z45<Предпосылки!$D$306,0,\nIF('Операционные затраты'!Z45>Предпосылки!$E$306,\n(Предпосылки!$E$306-Предпосылки!$E$305)*$B$60,('Операционные затраты'!Z45-Предпосылки!$E$305)*$B$60)))","v":0},{"$f":"IF(AA51=0,0,\nIF('Операционные затраты'!AA45<Предпосылки!$D$306,0,\nIF('Операционные затраты'!AA45>Предпосылки!$E$306,\n(Предпосылки!$E$306-Предпосылки!$E$305)*$B$60,('Операционные затраты'!AA45-Предпосылки!$E$305)*$B$60)))","v":0},{"$f":"IF(AB51=0,0,\nIF('Операционные затраты'!AB45<Предпосылки!$D$306,0,\nIF('Операционные затраты'!AB45>Предпосылки!$E$306,\n(Предпосылки!$E$306-Предпосылки!$E$305)*$B$60,('Операционные затраты'!AB45-Предпосылки!$E$305)*$B$60)))","v":0}]
[null,null,"…","тыс. руб.",null,null,null,{"$f":"IF(H52=0,0,\nIF('Операционные затраты'!H46<Предпосылки!$D$306,0,\nIF('Операционные затраты'!H46>Предпосылки!$E$306,\n(Предпосылки!$E$306-Предпосылки!$E$305)*$B$60,('Операционные затраты'!H46-Предпосылки!$E$305)*$B$60)))","v":0},{"$f":"IF(I52=0,0,\nIF('Операционные затраты'!I46<Предпосылки!$D$306,0,\nIF('Операционные затраты'!I46>Предпосылки!$E$306,\n(Предпосылки!$E$306-Предпосылки!$E$305)*$B$60,('Операционные затраты'!I46-Предпосылки!$E$305)*$B$60)))","v":0},{"$f":"IF(J52=0,0,\nIF('Операционные затраты'!J46<Предпосылки!$D$306,0,\nIF('Операционные затраты'!J46>Предпосылки!$E$306,\n(Предпосылки!$E$306-Предпосылки!$E$305)*$B$60,('Операционные затраты'!J46-Предпосылки!$E$305)*$B$60)))","v":0},{"$f":"IF(K52=0,0,\nIF('Операционные затраты'!K46<Предпосылки!$D$306,0,\nIF('Операционные затраты'!K46>Предпосылки!$E$306,\n(Предпосылки!$E$306-Предпосылки!$E$305)*$B$60,('Операционные затраты'!K46-Предпосылки!$E$305)*$B$60)))","v":0},{"$f":"IF(L52=0,0,\nIF('Операционные затраты'!L46<Предпосылки!$D$306,0,\nIF('Операционные затраты'!L46>Предпосылки!$E$306,\n(Предпосылки!$E$306-Предпосылки!$E$305)*$B$60,('Операционные затраты'!L46-Предпосылки!$E$305)*$B$60)))","v":0},{"$f":"IF(M52=0,0,\nIF('Операционные затраты'!M46<Предпосылки!$D$306,0,\nIF('Операционные затраты'!M46>Предпосылки!$E$306,\n(Предпосылки!$E$306-Предпосылки!$E$305)*$B$60,('Операционные затраты'!M46-Предпосылки!$E$305)*$B$60)))","v":0},{"$f":"IF(N52=0,0,\nIF('Операционные затраты'!N46<Предпосылки!$D$306,0,\nIF('Операционные затраты'!N46>Предпосылки!$E$306,\n(Предпосылки!$E$306-Предпосылки!$E$305)*$B$60,('Операционные затраты'!N46-Предпосылки!$E$305)*$B$60)))","v":0},{"$f":"IF(O52=0,0,\nIF('Операционные затраты'!O46<Предпосылки!$D$306,0,\nIF('Операционные затраты'!O46>Предпосылки!$E$306,\n(Предпосылки!$E$306-Предпосылки!$E$305)*$B$60,('Операционные затраты'!O46-Предпосылки!$E$305)*$B$60)))","v":0},{"$f":"IF(P52=0,0,\nIF('Операционные затраты'!P46<Предпосылки!$D$306,0,\nIF('Операционные затраты'!P46>Предпосылки!$E$306,\n(Предпосылки!$E$306-Предпосылки!$E$305)*$B$60,('Операционные затраты'!P46-Предпосылки!$E$305)*$B$60)))","v":0},{"$f":"IF(Q52=0,0,\nIF('Операционные затраты'!Q46<Предпосылки!$D$306,0,\nIF('Операционные затраты'!Q46>Предпосылки!$E$306,\n(Предпосылки!$E$306-Предпосылки!$E$305)*$B$60,('Операционные затраты'!Q46-Предпосылки!$E$305)*$B$60)))","v":0},{"$f":"IF(R52=0,0,\nIF('Операционные затраты'!R46<Предпосылки!$D$306,0,\nIF('Операционные затраты'!R46>Предпосылки!$E$306,\n(Предпосылки!$E$306-Предпосылки!$E$305)*$B$60,('Операционные затраты'!R46-Предпосылки!$E$305)*$B$60)))","v":0},{"$f":"IF(S52=0,0,\nIF('Операционные затраты'!S46<Предпосылки!$D$306,0,\nIF('Операционные затраты'!S46>Предпосылки!$E$306,\n(Предпосылки!$E$306-Предпосылки!$E$305)*$B$60,('Операционные затраты'!S46-Предпосылки!$E$305)*$B$60)))","v":0},{"$f":"IF(T52=0,0,\nIF('Операционные затраты'!T46<Предпосылки!$D$306,0,\nIF('Операционные затраты'!T46>Предпосылки!$E$306,\n(Предпосылки!$E$306-Предпосылки!$E$305)*$B$60,('Операционные затраты'!T46-Предпосылки!$E$305)*$B$60)))","v":0},{"$f":"IF(U52=0,0,\nIF('Операционные затраты'!U46<Предпосылки!$D$306,0,\nIF('Операционные затраты'!U46>Предпосылки!$E$306,\n(Предпосылки!$E$306-Предпосылки!$E$305)*$B$60,('Операционные затраты'!U46-Предпосылки!$E$305)*$B$60)))","v":0},{"$f":"IF(V52=0,0,\nIF('Операционные затраты'!V46<Предпосылки!$D$306,0,\nIF('Операционные затраты'!V46>Предпосылки!$E$306,\n(Предпосылки!$E$306-Предпосылки!$E$305)*$B$60,('Операционные затраты'!V46-Предпосылки!$E$305)*$B$60)))","v":0},{"$f":"IF(W52=0,0,\nIF('Операционные затраты'!W46<Предпосылки!$D$306,0,\nIF('Операционные затраты'!W46>Предпосылки!$E$306,\n(Предпосылки!$E$306-Предпосылки!$E$305)*$B$60,('Операционные затраты'!W46-Предпосылки!$E$305)*$B$60)))","v":0},{"$f":"IF(X52=0,0,\nIF('Операционные затраты'!X46<Предпосылки!$D$306,0,\nIF('Операционные затраты'!X46>Предпосылки!$E$306,\n(Предпосылки!$E$306-Предпосылки!$E$305)*$B$60,('Операционные затраты'!X46-Предпосылки!$E$305)*$B$60)))","v":0},{"$f":"IF(Y52=0,0,\nIF('Операционные затраты'!Y46<Предпосылки!$D$306,0,\nIF('Операционные затраты'!Y46>Предпосылки!$E$306,\n(Предпосылки!$E$306-Предпосылки!$E$305)*$B$60,('Операционные затраты'!Y46-Предпосылки!$E$305)*$B$60)))","v":0},{"$f":"IF(Z52=0,0,\nIF('Операционные затраты'!Z46<Предпосылки!$D$306,0,\nIF('Операционные затраты'!Z46>Предпосылки!$E$306,\n(Предпосылки!$E$306-Предпосылки!$E$305)*$B$60,('Операционные затраты'!Z46-Предпосылки!$E$305)*$B$60)))","v":0},{"$f":"IF(AA52=0,0,\nIF('Операционные затраты'!AA46<Предпосылки!$D$306,0,\nIF('Операционные затраты'!AA46>Предпосылки!$E$306,\n(Предпосылки!$E$306-Предпосылки!$E$305)*$B$60,('Операционные затраты'!AA46-Предпосылки!$E$305)*$B$60)))","v":0},{"$f":"IF(AB52=0,0,\nIF('Операционные затраты'!AB46<Предпосылки!$D$306,0,\nIF('Операционные затраты'!AB46>Предпосылки!$E$306,\n(Предпосылки!$E$306-Предпосылки!$E$305)*$B$60,('Операционные затраты'!AB46-Предпосылки!$E$305)*$B$60)))","v":0}]
[null,null,"Административный персонал","тыс. руб.",null,null,null,{"$f":"SUBTOTAL(9,H69:H70)","v":0},{"$f":"SUBTOTAL(9,I69:I70)","v":0},0,0,0,0,0,0,0,0,0,0,0,0,0,0,0,0,0,0,{"$f":"SUBTOTAL(9,AB69:AB70)","v":0}]
[null,null,"Сотрудник 1 ","тыс. руб.",null,null,null,{"$f":"IF(H54=0,0,\nIF('Операционные затраты'!H48<Предпосылки!$D$306,0,\nIF('Операционные затраты'!H48>Предпосылки!$E$306,\n(Предпосылки!$E$306-Предпосылки!$E$305)*$B$60,('Операционные затраты'!H48-Предпосылки!$E$305)*$B$60)))","v":0},{"$f":"IF(I54=0,0,\nIF('Операционные затраты'!I48<Предпосылки!$D$306,0,\nIF('Операционные затраты'!I48>Предпосылки!$E$306,\n(Предпосылки!$E$306-Предпосылки!$E$305)*$B$60,('Операционные затраты'!I48-Предпосылки!$E$305)*$B$60)))","v":0},{"$f":"IF(J54=0,0,\nIF('Операционные затраты'!J48<Предпосылки!$D$306,0,\nIF('Операционные затраты'!J48>Предпосылки!$E$306,\n(Предпосылки!$E$306-Предпосылки!$E$305)*$B$60,('Операционные затраты'!J48-Предпосылки!$E$305)*$B$60)))","v":0},{"$f":"IF(K54=0,0,\nIF('Операционные затраты'!K48<Предпосылки!$D$306,0,\nIF('Операционные затраты'!K48>Предпосылки!$E$306,\n(Предпосылки!$E$306-Предпосылки!$E$305)*$B$60,('Операционные затраты'!K48-Предпосылки!$E$305)*$B$60)))","v":0},{"$f":"IF(L54=0,0,\nIF('Операционные затраты'!L48<Предпосылки!$D$306,0,\nIF('Операционные затраты'!L48>Предпосылки!$E$306,\n(Предпосылки!$E$306-Предпосылки!$E$305)*$B$60,('Операционные затраты'!L48-Предпосылки!$E$305)*$B$60)))","v":0},{"$f":"IF(M54=0,0,\nIF('Операционные затраты'!M48<Предпосылки!$D$306,0,\nIF('Операционные затраты'!M48>Предпосылки!$E$306,\n(Предпосылки!$E$306-Предпосылки!$E$305)*$B$60,('Операционные затраты'!M48-Предпосылки!$E$305)*$B$60)))","v":0},{"$f":"IF(N54=0,0,\nIF('Операционные затраты'!N48<Предпосылки!$D$306,0,\nIF('Операционные затраты'!N48>Предпосылки!$E$306,\n(Предпосылки!$E$306-Предпосылки!$E$305)*$B$60,('Операционные затраты'!N48-Предпосылки!$E$305)*$B$60)))","v":0},{"$f":"IF(O54=0,0,\nIF('Операционные затраты'!O48<Предпосылки!$D$306,0,\nIF('Операционные затраты'!O48>Предпосылки!$E$306,\n(Предпосылки!$E$306-Предпосылки!$E$305)*$B$60,('Операционные затраты'!O48-Предпосылки!$E$305)*$B$60)))","v":0},{"$f":"IF(P54=0,0,\nIF('Операционные затраты'!P48<Предпосылки!$D$306,0,\nIF('Операционные затраты'!P48>Предпосылки!$E$306,\n(Предпосылки!$E$306-Предпосылки!$E$305)*$B$60,('Операционные затраты'!P48-Предпосылки!$E$305)*$B$60)))","v":0},{"$f":"IF(Q54=0,0,\nIF('Операционные затраты'!Q48<Предпосылки!$D$306,0,\nIF('Операционные затраты'!Q48>Предпосылки!$E$306,\n(Предпосылки!$E$306-Предпосылки!$E$305)*$B$60,('Операционные затраты'!Q48-Предпосылки!$E$305)*$B$60)))","v":0},{"$f":"IF(R54=0,0,\nIF('Операционные затраты'!R48<Предпосылки!$D$306,0,\nIF('Операционные затраты'!R48>Предпосылки!$E$306,\n(Предпосылки!$E$306-Предпосылки!$E$305)*$B$60,('Операционные затраты'!R48-Предпосылки!$E$305)*$B$60)))","v":0},{"$f":"IF(S54=0,0,\nIF('Операционные затраты'!S48<Предпосылки!$D$306,0,\nIF('Операционные затраты'!S48>Предпосылки!$E$306,\n(Предпосылки!$E$306-Предпосылки!$E$305)*$B$60,('Операционные затраты'!S48-Предпосылки!$E$305)*$B$60)))","v":0},{"$f":"IF(T54=0,0,\nIF('Операционные затраты'!T48<Предпосылки!$D$306,0,\nIF('Операционные затраты'!T48>Предпосылки!$E$306,\n(Предпосылки!$E$306-Предпосылки!$E$305)*$B$60,('Операционные затраты'!T48-Предпосылки!$E$305)*$B$60)))","v":0},{"$f":"IF(U54=0,0,\nIF('Операционные затраты'!U48<Предпосылки!$D$306,0,\nIF('Операционные затраты'!U48>Предпосылки!$E$306,\n(Предпосылки!$E$306-Предпосылки!$E$305)*$B$60,('Операционные затраты'!U48-Предпосылки!$E$305)*$B$60)))","v":0},{"$f":"IF(V54=0,0,\nIF('Операционные затраты'!V48<Предпосылки!$D$306,0,\nIF('Операционные затраты'!V48>Предпосылки!$E$306,\n(Предпосылки!$E$306-Предпосылки!$E$305)*$B$60,('Операционные затраты'!V48-Предпосылки!$E$305)*$B$60)))","v":0},{"$f":"IF(W54=0,0,\nIF('Операционные затраты'!W48<Предпосылки!$D$306,0,\nIF('Операционные затраты'!W48>Предпосылки!$E$306,\n(Предпосылки!$E$306-Предпосылки!$E$305)*$B$60,('Операционные затраты'!W48-Предпосылки!$E$305)*$B$60)))","v":0},{"$f":"IF(X54=0,0,\nIF('Операционные затраты'!X48<Предпосылки!$D$306,0,\nIF('Операционные затраты'!X48>Предпосылки!$E$306,\n(Предпосылки!$E$306-Предпосылки!$E$305)*$B$60,('Операционные затраты'!X48-Предпосылки!$E$305)*$B$60)))","v":0},{"$f":"IF(Y54=0,0,\nIF('Операционные затраты'!Y48<Предпосылки!$D$306,0,\nIF('Операционные затраты'!Y48>Предпосылки!$E$306,\n(Предпосылки!$E$306-Предпосылки!$E$305)*$B$60,('Операционные затраты'!Y48-Предпосылки!$E$305)*$B$60)))","v":0},{"$f":"IF(Z54=0,0,\nIF('Операционные затраты'!Z48<Предпосылки!$D$306,0,\nIF('Операционные затраты'!Z48>Предпосылки!$E$306,\n(Предпосылки!$E$306-Предпосылки!$E$305)*$B$60,('Операционные затраты'!Z48-Предпосылки!$E$305)*$B$60)))","v":0},{"$f":"IF(AA54=0,0,\nIF('Операционные затраты'!AA48<Предпосылки!$D$306,0,\nIF('Операционные затраты'!AA48>Предпосылки!$E$306,\n(Предпосылки!$E$306-Предпосылки!$E$305)*$B$60,('Операционные затраты'!AA48-Предпосылки!$E$305)*$B$60)))","v":0},{"$f":"IF(AB54=0,0,\nIF('Операционные затраты'!AB48<Предпосылки!$D$306,0,\nIF('Операционные затраты'!AB48>Предпосылки!$E$306,\n(Предпосылки!$E$306-Предпосылки!$E$305)*$B$60,('Операционные затраты'!AB48-Предпосылки!$E$305)*$B$60)))","v":0}]
[null,null,"…","тыс. руб.",null,null,null,{"$f":"IF(H55=0,0,\nIF('Операционные затраты'!H49<Предпосылки!$D$306,0,\nIF('Операционные затраты'!H49>Предпосылки!$E$306,\n(Предпосылки!$E$306-Предпосылки!$E$305)*$B$60,('Операционные затраты'!H49-Предпосылки!$E$305)*$B$60)))","v":0},{"$f":"IF(I55=0,0,\nIF('Операционные затраты'!I49<Предпосылки!$D$306,0,\nIF('Операционные затраты'!I49>Предпосылки!$E$306,\n(Предпосылки!$E$306-Предпосылки!$E$305)*$B$60,('Операционные затраты'!I49-Предпосылки!$E$305)*$B$60)))","v":0},{"$f":"IF(J55=0,0,\nIF('Операционные затраты'!J49<Предпосылки!$D$306,0,\nIF('Операционные затраты'!J49>Предпосылки!$E$306,\n(Предпосылки!$E$306-Предпосылки!$E$305)*$B$60,('Операционные затраты'!J49-Предпосылки!$E$305)*$B$60)))","v":0},{"$f":"IF(K55=0,0,\nIF('Операционные затраты'!K49<Предпосылки!$D$306,0,\nIF('Операционные затраты'!K49>Предпосылки!$E$306,\n(Предпосылки!$E$306-Предпосылки!$E$305)*$B$60,('Операционные затраты'!K49-Предпосылки!$E$305)*$B$60)))","v":0},{"$f":"IF(L55=0,0,\nIF('Операционные затраты'!L49<Предпосылки!$D$306,0,\nIF('Операционные затраты'!L49>Предпосылки!$E$306,\n(Предпосылки!$E$306-Предпосылки!$E$305)*$B$60,('Операционные затраты'!L49-Предпосылки!$E$305)*$B$60)))","v":0},{"$f":"IF(M55=0,0,\nIF('Операционные затраты'!M49<Предпосылки!$D$306,0,\nIF('Операционные затраты'!M49>Предпосылки!$E$306,\n(Предпосылки!$E$306-Предпосылки!$E$305)*$B$60,('Операционные затраты'!M49-Предпосылки!$E$305)*$B$60)))","v":0},{"$f":"IF(N55=0,0,\nIF('Операционные затраты'!N49<Предпосылки!$D$306,0,\nIF('Операционные затраты'!N49>Предпосылки!$E$306,\n(Предпосылки!$E$306-Предпосылки!$E$305)*$B$60,('Операционные затраты'!N49-Предпосылки!$E$305)*$B$60)))","v":0},{"$f":"IF(O55=0,0,\nIF('Операционные затраты'!O49<Предпосылки!$D$306,0,\nIF('Операционные затраты'!O49>Предпосылки!$E$306,\n(Предпосылки!$E$306-Предпосылки!$E$305)*$B$60,('Операционные затраты'!O49-Предпосылки!$E$305)*$B$60)))","v":0},{"$f":"IF(P55=0,0,\nIF('Операционные затраты'!P49<Предпосылки!$D$306,0,\nIF('Операционные затраты'!P49>Предпосылки!$E$306,\n(Предпосылки!$E$306-Предпосылки!$E$305)*$B$60,('Операционные затраты'!P49-Предпосылки!$E$305)*$B$60)))","v":0},{"$f":"IF(Q55=0,0,\nIF('Операционные затраты'!Q49<Предпосылки!$D$306,0,\nIF('Операционные затраты'!Q49>Предпосылки!$E$306,\n(Предпосылки!$E$306-Предпосылки!$E$305)*$B$60,('Операционные затраты'!Q49-Предпосылки!$E$305)*$B$60)))","v":0},{"$f":"IF(R55=0,0,\nIF('Операционные затраты'!R49<Предпосылки!$D$306,0,\nIF('Операционные затраты'!R49>Предпосылки!$E$306,\n(Предпосылки!$E$306-Предпосылки!$E$305)*$B$60,('Операционные затраты'!R49-Предпосылки!$E$305)*$B$60)))","v":0},{"$f":"IF(S55=0,0,\nIF('Операционные затраты'!S49<Предпосылки!$D$306,0,\nIF('Операционные затраты'!S49>Предпосылки!$E$306,\n(Предпосылки!$E$306-Предпосылки!$E$305)*$B$60,('Операционные затраты'!S49-Предпосылки!$E$305)*$B$60)))","v":0},{"$f":"IF(T55=0,0,\nIF('Операционные затраты'!T49<Предпосылки!$D$306,0,\nIF('Операционные затраты'!T49>Предпосылки!$E$306,\n(Предпосылки!$E$306-Предпосылки!$E$305)*$B$60,('Операционные затраты'!T49-Предпосылки!$E$305)*$B$60)))","v":0},{"$f":"IF(U55=0,0,\nIF('Операционные затраты'!U49<Предпосылки!$D$306,0,\nIF('Операционные затраты'!U49>Предпосылки!$E$306,\n(Предпосылки!$E$306-Предпосылки!$E$305)*$B$60,('Операционные затраты'!U49-Предпосылки!$E$305)*$B$60)))","v":0},{"$f":"IF(V55=0,0,\nIF('Операционные затраты'!V49<Предпосылки!$D$306,0,\nIF('Операционные затраты'!V49>Предпосылки!$E$306,\n(Предпосылки!$E$306-Предпосылки!$E$305)*$B$60,('Операционные затраты'!V49-Предпосылки!$E$305)*$B$60)))","v":0},{"$f":"IF(W55=0,0,\nIF('Операционные затраты'!W49<Предпосылки!$D$306,0,\nIF('Операционные затраты'!W49>Предпосылки!$E$306,\n(Предпосылки!$E$306-Предпосылки!$E$305)*$B$60,('Операционные затраты'!W49-Предпосылки!$E$305)*$B$60)))","v":0},{"$f":"IF(X55=0,0,\nIF('Операционные затраты'!X49<Предпосылки!$D$306,0,\nIF('Операционные затраты'!X49>Предпосылки!$E$306,\n(Предпосылки!$E$306-Предпосылки!$E$305)*$B$60,('Операционные затраты'!X49-Предпосылки!$E$305)*$B$60)))","v":0},{"$f":"IF(Y55=0,0,\nIF('Операционные затраты'!Y49<Предпосылки!$D$306,0,\nIF('Операционные затраты'!Y49>Предпосылки!$E$306,\n(Предпосылки!$E$306-Предпосылки!$E$305)*$B$60,('Операционные затраты'!Y49-Предпосылки!$E$305)*$B$60)))","v":0},{"$f":"IF(Z55=0,0,\nIF('Операционные затраты'!Z49<Предпосылки!$D$306,0,\nIF('Операционные затраты'!Z49>Предпосылки!$E$306,\n(Предпосылки!$E$306-Предпосылки!$E$305)*$B$60,('Операционные затраты'!Z49-Предпосылки!$E$305)*$B$60)))","v":0},{"$f":"IF(AA55=0,0,\nIF('Операционные затраты'!AA49<Предпосылки!$D$306,0,\nIF('Операционные затраты'!AA49>Предпосылки!$E$306,\n(Предпосылки!$E$306-Предпосылки!$E$305)*$B$60,('Операционные затраты'!AA49-Предпосылки!$E$305)*$B$60)))","v":0},{"$f":"IF(AB55=0,0,\nIF('Операционные затраты'!AB49<Предпосылки!$D$306,0,\nIF('Операционные затраты'!AB49>Предпосылки!$E$306,\n(Предпосылки!$E$306-Предпосылки!$E$305)*$B$60,('Операционные затраты'!AB49-Предпосылки!$E$305)*$B$60)))","v":0}]
[null,null,"Итого","тыс. руб.",null,null,null,{"$f":"SUBTOTAL(9,H62:H70)","v":0},{"$f":"SUBTOTAL(9,I62:I70)","v":0},0,0,0,0,0,0,0,0,0,0,0,0,0,0,0,0,0,0,{"$f":"SUBTOTAL(9,AB62:AB70)","v":0}]
[null,null,"ИТОГО НДФЛ 15%","тыс. руб.",null,null,null,{"$f":"H71","v":0},{"$f":"I71","v":0},0,0,0,0,0,0,0,0,0,0,0,0,0,0,0,0,0,0,{"$f":"AB71","v":0}]
[null,null,"Доля от всего начисленного НДФЛ","%",null,null,null,{"$f":"IFERROR(H72/H$122,0)","v":0},0,0,0,0,0,0,0,0,0,0,0,0,0,0,0,0,0,0,0,{"$f":"IFERROR(AB72/AB$122,0)","v":0}]
[]
[null,{"$f":"Предпосылки!C307","v":0.18},"(доход от 5 млн руб. до 20 млн руб.)"]
[null,{"$f":"B61","v":"Сотрудники с ФОТ более или равно 2979 тыс. рублей/год (каждый указывается отдельно)"}]
[null,null,{"$f":"C62","v":"Производственный персонал"},"тыс. руб.",null,null,null,{"$f":"SUBTOTAL(9,H78:H79)","v":0},{"$f":"SUBTOTAL(9,I78:I79)","v":0},0,0,0,0,0,0,0,0,0,0,0,0,0,0,0,0,0,0,{"$f":"SUBTOTAL(9,AB78:AB79)","v":0}]
[null,null,"Сотрудник 1 ","тыс. руб.",null,null,null,{"$f":"IF(H63=0,0,\nIF('Операционные затраты'!H42<Предпосылки!$D$307,0,\nIF('Операционные затраты'!H42>Предпосылки!$E$307,\n(Предпосылки!$E$307-Предпосылки!$E$306)*$B$75,('Операционные затраты'!H42-Предпосылки!$E$306)*$B$75)))","v":0},{"$f":"IF(I63=0,0,\nIF('Операционные затраты'!I42<Предпосылки!$D$307,0,\nIF('Операционные затраты'!I42>Предпосылки!$E$307,\n(Предпосылки!$E$307-Предпосылки!$E$306)*$B$75,('Операционные затраты'!I42-Предпосылки!$E$306)*$B$75)))","v":0},{"$f":"IF(J63=0,0,\nIF('Операционные затраты'!J42<Предпосылки!$D$307,0,\nIF('Операционные затраты'!J42>Предпосылки!$E$307,\n(Предпосылки!$E$307-Предпосылки!$E$306)*$B$75,('Операционные затраты'!J42-Предпосылки!$E$306)*$B$75)))","v":0},{"$f":"IF(K63=0,0,\nIF('Операционные затраты'!K42<Предпосылки!$D$307,0,\nIF('Операционные затраты'!K42>Предпосылки!$E$307,\n(Предпосылки!$E$307-Предпосылки!$E$306)*$B$75,('Операционные затраты'!K42-Предпосылки!$E$306)*$B$75)))","v":0},{"$f":"IF(L63=0,0,\nIF('Операционные затраты'!L42<Предпосылки!$D$307,0,\nIF('Операционные затраты'!L42>Предпосылки!$E$307,\n(Предпосылки!$E$307-Предпосылки!$E$306)*$B$75,('Операционные затраты'!L42-Предпосылки!$E$306)*$B$75)))","v":0},{"$f":"IF(M63=0,0,\nIF('Операционные затраты'!M42<Предпосылки!$D$307,0,\nIF('Операционные затраты'!M42>Предпосылки!$E$307,\n(Предпосылки!$E$307-Предпосылки!$E$306)*$B$75,('Операционные затраты'!M42-Предпосылки!$E$306)*$B$75)))","v":0},{"$f":"IF(N63=0,0,\nIF('Операционные затраты'!N42<Предпосылки!$D$307,0,\nIF('Операционные затраты'!N42>Предпосылки!$E$307,\n(Предпосылки!$E$307-Предпосылки!$E$306)*$B$75,('Операционные затраты'!N42-Предпосылки!$E$306)*$B$75)))","v":0},{"$f":"IF(O63=0,0,\nIF('Операционные затраты'!O42<Предпосылки!$D$307,0,\nIF('Операционные затраты'!O42>Предпосылки!$E$307,\n(Предпосылки!$E$307-Предпосылки!$E$306)*$B$75,('Операционные затраты'!O42-Предпосылки!$E$306)*$B$75)))","v":0},{"$f":"IF(P63=0,0,\nIF('Операционные затраты'!P42<Предпосылки!$D$307,0,\nIF('Операционные затраты'!P42>Предпосылки!$E$307,\n(Предпосылки!$E$307-Предпосылки!$E$306)*$B$75,('Операционные затраты'!P42-Предпосылки!$E$306)*$B$75)))","v":0},{"$f":"IF(Q63=0,0,\nIF('Операционные затраты'!Q42<Предпосылки!$D$307,0,\nIF('Операционные затраты'!Q42>Предпосылки!$E$307,\n(Предпосылки!$E$307-Предпосылки!$E$306)*$B$75,('Операционные затраты'!Q42-Предпосылки!$E$306)*$B$75)))","v":0},{"$f":"IF(R63=0,0,\nIF('Операционные затраты'!R42<Предпосылки!$D$307,0,\nIF('Операционные затраты'!R42>Предпосылки!$E$307,\n(Предпосылки!$E$307-Предпосылки!$E$306)*$B$75,('Операционные затраты'!R42-Предпосылки!$E$306)*$B$75)))","v":0},{"$f":"IF(S63=0,0,\nIF('Операционные затраты'!S42<Предпосылки!$D$307,0,\nIF('Операционные затраты'!S42>Предпосылки!$E$307,\n(Предпосылки!$E$307-Предпосылки!$E$306)*$B$75,('Операционные затраты'!S42-Предпосылки!$E$306)*$B$75)))","v":0},{"$f":"IF(T63=0,0,\nIF('Операционные затраты'!T42<Предпосылки!$D$307,0,\nIF('Операционные затраты'!T42>Предпосылки!$E$307,\n(Предпосылки!$E$307-Предпосылки!$E$306)*$B$75,('Операционные затраты'!T42-Предпосылки!$E$306)*$B$75)))","v":0},{"$f":"IF(U63=0,0,\nIF('Операционные затраты'!U42<Предпосылки!$D$307,0,\nIF('Операционные затраты'!U42>Предпосылки!$E$307,\n(Предпосылки!$E$307-Предпосылки!$E$306)*$B$75,('Операционные затраты'!U42-Предпосылки!$E$306)*$B$75)))","v":0},{"$f":"IF(V63=0,0,\nIF('Операционные затраты'!V42<Предпосылки!$D$307,0,\nIF('Операционные затраты'!V42>Предпосылки!$E$307,\n(Предпосылки!$E$307-Предпосылки!$E$306)*$B$75,('Операционные затраты'!V42-Предпосылки!$E$306)*$B$75)))","v":0},{"$f":"IF(W63=0,0,\nIF('Операционные затраты'!W42<Предпосылки!$D$307,0,\nIF('Операционные затраты'!W42>Предпосылки!$E$307,\n(Предпосылки!$E$307-Предпосылки!$E$306)*$B$75,('Операционные затраты'!W42-Предпосылки!$E$306)*$B$75)))","v":0},{"$f":"IF(X63=0,0,\nIF('Операционные затраты'!X42<Предпосылки!$D$307,0,\nIF('Операционные затраты'!X42>Предпосылки!$E$307,\n(Предпосылки!$E$307-Предпосылки!$E$306)*$B$75,('Операционные затраты'!X42-Предпосылки!$E$306)*$B$75)))","v":0},{"$f":"IF(Y63=0,0,\nIF('Операционные затраты'!Y42<Предпосылки!$D$307,0,\nIF('Операционные затраты'!Y42>Предпосылки!$E$307,\n(Предпосылки!$E$307-Предпосылки!$E$306)*$B$75,('Операционные затраты'!Y42-Предпосылки!$E$306)*$B$75)))","v":0},{"$f":"IF(Z63=0,0,\nIF('Операционные затраты'!Z42<Предпосылки!$D$307,0,\nIF('Операционные затраты'!Z42>Предпосылки!$E$307,\n(Предпосылки!$E$307-Предпосылки!$E$306)*$B$75,('Операционные затраты'!Z42-Предпосылки!$E$306)*$B$75)))","v":0},{"$f":"IF(AA63=0,0,\nIF('Операционные затраты'!AA42<Предпосылки!$D$307,0,\nIF('Операционные затраты'!AA42>Предпосылки!$E$307,\n(Предпосылки!$E$307-Предпосылки!$E$306)*$B$75,('Операционные затраты'!AA42-Предпосылки!$E$306)*$B$75)))","v":0},{"$f":"IF(AB63=0,0,\nIF('Операционные затраты'!AB42<Предпосылки!$D$307,0,\nIF('Операционные затраты'!AB42>Предпосылки!$E$307,\n(Предпосылки!$E$307-Предпосылки!$E$306)*$B$75,('Операционные затраты'!AB42-Предпосылки!$E$306)*$B$75)))","v":0}]
[null,null,"…","тыс. руб.",null,null,null,{"$f":"IF(H64=0,0,\nIF('Операционные затраты'!H43<Предпосылки!$D$307,0,\nIF('Операционные затраты'!H43>Предпосылки!$E$307,\n(Предпосылки!$E$307-Предпосылки!$E$306)*$B$75,('Операционные затраты'!H43-Предпосылки!$E$306)*$B$75)))","v":0},{"$f":"IF(I64=0,0,\nIF('Операционные затраты'!I43<Предпосылки!$D$307,0,\nIF('Операционные затраты'!I43>Предпосылки!$E$307,\n(Предпосылки!$E$307-Предпосылки!$E$306)*$B$75,('Операционные затраты'!I43-Предпосылки!$E$306)*$B$75)))","v":0},{"$f":"IF(J64=0,0,\nIF('Операционные затраты'!J43<Предпосылки!$D$307,0,\nIF('Операционные затраты'!J43>Предпосылки!$E$307,\n(Предпосылки!$E$307-Предпосылки!$E$306)*$B$75,('Операционные затраты'!J43-Предпосылки!$E$306)*$B$75)))","v":0},{"$f":"IF(K64=0,0,\nIF('Операционные затраты'!K43<Предпосылки!$D$307,0,\nIF('Операционные затраты'!K43>Предпосылки!$E$307,\n(Предпосылки!$E$307-Предпосылки!$E$306)*$B$75,('Операционные затраты'!K43-Предпосылки!$E$306)*$B$75)))","v":0},{"$f":"IF(L64=0,0,\nIF('Операционные затраты'!L43<Предпосылки!$D$307,0,\nIF('Операционные затраты'!L43>Предпосылки!$E$307,\n(Предпосылки!$E$307-Предпосылки!$E$306)*$B$75,('Операционные затраты'!L43-Предпосылки!$E$306)*$B$75)))","v":0},{"$f":"IF(M64=0,0,\nIF('Операционные затраты'!M43<Предпосылки!$D$307,0,\nIF('Операционные затраты'!M43>Предпосылки!$E$307,\n(Предпосылки!$E$307-Предпосылки!$E$306)*$B$75,('Операционные затраты'!M43-Предпосылки!$E$306)*$B$75)))","v":0},{"$f":"IF(N64=0,0,\nIF('Операционные затраты'!N43<Предпосылки!$D$307,0,\nIF('Операционные затраты'!N43>Предпосылки!$E$307,\n(Предпосылки!$E$307-Предпосылки!$E$306)*$B$75,('Операционные затраты'!N43-Предпосылки!$E$306)*$B$75)))","v":0},{"$f":"IF(O64=0,0,\nIF('Операционные затраты'!O43<Предпосылки!$D$307,0,\nIF('Операционные затраты'!O43>Предпосылки!$E$307,\n(Предпосылки!$E$307-Предпосылки!$E$306)*$B$75,('Операционные затраты'!O43-Предпосылки!$E$306)*$B$75)))","v":0},{"$f":"IF(P64=0,0,\nIF('Операционные затраты'!P43<Предпосылки!$D$307,0,\nIF('Операционные затраты'!P43>Предпосылки!$E$307,\n(Предпосылки!$E$307-Предпосылки!$E$306)*$B$75,('Операционные затраты'!P43-Предпосылки!$E$306)*$B$75)))","v":0},{"$f":"IF(Q64=0,0,\nIF('Операционные затраты'!Q43<Предпосылки!$D$307,0,\nIF('Операционные затраты'!Q43>Предпосылки!$E$307,\n(Предпосылки!$E$307-Предпосылки!$E$306)*$B$75,('Операционные затраты'!Q43-Предпосылки!$E$306)*$B$75)))","v":0},{"$f":"IF(R64=0,0,\nIF('Операционные затраты'!R43<Предпосылки!$D$307,0,\nIF('Операционные затраты'!R43>Предпосылки!$E$307,\n(Предпосылки!$E$307-Предпосылки!$E$306)*$B$75,('Операционные затраты'!R43-Предпосылки!$E$306)*$B$75)))","v":0},{"$f":"IF(S64=0,0,\nIF('Операционные затраты'!S43<Предпосылки!$D$307,0,\nIF('Операционные затраты'!S43>Предпосылки!$E$307,\n(Предпосылки!$E$307-Предпосылки!$E$306)*$B$75,('Операционные затраты'!S43-Предпосылки!$E$306)*$B$75)))","v":0},{"$f":"IF(T64=0,0,\nIF('Операционные затраты'!T43<Предпосылки!$D$307,0,\nIF('Операционные затраты'!T43>Предпосылки!$E$307,\n(Предпосылки!$E$307-Предпосылки!$E$306)*$B$75,('Операционные затраты'!T43-Предпосылки!$E$306)*$B$75)))","v":0},{"$f":"IF(U64=0,0,\nIF('Операционные затраты'!U43<Предпосылки!$D$307,0,\nIF('Операционные затраты'!U43>Предпосылки!$E$307,\n(Предпосылки!$E$307-Предпосылки!$E$306)*$B$75,('Операционные затраты'!U43-Предпосылки!$E$306)*$B$75)))","v":0},{"$f":"IF(V64=0,0,\nIF('Операционные затраты'!V43<Предпосылки!$D$307,0,\nIF('Операционные затраты'!V43>Предпосылки!$E$307,\n(Предпосылки!$E$307-Предпосылки!$E$306)*$B$75,('Операционные затраты'!V43-Предпосылки!$E$306)*$B$75)))","v":0},{"$f":"IF(W64=0,0,\nIF('Операционные затраты'!W43<Предпосылки!$D$307,0,\nIF('Операционные затраты'!W43>Предпосылки!$E$307,\n(Предпосылки!$E$307-Предпосылки!$E$306)*$B$75,('Операционные затраты'!W43-Предпосылки!$E$306)*$B$75)))","v":0},{"$f":"IF(X64=0,0,\nIF('Операционные затраты'!X43<Предпосылки!$D$307,0,\nIF('Операционные затраты'!X43>Предпосылки!$E$307,\n(Предпосылки!$E$307-Предпосылки!$E$306)*$B$75,('Операционные затраты'!X43-Предпосылки!$E$306)*$B$75)))","v":0},{"$f":"IF(Y64=0,0,\nIF('Операционные затраты'!Y43<Предпосылки!$D$307,0,\nIF('Операционные затраты'!Y43>Предпосылки!$E$307,\n(Предпосылки!$E$307-Предпосылки!$E$306)*$B$75,('Операционные затраты'!Y43-Предпосылки!$E$306)*$B$75)))","v":0},{"$f":"IF(Z64=0,0,\nIF('Операционные затраты'!Z43<Предпосылки!$D$307,0,\nIF('Операционные затраты'!Z43>Предпосылки!$E$307,\n(Предпосылки!$E$307-Предпосылки!$E$306)*$B$75,('Операционные затраты'!Z43-Предпосылки!$E$306)*$B$75)))","v":0},{"$f":"IF(AA64=0,0,\nIF('Операционные затраты'!AA43<Предпосылки!$D$307,0,\nIF('Операционные затраты'!AA43>Предпосылки!$E$307,\n(Предпосылки!$E$307-Предпосылки!$E$306)*$B$75,('Операционные затраты'!AA43-Предпосылки!$E$306)*$B$75)))","v":0},{"$f":"IF(AB64=0,0,\nIF('Операционные затраты'!AB43<Предпосылки!$D$307,0,\nIF('Операционные затраты'!AB43>Предпосылки!$E$307,\n(Предпосылки!$E$307-Предпосылки!$E$306)*$B$75,('Операционные затраты'!AB43-Предпосылки!$E$306)*$B$75)))","v":0}]
[null,null,"Вспомогательный персонал","тыс. руб.",null,null,null,{"$f":"SUBTOTAL(9,H81:H82)","v":0},{"$f":"SUBTOTAL(9,I81:I82)","v":0},0,0,0,0,0,0,0,0,0,0,0,0,0,0,0,0,0,0,{"$f":"SUBTOTAL(9,AB81:AB82)","v":0}]
[null,null,"Сотрудник 1 ","тыс. руб.",null,null,null,{"$f":"IF(H66=0,0,\nIF('Операционные затраты'!H45<Предпосылки!$D$307,0,\nIF('Операционные затраты'!H45>Предпосылки!$E$307,\n(Предпосылки!$E$307-Предпосылки!$E$306)*$B$75,('Операционные затраты'!H45-Предпосылки!$E$306)*$B$75)))","v":0},{"$f":"IF(I66=0,0,\nIF('Операционные затраты'!I45<Предпосылки!$D$307,0,\nIF('Операционные затраты'!I45>Предпосылки!$E$307,\n(Предпосылки!$E$307-Предпосылки!$E$306)*$B$75,('Операционные затраты'!I45-Предпосылки!$E$306)*$B$75)))","v":0},{"$f":"IF(J66=0,0,\nIF('Операционные затраты'!J45<Предпосылки!$D$307,0,\nIF('Операционные затраты'!J45>Предпосылки!$E$307,\n(Предпосылки!$E$307-Предпосылки!$E$306)*$B$75,('Операционные затраты'!J45-Предпосылки!$E$306)*$B$75)))","v":0},{"$f":"IF(K66=0,0,\nIF('Операционные затраты'!K45<Предпосылки!$D$307,0,\nIF('Операционные затраты'!K45>Предпосылки!$E$307,\n(Предпосылки!$E$307-Предпосылки!$E$306)*$B$75,('Операционные затраты'!K45-Предпосылки!$E$306)*$B$75)))","v":0},{"$f":"IF(L66=0,0,\nIF('Операционные затраты'!L45<Предпосылки!$D$307,0,\nIF('Операционные затраты'!L45>Предпосылки!$E$307,\n(Предпосылки!$E$307-Предпосылки!$E$306)*$B$75,('Операционные затраты'!L45-Предпосылки!$E$306)*$B$75)))","v":0},{"$f":"IF(M66=0,0,\nIF('Операционные затраты'!M45<Предпосылки!$D$307,0,\nIF('Операционные затраты'!M45>Предпосылки!$E$307,\n(Предпосылки!$E$307-Предпосылки!$E$306)*$B$75,('Операционные затраты'!M45-Предпосылки!$E$306)*$B$75)))","v":0},{"$f":"IF(N66=0,0,\nIF('Операционные затраты'!N45<Предпосылки!$D$307,0,\nIF('Операционные затраты'!N45>Предпосылки!$E$307,\n(Предпосылки!$E$307-Предпосылки!$E$306)*$B$75,('Операционные затраты'!N45-Предпосылки!$E$306)*$B$75)))","v":0},{"$f":"IF(O66=0,0,\nIF('Операционные затраты'!O45<Предпосылки!$D$307,0,\nIF('Операционные затраты'!O45>Предпосылки!$E$307,\n(Предпосылки!$E$307-Предпосылки!$E$306)*$B$75,('Операционные затраты'!O45-Предпосылки!$E$306)*$B$75)))","v":0},{"$f":"IF(P66=0,0,\nIF('Операционные затраты'!P45<Предпосылки!$D$307,0,\nIF('Операционные затраты'!P45>Предпосылки!$E$307,\n(Предпосылки!$E$307-Предпосылки!$E$306)*$B$75,('Операционные затраты'!P45-Предпосылки!$E$306)*$B$75)))","v":0},{"$f":"IF(Q66=0,0,\nIF('Операционные затраты'!Q45<Предпосылки!$D$307,0,\nIF('Операционные затраты'!Q45>Предпосылки!$E$307,\n(Предпосылки!$E$307-Предпосылки!$E$306)*$B$75,('Операционные затраты'!Q45-Предпосылки!$E$306)*$B$75)))","v":0},{"$f":"IF(R66=0,0,\nIF('Операционные затраты'!R45<Предпосылки!$D$307,0,\nIF('Операционные затраты'!R45>Предпосылки!$E$307,\n(Предпосылки!$E$307-Предпосылки!$E$306)*$B$75,('Операционные затраты'!R45-Предпосылки!$E$306)*$B$75)))","v":0},{"$f":"IF(S66=0,0,\nIF('Операционные затраты'!S45<Предпосылки!$D$307,0,\nIF('Операционные затраты'!S45>Предпосылки!$E$307,\n(Предпосылки!$E$307-Предпосылки!$E$306)*$B$75,('Операционные затраты'!S45-Предпосылки!$E$306)*$B$75)))","v":0},{"$f":"IF(T66=0,0,\nIF('Операционные затраты'!T45<Предпосылки!$D$307,0,\nIF('Операционные затраты'!T45>Предпосылки!$E$307,\n(Предпосылки!$E$307-Предпосылки!$E$306)*$B$75,('Операционные затраты'!T45-Предпосылки!$E$306)*$B$75)))","v":0},{"$f":"IF(U66=0,0,\nIF('Операционные затраты'!U45<Предпосылки!$D$307,0,\nIF('Операционные затраты'!U45>Предпосылки!$E$307,\n(Предпосылки!$E$307-Предпосылки!$E$306)*$B$75,('Операционные затраты'!U45-Предпосылки!$E$306)*$B$75)))","v":0},{"$f":"IF(V66=0,0,\nIF('Операционные затраты'!V45<Предпосылки!$D$307,0,\nIF('Операционные затраты'!V45>Предпосылки!$E$307,\n(Предпосылки!$E$307-Предпосылки!$E$306)*$B$75,('Операционные затраты'!V45-Предпосылки!$E$306)*$B$75)))","v":0},{"$f":"IF(W66=0,0,\nIF('Операционные затраты'!W45<Предпосылки!$D$307,0,\nIF('Операционные затраты'!W45>Предпосылки!$E$307,\n(Предпосылки!$E$307-Предпосылки!$E$306)*$B$75,('Операционные затраты'!W45-Предпосылки!$E$306)*$B$75)))","v":0},{"$f":"IF(X66=0,0,\nIF('Операционные затраты'!X45<Предпосылки!$D$307,0,\nIF('Операционные затраты'!X45>Предпосылки!$E$307,\n(Предпосылки!$E$307-Предпосылки!$E$306)*$B$75,('Операционные затраты'!X45-Предпосылки!$E$306)*$B$75)))","v":0},{"$f":"IF(Y66=0,0,\nIF('Операционные затраты'!Y45<Предпосылки!$D$307,0,\nIF('Операционные затраты'!Y45>Предпосылки!$E$307,\n(Предпосылки!$E$307-Предпосылки!$E$306)*$B$75,('Операционные затраты'!Y45-Предпосылки!$E$306)*$B$75)))","v":0},{"$f":"IF(Z66=0,0,\nIF('Операционные затраты'!Z45<Предпосылки!$D$307,0,\nIF('Операционные затраты'!Z45>Предпосылки!$E$307,\n(Предпосылки!$E$307-Предпосылки!$E$306)*$B$75,('Операционные затраты'!Z45-Предпосылки!$E$306)*$B$75)))","v":0},{"$f":"IF(AA66=0,0,\nIF('Операционные затраты'!AA45<Предпосылки!$D$307,0,\nIF('Операционные затраты'!AA45>Предпосылки!$E$307,\n(Предпосылки!$E$307-Предпосылки!$E$306)*$B$75,('Операционные затраты'!AA45-Предпосылки!$E$306)*$B$75)))","v":0},{"$f":"IF(AB66=0,0,\nIF('Операционные затраты'!AB45<Предпосылки!$D$307,0,\nIF('Операционные затраты'!AB45>Предпосылки!$E$307,\n(Предпосылки!$E$307-Предпосылки!$E$306)*$B$75,('Операционные затраты'!AB45-Предпосылки!$E$306)*$B$75)))","v":0}]
[null,null,"…","тыс. руб.",null,null,null,{"$f":"IF(H67=0,0,\nIF('Операционные затраты'!H46<Предпосылки!$D$307,0,\nIF('Операционные затраты'!H46>Предпосылки!$E$307,\n(Предпосылки!$E$307-Предпосылки!$E$306)*$B$75,('Операционные затраты'!H46-Предпосылки!$E$306)*$B$75)))","v":0},{"$f":"IF(I67=0,0,\nIF('Операционные затраты'!I46<Предпосылки!$D$307,0,\nIF('Операционные затраты'!I46>Предпосылки!$E$307,\n(Предпосылки!$E$307-Предпосылки!$E$306)*$B$75,('Операционные затраты'!I46-Предпосылки!$E$306)*$B$75)))","v":0},{"$f":"IF(J67=0,0,\nIF('Операционные затраты'!J46<Предпосылки!$D$307,0,\nIF('Операционные затраты'!J46>Предпосылки!$E$307,\n(Предпосылки!$E$307-Предпосылки!$E$306)*$B$75,('Операционные затраты'!J46-Предпосылки!$E$306)*$B$75)))","v":0},{"$f":"IF(K67=0,0,\nIF('Операционные затраты'!K46<Предпосылки!$D$307,0,\nIF('Операционные затраты'!K46>Предпосылки!$E$307,\n(Предпосылки!$E$307-Предпосылки!$E$306)*$B$75,('Операционные затраты'!K46-Предпосылки!$E$306)*$B$75)))","v":0},{"$f":"IF(L67=0,0,\nIF('Операционные затраты'!L46<Предпосылки!$D$307,0,\nIF('Операционные затраты'!L46>Предпосылки!$E$307,\n(Предпосылки!$E$307-Предпосылки!$E$306)*$B$75,('Операционные затраты'!L46-Предпосылки!$E$306)*$B$75)))","v":0},{"$f":"IF(M67=0,0,\nIF('Операционные затраты'!M46<Предпосылки!$D$307,0,\nIF('Операционные затраты'!M46>Предпосылки!$E$307,\n(Предпосылки!$E$307-Предпосылки!$E$306)*$B$75,('Операционные затраты'!M46-Предпосылки!$E$306)*$B$75)))","v":0},{"$f":"IF(N67=0,0,\nIF('Операционные затраты'!N46<Предпосылки!$D$307,0,\nIF('Операционные затраты'!N46>Предпосылки!$E$307,\n(Предпосылки!$E$307-Предпосылки!$E$306)*$B$75,('Операционные затраты'!N46-Предпосылки!$E$306)*$B$75)))","v":0},{"$f":"IF(O67=0,0,\nIF('Операционные затраты'!O46<Предпосылки!$D$307,0,\nIF('Операционные затраты'!O46>Предпосылки!$E$307,\n(Предпосылки!$E$307-Предпосылки!$E$306)*$B$75,('Операционные затраты'!O46-Предпосылки!$E$306)*$B$75)))","v":0},{"$f":"IF(P67=0,0,\nIF('Операционные затраты'!P46<Предпосылки!$D$307,0,\nIF('Операционные затраты'!P46>Предпосылки!$E$307,\n(Предпосылки!$E$307-Предпосылки!$E$306)*$B$75,('Операционные затраты'!P46-Предпосылки!$E$306)*$B$75)))","v":0},{"$f":"IF(Q67=0,0,\nIF('Операционные затраты'!Q46<Предпосылки!$D$307,0,\nIF('Операционные затраты'!Q46>Предпосылки!$E$307,\n(Предпосылки!$E$307-Предпосылки!$E$306)*$B$75,('Операционные затраты'!Q46-Предпосылки!$E$306)*$B$75)))","v":0},{"$f":"IF(R67=0,0,\nIF('Операционные затраты'!R46<Предпосылки!$D$307,0,\nIF('Операционные затраты'!R46>Предпосылки!$E$307,\n(Предпосылки!$E$307-Предпосылки!$E$306)*$B$75,('Операционные затраты'!R46-Предпосылки!$E$306)*$B$75)))","v":0},{"$f":"IF(S67=0,0,\nIF('Операционные затраты'!S46<Предпосылки!$D$307,0,\nIF('Операционные затраты'!S46>Предпосылки!$E$307,\n(Предпосылки!$E$307-Предпосылки!$E$306)*$B$75,('Операционные затраты'!S46-Предпосылки!$E$306)*$B$75)))","v":0},{"$f":"IF(T67=0,0,\nIF('Операционные затраты'!T46<Предпосылки!$D$307,0,\nIF('Операционные затраты'!T46>Предпосылки!$E$307,\n(Предпосылки!$E$307-Предпосылки!$E$306)*$B$75,('Операционные затраты'!T46-Предпосылки!$E$306)*$B$75)))","v":0},{"$f":"IF(U67=0,0,\nIF('Операционные затраты'!U46<Предпосылки!$D$307,0,\nIF('Операционные затраты'!U46>Предпосылки!$E$307,\n(Предпосылки!$E$307-Предпосылки!$E$306)*$B$75,('Операционные затраты'!U46-Предпосылки!$E$306)*$B$75)))","v":0},{"$f":"IF(V67=0,0,\nIF('Операционные затраты'!V46<Предпосылки!$D$307,0,\nIF('Операционные затраты'!V46>Предпосылки!$E$307,\n(Предпосылки!$E$307-Предпосылки!$E$306)*$B$75,('Операционные затраты'!V46-Предпосылки!$E$306)*$B$75)))","v":0},{"$f":"IF(W67=0,0,\nIF('Операционные затраты'!W46<Предпосылки!$D$307,0,\nIF('Операционные затраты'!W46>Предпосылки!$E$307,\n(Предпосылки!$E$307-Предпосылки!$E$306)*$B$75,('Операционные затраты'!W46-Предпосылки!$E$306)*$B$75)))","v":0},{"$f":"IF(X67=0,0,\nIF('Операционные затраты'!X46<Предпосылки!$D$307,0,\nIF('Операционные затраты'!X46>Предпосылки!$E$307,\n(Предпосылки!$E$307-Предпосылки!$E$306)*$B$75,('Операционные затраты'!X46-Предпосылки!$E$306)*$B$75)))","v":0},{"$f":"IF(Y67=0,0,\nIF('Операционные затраты'!Y46<Предпосылки!$D$307,0,\nIF('Операционные затраты'!Y46>Предпосылки!$E$307,\n(Предпосылки!$E$307-Предпосылки!$E$306)*$B$75,('Операционные затраты'!Y46-Предпосылки!$E$306)*$B$75)))","v":0},{"$f":"IF(Z67=0,0,\nIF('Операционные затраты'!Z46<Предпосылки!$D$307,0,\nIF('Операционные затраты'!Z46>Предпосылки!$E$307,\n(Предпосылки!$E$307-Предпосылки!$E$306)*$B$75,('Операционные затраты'!Z46-Предпосылки!$E$306)*$B$75)))","v":0},{"$f":"IF(AA67=0,0,\nIF('Операционные затраты'!AA46<Предпосылки!$D$307,0,\nIF('Операционные затраты'!AA46>Предпосылки!$E$307,\n(Предпосылки!$E$307-Предпосылки!$E$306)*$B$75,('Операционные затраты'!AA46-Предпосылки!$E$306)*$B$75)))","v":0},{"$f":"IF(AB67=0,0,\nIF('Операционные затраты'!AB46<Предпосылки!$D$307,0,\nIF('Операционные затраты'!AB46>Предпосылки!$E$307,\n(Предпосылки!$E$307-Предпосылки!$E$306)*$B$75,('Операционные затраты'!AB46-Предпосылки!$E$306)*$B$75)))","v":0}]
[null,null,"Административный персонал","тыс. руб.",null,null,null,{"$f":"SUBTOTAL(9,H84:H85)","v":0},{"$f":"SUBTOTAL(9,I84:I85)","v":0},0,0,0,0,0,0,0,0,0,0,0,0,0,0,0,0,0,0,{"$f":"SUBTOTAL(9,AB84:AB85)","v":0}]
[null,null,"Сотрудник 1 ","тыс. руб.",null,null,null,{"$f":"IF(H69=0,0,\nIF('Операционные затраты'!H48<Предпосылки!$D$307,0,\nIF('Операционные затраты'!H48>Предпосылки!$E$307,\n(Предпосылки!$E$307-Предпосылки!$E$306)*$B$75,('Операционные затраты'!H48-Предпосылки!$E$306)*$B$75)))","v":0},{"$f":"IF(I69=0,0,\nIF('Операционные затраты'!I48<Предпосылки!$D$307,0,\nIF('Операционные затраты'!I48>Предпосылки!$E$307,\n(Предпосылки!$E$307-Предпосылки!$E$306)*$B$75,('Операционные затраты'!I48-Предпосылки!$E$306)*$B$75)))","v":0},{"$f":"IF(J69=0,0,\nIF('Операционные затраты'!J48<Предпосылки!$D$307,0,\nIF('Операционные затраты'!J48>Предпосылки!$E$307,\n(Предпосылки!$E$307-Предпосылки!$E$306)*$B$75,('Операционные затраты'!J48-Предпосылки!$E$306)*$B$75)))","v":0},{"$f":"IF(K69=0,0,\nIF('Операционные затраты'!K48<Предпосылки!$D$307,0,\nIF('Операционные затраты'!K48>Предпосылки!$E$307,\n(Предпосылки!$E$307-Предпосылки!$E$306)*$B$75,('Операционные затраты'!K48-Предпосылки!$E$306)*$B$75)))","v":0},{"$f":"IF(L69=0,0,\nIF('Операционные затраты'!L48<Предпосылки!$D$307,0,\nIF('Операционные затраты'!L48>Предпосылки!$E$307,\n(Предпосылки!$E$307-Предпосылки!$E$306)*$B$75,('Операционные затраты'!L48-Предпосылки!$E$306)*$B$75)))","v":0},{"$f":"IF(M69=0,0,\nIF('Операционные затраты'!M48<Предпосылки!$D$307,0,\nIF('Операционные затраты'!M48>Предпосылки!$E$307,\n(Предпосылки!$E$307-Предпосылки!$E$306)*$B$75,('Операционные затраты'!M48-Предпосылки!$E$306)*$B$75)))","v":0},{"$f":"IF(N69=0,0,\nIF('Операционные затраты'!N48<Предпосылки!$D$307,0,\nIF('Операционные затраты'!N48>Предпосылки!$E$307,\n(Предпосылки!$E$307-Предпосылки!$E$306)*$B$75,('Операционные затраты'!N48-Предпосылки!$E$306)*$B$75)))","v":0},{"$f":"IF(O69=0,0,\nIF('Операционные затраты'!O48<Предпосылки!$D$307,0,\nIF('Операционные затраты'!O48>Предпосылки!$E$307,\n(Предпосылки!$E$307-Предпосылки!$E$306)*$B$75,('Операционные затраты'!O48-Предпосылки!$E$306)*$B$75)))","v":0},{"$f":"IF(P69=0,0,\nIF('Операционные затраты'!P48<Предпосылки!$D$307,0,\nIF('Операционные затраты'!P48>Предпосылки!$E$307,\n(Предпосылки!$E$307-Предпосылки!$E$306)*$B$75,('Операционные затраты'!P48-Предпосылки!$E$306)*$B$75)))","v":0},{"$f":"IF(Q69=0,0,\nIF('Операционные затраты'!Q48<Предпосылки!$D$307,0,\nIF('Операционные затраты'!Q48>Предпосылки!$E$307,\n(Предпосылки!$E$307-Предпосылки!$E$306)*$B$75,('Операционные затраты'!Q48-Предпосылки!$E$306)*$B$75)))","v":0},{"$f":"IF(R69=0,0,\nIF('Операционные затраты'!R48<Предпосылки!$D$307,0,\nIF('Операционные затраты'!R48>Предпосылки!$E$307,\n(Предпосылки!$E$307-Предпосылки!$E$306)*$B$75,('Операционные затраты'!R48-Предпосылки!$E$306)*$B$75)))","v":0},{"$f":"IF(S69=0,0,\nIF('Операционные затраты'!S48<Предпосылки!$D$307,0,\nIF('Операционные затраты'!S48>Предпосылки!$E$307,\n(Предпосылки!$E$307-Предпосылки!$E$306)*$B$75,('Операционные затраты'!S48-Предпосылки!$E$306)*$B$75)))","v":0},{"$f":"IF(T69=0,0,\nIF('Операционные затраты'!T48<Предпосылки!$D$307,0,\nIF('Операционные затраты'!T48>Предпосылки!$E$307,\n(Предпосылки!$E$307-Предпосылки!$E$306)*$B$75,('Операционные затраты'!T48-Предпосылки!$E$306)*$B$75)))","v":0},{"$f":"IF(U69=0,0,\nIF('Операционные затраты'!U48<Предпосылки!$D$307,0,\nIF('Операционные затраты'!U48>Предпосылки!$E$307,\n(Предпосылки!$E$307-Предпосылки!$E$306)*$B$75,('Операционные затраты'!U48-Предпосылки!$E$306)*$B$75)))","v":0},{"$f":"IF(V69=0,0,\nIF('Операционные затраты'!V48<Предпосылки!$D$307,0,\nIF('Операционные затраты'!V48>Предпосылки!$E$307,\n(Предпосылки!$E$307-Предпосылки!$E$306)*$B$75,('Операционные затраты'!V48-Предпосылки!$E$306)*$B$75)))","v":0},{"$f":"IF(W69=0,0,\nIF('Операционные затраты'!W48<Предпосылки!$D$307,0,\nIF('Операционные затраты'!W48>Предпосылки!$E$307,\n(Предпосылки!$E$307-Предпосылки!$E$306)*$B$75,('Операционные затраты'!W48-Предпосылки!$E$306)*$B$75)))","v":0},{"$f":"IF(X69=0,0,\nIF('Операционные затраты'!X48<Предпосылки!$D$307,0,\nIF('Операционные затраты'!X48>Предпосылки!$E$307,\n(Предпосылки!$E$307-Предпосылки!$E$306)*$B$75,('Операционные затраты'!X48-Предпосылки!$E$306)*$B$75)))","v":0},{"$f":"IF(Y69=0,0,\nIF('Операционные затраты'!Y48<Предпосылки!$D$307,0,\nIF('Операционные затраты'!Y48>Предпосылки!$E$307,\n(Предпосылки!$E$307-Предпосылки!$E$306)*$B$75,('Операционные затраты'!Y48-Предпосылки!$E$306)*$B$75)))","v":0},{"$f":"IF(Z69=0,0,\nIF('Операционные затраты'!Z48<Предпосылки!$D$307,0,\nIF('Операционные затраты'!Z48>Предпосылки!$E$307,\n(Предпосылки!$E$307-Предпосылки!$E$306)*$B$75,('Операционные затраты'!Z48-Предпосылки!$E$306)*$B$75)))","v":0},{"$f":"IF(AA69=0,0,\nIF('Операционные затраты'!AA48<Предпосылки!$D$307,0,\nIF('Операционные затраты'!AA48>Предпосылки!$E$307,\n(Предпосылки!$E$307-Предпосылки!$E$306)*$B$75,('Операционные затраты'!AA48-Предпосылки!$E$306)*$B$75)))","v":0},{"$f":"IF(AB69=0,0,\nIF('Операционные затраты'!AB48<Предпосылки!$D$307,0,\nIF('Операционные затраты'!AB48>Предпосылки!$E$307,\n(Предпосылки!$E$307-Предпосылки!$E$306)*$B$75,('Операционные затраты'!AB48-Предпосылки!$E$306)*$B$75)))","v":0}]
[null,null,"…","тыс. руб.",null,null,null,{"$f":"IF(H70=0,0,\nIF('Операционные затраты'!H49<Предпосылки!$D$307,0,\nIF('Операционные затраты'!H49>Предпосылки!$E$307,\n(Предпосылки!$E$307-Предпосылки!$E$306)*$B$75,('Операционные затраты'!H49-Предпосылки!$E$306)*$B$75)))","v":0},{"$f":"IF(I70=0,0,\nIF('Операционные затраты'!I49<Предпосылки!$D$307,0,\nIF('Операционные затраты'!I49>Предпосылки!$E$307,\n(Предпосылки!$E$307-Предпосылки!$E$306)*$B$75,('Операционные затраты'!I49-Предпосылки!$E$306)*$B$75)))","v":0},{"$f":"IF(J70=0,0,\nIF('Операционные затраты'!J49<Предпосылки!$D$307,0,\nIF('Операционные затраты'!J49>Предпосылки!$E$307,\n(Предпосылки!$E$307-Предпосылки!$E$306)*$B$75,('Операционные затраты'!J49-Предпосылки!$E$306)*$B$75)))","v":0},{"$f":"IF(K70=0,0,\nIF('Операционные затраты'!K49<Предпосылки!$D$307,0,\nIF('Операционные затраты'!K49>Предпосылки!$E$307,\n(Предпосылки!$E$307-Предпосылки!$E$306)*$B$75,('Операционные затраты'!K49-Предпосылки!$E$306)*$B$75)))","v":0},{"$f":"IF(L70=0,0,\nIF('Операционные затраты'!L49<Предпосылки!$D$307,0,\nIF('Операционные затраты'!L49>Предпосылки!$E$307,\n(Предпосылки!$E$307-Предпосылки!$E$306)*$B$75,('Операционные затраты'!L49-Предпосылки!$E$306)*$B$75)))","v":0},{"$f":"IF(M70=0,0,\nIF('Операционные затраты'!M49<Предпосылки!$D$307,0,\nIF('Операционные затраты'!M49>Предпосылки!$E$307,\n(Предпосылки!$E$307-Предпосылки!$E$306)*$B$75,('Операционные затраты'!M49-Предпосылки!$E$306)*$B$75)))","v":0},{"$f":"IF(N70=0,0,\nIF('Операционные затраты'!N49<Предпосылки!$D$307,0,\nIF('Операционные затраты'!N49>Предпосылки!$E$307,\n(Предпосылки!$E$307-Предпосылки!$E$306)*$B$75,('Операционные затраты'!N49-Предпосылки!$E$306)*$B$75)))","v":0},{"$f":"IF(O70=0,0,\nIF('Операционные затраты'!O49<Предпосылки!$D$307,0,\nIF('Операционные затраты'!O49>Предпосылки!$E$307,\n(Предпосылки!$E$307-Предпосылки!$E$306)*$B$75,('Операционные затраты'!O49-Предпосылки!$E$306)*$B$75)))","v":0},{"$f":"IF(P70=0,0,\nIF('Операционные затраты'!P49<Предпосылки!$D$307,0,\nIF('Операционные затраты'!P49>Предпосылки!$E$307,\n(Предпосылки!$E$307-Предпосылки!$E$306)*$B$75,('Операционные затраты'!P49-Предпосылки!$E$306)*$B$75)))","v":0},{"$f":"IF(Q70=0,0,\nIF('Операционные затраты'!Q49<Предпосылки!$D$307,0,\nIF('Операционные затраты'!Q49>Предпосылки!$E$307,\n(Предпосылки!$E$307-Предпосылки!$E$306)*$B$75,('Операционные затраты'!Q49-Предпосылки!$E$306)*$B$75)))","v":0},{"$f":"IF(R70=0,0,\nIF('Операционные затраты'!R49<Предпосылки!$D$307,0,\nIF('Операционные затраты'!R49>Предпосылки!$E$307,\n(Предпосылки!$E$307-Предпосылки!$E$306)*$B$75,('Операционные затраты'!R49-Предпосылки!$E$306)*$B$75)))","v":0},{"$f":"IF(S70=0,0,\nIF('Операционные затраты'!S49<Предпосылки!$D$307,0,\nIF('Операционные затраты'!S49>Предпосылки!$E$307,\n(Предпосылки!$E$307-Предпосылки!$E$306)*$B$75,('Операционные затраты'!S49-Предпосылки!$E$306)*$B$75)))","v":0},{"$f":"IF(T70=0,0,\nIF('Операционные затраты'!T49<Предпосылки!$D$307,0,\nIF('Операционные затраты'!T49>Предпосылки!$E$307,\n(Предпосылки!$E$307-Предпосылки!$E$306)*$B$75,('Операционные затраты'!T49-Предпосылки!$E$306)*$B$75)))","v":0},{"$f":"IF(U70=0,0,\nIF('Операционные затраты'!U49<Предпосылки!$D$307,0,\nIF('Операционные затраты'!U49>Предпосылки!$E$307,\n(Предпосылки!$E$307-Предпосылки!$E$306)*$B$75,('Операционные затраты'!U49-Предпосылки!$E$306)*$B$75)))","v":0},{"$f":"IF(V70=0,0,\nIF('Операционные затраты'!V49<Предпосылки!$D$307,0,\nIF('Операционные затраты'!V49>Предпосылки!$E$307,\n(Предпосылки!$E$307-Предпосылки!$E$306)*$B$75,('Операционные затраты'!V49-Предпосылки!$E$306)*$B$75)))","v":0},{"$f":"IF(W70=0,0,\nIF('Операционные затраты'!W49<Предпосылки!$D$307,0,\nIF('Операционные затраты'!W49>Предпосылки!$E$307,\n(Предпосылки!$E$307-Предпосылки!$E$306)*$B$75,('Операционные затраты'!W49-Предпосылки!$E$306)*$B$75)))","v":0},{"$f":"IF(X70=0,0,\nIF('Операционные затраты'!X49<Предпосылки!$D$307,0,\nIF('Операционные затраты'!X49>Предпосылки!$E$307,\n(Предпосылки!$E$307-Предпосылки!$E$306)*$B$75,('Операционные затраты'!X49-Предпосылки!$E$306)*$B$75)))","v":0},{"$f":"IF(Y70=0,0,\nIF('Операционные затраты'!Y49<Предпосылки!$D$307,0,\nIF('Операционные затраты'!Y49>Предпосылки!$E$307,\n(Предпосылки!$E$307-Предпосылки!$E$306)*$B$75,('Операционные затраты'!Y49-Предпосылки!$E$306)*$B$75)))","v":0},{"$f":"IF(Z70=0,0,\nIF('Операционные затраты'!Z49<Предпосылки!$D$307,0,\nIF('Операционные затраты'!Z49>Предпосылки!$E$307,\n(Предпосылки!$E$307-Предпосылки!$E$306)*$B$75,('Операционные затраты'!Z49-Предпосылки!$E$306)*$B$75)))","v":0},{"$f":"IF(AA70=0,0,\nIF('Операционные затраты'!AA49<Предпосылки!$D$307,0,\nIF('Операционные затраты'!AA49>Предпосылки!$E$307,\n(Предпосылки!$E$307-Предпосылки!$E$306)*$B$75,('Операционные затраты'!AA49-Предпосылки!$E$306)*$B$75)))","v":0},{"$f":"IF(AB70=0,0,\nIF('Операционные затраты'!AB49<Предпосылки!$D$307,0,\nIF('Операционные затраты'!AB49>Предпосылки!$E$307,\n(Предпосылки!$E$307-Предпосылки!$E$306)*$B$75,('Операционные затраты'!AB49-Предпосылки!$E$306)*$B$75)))","v":0}]
[null,null,"Итого","тыс. руб.",null,null,null,{"$f":"SUBTOTAL(9,H77:H85)","v":0},{"$f":"SUBTOTAL(9,I77:I85)","v":0},0,0,0,0,0,0,0,0,0,0,0,0,0,0,0,0,0,0,{"$f":"SUBTOTAL(9,AB77:AB85)","v":0}]
[null,null,"ИТОГО НДФЛ 18%","тыс. руб.",null,null,null,{"$f":"H86","v":0},{"$f":"I86","v":0},0,0,0,0,0,0,0,0,0,0,0,0,0,0,0,0,0,0,{"$f":"AB86","v":0}]
[null,null,"Доля от всего начисленного НДФЛ","%",null,null,null,{"$f":"IFERROR(H87/H$122,0)","v":0},{"$f":"IFERROR(I87/I$122,0)","v":0},0,0,0,0,0,0,0,0,0,0,0,0,0,0,0,0,0,0,{"$f":"IFERROR(AB87/AB$122,0)","v":0}]
[]
[null,{"$f":"Предпосылки!C308","v":0.2},"(доход от 20 млн руб. до 50 млн руб.)"]
[null,{"$f":"B76","v":"Сотрудники с ФОТ более или равно 2979 тыс. рублей/год (каждый указывается отдельно)"}]
[null,null,{"$f":"C77","v":"Производственный персонал"},"тыс. руб.",null,null,null,{"$f":"SUBTOTAL(9,H93:H94)","v":0},{"$f":"SUBTOTAL(9,I93:I94)","v":0},0,0,0,0,0,0,0,0,0,0,0,0,0,0,0,0,0,0,{"$f":"SUBTOTAL(9,AB93:AB94)","v":0}]
[null,null,"Сотрудник 1 ","тыс. руб.",null,null,null,{"$f":"IF(H78=0,0,\nIF('Операционные затраты'!H42<Предпосылки!$D$308,0,\nIF('Операционные затраты'!H42>Предпосылки!$E$308,\n(Предпосылки!$E$308-Предпосылки!$E$307)*$B$90,('Операционные затраты'!H67-Предпосылки!$E$307)*$B$90)))","v":0},{"$f":"IF(I78=0,0,\nIF('Операционные затраты'!I42<Предпосылки!$D$308,0,\nIF('Операционные затраты'!I42>Предпосылки!$E$308,\n(Предпосылки!$E$308-Предпосылки!$E$307)*$B$90,('Операционные затраты'!I67-Предпосылки!$E$307)*$B$90)))","v":0},{"$f":"IF(J78=0,0,\nIF('Операционные затраты'!J42<Предпосылки!$D$308,0,\nIF('Операционные затраты'!J42>Предпосылки!$E$308,\n(Предпосылки!$E$308-Предпосылки!$E$307)*$B$90,('Операционные затраты'!J67-Предпосылки!$E$307)*$B$90)))","v":0},{"$f":"IF(K78=0,0,\nIF('Операционные затраты'!K42<Предпосылки!$D$308,0,\nIF('Операционные затраты'!K42>Предпосылки!$E$308,\n(Предпосылки!$E$308-Предпосылки!$E$307)*$B$90,('Операционные затраты'!K67-Предпосылки!$E$307)*$B$90)))","v":0},{"$f":"IF(L78=0,0,\nIF('Операционные затраты'!L42<Предпосылки!$D$308,0,\nIF('Операционные затраты'!L42>Предпосылки!$E$308,\n(Предпосылки!$E$308-Предпосылки!$E$307)*$B$90,('Операционные затраты'!L67-Предпосылки!$E$307)*$B$90)))","v":0},{"$f":"IF(M78=0,0,\nIF('Операционные затраты'!M42<Предпосылки!$D$308,0,\nIF('Операционные затраты'!M42>Предпосылки!$E$308,\n(Предпосылки!$E$308-Предпосылки!$E$307)*$B$90,('Операционные затраты'!M67-Предпосылки!$E$307)*$B$90)))","v":0},{"$f":"IF(N78=0,0,\nIF('Операционные затраты'!N42<Предпосылки!$D$308,0,\nIF('Операционные затраты'!N42>Предпосылки!$E$308,\n(Предпосылки!$E$308-Предпосылки!$E$307)*$B$90,('Операционные затраты'!N67-Предпосылки!$E$307)*$B$90)))","v":0},{"$f":"IF(O78=0,0,\nIF('Операционные затраты'!O42<Предпосылки!$D$308,0,\nIF('Операционные затраты'!O42>Предпосылки!$E$308,\n(Предпосылки!$E$308-Предпосылки!$E$307)*$B$90,('Операционные затраты'!O67-Предпосылки!$E$307)*$B$90)))","v":0},{"$f":"IF(P78=0,0,\nIF('Операционные затраты'!P42<Предпосылки!$D$308,0,\nIF('Операционные затраты'!P42>Предпосылки!$E$308,\n(Предпосылки!$E$308-Предпосылки!$E$307)*$B$90,('Операционные затраты'!P67-Предпосылки!$E$307)*$B$90)))","v":0},{"$f":"IF(Q78=0,0,\nIF('Операционные затраты'!Q42<Предпосылки!$D$308,0,\nIF('Операционные затраты'!Q42>Предпосылки!$E$308,\n(Предпосылки!$E$308-Предпосылки!$E$307)*$B$90,('Операционные затраты'!Q67-Предпосылки!$E$307)*$B$90)))","v":0},{"$f":"IF(R78=0,0,\nIF('Операционные затраты'!R42<Предпосылки!$D$308,0,\nIF('Операционные затраты'!R42>Предпосылки!$E$308,\n(Предпосылки!$E$308-Предпосылки!$E$307)*$B$90,('Операционные затраты'!R67-Предпосылки!$E$307)*$B$90)))","v":0},{"$f":"IF(S78=0,0,\nIF('Операционные затраты'!S42<Предпосылки!$D$308,0,\nIF('Операционные затраты'!S42>Предпосылки!$E$308,\n(Предпосылки!$E$308-Предпосылки!$E$307)*$B$90,('Операционные затраты'!S67-Предпосылки!$E$307)*$B$90)))","v":0},{"$f":"IF(T78=0,0,\nIF('Операционные затраты'!T42<Предпосылки!$D$308,0,\nIF('Операционные затраты'!T42>Предпосылки!$E$308,\n(Предпосылки!$E$308-Предпосылки!$E$307)*$B$90,('Операционные затраты'!T67-Предпосылки!$E$307)*$B$90)))","v":0},{"$f":"IF(U78=0,0,\nIF('Операционные затраты'!U42<Предпосылки!$D$308,0,\nIF('Операционные затраты'!U42>Предпосылки!$E$308,\n(Предпосылки!$E$308-Предпосылки!$E$307)*$B$90,('Операционные затраты'!U67-Предпосылки!$E$307)*$B$90)))","v":0},{"$f":"IF(V78=0,0,\nIF('Операционные затраты'!V42<Предпосылки!$D$308,0,\nIF('Операционные затраты'!V42>Предпосылки!$E$308,\n(Предпосылки!$E$308-Предпосылки!$E$307)*$B$90,('Операционные затраты'!V67-Предпосылки!$E$307)*$B$90)))","v":0},{"$f":"IF(W78=0,0,\nIF('Операционные затраты'!W42<Предпосылки!$D$308,0,\nIF('Операционные затраты'!W42>Предпосылки!$E$308,\n(Предпосылки!$E$308-Предпосылки!$E$307)*$B$90,('Операционные затраты'!W67-Предпосылки!$E$307)*$B$90)))","v":0},{"$f":"IF(X78=0,0,\nIF('Операционные затраты'!X42<Предпосылки!$D$308,0,\nIF('Операционные затраты'!X42>Предпосылки!$E$308,\n(Предпосылки!$E$308-Предпосылки!$E$307)*$B$90,('Операционные затраты'!X67-Предпосылки!$E$307)*$B$90)))","v":0},{"$f":"IF(Y78=0,0,\nIF('Операционные затраты'!Y42<Предпосылки!$D$308,0,\nIF('Операционные затраты'!Y42>Предпосылки!$E$308,\n(Предпосылки!$E$308-Предпосылки!$E$307)*$B$90,('Операционные затраты'!Y67-Предпосылки!$E$307)*$B$90)))","v":0},{"$f":"IF(Z78=0,0,\nIF('Операционные затраты'!Z42<Предпосылки!$D$308,0,\nIF('Операционные затраты'!Z42>Предпосылки!$E$308,\n(Предпосылки!$E$308-Предпосылки!$E$307)*$B$90,('Операционные затраты'!Z67-Предпосылки!$E$307)*$B$90)))","v":0},{"$f":"IF(AA78=0,0,\nIF('Операционные затраты'!AA42<Предпосылки!$D$308,0,\nIF('Операционные затраты'!AA42>Предпосылки!$E$308,\n(Предпосылки!$E$308-Предпосылки!$E$307)*$B$90,('Операционные затраты'!AA67-Предпосылки!$E$307)*$B$90)))","v":0},{"$f":"IF(AB78=0,0,\nIF('Операционные затраты'!AB42<Предпосылки!$D$308,0,\nIF('Операционные затраты'!AB42>Предпосылки!$E$308,\n(Предпосылки!$E$308-Предпосылки!$E$307)*$B$90,('Операционные затраты'!AB67-Предпосылки!$E$307)*$B$90)))","v":0}]
[null,null,"…","тыс. руб.",null,null,null,{"$f":"IF(H79=0,0,\nIF('Операционные затраты'!H43<Предпосылки!$D$308,0,\nIF('Операционные затраты'!H43>Предпосылки!$E$308,\n(Предпосылки!$E$308-Предпосылки!$E$307)*$B$90,('Операционные затраты'!H68-Предпосылки!$E$307)*$B$90)))","v":0},{"$f":"IF(I79=0,0,\nIF('Операционные затраты'!I43<Предпосылки!$D$308,0,\nIF('Операционные затраты'!I43>Предпосылки!$E$308,\n(Предпосылки!$E$308-Предпосылки!$E$307)*$B$90,('Операционные затраты'!I68-Предпосылки!$E$307)*$B$90)))","v":0},{"$f":"IF(J79=0,0,\nIF('Операционные затраты'!J43<Предпосылки!$D$308,0,\nIF('Операционные затраты'!J43>Предпосылки!$E$308,\n(Предпосылки!$E$308-Предпосылки!$E$307)*$B$90,('Операционные затраты'!J68-Предпосылки!$E$307)*$B$90)))","v":0},{"$f":"IF(K79=0,0,\nIF('Операционные затраты'!K43<Предпосылки!$D$308,0,\nIF('Операционные затраты'!K43>Предпосылки!$E$308,\n(Предпосылки!$E$308-Предпосылки!$E$307)*$B$90,('Операционные затраты'!K68-Предпосылки!$E$307)*$B$90)))","v":0},{"$f":"IF(L79=0,0,\nIF('Операционные затраты'!L43<Предпосылки!$D$308,0,\nIF('Операционные затраты'!L43>Предпосылки!$E$308,\n(Предпосылки!$E$308-Предпосылки!$E$307)*$B$90,('Операционные затраты'!L68-Предпосылки!$E$307)*$B$90)))","v":0},{"$f":"IF(M79=0,0,\nIF('Операционные затраты'!M43<Предпосылки!$D$308,0,\nIF('Операционные затраты'!M43>Предпосылки!$E$308,\n(Предпосылки!$E$308-Предпосылки!$E$307)*$B$90,('Операционные затраты'!M68-Предпосылки!$E$307)*$B$90)))","v":0},{"$f":"IF(N79=0,0,\nIF('Операционные затраты'!N43<Предпосылки!$D$308,0,\nIF('Операционные затраты'!N43>Предпосылки!$E$308,\n(Предпосылки!$E$308-Предпосылки!$E$307)*$B$90,('Операционные затраты'!N68-Предпосылки!$E$307)*$B$90)))","v":0},{"$f":"IF(O79=0,0,\nIF('Операционные затраты'!O43<Предпосылки!$D$308,0,\nIF('Операционные затраты'!O43>Предпосылки!$E$308,\n(Предпосылки!$E$308-Предпосылки!$E$307)*$B$90,('Операционные затраты'!O68-Предпосылки!$E$307)*$B$90)))","v":0},{"$f":"IF(P79=0,0,\nIF('Операционные затраты'!P43<Предпосылки!$D$308,0,\nIF('Операционные затраты'!P43>Предпосылки!$E$308,\n(Предпосылки!$E$308-Предпосылки!$E$307)*$B$90,('Операционные затраты'!P68-Предпосылки!$E$307)*$B$90)))","v":0},{"$f":"IF(Q79=0,0,\nIF('Операционные затраты'!Q43<Предпосылки!$D$308,0,\nIF('Операционные затраты'!Q43>Предпосылки!$E$308,\n(Предпосылки!$E$308-Предпосылки!$E$307)*$B$90,('Операционные затраты'!Q68-Предпосылки!$E$307)*$B$90)))","v":0},{"$f":"IF(R79=0,0,\nIF('Операционные затраты'!R43<Предпосылки!$D$308,0,\nIF('Операционные затраты'!R43>Предпосылки!$E$308,\n(Предпосылки!$E$308-Предпосылки!$E$307)*$B$90,('Операционные затраты'!R68-Предпосылки!$E$307)*$B$90)))","v":0},{"$f":"IF(S79=0,0,\nIF('Операционные затраты'!S43<Предпосылки!$D$308,0,\nIF('Операционные затраты'!S43>Предпосылки!$E$308,\n(Предпосылки!$E$308-Предпосылки!$E$307)*$B$90,('Операционные затраты'!S68-Предпосылки!$E$307)*$B$90)))","v":0},{"$f":"IF(T79=0,0,\nIF('Операционные затраты'!T43<Предпосылки!$D$308,0,\nIF('Операционные затраты'!T43>Предпосылки!$E$308,\n(Предпосылки!$E$308-Предпосылки!$E$307)*$B$90,('Операционные затраты'!T68-Предпосылки!$E$307)*$B$90)))","v":0},{"$f":"IF(U79=0,0,\nIF('Операционные затраты'!U43<Предпосылки!$D$308,0,\nIF('Операционные затраты'!U43>Предпосылки!$E$308,\n(Предпосылки!$E$308-Предпосылки!$E$307)*$B$90,('Операционные затраты'!U68-Предпосылки!$E$307)*$B$90)))","v":0},{"$f":"IF(V79=0,0,\nIF('Операционные затраты'!V43<Предпосылки!$D$308,0,\nIF('Операционные затраты'!V43>Предпосылки!$E$308,\n(Предпосылки!$E$308-Предпосылки!$E$307)*$B$90,('Операционные затраты'!V68-Предпосылки!$E$307)*$B$90)))","v":0},{"$f":"IF(W79=0,0,\nIF('Операционные затраты'!W43<Предпосылки!$D$308,0,\nIF('Операционные затраты'!W43>Предпосылки!$E$308,\n(Предпосылки!$E$308-Предпосылки!$E$307)*$B$90,('Операционные затраты'!W68-Предпосылки!$E$307)*$B$90)))","v":0},{"$f":"IF(X79=0,0,\nIF('Операционные затраты'!X43<Предпосылки!$D$308,0,\nIF('Операционные затраты'!X43>Предпосылки!$E$308,\n(Предпосылки!$E$308-Предпосылки!$E$307)*$B$90,('Операционные затраты'!X68-Предпосылки!$E$307)*$B$90)))","v":0},{"$f":"IF(Y79=0,0,\nIF('Операционные затраты'!Y43<Предпосылки!$D$308,0,\nIF('Операционные затраты'!Y43>Предпосылки!$E$308,\n(Предпосылки!$E$308-Предпосылки!$E$307)*$B$90,('Операционные затраты'!Y68-Предпосылки!$E$307)*$B$90)))","v":0},{"$f":"IF(Z79=0,0,\nIF('Операционные затраты'!Z43<Предпосылки!$D$308,0,\nIF('Операционные затраты'!Z43>Предпосылки!$E$308,\n(Предпосылки!$E$308-Предпосылки!$E$307)*$B$90,('Операционные затраты'!Z68-Предпосылки!$E$307)*$B$90)))","v":0},{"$f":"IF(AA79=0,0,\nIF('Операционные затраты'!AA43<Предпосылки!$D$308,0,\nIF('Операционные затраты'!AA43>Предпосылки!$E$308,\n(Предпосылки!$E$308-Предпосылки!$E$307)*$B$90,('Операционные затраты'!AA68-Предпосылки!$E$307)*$B$90)))","v":0},{"$f":"IF(AB79=0,0,\nIF('Операционные затраты'!AB43<Предпосылки!$D$308,0,\nIF('Операционные затраты'!AB43>Предпосылки!$E$308,\n(Предпосылки!$E$308-Предпосылки!$E$307)*$B$90,('Операционные затраты'!AB68-Предпосылки!$E$307)*$B$90)))","v":0}]
[null,null,"Вспомогательный персонал","тыс. руб.",null,null,null,{"$f":"SUBTOTAL(9,H96:H97)","v":0},{"$f":"SUBTOTAL(9,I96:I97)","v":0},0,0,0,0,0,0,0,0,0,0,0,0,0,0,0,0,0,0,{"$f":"SUBTOTAL(9,AB96:AB97)","v":0}]
[null,null,"Сотрудник 1 ","тыс. руб.",null,null,null,{"$f":"IF(H81=0,0,\nIF('Операционные затраты'!H45<Предпосылки!$D$308,0,\nIF('Операционные затраты'!H45>Предпосылки!$E$308,\n(Предпосылки!$E$308-Предпосылки!$E$307)*$B$90,('Операционные затраты'!H70-Предпосылки!$E$307)*$B$90)))","v":0},{"$f":"IF(I81=0,0,\nIF('Операционные затраты'!I45<Предпосылки!$D$308,0,\nIF('Операционные затраты'!I45>Предпосылки!$E$308,\n(Предпосылки!$E$308-Предпосылки!$E$307)*$B$90,('Операционные затраты'!I70-Предпосылки!$E$307)*$B$90)))","v":0},{"$f":"IF(J81=0,0,\nIF('Операционные затраты'!J45<Предпосылки!$D$308,0,\nIF('Операционные затраты'!J45>Предпосылки!$E$308,\n(Предпосылки!$E$308-Предпосылки!$E$307)*$B$90,('Операционные затраты'!J70-Предпосылки!$E$307)*$B$90)))","v":0},{"$f":"IF(K81=0,0,\nIF('Операционные затраты'!K45<Предпосылки!$D$308,0,\nIF('Операционные затраты'!K45>Предпосылки!$E$308,\n(Предпосылки!$E$308-Предпосылки!$E$307)*$B$90,('Операционные затраты'!K70-Предпосылки!$E$307)*$B$90)))","v":0},{"$f":"IF(L81=0,0,\nIF('Операционные затраты'!L45<Предпосылки!$D$308,0,\nIF('Операционные затраты'!L45>Предпосылки!$E$308,\n(Предпосылки!$E$308-Предпосылки!$E$307)*$B$90,('Операционные затраты'!L70-Предпосылки!$E$307)*$B$90)))","v":0},{"$f":"IF(M81=0,0,\nIF('Операционные затраты'!M45<Предпосылки!$D$308,0,\nIF('Операционные затраты'!M45>Предпосылки!$E$308,\n(Предпосылки!$E$308-Предпосылки!$E$307)*$B$90,('Операционные затраты'!M70-Предпосылки!$E$307)*$B$90)))","v":0},{"$f":"IF(N81=0,0,\nIF('Операционные затраты'!N45<Предпосылки!$D$308,0,\nIF('Операционные затраты'!N45>Предпосылки!$E$308,\n(Предпосылки!$E$308-Предпосылки!$E$307)*$B$90,('Операционные затраты'!N70-Предпосылки!$E$307)*$B$90)))","v":0},{"$f":"IF(O81=0,0,\nIF('Операционные затраты'!O45<Предпосылки!$D$308,0,\nIF('Операционные затраты'!O45>Предпосылки!$E$308,\n(Предпосылки!$E$308-Предпосылки!$E$307)*$B$90,('Операционные затраты'!O70-Предпосылки!$E$307)*$B$90)))","v":0},{"$f":"IF(P81=0,0,\nIF('Операционные затраты'!P45<Предпосылки!$D$308,0,\nIF('Операционные затраты'!P45>Предпосылки!$E$308,\n(Предпосылки!$E$308-Предпосылки!$E$307)*$B$90,('Операционные затраты'!P70-Предпосылки!$E$307)*$B$90)))","v":0},{"$f":"IF(Q81=0,0,\nIF('Операционные затраты'!Q45<Предпосылки!$D$308,0,\nIF('Операционные затраты'!Q45>Предпосылки!$E$308,\n(Предпосылки!$E$308-Предпосылки!$E$307)*$B$90,('Операционные затраты'!Q70-Предпосылки!$E$307)*$B$90)))","v":0},{"$f":"IF(R81=0,0,\nIF('Операционные затраты'!R45<Предпосылки!$D$308,0,\nIF('Операционные затраты'!R45>Предпосылки!$E$308,\n(Предпосылки!$E$308-Предпосылки!$E$307)*$B$90,('Операционные затраты'!R70-Предпосылки!$E$307)*$B$90)))","v":0},{"$f":"IF(S81=0,0,\nIF('Операционные затраты'!S45<Предпосылки!$D$308,0,\nIF('Операционные затраты'!S45>Предпосылки!$E$308,\n(Предпосылки!$E$308-Предпосылки!$E$307)*$B$90,('Операционные затраты'!S70-Предпосылки!$E$307)*$B$90)))","v":0},{"$f":"IF(T81=0,0,\nIF('Операционные затраты'!T45<Предпосылки!$D$308,0,\nIF('Операционные затраты'!T45>Предпосылки!$E$308,\n(Предпосылки!$E$308-Предпосылки!$E$307)*$B$90,('Операционные затраты'!T70-Предпосылки!$E$307)*$B$90)))","v":0},{"$f":"IF(U81=0,0,\nIF('Операционные затраты'!U45<Предпосылки!$D$308,0,\nIF('Операционные затраты'!U45>Предпосылки!$E$308,\n(Предпосылки!$E$308-Предпосылки!$E$307)*$B$90,('Операционные затраты'!U70-Предпосылки!$E$307)*$B$90)))","v":0},{"$f":"IF(V81=0,0,\nIF('Операционные затраты'!V45<Предпосылки!$D$308,0,\nIF('Операционные затраты'!V45>Предпосылки!$E$308,\n(Предпосылки!$E$308-Предпосылки!$E$307)*$B$90,('Операционные затраты'!V70-Предпосылки!$E$307)*$B$90)))","v":0},{"$f":"IF(W81=0,0,\nIF('Операционные затраты'!W45<Предпосылки!$D$308,0,\nIF('Операционные затраты'!W45>Предпосылки!$E$308,\n(Предпосылки!$E$308-Предпосылки!$E$307)*$B$90,('Операционные затраты'!W70-Предпосылки!$E$307)*$B$90)))","v":0},{"$f":"IF(X81=0,0,\nIF('Операционные затраты'!X45<Предпосылки!$D$308,0,\nIF('Операционные затраты'!X45>Предпосылки!$E$308,\n(Предпосылки!$E$308-Предпосылки!$E$307)*$B$90,('Операционные затраты'!X70-Предпосылки!$E$307)*$B$90)))","v":0},{"$f":"IF(Y81=0,0,\nIF('Операционные затраты'!Y45<Предпосылки!$D$308,0,\nIF('Операционные затраты'!Y45>Предпосылки!$E$308,\n(Предпосылки!$E$308-Предпосылки!$E$307)*$B$90,('Операционные затраты'!Y70-Предпосылки!$E$307)*$B$90)))","v":0},{"$f":"IF(Z81=0,0,\nIF('Операционные затраты'!Z45<Предпосылки!$D$308,0,\nIF('Операционные затраты'!Z45>Предпосылки!$E$308,\n(Предпосылки!$E$308-Предпосылки!$E$307)*$B$90,('Операционные затраты'!Z70-Предпосылки!$E$307)*$B$90)))","v":0},{"$f":"IF(AA81=0,0,\nIF('Операционные затраты'!AA45<Предпосылки!$D$308,0,\nIF('Операционные затраты'!AA45>Предпосылки!$E$308,\n(Предпосылки!$E$308-Предпосылки!$E$307)*$B$90,('Операционные затраты'!AA70-Предпосылки!$E$307)*$B$90)))","v":0},{"$f":"IF(AB81=0,0,\nIF('Операционные затраты'!AB45<Предпосылки!$D$308,0,\nIF('Операционные затраты'!AB45>Предпосылки!$E$308,\n(Предпосылки!$E$308-Предпосылки!$E$307)*$B$90,('Операционные затраты'!AB70-Предпосылки!$E$307)*$B$90)))","v":0}]
[null,null,"…","тыс. руб.",null,null,null,{"$f":"IF(H82=0,0,\nIF('Операционные затраты'!H46<Предпосылки!$D$308,0,\nIF('Операционные затраты'!H46>Предпосылки!$E$308,\n(Предпосылки!$E$308-Предпосылки!$E$307)*$B$90,('Операционные затраты'!H71-Предпосылки!$E$307)*$B$90)))","v":0},{"$f":"IF(I82=0,0,\nIF('Операционные затраты'!I46<Предпосылки!$D$308,0,\nIF('Операционные затраты'!I46>Предпосылки!$E$308,\n(Предпосылки!$E$308-Предпосылки!$E$307)*$B$90,('Операционные затраты'!I71-Предпосылки!$E$307)*$B$90)))","v":0},{"$f":"IF(J82=0,0,\nIF('Операционные затраты'!J46<Предпосылки!$D$308,0,\nIF('Операционные затраты'!J46>Предпосылки!$E$308,\n(Предпосылки!$E$308-Предпосылки!$E$307)*$B$90,('Операционные затраты'!J71-Предпосылки!$E$307)*$B$90)))","v":0},{"$f":"IF(K82=0,0,\nIF('Операционные затраты'!K46<Предпосылки!$D$308,0,\nIF('Операционные затраты'!K46>Предпосылки!$E$308,\n(Предпосылки!$E$308-Предпосылки!$E$307)*$B$90,('Операционные затраты'!K71-Предпосылки!$E$307)*$B$90)))","v":0},{"$f":"IF(L82=0,0,\nIF('Операционные затраты'!L46<Предпосылки!$D$308,0,\nIF('Операционные затраты'!L46>Предпосылки!$E$308,\n(Предпосылки!$E$308-Предпосылки!$E$307)*$B$90,('Операционные затраты'!L71-Предпосылки!$E$307)*$B$90)))","v":0},{"$f":"IF(M82=0,0,\nIF('Операционные затраты'!M46<Предпосылки!$D$308,0,\nIF('Операционные затраты'!M46>Предпосылки!$E$308,\n(Предпосылки!$E$308-Предпосылки!$E$307)*$B$90,('Операционные затраты'!M71-Предпосылки!$E$307)*$B$90)))","v":0},{"$f":"IF(N82=0,0,\nIF('Операционные затраты'!N46<Предпосылки!$D$308,0,\nIF('Операционные затраты'!N46>Предпосылки!$E$308,\n(Предпосылки!$E$308-Предпосылки!$E$307)*$B$90,('Операционные затраты'!N71-Предпосылки!$E$307)*$B$90)))","v":0},{"$f":"IF(O82=0,0,\nIF('Операционные затраты'!O46<Предпосылки!$D$308,0,\nIF('Операционные затраты'!O46>Предпосылки!$E$308,\n(Предпосылки!$E$308-Предпосылки!$E$307)*$B$90,('Операционные затраты'!O71-Предпосылки!$E$307)*$B$90)))","v":0},{"$f":"IF(P82=0,0,\nIF('Операционные затраты'!P46<Предпосылки!$D$308,0,\nIF('Операционные затраты'!P46>Предпосылки!$E$308,\n(Предпосылки!$E$308-Предпосылки!$E$307)*$B$90,('Операционные затраты'!P71-Предпосылки!$E$307)*$B$90)))","v":0},{"$f":"IF(Q82=0,0,\nIF('Операционные затраты'!Q46<Предпосылки!$D$308,0,\nIF('Операционные затраты'!Q46>Предпосылки!$E$308,\n(Предпосылки!$E$308-Предпосылки!$E$307)*$B$90,('Операционные затраты'!Q71-Предпосылки!$E$307)*$B$90)))","v":0},{"$f":"IF(R82=0,0,\nIF('Операционные затраты'!R46<Предпосылки!$D$308,0,\nIF('Операционные затраты'!R46>Предпосылки!$E$308,\n(Предпосылки!$E$308-Предпосылки!$E$307)*$B$90,('Операционные затраты'!R71-Предпосылки!$E$307)*$B$90)))","v":0},{"$f":"IF(S82=0,0,\nIF('Операционные затраты'!S46<Предпосылки!$D$308,0,\nIF('Операционные затраты'!S46>Предпосылки!$E$308,\n(Предпосылки!$E$308-Предпосылки!$E$307)*$B$90,('Операционные затраты'!S71-Предпосылки!$E$307)*$B$90)))","v":0},{"$f":"IF(T82=0,0,\nIF('Операционные затраты'!T46<Предпосылки!$D$308,0,\nIF('Операционные затраты'!T46>Предпосылки!$E$308,\n(Предпосылки!$E$308-Предпосылки!$E$307)*$B$90,('Операционные затраты'!T71-Предпосылки!$E$307)*$B$90)))","v":0},{"$f":"IF(U82=0,0,\nIF('Операционные затраты'!U46<Предпосылки!$D$308,0,\nIF('Операционные затраты'!U46>Предпосылки!$E$308,\n(Предпосылки!$E$308-Предпосылки!$E$307)*$B$90,('Операционные затраты'!U71-Предпосылки!$E$307)*$B$90)))","v":0},{"$f":"IF(V82=0,0,\nIF('Операционные затраты'!V46<Предпосылки!$D$308,0,\nIF('Операционные затраты'!V46>Предпосылки!$E$308,\n(Предпосылки!$E$308-Предпосылки!$E$307)*$B$90,('Операционные затраты'!V71-Предпосылки!$E$307)*$B$90)))","v":0},{"$f":"IF(W82=0,0,\nIF('Операционные затраты'!W46<Предпосылки!$D$308,0,\nIF('Операционные затраты'!W46>Предпосылки!$E$308,\n(Предпосылки!$E$308-Предпосылки!$E$307)*$B$90,('Операционные затраты'!W71-Предпосылки!$E$307)*$B$90)))","v":0},{"$f":"IF(X82=0,0,\nIF('Операционные затраты'!X46<Предпосылки!$D$308,0,\nIF('Операционные затраты'!X46>Предпосылки!$E$308,\n(Предпосылки!$E$308-Предпосылки!$E$307)*$B$90,('Операционные затраты'!X71-Предпосылки!$E$307)*$B$90)))","v":0},{"$f":"IF(Y82=0,0,\nIF('Операционные затраты'!Y46<Предпосылки!$D$308,0,\nIF('Операционные затраты'!Y46>Предпосылки!$E$308,\n(Предпосылки!$E$308-Предпосылки!$E$307)*$B$90,('Операционные затраты'!Y71-Предпосылки!$E$307)*$B$90)))","v":0},{"$f":"IF(Z82=0,0,\nIF('Операционные затраты'!Z46<Предпосылки!$D$308,0,\nIF('Операционные затраты'!Z46>Предпосылки!$E$308,\n(Предпосылки!$E$308-Предпосылки!$E$307)*$B$90,('Операционные затраты'!Z71-Предпосылки!$E$307)*$B$90)))","v":0},{"$f":"IF(AA82=0,0,\nIF('Операционные затраты'!AA46<Предпосылки!$D$308,0,\nIF('Операционные затраты'!AA46>Предпосылки!$E$308,\n(Предпосылки!$E$308-Предпосылки!$E$307)*$B$90,('Операционные затраты'!AA71-Предпосылки!$E$307)*$B$90)))","v":0},{"$f":"IF(AB82=0,0,\nIF('Операционные затраты'!AB46<Предпосылки!$D$308,0,\nIF('Операционные затраты'!AB46>Предпосылки!$E$308,\n(Предпосылки!$E$308-Предпосылки!$E$307)*$B$90,('Операционные затраты'!AB71-Предпосылки!$E$307)*$B$90)))","v":0}]
[null,null,"Административный персонал","тыс. руб.",null,null,null,{"$f":"SUBTOTAL(9,H99:H100)","v":0},{"$f":"SUBTOTAL(9,I99:I100)","v":0},0,0,0,0,0,0,0,0,0,0,0,0,0,0,0,0,0,0,{"$f":"SUBTOTAL(9,AB99:AB100)","v":0}]
[null,null,"Сотрудник 1 ","тыс. руб.",null,null,null,{"$f":"IF(H84=0,0,\nIF('Операционные затраты'!H48<Предпосылки!$D$308,0,\nIF('Операционные затраты'!H48>Предпосылки!$E$308,\n(Предпосылки!$E$308-Предпосылки!$E$307)*$B$90,('Операционные затраты'!H73-Предпосылки!$E$307)*$B$90)))","v":0},{"$f":"IF(I84=0,0,\nIF('Операционные затраты'!I48<Предпосылки!$D$308,0,\nIF('Операционные затраты'!I48>Предпосылки!$E$308,\n(Предпосылки!$E$308-Предпосылки!$E$307)*$B$90,('Операционные затраты'!I73-Предпосылки!$E$307)*$B$90)))","v":0},{"$f":"IF(J84=0,0,\nIF('Операционные затраты'!J48<Предпосылки!$D$308,0,\nIF('Операционные затраты'!J48>Предпосылки!$E$308,\n(Предпосылки!$E$308-Предпосылки!$E$307)*$B$90,('Операционные затраты'!J73-Предпосылки!$E$307)*$B$90)))","v":0},{"$f":"IF(K84=0,0,\nIF('Операционные затраты'!K48<Предпосылки!$D$308,0,\nIF('Операционные затраты'!K48>Предпосылки!$E$308,\n(Предпосылки!$E$308-Предпосылки!$E$307)*$B$90,('Операционные затраты'!K73-Предпосылки!$E$307)*$B$90)))","v":0},{"$f":"IF(L84=0,0,\nIF('Операционные затраты'!L48<Предпосылки!$D$308,0,\nIF('Операционные затраты'!L48>Предпосылки!$E$308,\n(Предпосылки!$E$308-Предпосылки!$E$307)*$B$90,('Операционные затраты'!L73-Предпосылки!$E$307)*$B$90)))","v":0},{"$f":"IF(M84=0,0,\nIF('Операционные затраты'!M48<Предпосылки!$D$308,0,\nIF('Операционные затраты'!M48>Предпосылки!$E$308,\n(Предпосылки!$E$308-Предпосылки!$E$307)*$B$90,('Операционные затраты'!M73-Предпосылки!$E$307)*$B$90)))","v":0},{"$f":"IF(N84=0,0,\nIF('Операционные затраты'!N48<Предпосылки!$D$308,0,\nIF('Операционные затраты'!N48>Предпосылки!$E$308,\n(Предпосылки!$E$308-Предпосылки!$E$307)*$B$90,('Операционные затраты'!N73-Предпосылки!$E$307)*$B$90)))","v":0},{"$f":"IF(O84=0,0,\nIF('Операционные затраты'!O48<Предпосылки!$D$308,0,\nIF('Операционные затраты'!O48>Предпосылки!$E$308,\n(Предпосылки!$E$308-Предпосылки!$E$307)*$B$90,('Операционные затраты'!O73-Предпосылки!$E$307)*$B$90)))","v":0},{"$f":"IF(P84=0,0,\nIF('Операционные затраты'!P48<Предпосылки!$D$308,0,\nIF('Операционные затраты'!P48>Предпосылки!$E$308,\n(Предпосылки!$E$308-Предпосылки!$E$307)*$B$90,('Операционные затраты'!P73-Предпосылки!$E$307)*$B$90)))","v":0},{"$f":"IF(Q84=0,0,\nIF('Операционные затраты'!Q48<Предпосылки!$D$308,0,\nIF('Операционные затраты'!Q48>Предпосылки!$E$308,\n(Предпосылки!$E$308-Предпосылки!$E$307)*$B$90,('Операционные затраты'!Q73-Предпосылки!$E$307)*$B$90)))","v":0},{"$f":"IF(R84=0,0,\nIF('Операционные затраты'!R48<Предпосылки!$D$308,0,\nIF('Операционные затраты'!R48>Предпосылки!$E$308,\n(Предпосылки!$E$308-Предпосылки!$E$307)*$B$90,('Операционные затраты'!R73-Предпосылки!$E$307)*$B$90)))","v":0},{"$f":"IF(S84=0,0,\nIF('Операционные затраты'!S48<Предпосылки!$D$308,0,\nIF('Операционные затраты'!S48>Предпосылки!$E$308,\n(Предпосылки!$E$308-Предпосылки!$E$307)*$B$90,('Операционные затраты'!S73-Предпосылки!$E$307)*$B$90)))","v":0},{"$f":"IF(T84=0,0,\nIF('Операционные затраты'!T48<Предпосылки!$D$308,0,\nIF('Операционные затраты'!T48>Предпосылки!$E$308,\n(Предпосылки!$E$308-Предпосылки!$E$307)*$B$90,('Операционные затраты'!T73-Предпосылки!$E$307)*$B$90)))","v":0},{"$f":"IF(U84=0,0,\nIF('Операционные затраты'!U48<Предпосылки!$D$308,0,\nIF('Операционные затраты'!U48>Предпосылки!$E$308,\n(Предпосылки!$E$308-Предпосылки!$E$307)*$B$90,('Операционные затраты'!U73-Предпосылки!$E$307)*$B$90)))","v":0},{"$f":"IF(V84=0,0,\nIF('Операционные затраты'!V48<Предпосылки!$D$308,0,\nIF('Операционные затраты'!V48>Предпосылки!$E$308,\n(Предпосылки!$E$308-Предпосылки!$E$307)*$B$90,('Операционные затраты'!V73-Предпосылки!$E$307)*$B$90)))","v":0},{"$f":"IF(W84=0,0,\nIF('Операционные затраты'!W48<Предпосылки!$D$308,0,\nIF('Операционные затраты'!W48>Предпосылки!$E$308,\n(Предпосылки!$E$308-Предпосылки!$E$307)*$B$90,('Операционные затраты'!W73-Предпосылки!$E$307)*$B$90)))","v":0},{"$f":"IF(X84=0,0,\nIF('Операционные затраты'!X48<Предпосылки!$D$308,0,\nIF('Операционные затраты'!X48>Предпосылки!$E$308,\n(Предпосылки!$E$308-Предпосылки!$E$307)*$B$90,('Операционные затраты'!X73-Предпосылки!$E$307)*$B$90)))","v":0},{"$f":"IF(Y84=0,0,\nIF('Операционные затраты'!Y48<Предпосылки!$D$308,0,\nIF('Операционные затраты'!Y48>Предпосылки!$E$308,\n(Предпосылки!$E$308-Предпосылки!$E$307)*$B$90,('Операционные затраты'!Y73-Предпосылки!$E$307)*$B$90)))","v":0},{"$f":"IF(Z84=0,0,\nIF('Операционные затраты'!Z48<Предпосылки!$D$308,0,\nIF('Операционные затраты'!Z48>Предпосылки!$E$308,\n(Предпосылки!$E$308-Предпосылки!$E$307)*$B$90,('Операционные затраты'!Z73-Предпосылки!$E$307)*$B$90)))","v":0},{"$f":"IF(AA84=0,0,\nIF('Операционные затраты'!AA48<Предпосылки!$D$308,0,\nIF('Операционные затраты'!AA48>Предпосылки!$E$308,\n(Предпосылки!$E$308-Предпосылки!$E$307)*$B$90,('Операционные затраты'!AA73-Предпосылки!$E$307)*$B$90)))","v":0},{"$f":"IF(AB84=0,0,\nIF('Операционные затраты'!AB48<Предпосылки!$D$308,0,\nIF('Операционные затраты'!AB48>Предпосылки!$E$308,\n(Предпосылки!$E$308-Предпосылки!$E$307)*$B$90,('Операционные затраты'!AB73-Предпосылки!$E$307)*$B$90)))","v":0}]
[null,null,"…","тыс. руб.",null,null,null,{"$f":"IF(H85=0,0,\nIF('Операционные затраты'!H49<Предпосылки!$D$308,0,\nIF('Операционные затраты'!H49>Предпосылки!$E$308,\n(Предпосылки!$E$308-Предпосылки!$E$307)*$B$90,('Операционные затраты'!H74-Предпосылки!$E$307)*$B$90)))","v":0},{"$f":"IF(I85=0,0,\nIF('Операционные затраты'!I49<Предпосылки!$D$308,0,\nIF('Операционные затраты'!I49>Предпосылки!$E$308,\n(Предпосылки!$E$308-Предпосылки!$E$307)*$B$90,('Операционные затраты'!I74-Предпосылки!$E$307)*$B$90)))","v":0},{"$f":"IF(J85=0,0,\nIF('Операционные затраты'!J49<Предпосылки!$D$308,0,\nIF('Операционные затраты'!J49>Предпосылки!$E$308,\n(Предпосылки!$E$308-Предпосылки!$E$307)*$B$90,('Операционные затраты'!J74-Предпосылки!$E$307)*$B$90)))","v":0},{"$f":"IF(K85=0,0,\nIF('Операционные затраты'!K49<Предпосылки!$D$308,0,\nIF('Операционные затраты'!K49>Предпосылки!$E$308,\n(Предпосылки!$E$308-Предпосылки!$E$307)*$B$90,('Операционные затраты'!K74-Предпосылки!$E$307)*$B$90)))","v":0},{"$f":"IF(L85=0,0,\nIF('Операционные затраты'!L49<Предпосылки!$D$308,0,\nIF('Операционные затраты'!L49>Предпосылки!$E$308,\n(Предпосылки!$E$308-Предпосылки!$E$307)*$B$90,('Операционные затраты'!L74-Предпосылки!$E$307)*$B$90)))","v":0},{"$f":"IF(M85=0,0,\nIF('Операционные затраты'!M49<Предпосылки!$D$308,0,\nIF('Операционные затраты'!M49>Предпосылки!$E$308,\n(Предпосылки!$E$308-Предпосылки!$E$307)*$B$90,('Операционные затраты'!M74-Предпосылки!$E$307)*$B$90)))","v":0},{"$f":"IF(N85=0,0,\nIF('Операционные затраты'!N49<Предпосылки!$D$308,0,\nIF('Операционные затраты'!N49>Предпосылки!$E$308,\n(Предпосылки!$E$308-Предпосылки!$E$307)*$B$90,('Операционные затраты'!N74-Предпосылки!$E$307)*$B$90)))","v":0},{"$f":"IF(O85=0,0,\nIF('Операционные затраты'!O49<Предпосылки!$D$308,0,\nIF('Операционные затраты'!O49>Предпосылки!$E$308,\n(Предпосылки!$E$308-Предпосылки!$E$307)*$B$90,('Операционные затраты'!O74-Предпосылки!$E$307)*$B$90)))","v":0},{"$f":"IF(P85=0,0,\nIF('Операционные затраты'!P49<Предпосылки!$D$308,0,\nIF('Операционные затраты'!P49>Предпосылки!$E$308,\n(Предпосылки!$E$308-Предпосылки!$E$307)*$B$90,('Операционные затраты'!P74-Предпосылки!$E$307)*$B$90)))","v":0},{"$f":"IF(Q85=0,0,\nIF('Операционные затраты'!Q49<Предпосылки!$D$308,0,\nIF('Операционные затраты'!Q49>Предпосылки!$E$308,\n(Предпосылки!$E$308-Предпосылки!$E$307)*$B$90,('Операционные затраты'!Q74-Предпосылки!$E$307)*$B$90)))","v":0},{"$f":"IF(R85=0,0,\nIF('Операционные затраты'!R49<Предпосылки!$D$308,0,\nIF('Операционные затраты'!R49>Предпосылки!$E$308,\n(Предпосылки!$E$308-Предпосылки!$E$307)*$B$90,('Операционные затраты'!R74-Предпосылки!$E$307)*$B$90)))","v":0},{"$f":"IF(S85=0,0,\nIF('Операционные затраты'!S49<Предпосылки!$D$308,0,\nIF('Операционные затраты'!S49>Предпосылки!$E$308,\n(Предпосылки!$E$308-Предпосылки!$E$307)*$B$90,('Операционные затраты'!S74-Предпосылки!$E$307)*$B$90)))","v":0},{"$f":"IF(T85=0,0,\nIF('Операционные затраты'!T49<Предпосылки!$D$308,0,\nIF('Операционные затраты'!T49>Предпосылки!$E$308,\n(Предпосылки!$E$308-Предпосылки!$E$307)*$B$90,('Операционные затраты'!T74-Предпосылки!$E$307)*$B$90)))","v":0},{"$f":"IF(U85=0,0,\nIF('Операционные затраты'!U49<Предпосылки!$D$308,0,\nIF('Операционные затраты'!U49>Предпосылки!$E$308,\n(Предпосылки!$E$308-Предпосылки!$E$307)*$B$90,('Операционные затраты'!U74-Предпосылки!$E$307)*$B$90)))","v":0},{"$f":"IF(V85=0,0,\nIF('Операционные затраты'!V49<Предпосылки!$D$308,0,\nIF('Операционные затраты'!V49>Предпосылки!$E$308,\n(Предпосылки!$E$308-Предпосылки!$E$307)*$B$90,('Операционные затраты'!V74-Предпосылки!$E$307)*$B$90)))","v":0},{"$f":"IF(W85=0,0,\nIF('Операционные затраты'!W49<Предпосылки!$D$308,0,\nIF('Операционные затраты'!W49>Предпосылки!$E$308,\n(Предпосылки!$E$308-Предпосылки!$E$307)*$B$90,('Операционные затраты'!W74-Предпосылки!$E$307)*$B$90)))","v":0},{"$f":"IF(X85=0,0,\nIF('Операционные затраты'!X49<Предпосылки!$D$308,0,\nIF('Операционные затраты'!X49>Предпосылки!$E$308,\n(Предпосылки!$E$308-Предпосылки!$E$307)*$B$90,('Операционные затраты'!X74-Предпосылки!$E$307)*$B$90)))","v":0},{"$f":"IF(Y85=0,0,\nIF('Операционные затраты'!Y49<Предпосылки!$D$308,0,\nIF('Операционные затраты'!Y49>Предпосылки!$E$308,\n(Предпосылки!$E$308-Предпосылки!$E$307)*$B$90,('Операционные затраты'!Y74-Предпосылки!$E$307)*$B$90)))","v":0},{"$f":"IF(Z85=0,0,\nIF('Операционные затраты'!Z49<Предпосылки!$D$308,0,\nIF('Операционные затраты'!Z49>Предпосылки!$E$308,\n(Предпосылки!$E$308-Предпосылки!$E$307)*$B$90,('Операционные затраты'!Z74-Предпосылки!$E$307)*$B$90)))","v":0},{"$f":"IF(AA85=0,0,\nIF('Операционные затраты'!AA49<Предпосылки!$D$308,0,\nIF('Операционные затраты'!AA49>Предпосылки!$E$308,\n(Предпосылки!$E$308-Предпосылки!$E$307)*$B$90,('Операционные затраты'!AA74-Предпосылки!$E$307)*$B$90)))","v":0},{"$f":"IF(AB85=0,0,\nIF('Операционные затраты'!AB49<Предпосылки!$D$308,0,\nIF('Операционные затраты'!AB49>Предпосылки!$E$308,\n(Предпосылки!$E$308-Предпосылки!$E$307)*$B$90,('Операционные затраты'!AB74-Предпосылки!$E$307)*$B$90)))","v":0}]
[null,null,"Итого","тыс. руб.",null,null,null,{"$f":"SUBTOTAL(9,H92:H100)","v":0},{"$f":"SUBTOTAL(9,I92:I100)","v":0},0,0,0,0,0,0,0,0,0,0,0,0,0,0,0,0,0,0,{"$f":"SUBTOTAL(9,AB92:AB100)","v":0}]
[null,null,"ИТОГО НФДЛ 20%","тыс. руб.",null,null,null,{"$f":"H101","v":0},{"$f":"I101","v":0},0,0,0,0,0,0,0,0,0,0,0,0,0,0,0,0,0,0,{"$f":"AB101","v":0}]
[null,null,"Доля от всего начисленного НДФЛ","%",null,null,null,{"$f":"IFERROR(H102/H$122,0)","v":0},0,0,0,0,0,0,0,0,0,0,0,0,0,0,0,0,0,0,0,{"$f":"IFERROR(AB102/AB$122,0)","v":0}]
[]
[null,{"$f":"Предпосылки!C309","v":0.22},"(доход превышает 50 млн руб.)"]
[null,{"$f":"B91","v":"Сотрудники с ФОТ более или равно 2979 тыс. рублей/год (каждый указывается отдельно)"}]
[null,null,{"$f":"C92","v":"Производственный персонал"},"тыс. руб.",null,null,null,{"$f":"SUBTOTAL(9,H108:H109)","v":0},{"$f":"SUBTOTAL(9,I108:I109)","v":0},0,0,0,0,0,0,0,0,0,0,0,0,0,0,0,0,0,0,{"$f":"SUBTOTAL(9,AB108:AB109)","v":0}]
[null,null,"Сотрудник 1 ","тыс. руб.",null,null,null,{"$f":"IF(H93=0,0,\nIF('Операционные затраты'!H42<Предпосылки!$D$309,0,\n('Операционные затраты'!H42-Предпосылки!$D$309)*$B$105))","v":0},{"$f":"IF(I93=0,0,\n('Операционные затраты'!I42-Предпосылки!$D$309)*$B$105)","v":0},{"$f":"IF(J93=0,0,\n('Операционные затраты'!J42-Предпосылки!$D$309)*$B$105)","v":0},{"$f":"IF(K93=0,0,\n('Операционные затраты'!K42-Предпосылки!$D$309)*$B$105)","v":0},{"$f":"IF(L93=0,0,\n('Операционные затраты'!L42-Предпосылки!$D$309)*$B$105)","v":0},{"$f":"IF(M93=0,0,\n('Операционные затраты'!M42-Предпосылки!$D$309)*$B$105)","v":0},{"$f":"IF(N93=0,0,\n('Операционные затраты'!N42-Предпосылки!$D$309)*$B$105)","v":0},{"$f":"IF(O93=0,0,\n('Операционные затраты'!O42-Предпосылки!$D$309)*$B$105)","v":0},{"$f":"IF(P93=0,0,\n('Операционные затраты'!P42-Предпосылки!$D$309)*$B$105)","v":0},{"$f":"IF(Q93=0,0,\n('Операционные затраты'!Q42-Предпосылки!$D$309)*$B$105)","v":0},{"$f":"IF(R93=0,0,\n('Операционные затраты'!R42-Предпосылки!$D$309)*$B$105)","v":0},{"$f":"IF(S93=0,0,\n('Операционные затраты'!S42-Предпосылки!$D$309)*$B$105)","v":0},{"$f":"IF(T93=0,0,\n('Операционные затраты'!T42-Предпосылки!$D$309)*$B$105)","v":0},{"$f":"IF(U93=0,0,\n('Операционные затраты'!U42-Предпосылки!$D$309)*$B$105)","v":0},{"$f":"IF(V93=0,0,\n('Операционные затраты'!V42-Предпосылки!$D$309)*$B$105)","v":0},{"$f":"IF(W93=0,0,\n('Операционные затраты'!W42-Предпосылки!$D$309)*$B$105)","v":0},{"$f":"IF(X93=0,0,\n('Операционные затраты'!X42-Предпосылки!$D$309)*$B$105)","v":0},{"$f":"IF(Y93=0,0,\n('Операционные затраты'!Y42-Предпосылки!$D$309)*$B$105)","v":0},{"$f":"IF(Z93=0,0,\n('Операционные затраты'!Z42-Предпосылки!$D$309)*$B$105)","v":0},{"$f":"IF(AA93=0,0,\n('Операционные затраты'!AA42-Предпосылки!$D$309)*$B$105)","v":0},{"$f":"IF(AB93=0,0,\n('Операционные затраты'!AB42-Предпосылки!$D$309)*$B$105)","v":0}]
[null,null,"…","тыс. руб.",null,null,null,{"$f":"IF(H94=0,0,\nIF('Операционные затраты'!H43<Предпосылки!$D$309,0,\n('Операционные затраты'!H43-Предпосылки!$D$309)*$B$105))","v":0},{"$f":"IF(I94=0,0,\nIF('Операционные затраты'!I43<Предпосылки!$D$309,0,\n('Операционные затраты'!I43-Предпосылки!$D$309)*$B$105))","v":0},{"$f":"IF(J94=0,0,\nIF('Операционные затраты'!J43<Предпосылки!$D$309,0,\n('Операционные затраты'!J43-Предпосылки!$D$309)*$B$105))","v":0},{"$f":"IF(K94=0,0,\nIF('Операционные затраты'!K43<Предпосылки!$D$309,0,\n('Операционные затраты'!K43-Предпосылки!$D$309)*$B$105))","v":0},{"$f":"IF(L94=0,0,\nIF('Операционные затраты'!L43<Предпосылки!$D$309,0,\n('Операционные затраты'!L43-Предпосылки!$D$309)*$B$105))","v":0},{"$f":"IF(M94=0,0,\nIF('Операционные затраты'!M43<Предпосылки!$D$309,0,\n('Операционные затраты'!M43-Предпосылки!$D$309)*$B$105))","v":0},{"$f":"IF(N94=0,0,\nIF('Операционные затраты'!N43<Предпосылки!$D$309,0,\n('Операционные затраты'!N43-Предпосылки!$D$309)*$B$105))","v":0},{"$f":"IF(O94=0,0,\nIF('Операционные затраты'!O43<Предпосылки!$D$309,0,\n('Операционные затраты'!O43-Предпосылки!$D$309)*$B$105))","v":0},{"$f":"IF(P94=0,0,\nIF('Операционные затраты'!P43<Предпосылки!$D$309,0,\n('Операционные затраты'!P43-Предпосылки!$D$309)*$B$105))","v":0},{"$f":"IF(Q94=0,0,\nIF('Операционные затраты'!Q43<Предпосылки!$D$309,0,\n('Операционные затраты'!Q43-Предпосылки!$D$309)*$B$105))","v":0},{"$f":"IF(R94=0,0,\nIF('Операционные затраты'!R43<Предпосылки!$D$309,0,\n('Операционные затраты'!R43-Предпосылки!$D$309)*$B$105))","v":0},{"$f":"IF(S94=0,0,\nIF('Операционные затраты'!S43<Предпосылки!$D$309,0,\n('Операционные затраты'!S43-Предпосылки!$D$309)*$B$105))","v":0},{"$f":"IF(T94=0,0,\nIF('Операционные затраты'!T43<Предпосылки!$D$309,0,\n('Операционные затраты'!T43-Предпосылки!$D$309)*$B$105))","v":0},{"$f":"IF(U94=0,0,\nIF('Операционные затраты'!U43<Предпосылки!$D$309,0,\n('Операционные затраты'!U43-Предпосылки!$D$309)*$B$105))","v":0},{"$f":"IF(V94=0,0,\nIF('Операционные затраты'!V43<Предпосылки!$D$309,0,\n('Операционные затраты'!V43-Предпосылки!$D$309)*$B$105))","v":0},{"$f":"IF(W94=0,0,\nIF('Операционные затраты'!W43<Предпосылки!$D$309,0,\n('Операционные затраты'!W43-Предпосылки!$D$309)*$B$105))","v":0},{"$f":"IF(X94=0,0,\nIF('Операционные затраты'!X43<Предпосылки!$D$309,0,\n('Операционные затраты'!X43-Предпосылки!$D$309)*$B$105))","v":0},{"$f":"IF(Y94=0,0,\nIF('Операционные затраты'!Y43<Предпосылки!$D$309,0,\n('Операционные затраты'!Y43-Предпосылки!$D$309)*$B$105))","v":0},{"$f":"IF(Z94=0,0,\nIF('Операционные затраты'!Z43<Предпосылки!$D$309,0,\n('Операционные затраты'!Z43-Предпосылки!$D$309)*$B$105))","v":0},{"$f":"IF(AA94=0,0,\nIF('Операционные затраты'!AA43<Предпосылки!$D$309,0,\n('Операционные затраты'!AA43-Предпосылки!$D$309)*$B$105))","v":0},{"$f":"IF(AB94=0,0,\nIF('Операционные затраты'!AB43<Предпосылки!$D$309,0,\n('Операционные затраты'!AB43-Предпосылки!$D$309)*$B$105))","v":0}]
[null,null,"Вспомогательный персонал","тыс. руб.",null,null,null,{"$f":"SUBTOTAL(9,H111:H112)","v":0},{"$f":"SUBTOTAL(9,I111:I112)","v":0},0,0,0,0,0,0,0,0,0,0,0,0,0,0,0,0,0,0,{"$f":"SUBTOTAL(9,AB111:AB112)","v":0}]
[null,null,"Сотрудник 1 ","тыс. руб.",null,null,null,{"$f":"IF(H96=0,0,\nIF('Операционные затраты'!H45<Предпосылки!$D$309,0,\n('Операционные затраты'!H45-Предпосылки!$D$309)*$B$105))","v":0},{"$f":"IF(I96=0,0,\nIF('Операционные затраты'!I45<Предпосылки!$D$309,0,\n('Операционные затраты'!I45-Предпосылки!$D$309)*$B$105))","v":0},{"$f":"IF(J96=0,0,\nIF('Операционные затраты'!J45<Предпосылки!$D$309,0,\n('Операционные затраты'!J45-Предпосылки!$D$309)*$B$105))","v":0},{"$f":"IF(K96=0,0,\nIF('Операционные затраты'!K45<Предпосылки!$D$309,0,\n('Операционные затраты'!K45-Предпосылки!$D$309)*$B$105))","v":0},{"$f":"IF(L96=0,0,\nIF('Операционные затраты'!L45<Предпосылки!$D$309,0,\n('Операционные затраты'!L45-Предпосылки!$D$309)*$B$105))","v":0},{"$f":"IF(M96=0,0,\nIF('Операционные затраты'!M45<Предпосылки!$D$309,0,\n('Операционные затраты'!M45-Предпосылки!$D$309)*$B$105))","v":0},{"$f":"IF(N96=0,0,\nIF('Операционные затраты'!N45<Предпосылки!$D$309,0,\n('Операционные затраты'!N45-Предпосылки!$D$309)*$B$105))","v":0},{"$f":"IF(O96=0,0,\nIF('Операционные затраты'!O45<Предпосылки!$D$309,0,\n('Операционные затраты'!O45-Предпосылки!$D$309)*$B$105))","v":0},{"$f":"IF(P96=0,0,\nIF('Операционные затраты'!P45<Предпосылки!$D$309,0,\n('Операционные затраты'!P45-Предпосылки!$D$309)*$B$105))","v":0},{"$f":"IF(Q96=0,0,\nIF('Операционные затраты'!Q45<Предпосылки!$D$309,0,\n('Операционные затраты'!Q45-Предпосылки!$D$309)*$B$105))","v":0},{"$f":"IF(R96=0,0,\nIF('Операционные затраты'!R45<Предпосылки!$D$309,0,\n('Операционные затраты'!R45-Предпосылки!$D$309)*$B$105))","v":0},{"$f":"IF(S96=0,0,\nIF('Операционные затраты'!S45<Предпосылки!$D$309,0,\n('Операционные затраты'!S45-Предпосылки!$D$309)*$B$105))","v":0},{"$f":"IF(T96=0,0,\nIF('Операционные затраты'!T45<Предпосылки!$D$309,0,\n('Операционные затраты'!T45-Предпосылки!$D$309)*$B$105))","v":0},{"$f":"IF(U96=0,0,\nIF('Операционные затраты'!U45<Предпосылки!$D$309,0,\n('Операционные затраты'!U45-Предпосылки!$D$309)*$B$105))","v":0},{"$f":"IF(V96=0,0,\nIF('Операционные затраты'!V45<Предпосылки!$D$309,0,\n('Операционные затраты'!V45-Предпосылки!$D$309)*$B$105))","v":0},{"$f":"IF(W96=0,0,\nIF('Операционные затраты'!W45<Предпосылки!$D$309,0,\n('Операционные затраты'!W45-Предпосылки!$D$309)*$B$105))","v":0},{"$f":"IF(X96=0,0,\nIF('Операционные затраты'!X45<Предпосылки!$D$309,0,\n('Операционные затраты'!X45-Предпосылки!$D$309)*$B$105))","v":0},{"$f":"IF(Y96=0,0,\nIF('Операционные затраты'!Y45<Предпосылки!$D$309,0,\n('Операционные затраты'!Y45-Предпосылки!$D$309)*$B$105))","v":0},{"$f":"IF(Z96=0,0,\nIF('Операционные затраты'!Z45<Предпосылки!$D$309,0,\n('Операционные затраты'!Z45-Предпосылки!$D$309)*$B$105))","v":0},{"$f":"IF(AA96=0,0,\nIF('Операционные затраты'!AA45<Предпосылки!$D$309,0,\n('Операционные затраты'!AA45-Предпосылки!$D$309)*$B$105))","v":0},{"$f":"IF(AB96=0,0,\nIF('Операционные затраты'!AB45<Предпосылки!$D$309,0,\n('Операционные затраты'!AB45-Предпосылки!$D$309)*$B$105))","v":0}]
[null,null,"…","тыс. руб.",null,null,null,{"$f":"IF(H97=0,0,\nIF('Операционные затраты'!H46<Предпосылки!$D$309,0,\n('Операционные затраты'!H46-Предпосылки!$D$309)*$B$105))","v":0},{"$f":"IF(I97=0,0,\nIF('Операционные затраты'!I46<Предпосылки!$D$309,0,\n('Операционные затраты'!I46-Предпосылки!$D$309)*$B$105))","v":0},{"$f":"IF(J97=0,0,\nIF('Операционные затраты'!J46<Предпосылки!$D$309,0,\n('Операционные затраты'!J46-Предпосылки!$D$309)*$B$105))","v":0},{"$f":"IF(K97=0,0,\nIF('Операционные затраты'!K46<Предпосылки!$D$309,0,\n('Операционные затраты'!K46-Предпосылки!$D$309)*$B$105))","v":0},{"$f":"IF(L97=0,0,\nIF('Операционные затраты'!L46<Предпосылки!$D$309,0,\n('Операционные затраты'!L46-Предпосылки!$D$309)*$B$105))","v":0},{"$f":"IF(M97=0,0,\nIF('Операционные затраты'!M46<Предпосылки!$D$309,0,\n('Операционные затраты'!M46-Предпосылки!$D$309)*$B$105))","v":0},{"$f":"IF(N97=0,0,\nIF('Операционные затраты'!N46<Предпосылки!$D$309,0,\n('Операционные затраты'!N46-Предпосылки!$D$309)*$B$105))","v":0},{"$f":"IF(O97=0,0,\nIF('Операционные затраты'!O46<Предпосылки!$D$309,0,\n('Операционные затраты'!O46-Предпосылки!$D$309)*$B$105))","v":0},{"$f":"IF(P97=0,0,\nIF('Операционные затраты'!P46<Предпосылки!$D$309,0,\n('Операционные затраты'!P46-Предпосылки!$D$309)*$B$105))","v":0},{"$f":"IF(Q97=0,0,\nIF('Операционные затраты'!Q46<Предпосылки!$D$309,0,\n('Операционные затраты'!Q46-Предпосылки!$D$309)*$B$105))","v":0},{"$f":"IF(R97=0,0,\nIF('Операционные затраты'!R46<Предпосылки!$D$309,0,\n('Операционные затраты'!R46-Предпосылки!$D$309)*$B$105))","v":0},{"$f":"IF(S97=0,0,\nIF('Операционные затраты'!S46<Предпосылки!$D$309,0,\n('Операционные затраты'!S46-Предпосылки!$D$309)*$B$105))","v":0},{"$f":"IF(T97=0,0,\nIF('Операционные затраты'!T46<Предпосылки!$D$309,0,\n('Операционные затраты'!T46-Предпосылки!$D$309)*$B$105))","v":0},{"$f":"IF(U97=0,0,\nIF('Операционные затраты'!U46<Предпосылки!$D$309,0,\n('Операционные затраты'!U46-Предпосылки!$D$309)*$B$105))","v":0},{"$f":"IF(V97=0,0,\nIF('Операционные затраты'!V46<Предпосылки!$D$309,0,\n('Операционные затраты'!V46-Предпосылки!$D$309)*$B$105))","v":0},{"$f":"IF(W97=0,0,\nIF('Операционные затраты'!W46<Предпосылки!$D$309,0,\n('Операционные затраты'!W46-Предпосылки!$D$309)*$B$105))","v":0},{"$f":"IF(X97=0,0,\nIF('Операционные затраты'!X46<Предпосылки!$D$309,0,\n('Операционные затраты'!X46-Предпосылки!$D$309)*$B$105))","v":0},{"$f":"IF(Y97=0,0,\nIF('Операционные затраты'!Y46<Предпосылки!$D$309,0,\n('Операционные затраты'!Y46-Предпосылки!$D$309)*$B$105))","v":0},{"$f":"IF(Z97=0,0,\nIF('Операционные затраты'!Z46<Предпосылки!$D$309,0,\n('Операционные затраты'!Z46-Предпосылки!$D$309)*$B$105))","v":0},{"$f":"IF(AA97=0,0,\nIF('Операционные затраты'!AA46<Предпосылки!$D$309,0,\n('Операционные затраты'!AA46-Предпосылки!$D$309)*$B$105))","v":0},{"$f":"IF(AB97=0,0,\nIF('Операционные затраты'!AB46<Предпосылки!$D$309,0,\n('Операционные затраты'!AB46-Предпосылки!$D$309)*$B$105))","v":0}]
[null,null,"Административный персонал","тыс. руб.",null,null,null,{"$f":"SUBTOTAL(9,H114:H115)","v":0},{"$f":"SUBTOTAL(9,I114:I115)","v":0},0,0,0,0,0,0,0,0,0,0,0,0,0,0,0,0,0,0,{"$f":"SUBTOTAL(9,AB114:AB115)","v":0}]
[null,null,"Сотрудник 1 ","тыс. руб.",null,null,null,{"$f":"IF(H99=0,0,\nIF('Операционные затраты'!H48<Предпосылки!$D$309,0,\n('Операционные затраты'!H48-Предпосылки!$D$309)*$B$105))","v":0},{"$f":"IF(I99=0,0,\nIF('Операционные затраты'!I48<Предпосылки!$D$309,0,\n('Операционные затраты'!I48-Предпосылки!$D$309)*$B$105))","v":0},{"$f":"IF(J99=0,0,\nIF('Операционные затраты'!J48<Предпосылки!$D$309,0,\n('Операционные затраты'!J48-Предпосылки!$D$309)*$B$105))","v":0},{"$f":"IF(K99=0,0,\nIF('Операционные затраты'!K48<Предпосылки!$D$309,0,\n('Операционные затраты'!K48-Предпосылки!$D$309)*$B$105))","v":0},{"$f":"IF(L99=0,0,\nIF('Операционные затраты'!L48<Предпосылки!$D$309,0,\n('Операционные затраты'!L48-Предпосылки!$D$309)*$B$105))","v":0},{"$f":"IF(M99=0,0,\nIF('Операционные затраты'!M48<Предпосылки!$D$309,0,\n('Операционные затраты'!M48-Предпосылки!$D$309)*$B$105))","v":0},{"$f":"IF(N99=0,0,\nIF('Операционные затраты'!N48<Предпосылки!$D$309,0,\n('Операционные затраты'!N48-Предпосылки!$D$309)*$B$105))","v":0},{"$f":"IF(O99=0,0,\nIF('Операционные затраты'!O48<Предпосылки!$D$309,0,\n('Операционные затраты'!O48-Предпосылки!$D$309)*$B$105))","v":0},{"$f":"IF(P99=0,0,\nIF('Операционные затраты'!P48<Предпосылки!$D$309,0,\n('Операционные затраты'!P48-Предпосылки!$D$309)*$B$105))","v":0},{"$f":"IF(Q99=0,0,\nIF('Операционные затраты'!Q48<Предпосылки!$D$309,0,\n('Операционные затраты'!Q48-Предпосылки!$D$309)*$B$105))","v":0},{"$f":"IF(R99=0,0,\nIF('Операционные затраты'!R48<Предпосылки!$D$309,0,\n('Операционные затраты'!R48-Предпосылки!$D$309)*$B$105))","v":0},{"$f":"IF(S99=0,0,\nIF('Операционные затраты'!S48<Предпосылки!$D$309,0,\n('Операционные затраты'!S48-Предпосылки!$D$309)*$B$105))","v":0},{"$f":"IF(T99=0,0,\nIF('Операционные затраты'!T48<Предпосылки!$D$309,0,\n('Операционные затраты'!T48-Предпосылки!$D$309)*$B$105))","v":0},{"$f":"IF(U99=0,0,\nIF('Операционные затраты'!U48<Предпосылки!$D$309,0,\n('Операционные затраты'!U48-Предпосылки!$D$309)*$B$105))","v":0},{"$f":"IF(V99=0,0,\nIF('Операционные затраты'!V48<Предпосылки!$D$309,0,\n('Операционные затраты'!V48-Предпосылки!$D$309)*$B$105))","v":0},{"$f":"IF(W99=0,0,\nIF('Операционные затраты'!W48<Предпосылки!$D$309,0,\n('Операционные затраты'!W48-Предпосылки!$D$309)*$B$105))","v":0},{"$f":"IF(X99=0,0,\nIF('Операционные затраты'!X48<Предпосылки!$D$309,0,\n('Операционные затраты'!X48-Предпосылки!$D$309)*$B$105))","v":0},{"$f":"IF(Y99=0,0,\nIF('Операционные затраты'!Y48<Предпосылки!$D$309,0,\n('Операционные затраты'!Y48-Предпосылки!$D$309)*$B$105))","v":0},{"$f":"IF(Z99=0,0,\nIF('Операционные затраты'!Z48<Предпосылки!$D$309,0,\n('Операционные затраты'!Z48-Предпосылки!$D$309)*$B$105))","v":0},{"$f":"IF(AA99=0,0,\nIF('Операционные затраты'!AA48<Предпосылки!$D$309,0,\n('Операционные затраты'!AA48-Предпосылки!$D$309)*$B$105))","v":0},{"$f":"IF(AB99=0,0,\nIF('Операционные затраты'!AB48<Предпосылки!$D$309,0,\n('Операционные затраты'!AB48-Предпосылки!$D$309)*$B$105))","v":0}]
[null,null,"…","тыс. руб.",null,null,null,{"$f":"IF(H100=0,0,\nIF('Операционные затраты'!H49<Предпосылки!$D$309,0,\n('Операционные затраты'!H49-Предпосылки!$D$309)*$B$105))","v":0},{"$f":"IF(I100=0,0,\nIF('Операционные затраты'!I49<Предпосылки!$D$309,0,\n('Операционные затраты'!I49-Предпосылки!$D$309)*$B$105))","v":0},{"$f":"IF(J100=0,0,\nIF('Операционные затраты'!J49<Предпосылки!$D$309,0,\n('Операционные затраты'!J49-Предпосылки!$D$309)*$B$105))","v":0},{"$f":"IF(K100=0,0,\nIF('Операционные затраты'!K49<Предпосылки!$D$309,0,\n('Операционные затраты'!K49-Предпосылки!$D$309)*$B$105))","v":0},{"$f":"IF(L100=0,0,\nIF('Операционные затраты'!L49<Предпосылки!$D$309,0,\n('Операционные затраты'!L49-Предпосылки!$D$309)*$B$105))","v":0},{"$f":"IF(M100=0,0,\nIF('Операционные затраты'!M49<Предпосылки!$D$309,0,\n('Операционные затраты'!M49-Предпосылки!$D$309)*$B$105))","v":0},{"$f":"IF(N100=0,0,\nIF('Операционные затраты'!N49<Предпосылки!$D$309,0,\n('Операционные затраты'!N49-Предпосылки!$D$309)*$B$105))","v":0},{"$f":"IF(O100=0,0,\nIF('Операционные затраты'!O49<Предпосылки!$D$309,0,\n('Операционные затраты'!O49-Предпосылки!$D$309)*$B$105))","v":0},{"$f":"IF(P100=0,0,\nIF('Операционные затраты'!P49<Предпосылки!$D$309,0,\n('Операционные затраты'!P49-Предпосылки!$D$309)*$B$105))","v":0},{"$f":"IF(Q100=0,0,\nIF('Операционные затраты'!Q49<Предпосылки!$D$309,0,\n('Операционные затраты'!Q49-Предпосылки!$D$309)*$B$105))","v":0},{"$f":"IF(R100=0,0,\nIF('Операционные затраты'!R49<Предпосылки!$D$309,0,\n('Операционные затраты'!R49-Предпосылки!$D$309)*$B$105))","v":0},{"$f":"IF(S100=0,0,\nIF('Операционные затраты'!S49<Предпосылки!$D$309,0,\n('Операционные затраты'!S49-Предпосылки!$D$309)*$B$105))","v":0},{"$f":"IF(T100=0,0,\nIF('Операционные затраты'!T49<Предпосылки!$D$309,0,\n('Операционные затраты'!T49-Предпосылки!$D$309)*$B$105))","v":0},{"$f":"IF(U100=0,0,\nIF('Операционные затраты'!U49<Предпосылки!$D$309,0,\n('Операционные затраты'!U49-Предпосылки!$D$309)*$B$105))","v":0},{"$f":"IF(V100=0,0,\nIF('Операционные затраты'!V49<Предпосылки!$D$309,0,\n('Операционные затраты'!V49-Предпосылки!$D$309)*$B$105))","v":0},{"$f":"IF(W100=0,0,\nIF('Операционные затраты'!W49<Предпосылки!$D$309,0,\n('Операционные затраты'!W49-Предпосылки!$D$309)*$B$105))","v":0},{"$f":"IF(X100=0,0,\nIF('Операционные затраты'!X49<Предпосылки!$D$309,0,\n('Операционные затраты'!X49-Предпосылки!$D$309)*$B$105))","v":0},{"$f":"IF(Y100=0,0,\nIF('Операционные затраты'!Y49<Предпосылки!$D$309,0,\n('Операционные затраты'!Y49-Предпосылки!$D$309)*$B$105))","v":0},{"$f":"IF(Z100=0,0,\nIF('Операционные затраты'!Z49<Предпосылки!$D$309,0,\n('Операционные затраты'!Z49-Предпосылки!$D$309)*$B$105))","v":0},{"$f":"IF(AA100=0,0,\nIF('Операционные затраты'!AA49<Предпосылки!$D$309,0,\n('Операционные затраты'!AA49-Предпосылки!$D$309)*$B$105))","v":0},{"$f":"IF(AB100=0,0,\nIF('Операционные затраты'!AB49<Предпосылки!$D$309,0,\n('Операционные затраты'!AB49-Предпосылки!$D$309)*$B$105))","v":0}]
[null,null,"Итого","тыс. руб.",null,null,null,{"$f":"SUBTOTAL(9,H107:H115)","v":0},{"$f":"SUBTOTAL(9,I107:I115)","v":0},0,0,0,0,0,0,0,0,0,0,0,0,0,0,0,0,0,0,{"$f":"SUBTOTAL(9,AB107:AB115)","v":0}]
[null,null,"ИТОГО НДФЛ 22%","тыс. руб.",null,null,null,{"$f":"H116","v":0},{"$f":"I116","v":0},0,0,0,0,0,0,0,0,0,0,0,0,0,0,0,0,0,0,{"$f":"AB116","v":0}]
[null,null,"Доля от всего начисленного НДФЛ","%",null,null,null,{"$f":"IFERROR(H117/H$122,0)","v":0},{"$f":"IFERROR(I117/I$122,0)","v":0},0,0,0,0,0,0,0,0,0,0,0,0,0,0,0,0,0,0,{"$f":"IFERROR(AB117/AB$122,0)","v":0}]
[]
[null,"Расчет НДФЛ"]
[null,null,"Задолженность  на  начало периода","тыс. руб.",null,null,null,{"$f":"G124","v":0},{"$f":"H124","v":0},{"$f":"I124","v":0},0,0,0,0,0,0,0,0,0,0,0,0,{"$f":"V124","v":0},0,0,0,0,0]
[null,null,"Начисление НДФЛ","тыс. руб.",null,null,null,{"$f":"SUM(H44,H56,H71,H86,H101,H116)","v":0},{"$f":"SUM(I44,I56,I71,I86,I101,I116)","v":0},0,0,0,0,0,0,0,0,0,0,0,0,0,0,0,0,0,0,{"$f":"SUM(AB44,AB56,AB71,AB86,AB101,AB116)","v":0}]
[null,null,"Уплата НДФЛ (-)","тыс. руб.",null,null,null,{"$f":"-(H122*Предпосылки!$F$382+H121)","v":0},{"$f":"-(I122*Предпосылки!$F$382+I121)","v":0},{"$f":"-(J122*Предпосылки!$F$382+J121)","v":0},{"$f":"-(K122*Предпосылки!$F$382+K121)","v":0},{"$f":"-(L122*Предпосылки!$F$382+L121)","v":0},{"$f":"-(M122*Предпосылки!$F$382+M121)","v":0},{"$f":"-(N122*Предпосылки!$F$382+N121)","v":0},{"$f":"-(O122*Предпосылки!$F$382+O121)","v":0},{"$f":"-(P122*Предпосылки!$F$382+P121)","v":0},{"$f":"-(Q122*Предпосылки!$F$382+Q121)","v":0},{"$f":"-(R122*Предпосылки!$F$382+R121)","v":0},{"$f":"-(S122*Предпосылки!$F$382+S121)","v":0},{"$f":"-(T122*Предпосылки!$F$382+T121)","v":0},{"$f":"-(U122*Предпосылки!$F$382+U121)","v":0},{"$f":"-(V122*Предпосылки!$F$382+V121)","v":0},{"$f":"-(W122*Предпосылки!$F$382+W121)","v":0},{"$f":"-(X122*Предпосылки!$F$382+X121)","v":0},{"$f":"-(Y122*Предпосылки!$F$382+Y121)","v":0},{"$f":"-(Z122*Предпосылки!$F$382+Z121)","v":0},{"$f":"-(AA122*Предпосылки!$F$382+AA121)","v":0},{"$f":"-(AB122*Предпосылки!$F$382+AB121)","v":0}]
[null,null,"Задолженность на конец периода","тыс. руб.",null,null,null,{"$f":"SUM(H121:H123)","v":0},{"$f":"SUM(I121:I123)","v":0},0,0,0,0,0,0,0,0,0,0,0,0,0,0,0,0,0,0,{"$f":"SUM(AB121:AB123)","v":0}]
[]
[null,"Налог на прибыль"]
[]
[null,"Со СПИК"]
[]
[null,null,"Прибыль (убыток) до налогообложения ","тыс. руб.","Лист: Отчетность (СПИК)",null,null,{"$f":"'Отчетность (СПИК)'!H69","v":0},{"$f":"'Отчетность (СПИК)'!I69","v":0},{"$f":"'Отчетность (СПИК)'!J69","v":0},{"$f":"'Отчетность (СПИК)'!K69","v":0},{"$f":"'Отчетность (СПИК)'!L69","v":0},{"$f":"'Отчетность (СПИК)'!M69","v":0},{"$f":"'Отчетность (СПИК)'!N69","v":0},{"$f":"'Отчетность (СПИК)'!O69","v":0},{"$f":"'Отчетность (СПИК)'!P69","v":0},{"$f":"'Отчетность (СПИК)'!Q69","v":0},{"$f":"'Отчетность (СПИК)'!R69","v":0},{"$f":"'Отчетность (СПИК)'!S69","v":0},{"$f":"'Отчетность (СПИК)'!T69","v":0},{"$f":"'Отчетность (СПИК)'!U69","v":0},{"$f":"'Отчетность (СПИК)'!V69","v":0},{"$f":"'Отчетность (СПИК)'!W69","v":0},{"$f":"'Отчетность (СПИК)'!X69","v":0},{"$f":"'Отчетность (СПИК)'!Y69","v":0},{"$f":"'Отчетность (СПИК)'!Z69","v":0},{"$f":"'Отчетность (СПИК)'!AA69","v":0},{"$f":"'Отчетность (СПИК)'!AB69","v":0}]
[null,null,"Получение государственных субсидий (не включаемых в налогооблагаемую базу)","тыс. руб.","Лист: Предпосылки",null,null,{"$f":"Предпосылки!H282","v":0},{"$f":"Предпосылки!I282","v":0},{"$f":"Предпосылки!J282","v":0},{"$f":"Предпосылки!K282","v":0},{"$f":"Предпосылки!L282","v":0},{"$f":"Предпосылки!M282","v":0},{"$f":"Предпосылки!N282","v":0},{"$f":"Предпосылки!O282","v":0},{"$f":"Предпосылки!P282","v":0},{"$f":"Предпосылки!Q282","v":0},{"$f":"Предпосылки!R282","v":0},{"$f":"Предпосылки!S282","v":0},{"$f":"Предпосылки!T282","v":0},{"$f":"Предпосылки!U282","v":0},{"$f":"Предпосылки!V282","v":0},{"$f":"Предпосылки!W282","v":0},{"$f":"Предпосылки!X282","v":0},{"$f":"Предпосылки!Y282","v":0},{"$f":"Предпосылки!Z282","v":0},{"$f":"Предпосылки!AA282","v":0},{"$f":"Предпосылки!AB282","v":0}]
[]
[null,"Налоговая база (исходная)",null,"тыс. руб.",null,null,null,{"$f":"H130-H131","v":0},0,0,0,0,0,0,0,0,0,0,0,0,0,0,0,0,0,0,0,{"$f":"AB130-AB131","v":0}]
[null,null,"Допустимое уменьшение налоговой базы для налогоплательщика - участника СПИК","тыс. руб.",null,null,null,{"$f":"MAX(Предпосылки!H330*H133,0)","v":0},{"$f":"MAX(Предпосылки!I330*I133,0)","v":0},{"$f":"MAX(Предпосылки!J330*J133,0)","v":0},{"$f":"MAX(Предпосылки!K330*K133,0)","v":0},{"$f":"MAX(Предпосылки!L330*L133,0)","v":0},{"$f":"MAX(Предпосылки!M330*M133,0)","v":0},{"$f":"MAX(Предпосылки!N330*N133,0)","v":0},{"$f":"MAX(Предпосылки!O330*O133,0)","v":0},{"$f":"MAX(Предпосылки!P330*P133,0)","v":0},{"$f":"MAX(Предпосылки!Q330*Q133,0)","v":0},{"$f":"MAX(Предпосылки!R330*R133,0)","v":0},{"$f":"MAX(Предпосылки!S330*S133,0)","v":0},{"$f":"MAX(Предпосылки!T330*T133,0)","v":0},{"$f":"MAX(Предпосылки!U330*U133,0)","v":0},{"$f":"MAX(Предпосылки!V330*V133,0)","v":0},{"$f":"MAX(Предпосылки!W330*W133,0)","v":0},{"$f":"MAX(Предпосылки!X330*X133,0)","v":0},{"$f":"MAX(Предпосылки!Y330*Y133,0)","v":0},{"$f":"MAX(Предпосылки!Z330*Z133,0)","v":0},{"$f":"MAX(Предпосылки!AA330*AA133,0)","v":0},{"$f":"MAX(Предпосылки!AB330*AB133,0)","v":0}]
[]
[null,"Убытки прошлых лет"]
[null,null,"Накопленный убыток на начало периода","тыс. руб.",null,null,null,{"$f":"G139","v":0},0,0,0,0,0,0,0,0,0,0,0,0,0,0,0,0,0,0,0,0]
[null,null,"Использование убытка (-)","тыс. руб.",null,null,null,{"$f":"-MIN(H134,H137)","v":0},0,0,0,0,0,0,0,0,0,0,0,0,0,0,0,0,0,0,0,{"$f":"-MIN(AB134,AB137)","v":0}]
[null,null,"Накопленный убыток на конец периода","тыс. руб.",null,null,null,{"$f":"MAX(IF(H133>0,G139-H134,G139-H133),0)","v":0},0,0,0,0,0,0,0,0,0,0,0,0,0,0,0,0,0,0,0,0]
[]
[null,null,"База для уплаты налога на прибыль (после списания убытков прошлых лет)","тыс. руб.",null,null,null,{"$f":"SUM(H133,H138)","v":0},0,0,0,0,0,0,0,0,0,0,0,0,0,0,0,0,0,0,0,{"$f":"SUM(AB133,AB138)","v":0}]
[]
[null,"Начисление налога на прибыль"]
[null,"Налог на прибыль (общий)",null,"тыс. руб.",null,null,null,{"$f":"SUM(H145:H146)","v":0},{"$f":"SUM(I145:I146)","v":0},0,0,0,0,0,0,0,0,0,0,0,0,0,0,0,0,0,0,{"$f":"SUM(AB145:AB146)","v":0}]
[null,null,"Налог на прибыль (федеральная часть)","тыс. руб.",null,null,null,{"$f":"IF(Предпосылки!$F$287=1,\nMAX(H$141*Предпосылки!H323,0),\nMAX(H141*Предпосылки!H297,0))","v":0},{"$f":"IF(Предпосылки!$F$287=1,\nMAX(I$141*Предпосылки!I323,0),\nMAX(I141*Предпосылки!I297,0))","v":0},{"$f":"IF(Предпосылки!$F$287=1,\nMAX(J$141*Предпосылки!J323,0),\nMAX(J141*Предпосылки!J297,0))","v":0},{"$f":"IF(Предпосылки!$F$287=1,\nMAX(K$141*Предпосылки!K323,0),\nMAX(K141*Предпосылки!K297,0))","v":0},{"$f":"IF(Предпосылки!$F$287=1,\nMAX(L$141*Предпосылки!L323,0),\nMAX(L141*Предпосылки!L297,0))","v":0},{"$f":"IF(Предпосылки!$F$287=1,\nMAX(M$141*Предпосылки!M323,0),\nMAX(M141*Предпосылки!M297,0))","v":0},{"$f":"IF(Предпосылки!$F$287=1,\nMAX(N$141*Предпосылки!N323,0),\nMAX(N141*Предпосылки!N297,0))","v":0},{"$f":"IF(Предпосылки!$F$287=1,\nMAX(O$141*Предпосылки!O323,0),\nMAX(O141*Предпосылки!O297,0))","v":0},{"$f":"IF(Предпосылки!$F$287=1,\nMAX(P$141*Предпосылки!P323,0),\nMAX(P141*Предпосылки!P297,0))","v":0},{"$f":"IF(Предпосылки!$F$287=1,\nMAX(Q$141*Предпосылки!Q323,0),\nMAX(Q141*Предпосылки!Q297,0))","v":0},{"$f":"IF(Предпосылки!$F$287=1,\nMAX(R$141*Предпосылки!R323,0),\nMAX(R141*Предпосылки!R297,0))","v":0},{"$f":"IF(Предпосылки!$F$287=1,\nMAX(S$141*Предпосылки!S323,0),\nMAX(S141*Предпосылки!S297,0))","v":0},{"$f":"IF(Предпосылки!$F$287=1,\nMAX(T$141*Предпосылки!T323,0),\nMAX(T141*Предпосылки!T297,0))","v":0},{"$f":"IF(Предпосылки!$F$287=1,\nMAX(U$141*Предпосылки!U323,0),\nMAX(U141*Предпосылки!U297,0))","v":0},{"$f":"IF(Предпосылки!$F$287=1,\nMAX(V$141*Предпосылки!V323,0),\nMAX(V141*Предпосылки!V297,0))","v":0},{"$f":"IF(Предпосылки!$F$287=1,\nMAX(W$141*Предпосылки!W323,0),\nMAX(W141*Предпосылки!W297,0))","v":0},{"$f":"IF(Предпосылки!$F$287=1,\nMAX(X$141*Предпосылки!X323,0),\nMAX(X141*Предпосылки!X297,0))","v":0},{"$f":"IF(Предпосылки!$F$287=1,\nMAX(Y$141*Предпосылки!Y323,0),\nMAX(Y141*Предпосылки!Y297,0))","v":0},{"$f":"IF(Предпосылки!$F$287=1,\nMAX(Z$141*Предпосылки!Z323,0),\nMAX(Z141*Предпосылки!Z297,0))","v":0},{"$f":"IF(Предпосылки!$F$287=1,\nMAX(AA$141*Предпосылки!AA323,0),\nMAX(AA141*Предпосылки!AA297,0))","v":0},{"$f":"IF(Предпосылки!$F$287=1,\nMAX(AB$141*Предпосылки!AB323,0),\nMAX(AB141*Предпосылки!AB297,0))","v":0}]
[null,null,"Налог на прибыль (региональная часть)","тыс. руб.",null,null,null,{"$f":"IF(Предпосылки!$F$287=1,\nMAX(H$141*Предпосылки!H324,0),\nMAX(H141*Предпосылки!H298,0))","v":0},{"$f":"IF(Предпосылки!$F$287=1,\nMAX(I$141*Предпосылки!I324,0),\nMAX(I141*Предпосылки!I298,0))","v":0},{"$f":"IF(Предпосылки!$F$287=1,\nMAX(J$141*Предпосылки!J324,0),\nMAX(J141*Предпосылки!J298,0))","v":0},{"$f":"IF(Предпосылки!$F$287=1,\nMAX(K$141*Предпосылки!K324,0),\nMAX(K141*Предпосылки!K298,0))","v":0},{"$f":"IF(Предпосылки!$F$287=1,\nMAX(L$141*Предпосылки!L324,0),\nMAX(L141*Предпосылки!L298,0))","v":0},{"$f":"IF(Предпосылки!$F$287=1,\nMAX(M$141*Предпосылки!M324,0),\nMAX(M141*Предпосылки!M298,0))","v":0},{"$f":"IF(Предпосылки!$F$287=1,\nMAX(N$141*Предпосылки!N324,0),\nMAX(N141*Предпосылки!N298,0))","v":0},{"$f":"IF(Предпосылки!$F$287=1,\nMAX(O$141*Предпосылки!O324,0),\nMAX(O141*Предпосылки!O298,0))","v":0},{"$f":"IF(Предпосылки!$F$287=1,\nMAX(P$141*Предпосылки!P324,0),\nMAX(P141*Предпосылки!P298,0))","v":0},{"$f":"IF(Предпосылки!$F$287=1,\nMAX(Q$141*Предпосылки!Q324,0),\nMAX(Q141*Предпосылки!Q298,0))","v":0},{"$f":"IF(Предпосылки!$F$287=1,\nMAX(R$141*Предпосылки!R324,0),\nMAX(R141*Предпосылки!R298,0))","v":0},{"$f":"IF(Предпосылки!$F$287=1,\nMAX(S$141*Предпосылки!S324,0),\nMAX(S141*Предпосылки!S298,0))","v":0},{"$f":"IF(Предпосылки!$F$287=1,\nMAX(T$141*Предпосылки!T324,0),\nMAX(T141*Предпосылки!T298,0))","v":0},{"$f":"IF(Предпосылки!$F$287=1,\nMAX(U$141*Предпосылки!U324,0),\nMAX(U141*Предпосылки!U298,0))","v":0},{"$f":"IF(Предпосылки!$F$287=1,\nMAX(V$141*Предпосылки!V324,0),\nMAX(V141*Предпосылки!V298,0))","v":0},{"$f":"IF(Предпосылки!$F$287=1,\nMAX(W$141*Предпосылки!W324,0),\nMAX(W141*Предпосылки!W298,0))","v":0},{"$f":"IF(Предпосылки!$F$287=1,\nMAX(X$141*Предпосылки!X324,0),\nMAX(X141*Предпосылки!X298,0))","v":0},{"$f":"IF(Предпосылки!$F$287=1,\nMAX(Y$141*Предпосылки!Y324,0),\nMAX(Y141*Предпосылки!Y298,0))","v":0},{"$f":"IF(Предпосылки!$F$287=1,\nMAX(Z$141*Предпосылки!Z324,0),\nMAX(Z141*Предпосылки!Z298,0))","v":0},{"$f":"IF(Предпосылки!$F$287=1,\nMAX(AA$141*Предпосылки!AA324,0),\nMAX(AA141*Предпосылки!AA298,0))","v":0},{"$f":"IF(Предпосылки!$F$287=1,\nMAX(AB$141*Предпосылки!AB324,0),\nMAX(AB141*Предпосылки!AB298,0))","v":0}]
[]
[null," Расчеты по налогу на прибыль"]
[null,null,"Задолженность по налогу на прибыль перед бюджетом на начало периода","тыс. руб.",null,null,null,{"$f":"G154","v":0},{"$f":"H154","v":0},0,0,0,0,0,0,0,0,0,0,0,0,0,{"$f":"V154","v":0},0,0,0,0,0]
[null,null,"Налог на прибыль к уплате","тыс. руб.",null,null,null,{"$f":"H144","v":0},0,0,0,0,0,0,0,0,0,0,0,0,0,0,0,0,0,0,0,{"$f":"AB144","v":0}]
[null,null,"Уплата налога на прибыль (-)","тыс. руб.",null,null,null,{"$f":"-H150*IF('Отчетность (СПИК)'!H53>Количество_кварталов*Предпосылки!$F$378,Предпосылки!$F$380,Предпосылки!$F$379)-Налоги!H149","v":0},{"$f":"-I150*IF('Отчетность (СПИК)'!I53>Количество_кварталов*Предпосылки!$F$378,Предпосылки!$F$380,Предпосылки!$F$379)-Налоги!I149","v":0},{"$f":"-J150*IF('Отчетность (СПИК)'!J53>Количество_кварталов*Предпосылки!$F$378,Предпосылки!$F$380,Предпосылки!$F$379)-Налоги!J149","v":0},{"$f":"-K150*IF('Отчетность (СПИК)'!K53>Количество_кварталов*Предпосылки!$F$378,Предпосылки!$F$380,Предпосылки!$F$379)-Налоги!K149","v":0},{"$f":"-L150*IF('Отчетность (СПИК)'!L53>Количество_кварталов*Предпосылки!$F$378,Предпосылки!$F$380,Предпосылки!$F$379)-Налоги!L149","v":0},{"$f":"-M150*IF('Отчетность (СПИК)'!M53>Количество_кварталов*Предпосылки!$F$378,Предпосылки!$F$380,Предпосылки!$F$379)-Налоги!M149","v":0},{"$f":"-N150*IF('Отчетность (СПИК)'!N53>Количество_кварталов*Предпосылки!$F$378,Предпосылки!$F$380,Предпосылки!$F$379)-Налоги!N149","v":0},{"$f":"-O150*IF('Отчетность (СПИК)'!O53>Количество_кварталов*Предпосылки!$F$378,Предпосылки!$F$380,Предпосылки!$F$379)-Налоги!O149","v":0},{"$f":"-P150*IF('Отчетность (СПИК)'!P53>Количество_кварталов*Предпосылки!$F$378,Предпосылки!$F$380,Предпосылки!$F$379)-Налоги!P149","v":0},{"$f":"-Q150*IF('Отчетность (СПИК)'!Q53>Количество_кварталов*Предпосылки!$F$378,Предпосылки!$F$380,Предпосылки!$F$379)-Налоги!Q149","v":0},{"$f":"-R150*IF('Отчетность (СПИК)'!R53>Количество_кварталов*Предпосылки!$F$378,Предпосылки!$F$380,Предпосылки!$F$379)-Налоги!R149","v":0},{"$f":"-S150*IF('Отчетность (СПИК)'!S53>Количество_кварталов*Предпосылки!$F$378,Предпосылки!$F$380,Предпосылки!$F$379)-Налоги!S149","v":0},{"$f":"-T150*IF('Отчетность (СПИК)'!T53>Количество_кварталов*Предпосылки!$F$378,Предпосылки!$F$380,Предпосылки!$F$379)-Налоги!T149","v":0},{"$f":"-U150*IF('Отчетность (СПИК)'!U53>Количество_кварталов*Предпосылки!$F$378,Предпосылки!$F$380,Предпосылки!$F$379)-Налоги!U149","v":0},{"$f":"-V150*IF('Отчетность (СПИК)'!V53>Количество_кварталов*Предпосылки!$F$378,Предпосылки!$F$380,Предпосылки!$F$379)-Налоги!V149","v":0},{"$f":"-W150*IF('Отчетность (СПИК)'!W53>Количество_кварталов*Предпосылки!$F$378,Предпосылки!$F$380,Предпосылки!$F$379)-Налоги!W149","v":0},{"$f":"-X150*IF('Отчетность (СПИК)'!X53>Количество_кварталов*Предпосылки!$F$378,Предпосылки!$F$380,Предпосылки!$F$379)-Налоги!X149","v":0},{"$f":"-Y150*IF('Отчетность (СПИК)'!Y53>Количество_кварталов*Предпосылки!$F$378,Предпосылки!$F$380,Предпосылки!$F$379)-Налоги!Y149","v":0},{"$f":"-Z150*IF('Отчетность (СПИК)'!Z53>Количество_кварталов*Предпосылки!$F$378,Предпосылки!$F$380,Предпосылки!$F$379)-Налоги!Z149","v":0},{"$f":"-AA150*IF('Отчетность (СПИК)'!AA53>Количество_кварталов*Предпосылки!$F$378,Предпосылки!$F$380,Предпосылки!$F$379)-Налоги!AA149","v":0},{"$f":"-AB150*IF('Отчетность (СПИК)'!AB53>Количество_кварталов*Предпосылки!$F$378,Предпосылки!$F$380,Предпосылки!$F$379)-Налоги!AB149","v":0}]
[null,null,"в федеральный бюджет  (-)","тыс. руб.",null,null,null,{"$f":"-H145*IF('Отчетность (СПИК)'!H53>Количество_кварталов*Предпосылки!$F$378,Предпосылки!$F$380,Предпосылки!$F$379)\n-G145*IF('Отчетность (СПИК)'!G53>Количество_кварталов*Предпосылки!$F$378,One-Предпосылки!$F$380,One-Предпосылки!$F$379)","v":0},{"$f":"-I145*IF('Отчетность (СПИК)'!I53>Количество_кварталов*Предпосылки!$F$378,Предпосылки!$F$380,Предпосылки!$F$379)\n-H145*IF('Отчетность (СПИК)'!H53>Количество_кварталов*Предпосылки!$F$378,One-Предпосылки!$F$380,One-Предпосылки!$F$379)","v":0},{"$f":"-J145*IF('Отчетность (СПИК)'!J53>Количество_кварталов*Предпосылки!$F$378,Предпосылки!$F$380,Предпосылки!$F$379)\n-I145*IF('Отчетность (СПИК)'!I53>Количество_кварталов*Предпосылки!$F$378,One-Предпосылки!$F$380,One-Предпосылки!$F$379)","v":0},{"$f":"-K145*IF('Отчетность (СПИК)'!K53>Количество_кварталов*Предпосылки!$F$378,Предпосылки!$F$380,Предпосылки!$F$379)\n-J145*IF('Отчетность (СПИК)'!J53>Количество_кварталов*Предпосылки!$F$378,One-Предпосылки!$F$380,One-Предпосылки!$F$379)","v":0},{"$f":"-L145*IF('Отчетность (СПИК)'!L53>Количество_кварталов*Предпосылки!$F$378,Предпосылки!$F$380,Предпосылки!$F$379)\n-K145*IF('Отчетность (СПИК)'!K53>Количество_кварталов*Предпосылки!$F$378,One-Предпосылки!$F$380,One-Предпосылки!$F$379)","v":0},{"$f":"-M145*IF('Отчетность (СПИК)'!M53>Количество_кварталов*Предпосылки!$F$378,Предпосылки!$F$380,Предпосылки!$F$379)\n-L145*IF('Отчетность (СПИК)'!L53>Количество_кварталов*Предпосылки!$F$378,One-Предпосылки!$F$380,One-Предпосылки!$F$379)","v":0},{"$f":"-N145*IF('Отчетность (СПИК)'!N53>Количество_кварталов*Предпосылки!$F$378,Предпосылки!$F$380,Предпосылки!$F$379)\n-M145*IF('Отчетность (СПИК)'!M53>Количество_кварталов*Предпосылки!$F$378,One-Предпосылки!$F$380,One-Предпосылки!$F$379)","v":0},{"$f":"-O145*IF('Отчетность (СПИК)'!O53>Количество_кварталов*Предпосылки!$F$378,Предпосылки!$F$380,Предпосылки!$F$379)\n-N145*IF('Отчетность (СПИК)'!N53>Количество_кварталов*Предпосылки!$F$378,One-Предпосылки!$F$380,One-Предпосылки!$F$379)","v":0},{"$f":"-P145*IF('Отчетность (СПИК)'!P53>Количество_кварталов*Предпосылки!$F$378,Предпосылки!$F$380,Предпосылки!$F$379)\n-O145*IF('Отчетность (СПИК)'!O53>Количество_кварталов*Предпосылки!$F$378,One-Предпосылки!$F$380,One-Предпосылки!$F$379)","v":0},{"$f":"-Q145*IF('Отчетность (СПИК)'!Q53>Количество_кварталов*Предпосылки!$F$378,Предпосылки!$F$380,Предпосылки!$F$379)\n-P145*IF('Отчетность (СПИК)'!P53>Количество_кварталов*Предпосылки!$F$378,One-Предпосылки!$F$380,One-Предпосылки!$F$379)","v":0},{"$f":"-R145*IF('Отчетность (СПИК)'!R53>Количество_кварталов*Предпосылки!$F$378,Предпосылки!$F$380,Предпосылки!$F$379)\n-Q145*IF('Отчетность (СПИК)'!Q53>Количество_кварталов*Предпосылки!$F$378,One-Предпосылки!$F$380,One-Предпосылки!$F$379)","v":0},{"$f":"-S145*IF('Отчетность (СПИК)'!S53>Количество_кварталов*Предпосылки!$F$378,Предпосылки!$F$380,Предпосылки!$F$379)\n-R145*IF('Отчетность (СПИК)'!R53>Количество_кварталов*Предпосылки!$F$378,One-Предпосылки!$F$380,One-Предпосылки!$F$379)","v":0},{"$f":"-T145*IF('Отчетность (СПИК)'!T53>Количество_кварталов*Предпосылки!$F$378,Предпосылки!$F$380,Предпосылки!$F$379)\n-S145*IF('Отчетность (СПИК)'!S53>Количество_кварталов*Предпосылки!$F$378,One-Предпосылки!$F$380,One-Предпосылки!$F$379)","v":0},{"$f":"-U145*IF('Отчетность (СПИК)'!U53>Количество_кварталов*Предпосылки!$F$378,Предпосылки!$F$380,Предпосылки!$F$379)\n-T145*IF('Отчетность (СПИК)'!T53>Количество_кварталов*Предпосылки!$F$378,One-Предпосылки!$F$380,One-Предпосылки!$F$379)","v":0},{"$f":"-V145*IF('Отчетность (СПИК)'!V53>Количество_кварталов*Предпосылки!$F$378,Предпосылки!$F$380,Предпосылки!$F$379)\n-U145*IF('Отчетность (СПИК)'!U53>Количество_кварталов*Предпосылки!$F$378,One-Предпосылки!$F$380,One-Предпосылки!$F$379)","v":0},{"$f":"-W145*IF('Отчетность (СПИК)'!W53>Количество_кварталов*Предпосылки!$F$378,Предпосылки!$F$380,Предпосылки!$F$379)\n-V145*IF('Отчетность (СПИК)'!V53>Количество_кварталов*Предпосылки!$F$378,One-Предпосылки!$F$380,One-Предпосылки!$F$379)","v":0},{"$f":"-X145*IF('Отчетность (СПИК)'!X53>Количество_кварталов*Предпосылки!$F$378,Предпосылки!$F$380,Предпосылки!$F$379)\n-W145*IF('Отчетность (СПИК)'!W53>Количество_кварталов*Предпосылки!$F$378,One-Предпосылки!$F$380,One-Предпосылки!$F$379)","v":0},{"$f":"-Y145*IF('Отчетность (СПИК)'!Y53>Количество_кварталов*Предпосылки!$F$378,Предпосылки!$F$380,Предпосылки!$F$379)\n-X145*IF('Отчетность (СПИК)'!X53>Количество_кварталов*Предпосылки!$F$378,One-Предпосылки!$F$380,One-Предпосылки!$F$379)","v":0},{"$f":"-Z145*IF('Отчетность (СПИК)'!Z53>Количество_кварталов*Предпосылки!$F$378,Предпосылки!$F$380,Предпосылки!$F$379)\n-Y145*IF('Отчетность (СПИК)'!Y53>Количество_кварталов*Предпосылки!$F$378,One-Предпосылки!$F$380,One-Предпосылки!$F$379)","v":0},{"$f":"-AA145*IF('Отчетность (СПИК)'!AA53>Количество_кварталов*Предпосылки!$F$378,Предпосылки!$F$380,Предпосылки!$F$379)\n-Z145*IF('Отчетность (СПИК)'!Z53>Количество_кварталов*Предпосылки!$F$378,One-Предпосылки!$F$380,One-Предпосылки!$F$379)","v":0},{"$f":"-AB145*IF('Отчетность (СПИК)'!AB53>Количество_кварталов*Предпосылки!$F$378,Предпосылки!$F$380,Предпосылки!$F$379)\n-AA145*IF('Отчетность (СПИК)'!AA53>Количество_кварталов*Предпосылки!$F$378,One-Предпосылки!$F$380,One-Предпосылки!$F$379)","v":0}]
[null,null,"в региональный бюджет  (-)","тыс. руб.",null,null,null,{"$f":"-H146*IF('Отчетность (СПИК)'!H53>Количество_кварталов*Предпосылки!$F$378,Предпосылки!$F$380,Предпосылки!$F$379)\n-G146*IF('Отчетность (СПИК)'!G53>Количество_кварталов*Предпосылки!$F$378,One-Предпосылки!$F$380,One-Предпосылки!$F$379)","v":0},{"$f":"-I146*IF('Отчетность (СПИК)'!I53>Количество_кварталов*Предпосылки!$F$378,Предпосылки!$F$380,Предпосылки!$F$379)\n-H146*IF('Отчетность (СПИК)'!H53>Количество_кварталов*Предпосылки!$F$378,One-Предпосылки!$F$380,One-Предпосылки!$F$379)","v":0},{"$f":"-J146*IF('Отчетность (СПИК)'!J53>Количество_кварталов*Предпосылки!$F$378,Предпосылки!$F$380,Предпосылки!$F$379)\n-I146*IF('Отчетность (СПИК)'!I53>Количество_кварталов*Предпосылки!$F$378,One-Предпосылки!$F$380,One-Предпосылки!$F$379)","v":0},{"$f":"-K146*IF('Отчетность (СПИК)'!K53>Количество_кварталов*Предпосылки!$F$378,Предпосылки!$F$380,Предпосылки!$F$379)\n-J146*IF('Отчетность (СПИК)'!J53>Количество_кварталов*Предпосылки!$F$378,One-Предпосылки!$F$380,One-Предпосылки!$F$379)","v":0},{"$f":"-L146*IF('Отчетность (СПИК)'!L53>Количество_кварталов*Предпосылки!$F$378,Предпосылки!$F$380,Предпосылки!$F$379)\n-K146*IF('Отчетность (СПИК)'!K53>Количество_кварталов*Предпосылки!$F$378,One-Предпосылки!$F$380,One-Предпосылки!$F$379)","v":0},{"$f":"-M146*IF('Отчетность (СПИК)'!M53>Количество_кварталов*Предпосылки!$F$378,Предпосылки!$F$380,Предпосылки!$F$379)\n-L146*IF('Отчетность (СПИК)'!L53>Количество_кварталов*Предпосылки!$F$378,One-Предпосылки!$F$380,One-Предпосылки!$F$379)","v":0},{"$f":"-N146*IF('Отчетность (СПИК)'!N53>Количество_кварталов*Предпосылки!$F$378,Предпосылки!$F$380,Предпосылки!$F$379)\n-M146*IF('Отчетность (СПИК)'!M53>Количество_кварталов*Предпосылки!$F$378,One-Предпосылки!$F$380,One-Предпосылки!$F$379)","v":0},{"$f":"-O146*IF('Отчетность (СПИК)'!O53>Количество_кварталов*Предпосылки!$F$378,Предпосылки!$F$380,Предпосылки!$F$379)\n-N146*IF('Отчетность (СПИК)'!N53>Количество_кварталов*Предпосылки!$F$378,One-Предпосылки!$F$380,One-Предпосылки!$F$379)","v":0},{"$f":"-P146*IF('Отчетность (СПИК)'!P53>Количество_кварталов*Предпосылки!$F$378,Предпосылки!$F$380,Предпосылки!$F$379)\n-O146*IF('Отчетность (СПИК)'!O53>Количество_кварталов*Предпосылки!$F$378,One-Предпосылки!$F$380,One-Предпосылки!$F$379)","v":0},{"$f":"-Q146*IF('Отчетность (СПИК)'!Q53>Количество_кварталов*Предпосылки!$F$378,Предпосылки!$F$380,Предпосылки!$F$379)\n-P146*IF('Отчетность (СПИК)'!P53>Количество_кварталов*Предпосылки!$F$378,One-Предпосылки!$F$380,One-Предпосылки!$F$379)","v":0},{"$f":"-R146*IF('Отчетность (СПИК)'!R53>Количество_кварталов*Предпосылки!$F$378,Предпосылки!$F$380,Предпосылки!$F$379)\n-Q146*IF('Отчетность (СПИК)'!Q53>Количество_кварталов*Предпосылки!$F$378,One-Предпосылки!$F$380,One-Предпосылки!$F$379)","v":0},{"$f":"-S146*IF('Отчетность (СПИК)'!S53>Количество_кварталов*Предпосылки!$F$378,Предпосылки!$F$380,Предпосылки!$F$379)\n-R146*IF('Отчетность (СПИК)'!R53>Количество_кварталов*Предпосылки!$F$378,One-Предпосылки!$F$380,One-Предпосылки!$F$379)","v":0},{"$f":"-T146*IF('Отчетность (СПИК)'!T53>Количество_кварталов*Предпосылки!$F$378,Предпосылки!$F$380,Предпосылки!$F$379)\n-S146*IF('Отчетность (СПИК)'!S53>Количество_кварталов*Предпосылки!$F$378,One-Предпосылки!$F$380,One-Предпосылки!$F$379)","v":0},{"$f":"-U146*IF('Отчетность (СПИК)'!U53>Количество_кварталов*Предпосылки!$F$378,Предпосылки!$F$380,Предпосылки!$F$379)\n-T146*IF('Отчетность (СПИК)'!T53>Количество_кварталов*Предпосылки!$F$378,One-Предпосылки!$F$380,One-Предпосылки!$F$379)","v":0},{"$f":"-V146*IF('Отчетность (СПИК)'!V53>Количество_кварталов*Предпосылки!$F$378,Предпосылки!$F$380,Предпосылки!$F$379)\n-U146*IF('Отчетность (СПИК)'!U53>Количество_кварталов*Предпосылки!$F$378,One-Предпосылки!$F$380,One-Предпосылки!$F$379)","v":0},{"$f":"-W146*IF('Отчетность (СПИК)'!W53>Количество_кварталов*Предпосылки!$F$378,Предпосылки!$F$380,Предпосылки!$F$379)\n-V146*IF('Отчетность (СПИК)'!V53>Количество_кварталов*Предпосылки!$F$378,One-Предпосылки!$F$380,One-Предпосылки!$F$379)","v":0},{"$f":"-X146*IF('Отчетность (СПИК)'!X53>Количество_кварталов*Предпосылки!$F$378,Предпосылки!$F$380,Предпосылки!$F$379)\n-W146*IF('Отчетность (СПИК)'!W53>Количество_кварталов*Предпосылки!$F$378,One-Предпосылки!$F$380,One-Предпосылки!$F$379)","v":0},{"$f":"-Y146*IF('Отчетность (СПИК)'!Y53>Количество_кварталов*Предпосылки!$F$378,Предпосылки!$F$380,Предпосылки!$F$379)\n-X146*IF('Отчетность (СПИК)'!X53>Количество_кварталов*Предпосылки!$F$378,One-Предпосылки!$F$380,One-Предпосылки!$F$379)","v":0},{"$f":"-Z146*IF('Отчетность (СПИК)'!Z53>Количество_кварталов*Предпосылки!$F$378,Предпосылки!$F$380,Предпосылки!$F$379)\n-Y146*IF('Отчетность (СПИК)'!Y53>Количество_кварталов*Предпосылки!$F$378,One-Предпосылки!$F$380,One-Предпосылки!$F$379)","v":0},{"$f":"-AA146*IF('Отчетность (СПИК)'!AA53>Количество_кварталов*Предпосылки!$F$378,Предпосылки!$F$380,Предпосылки!$F$379)\n-Z146*IF('Отчетность (СПИК)'!Z53>Количество_кварталов*Предпосылки!$F$378,One-Предпосылки!$F$380,One-Предпосылки!$F$379)","v":0},{"$f":"-AB146*IF('Отчетность (СПИК)'!AB53>Количество_кварталов*Предпосылки!$F$378,Предпосылки!$F$380,Предпосылки!$F$379)\n-AA146*IF('Отчетность (СПИК)'!AA53>Количество_кварталов*Предпосылки!$F$378,One-Предпосылки!$F$380,One-Предпосылки!$F$379)","v":0}]
[null,null,"Задолженность перед бюджетом на конец периода","тыс. руб.",null,null,null,{"$f":"SUM(H149:H151)","v":0},{"$f":"SUM(I149:I151)","v":0},0,0,0,0,0,0,0,0,0,0,0,0,0,0,0,0,0,0,{"$f":"SUM(AB149:AB151)","v":0}]
[]
[null,"Без СПИК"]
[]
[null,null,"Прибыль (убыток) до налогообложения ","тыс. руб.","Лист: Отчетность (Без СПИК)",null,null,{"$f":"'Отчетность (Без СПИК)'!H69","v":0},{"$f":"'Отчетность (Без СПИК)'!I69","v":0},{"$f":"'Отчетность (Без СПИК)'!J69","v":0},{"$f":"'Отчетность (Без СПИК)'!K69","v":0},{"$f":"'Отчетность (Без СПИК)'!L69","v":0},{"$f":"'Отчетность (Без СПИК)'!M69","v":0},{"$f":"'Отчетность (Без СПИК)'!N69","v":0},{"$f":"'Отчетность (Без СПИК)'!O69","v":0},{"$f":"'Отчетность (Без СПИК)'!P69","v":0},{"$f":"'Отчетность (Без СПИК)'!Q69","v":0},{"$f":"'Отчетность (Без СПИК)'!R69","v":0},{"$f":"'Отчетность (Без СПИК)'!S69","v":0},{"$f":"'Отчетность (Без СПИК)'!T69","v":0},{"$f":"'Отчетность (Без СПИК)'!U69","v":0},{"$f":"'Отчетность (Без СПИК)'!V69","v":0},{"$f":"'Отчетность (Без СПИК)'!W69","v":0},{"$f":"'Отчетность (Без СПИК)'!X69","v":0},{"$f":"'Отчетность (Без СПИК)'!Y69","v":0},{"$f":"'Отчетность (Без СПИК)'!Z69","v":0},{"$f":"'Отчетность (Без СПИК)'!AA69","v":0},{"$f":"'Отчетность (Без СПИК)'!AB69","v":0}]
[null,null,"Получение государственных субсидий (не включаемых в налогооблагаемую базу)","тыс. руб.","Лист: Предпосылки",null,null,{"$f":"Предпосылки!H282","v":0},{"$f":"Предпосылки!I282","v":0},{"$f":"Предпосылки!J282","v":0},{"$f":"Предпосылки!K282","v":0},{"$f":"Предпосылки!L282","v":0},{"$f":"Предпосылки!M282","v":0},{"$f":"Предпосылки!N282","v":0},{"$f":"Предпосылки!O282","v":0},{"$f":"Предпосылки!P282","v":0},{"$f":"Предпосылки!Q282","v":0},{"$f":"Предпосылки!R282","v":0},{"$f":"Предпосылки!S282","v":0},{"$f":"Предпосылки!T282","v":0},{"$f":"Предпосылки!U282","v":0},{"$f":"Предпосылки!V282","v":0},{"$f":"Предпосылки!W282","v":0},{"$f":"Предпосылки!X282","v":0},{"$f":"Предпосылки!Y282","v":0},{"$f":"Предпосылки!Z282","v":0},{"$f":"Предпосылки!AA282","v":0},{"$f":"Предпосылки!AB282","v":0}]
[]
[null,"Налоговая база (исходная)",null,"тыс. руб.",null,null,null,{"$f":"H158-H159","v":0},0,0,0,0,0,0,0,0,0,0,0,0,0,0,0,0,0,0,0,{"$f":"AB158-AB159","v":0}]
[null,null,"Допустимое уменьшение налоговой базы ","тыс. руб.",null,null,null,{"$f":"MAX(Предпосылки!H331*H161,0)","v":0},{"$f":"MAX(Предпосылки!I331*I161,0)","v":0},{"$f":"MAX(Предпосылки!J331*J161,0)","v":0},{"$f":"MAX(Предпосылки!K331*K161,0)","v":0},{"$f":"MAX(Предпосылки!L331*L161,0)","v":0},{"$f":"MAX(Предпосылки!M331*M161,0)","v":0},{"$f":"MAX(Предпосылки!N331*N161,0)","v":0},{"$f":"MAX(Предпосылки!O331*O161,0)","v":0},{"$f":"MAX(Предпосылки!P331*P161,0)","v":0},{"$f":"MAX(Предпосылки!Q331*Q161,0)","v":0},{"$f":"MAX(Предпосылки!R331*R161,0)","v":0},{"$f":"MAX(Предпосылки!S331*S161,0)","v":0},{"$f":"MAX(Предпосылки!T331*T161,0)","v":0},{"$f":"MAX(Предпосылки!U331*U161,0)","v":0},{"$f":"MAX(Предпосылки!V331*V161,0)","v":0},{"$f":"MAX(Предпосылки!W331*W161,0)","v":0},{"$f":"MAX(Предпосылки!X331*X161,0)","v":0},{"$f":"MAX(Предпосылки!Y331*Y161,0)","v":0},{"$f":"MAX(Предпосылки!Z331*Z161,0)","v":0},{"$f":"MAX(Предпосылки!AA331*AA161,0)","v":0},{"$f":"MAX(Предпосылки!AB331*AB161,0)","v":0}]
[]
[null,"Убытки прошлых лет"]
[null,null,"Накопленный убыток на начало периода","тыс. руб.",null,null,null,{"$f":"G167","v":0},{"$f":"H167","v":0},0,0,0,0,0,0,0,0,0,0,0,0,0,0,0,0,0,0,0]
[null,null,"Использование убытка (-)","тыс. руб.",null,null,null,{"$f":"-MIN(H162,H165)","v":0},0,0,0,0,0,0,0,0,0,0,0,0,0,0,0,0,0,0,0,{"$f":"-MIN(AB162,AB165)","v":0}]
[null,null,"Накопленный убыток на конец периода","тыс. руб.",null,null,null,{"$f":"MAX(IF(H161>0,G167-H162,G167-H161),0)","v":0},0,0,0,0,0,0,0,0,0,0,0,0,0,0,0,0,0,0,0,0]
[]
[null,null,"База для уплаты налога на прибыль (после списания убытков прошлых лет)","тыс. руб.",null,null,null,{"$f":"SUM(H161,H166)","v":0},0,0,0,0,0,0,0,0,0,0,0,0,0,0,0,0,0,0,0,{"$f":"SUM(AB161,AB166)","v":0}]
[]
[null,"Начисление налога на прибыль"]
[null,"Налог на прибыль (общий)",null,"тыс. руб.",null,null,null,{"$f":"SUM(H173:H174)","v":0},0,0,0,0,0,0,0,0,0,0,0,0,0,0,0,0,0,0,0,{"$f":"SUM(AB173:AB174)","v":0}]
[null,null,"Налог на прибыль (федеральная часть)","тыс. руб.",null,null,null,{"$f":"MAX(H$169*Предпосылки!H297,0)","v":0},{"$f":"MAX(I$169*Предпосылки!I297,0)","v":0},{"$f":"MAX(J$169*Предпосылки!J297,0)","v":0},{"$f":"MAX(K$169*Предпосылки!K297,0)","v":0},{"$f":"MAX(L$169*Предпосылки!L297,0)","v":0},{"$f":"MAX(M$169*Предпосылки!M297,0)","v":0},{"$f":"MAX(N$169*Предпосылки!N297,0)","v":0},{"$f":"MAX(O$169*Предпосылки!O297,0)","v":0},{"$f":"MAX(P$169*Предпосылки!P297,0)","v":0},{"$f":"MAX(Q$169*Предпосылки!Q297,0)","v":0},{"$f":"MAX(R$169*Предпосылки!R297,0)","v":0},{"$f":"MAX(S$169*Предпосылки!S297,0)","v":0},{"$f":"MAX(T$169*Предпосылки!T297,0)","v":0},{"$f":"MAX(U$169*Предпосылки!U297,0)","v":0},{"$f":"MAX(V$169*Предпосылки!V297,0)","v":0},{"$f":"MAX(W$169*Предпосылки!W297,0)","v":0},{"$f":"MAX(X$169*Предпосылки!X297,0)","v":0},{"$f":"MAX(Y$169*Предпосылки!Y297,0)","v":0},{"$f":"MAX(Z$169*Предпосылки!Z297,0)","v":0},{"$f":"MAX(AA$169*Предпосылки!AA297,0)","v":0},{"$f":"MAX(AB$169*Предпосылки!AB297,0)","v":0}]
[null,null,"Налог на прибыль (региональная часть)","тыс. руб.",null,null,null,{"$f":"MAX(H$169*Предпосылки!H298,0)","v":0},{"$f":"MAX(I$169*Предпосылки!I298,0)","v":0},{"$f":"MAX(J$169*Предпосылки!J298,0)","v":0},{"$f":"MAX(K$169*Предпосылки!K298,0)","v":0},{"$f":"MAX(L$169*Предпосылки!L298,0)","v":0},{"$f":"MAX(M$169*Предпосылки!M298,0)","v":0},{"$f":"MAX(N$169*Предпосылки!N298,0)","v":0},{"$f":"MAX(O$169*Предпосылки!O298,0)","v":0},{"$f":"MAX(P$169*Предпосылки!P298,0)","v":0},{"$f":"MAX(Q$169*Предпосылки!Q298,0)","v":0},{"$f":"MAX(R$169*Предпосылки!R298,0)","v":0},{"$f":"MAX(S$169*Предпосылки!S298,0)","v":0},{"$f":"MAX(T$169*Предпосылки!T298,0)","v":0},{"$f":"MAX(U$169*Предпосылки!U298,0)","v":0},{"$f":"MAX(V$169*Предпосылки!V298,0)","v":0},{"$f":"MAX(W$169*Предпосылки!W298,0)","v":0},{"$f":"MAX(X$169*Предпосылки!X298,0)","v":0},{"$f":"MAX(Y$169*Предпосылки!Y298,0)","v":0},{"$f":"MAX(Z$169*Предпосылки!Z298,0)","v":0},{"$f":"MAX(AA$169*Предпосылки!AA298,0)","v":0},{"$f":"MAX(AB$169*Предпосылки!AB298,0)","v":0}]
[]
[null," Расчеты по налогу на прибыль"]
[null,null,"Задолженность по налогу на прибыль перед бюджетом на начало периода","тыс. руб.",null,null,null,{"$f":"G182","v":0},0,0,0,0,0,0,0,0,0,0,0,0,0,0,0,0,0,0,0,0]
[null,null,"Налог на прибыль к уплате","тыс. руб.",null,null,null,{"$f":"H172","v":0},0,0,0,0,0,0,0,0,0,0,0,0,0,0,0,0,0,0,0,{"$f":"AB172","v":0}]
[null,null,"Уплата налога на прибыль (-)","тыс. руб.",null,null,null,{"$f":"-H178*IF('Отчетность (Без СПИК)'!H53>Количество_кварталов*Предпосылки!$F$378,Предпосылки!$F$380,Предпосылки!$F$379)-Налоги!H177","v":0},{"$f":"-I178*IF('Отчетность (Без СПИК)'!I53>Количество_кварталов*Предпосылки!$F$378,Предпосылки!$F$380,Предпосылки!$F$379)-Налоги!I177","v":0},{"$f":"-J178*IF('Отчетность (Без СПИК)'!J53>Количество_кварталов*Предпосылки!$F$378,Предпосылки!$F$380,Предпосылки!$F$379)-Налоги!J177","v":0},{"$f":"-K178*IF('Отчетность (Без СПИК)'!K53>Количество_кварталов*Предпосылки!$F$378,Предпосылки!$F$380,Предпосылки!$F$379)-Налоги!K177","v":0},{"$f":"-L178*IF('Отчетность (Без СПИК)'!L53>Количество_кварталов*Предпосылки!$F$378,Предпосылки!$F$380,Предпосылки!$F$379)-Налоги!L177","v":0},{"$f":"-M178*IF('Отчетность (Без СПИК)'!M53>Количество_кварталов*Предпосылки!$F$378,Предпосылки!$F$380,Предпосылки!$F$379)-Налоги!M177","v":0},{"$f":"-N178*IF('Отчетность (Без СПИК)'!N53>Количество_кварталов*Предпосылки!$F$378,Предпосылки!$F$380,Предпосылки!$F$379)-Налоги!N177","v":0},{"$f":"-O178*IF('Отчетность (Без СПИК)'!O53>Количество_кварталов*Предпосылки!$F$378,Предпосылки!$F$380,Предпосылки!$F$379)-Налоги!O177","v":0},{"$f":"-P178*IF('Отчетность (Без СПИК)'!P53>Количество_кварталов*Предпосылки!$F$378,Предпосылки!$F$380,Предпосылки!$F$379)-Налоги!P177","v":0},{"$f":"-Q178*IF('Отчетность (Без СПИК)'!Q53>Количество_кварталов*Предпосылки!$F$378,Предпосылки!$F$380,Предпосылки!$F$379)-Налоги!Q177","v":0},{"$f":"-R178*IF('Отчетность (Без СПИК)'!R53>Количество_кварталов*Предпосылки!$F$378,Предпосылки!$F$380,Предпосылки!$F$379)-Налоги!R177","v":0},{"$f":"-S178*IF('Отчетность (Без СПИК)'!S53>Количество_кварталов*Предпосылки!$F$378,Предпосылки!$F$380,Предпосылки!$F$379)-Налоги!S177","v":0},{"$f":"-T178*IF('Отчетность (Без СПИК)'!T53>Количество_кварталов*Предпосылки!$F$378,Предпосылки!$F$380,Предпосылки!$F$379)-Налоги!T177","v":0},{"$f":"-U178*IF('Отчетность (Без СПИК)'!U53>Количество_кварталов*Предпосылки!$F$378,Предпосылки!$F$380,Предпосылки!$F$379)-Налоги!U177","v":0},{"$f":"-V178*IF('Отчетность (Без СПИК)'!V53>Количество_кварталов*Предпосылки!$F$378,Предпосылки!$F$380,Предпосылки!$F$379)-Налоги!V177","v":0},{"$f":"-W178*IF('Отчетность (Без СПИК)'!W53>Количество_кварталов*Предпосылки!$F$378,Предпосылки!$F$380,Предпосылки!$F$379)-Налоги!W177","v":0},{"$f":"-X178*IF('Отчетность (Без СПИК)'!X53>Количество_кварталов*Предпосылки!$F$378,Предпосылки!$F$380,Предпосылки!$F$379)-Налоги!X177","v":0},{"$f":"-Y178*IF('Отчетность (Без СПИК)'!Y53>Количество_кварталов*Предпосылки!$F$378,Предпосылки!$F$380,Предпосылки!$F$379)-Налоги!Y177","v":0},{"$f":"-Z178*IF('Отчетность (Без СПИК)'!Z53>Количество_кварталов*Предпосылки!$F$378,Предпосылки!$F$380,Предпосылки!$F$379)-Налоги!Z177","v":0},{"$f":"-AA178*IF('Отчетность (Без СПИК)'!AA53>Количество_кварталов*Предпосылки!$F$378,Предпосылки!$F$380,Предпосылки!$F$379)-Налоги!AA177","v":0},{"$f":"-AB178*IF('Отчетность (Без СПИК)'!AB53>Количество_кварталов*Предпосылки!$F$378,Предпосылки!$F$380,Предпосылки!$F$379)-Налоги!AB177","v":0}]
[null,null,"в федеральный бюджет  (-)","тыс. руб.",null,null,null,{"$f":"-H173*IF('Отчетность (Без СПИК)'!H53>Количество_кварталов*Предпосылки!$F$378,Предпосылки!$F$380,Предпосылки!$F$379)\n-G173*IF('Отчетность (Без СПИК)'!G53>Количество_кварталов*Предпосылки!$F$378,One-Предпосылки!$F$380,One-Предпосылки!$F$379)","v":0},{"$f":"-I173*IF('Отчетность (Без СПИК)'!I53>Количество_кварталов*Предпосылки!$F$378,Предпосылки!$F$380,Предпосылки!$F$379)\n-H173*IF('Отчетность (Без СПИК)'!H53>Количество_кварталов*Предпосылки!$F$378,One-Предпосылки!$F$380,One-Предпосылки!$F$379)","v":0},{"$f":"-J173*IF('Отчетность (Без СПИК)'!J53>Количество_кварталов*Предпосылки!$F$378,Предпосылки!$F$380,Предпосылки!$F$379)\n-I173*IF('Отчетность (Без СПИК)'!I53>Количество_кварталов*Предпосылки!$F$378,One-Предпосылки!$F$380,One-Предпосылки!$F$379)","v":0},{"$f":"-K173*IF('Отчетность (Без СПИК)'!K53>Количество_кварталов*Предпосылки!$F$378,Предпосылки!$F$380,Предпосылки!$F$379)\n-J173*IF('Отчетность (Без СПИК)'!J53>Количество_кварталов*Предпосылки!$F$378,One-Предпосылки!$F$380,One-Предпосылки!$F$379)","v":0},{"$f":"-L173*IF('Отчетность (Без СПИК)'!L53>Количество_кварталов*Предпосылки!$F$378,Предпосылки!$F$380,Предпосылки!$F$379)\n-K173*IF('Отчетность (Без СПИК)'!K53>Количество_кварталов*Предпосылки!$F$378,One-Предпосылки!$F$380,One-Предпосылки!$F$379)","v":0},{"$f":"-M173*IF('Отчетность (Без СПИК)'!M53>Количество_кварталов*Предпосылки!$F$378,Предпосылки!$F$380,Предпосылки!$F$379)\n-L173*IF('Отчетность (Без СПИК)'!L53>Количество_кварталов*Предпосылки!$F$378,One-Предпосылки!$F$380,One-Предпосылки!$F$379)","v":0},{"$f":"-N173*IF('Отчетность (Без СПИК)'!N53>Количество_кварталов*Предпосылки!$F$378,Предпосылки!$F$380,Предпосылки!$F$379)\n-M173*IF('Отчетность (Без СПИК)'!M53>Количество_кварталов*Предпосылки!$F$378,One-Предпосылки!$F$380,One-Предпосылки!$F$379)","v":0},{"$f":"-O173*IF('Отчетность (Без СПИК)'!O53>Количество_кварталов*Предпосылки!$F$378,Предпосылки!$F$380,Предпосылки!$F$379)\n-N173*IF('Отчетность (Без СПИК)'!N53>Количество_кварталов*Предпосылки!$F$378,One-Предпосылки!$F$380,One-Предпосылки!$F$379)","v":0},{"$f":"-P173*IF('Отчетность (Без СПИК)'!P53>Количество_кварталов*Предпосылки!$F$378,Предпосылки!$F$380,Предпосылки!$F$379)\n-O173*IF('Отчетность (Без СПИК)'!O53>Количество_кварталов*Предпосылки!$F$378,One-Предпосылки!$F$380,One-Предпосылки!$F$379)","v":0},{"$f":"-Q173*IF('Отчетность (Без СПИК)'!Q53>Количество_кварталов*Предпосылки!$F$378,Предпосылки!$F$380,Предпосылки!$F$379)\n-P173*IF('Отчетность (Без СПИК)'!P53>Количество_кварталов*Предпосылки!$F$378,One-Предпосылки!$F$380,One-Предпосылки!$F$379)","v":0},{"$f":"-R173*IF('Отчетность (Без СПИК)'!R53>Количество_кварталов*Предпосылки!$F$378,Предпосылки!$F$380,Предпосылки!$F$379)\n-Q173*IF('Отчетность (Без СПИК)'!Q53>Количество_кварталов*Предпосылки!$F$378,One-Предпосылки!$F$380,One-Предпосылки!$F$379)","v":0},{"$f":"-S173*IF('Отчетность (Без СПИК)'!S53>Количество_кварталов*Предпосылки!$F$378,Предпосылки!$F$380,Предпосылки!$F$379)\n-R173*IF('Отчетность (Без СПИК)'!R53>Количество_кварталов*Предпосылки!$F$378,One-Предпосылки!$F$380,One-Предпосылки!$F$379)","v":0},{"$f":"-T173*IF('Отчетность (Без СПИК)'!T53>Количество_кварталов*Предпосылки!$F$378,Предпосылки!$F$380,Предпосылки!$F$379)\n-S173*IF('Отчетность (Без СПИК)'!S53>Количество_кварталов*Предпосылки!$F$378,One-Предпосылки!$F$380,One-Предпосылки!$F$379)","v":0},{"$f":"-U173*IF('Отчетность (Без СПИК)'!U53>Количество_кварталов*Предпосылки!$F$378,Предпосылки!$F$380,Предпосылки!$F$379)\n-T173*IF('Отчетность (Без СПИК)'!T53>Количество_кварталов*Предпосылки!$F$378,One-Предпосылки!$F$380,One-Предпосылки!$F$379)","v":0},{"$f":"-V173*IF('Отчетность (Без СПИК)'!V53>Количество_кварталов*Предпосылки!$F$378,Предпосылки!$F$380,Предпосылки!$F$379)\n-U173*IF('Отчетность (Без СПИК)'!U53>Количество_кварталов*Предпосылки!$F$378,One-Предпосылки!$F$380,One-Предпосылки!$F$379)","v":0},{"$f":"-W173*IF('Отчетность (Без СПИК)'!W53>Количество_кварталов*Предпосылки!$F$378,Предпосылки!$F$380,Предпосылки!$F$379)\n-V173*IF('Отчетность (Без СПИК)'!V53>Количество_кварталов*Предпосылки!$F$378,One-Предпосылки!$F$380,One-Предпосылки!$F$379)","v":0},{"$f":"-X173*IF('Отчетность (Без СПИК)'!X53>Количество_кварталов*Предпосылки!$F$378,Предпосылки!$F$380,Предпосылки!$F$379)\n-W173*IF('Отчетность (Без СПИК)'!W53>Количество_кварталов*Предпосылки!$F$378,One-Предпосылки!$F$380,One-Предпосылки!$F$379)","v":0},{"$f":"-Y173*IF('Отчетность (Без СПИК)'!Y53>Количество_кварталов*Предпосылки!$F$378,Предпосылки!$F$380,Предпосылки!$F$379)\n-X173*IF('Отчетность (Без СПИК)'!X53>Количество_кварталов*Предпосылки!$F$378,One-Предпосылки!$F$380,One-Предпосылки!$F$379)","v":0},{"$f":"-Z173*IF('Отчетность (Без СПИК)'!Z53>Количество_кварталов*Предпосылки!$F$378,Предпосылки!$F$380,Предпосылки!$F$379)\n-Y173*IF('Отчетность (Без СПИК)'!Y53>Количество_кварталов*Предпосылки!$F$378,One-Предпосылки!$F$380,One-Предпосылки!$F$379)","v":0},{"$f":"-AA173*IF('Отчетность (Без СПИК)'!AA53>Количество_кварталов*Предпосылки!$F$378,Предпосылки!$F$380,Предпосылки!$F$379)\n-Z173*IF('Отчетность (Без СПИК)'!Z53>Количество_кварталов*Предпосылки!$F$378,One-Предпосылки!$F$380,One-Предпосылки!$F$379)","v":0},{"$f":"-AB173*IF('Отчетность (Без СПИК)'!AB53>Количество_кварталов*Предпосылки!$F$378,Предпосылки!$F$380,Предпосылки!$F$379)\n-AA173*IF('Отчетность (Без СПИК)'!AA53>Количество_кварталов*Предпосылки!$F$378,One-Предпосылки!$F$380,One-Предпосылки!$F$379)","v":0}]
[null,null,"в региональный бюджет  (-)","тыс. руб.",null,null,null,{"$f":"-H174*IF('Отчетность (Без СПИК)'!H53>Количество_кварталов*Предпосылки!$F$378,Предпосылки!$F$380,Предпосылки!$F$379)\n-G174*IF('Отчетность (Без СПИК)'!G53>Количество_кварталов*Предпосылки!$F$378,One-Предпосылки!$F$380,One-Предпосылки!$F$379)","v":0},{"$f":"-I174*IF('Отчетность (Без СПИК)'!I53>Количество_кварталов*Предпосылки!$F$378,Предпосылки!$F$380,Предпосылки!$F$379)\n-H174*IF('Отчетность (Без СПИК)'!H53>Количество_кварталов*Предпосылки!$F$378,One-Предпосылки!$F$380,One-Предпосылки!$F$379)","v":0},{"$f":"-J174*IF('Отчетность (Без СПИК)'!J53>Количество_кварталов*Предпосылки!$F$378,Предпосылки!$F$380,Предпосылки!$F$379)\n-I174*IF('Отчетность (Без СПИК)'!I53>Количество_кварталов*Предпосылки!$F$378,One-Предпосылки!$F$380,One-Предпосылки!$F$379)","v":0},{"$f":"-K174*IF('Отчетность (Без СПИК)'!K53>Количество_кварталов*Предпосылки!$F$378,Предпосылки!$F$380,Предпосылки!$F$379)\n-J174*IF('Отчетность (Без СПИК)'!J53>Количество_кварталов*Предпосылки!$F$378,One-Предпосылки!$F$380,One-Предпосылки!$F$379)","v":0},{"$f":"-L174*IF('Отчетность (Без СПИК)'!L53>Количество_кварталов*Предпосылки!$F$378,Предпосылки!$F$380,Предпосылки!$F$379)\n-K174*IF('Отчетность (Без СПИК)'!K53>Количество_кварталов*Предпосылки!$F$378,One-Предпосылки!$F$380,One-Предпосылки!$F$379)","v":0},{"$f":"-M174*IF('Отчетность (Без СПИК)'!M53>Количество_кварталов*Предпосылки!$F$378,Предпосылки!$F$380,Предпосылки!$F$379)\n-L174*IF('Отчетность (Без СПИК)'!L53>Количество_кварталов*Предпосылки!$F$378,One-Предпосылки!$F$380,One-Предпосылки!$F$379)","v":0},{"$f":"-N174*IF('Отчетность (Без СПИК)'!N53>Количество_кварталов*Предпосылки!$F$378,Предпосылки!$F$380,Предпосылки!$F$379)\n-M174*IF('Отчетность (Без СПИК)'!M53>Количество_кварталов*Предпосылки!$F$378,One-Предпосылки!$F$380,One-Предпосылки!$F$379)","v":0},{"$f":"-O174*IF('Отчетность (Без СПИК)'!O53>Количество_кварталов*Предпосылки!$F$378,Предпосылки!$F$380,Предпосылки!$F$379)\n-N174*IF('Отчетность (Без СПИК)'!N53>Количество_кварталов*Предпосылки!$F$378,One-Предпосылки!$F$380,One-Предпосылки!$F$379)","v":0},{"$f":"-P174*IF('Отчетность (Без СПИК)'!P53>Количество_кварталов*Предпосылки!$F$378,Предпосылки!$F$380,Предпосылки!$F$379)\n-O174*IF('Отчетность (Без СПИК)'!O53>Количество_кварталов*Предпосылки!$F$378,One-Предпосылки!$F$380,One-Предпосылки!$F$379)","v":0},{"$f":"-Q174*IF('Отчетность (Без СПИК)'!Q53>Количество_кварталов*Предпосылки!$F$378,Предпосылки!$F$380,Предпосылки!$F$379)\n-P174*IF('Отчетность (Без СПИК)'!P53>Количество_кварталов*Предпосылки!$F$378,One-Предпосылки!$F$380,One-Предпосылки!$F$379)","v":0},{"$f":"-R174*IF('Отчетность (Без СПИК)'!R53>Количество_кварталов*Предпосылки!$F$378,Предпосылки!$F$380,Предпосылки!$F$379)\n-Q174*IF('Отчетность (Без СПИК)'!Q53>Количество_кварталов*Предпосылки!$F$378,One-Предпосылки!$F$380,One-Предпосылки!$F$379)","v":0},{"$f":"-S174*IF('Отчетность (Без СПИК)'!S53>Количество_кварталов*Предпосылки!$F$378,Предпосылки!$F$380,Предпосылки!$F$379)\n-R174*IF('Отчетность (Без СПИК)'!R53>Количество_кварталов*Предпосылки!$F$378,One-Предпосылки!$F$380,One-Предпосылки!$F$379)","v":0},{"$f":"-T174*IF('Отчетность (Без СПИК)'!T53>Количество_кварталов*Предпосылки!$F$378,Предпосылки!$F$380,Предпосылки!$F$379)\n-S174*IF('Отчетность (Без СПИК)'!S53>Количество_кварталов*Предпосылки!$F$378,One-Предпосылки!$F$380,One-Предпосылки!$F$379)","v":0},{"$f":"-U174*IF('Отчетность (Без СПИК)'!U53>Количество_кварталов*Предпосылки!$F$378,Предпосылки!$F$380,Предпосылки!$F$379)\n-T174*IF('Отчетность (Без СПИК)'!T53>Количество_кварталов*Предпосылки!$F$378,One-Предпосылки!$F$380,One-Предпосылки!$F$379)","v":0},{"$f":"-V174*IF('Отчетность (Без СПИК)'!V53>Количество_кварталов*Предпосылки!$F$378,Предпосылки!$F$380,Предпосылки!$F$379)\n-U174*IF('Отчетность (Без СПИК)'!U53>Количество_кварталов*Предпосылки!$F$378,One-Предпосылки!$F$380,One-Предпосылки!$F$379)","v":0},{"$f":"-W174*IF('Отчетность (Без СПИК)'!W53>Количество_кварталов*Предпосылки!$F$378,Предпосылки!$F$380,Предпосылки!$F$379)\n-V174*IF('Отчетность (Без СПИК)'!V53>Количество_кварталов*Предпосылки!$F$378,One-Предпосылки!$F$380,One-Предпосылки!$F$379)","v":0},{"$f":"-X174*IF('Отчетность (Без СПИК)'!X53>Количество_кварталов*Предпосылки!$F$378,Предпосылки!$F$380,Предпосылки!$F$379)\n-W174*IF('Отчетность (Без СПИК)'!W53>Количество_кварталов*Предпосылки!$F$378,One-Предпосылки!$F$380,One-Предпосылки!$F$379)","v":0},{"$f":"-Y174*IF('Отчетность (Без СПИК)'!Y53>Количество_кварталов*Предпосылки!$F$378,Предпосылки!$F$380,Предпосылки!$F$379)\n-X174*IF('Отчетность (Без СПИК)'!X53>Количество_кварталов*Предпосылки!$F$378,One-Предпосылки!$F$380,One-Предпосылки!$F$379)","v":0},{"$f":"-Z174*IF('Отчетность (Без СПИК)'!Z53>Количество_кварталов*Предпосылки!$F$378,Предпосылки!$F$380,Предпосылки!$F$379)\n-Y174*IF('Отчетность (Без СПИК)'!Y53>Количество_кварталов*Предпосылки!$F$378,One-Предпосылки!$F$380,One-Предпосылки!$F$379)","v":0},{"$f":"-AA174*IF('Отчетность (Без СПИК)'!AA53>Количество_кварталов*Предпосылки!$F$378,Предпосылки!$F$380,Предпосылки!$F$379)\n-Z174*IF('Отчетность (Без СПИК)'!Z53>Количество_кварталов*Предпосылки!$F$378,One-Предпосылки!$F$380,One-Предпосылки!$F$379)","v":0},{"$f":"-AB174*IF('Отчетность (Без СПИК)'!AB53>Количество_кварталов*Предпосылки!$F$378,Предпосылки!$F$380,Предпосылки!$F$379)\n-AA174*IF('Отчетность (Без СПИК)'!AA53>Количество_кварталов*Предпосылки!$F$378,One-Предпосылки!$F$380,One-Предпосылки!$F$379)","v":0}]
[null,null,"Задолженность перед бюджетом на конец периода","тыс. руб.",null,null,null,{"$f":"SUM(H177:H179)","v":0},0,0,0,0,0,0,0,0,0,0,0,0,0,0,0,0,0,0,0,{"$f":"SUM(AB177:AB179)","v":0}]
[]
[null,"Налог на имущество организаций"]
[]
[null,"С учетом СПИК"]
[null,null,"Задолженность  на  начало периода","тыс. руб.",null,null,null,{"$f":"G190","v":0},0,0,0,0,0,0,0,0,0,0,0,0,0,0,0,0,0,0,0,0]
[null,null,"Начисление налога на имущество организаций","тыс. руб.",null,null,null,{"$f":"IF(Предпосылки!$F$288=1,\nAVERAGE('Отчетность (СПИК)'!G11:H11)*Предпосылки!H325,\nAVERAGE('Отчетность (СПИК)'!G11:H11)*Предпосылки!$F$299)","v":0},{"$f":"IF(Предпосылки!$F$288=1,\nAVERAGE('Отчетность (СПИК)'!H11:I11)*Предпосылки!I325,\nAVERAGE('Отчетность (СПИК)'!H11:I11)*Предпосылки!$F$299)","v":0},{"$f":"IF(Предпосылки!$F$288=1,\nAVERAGE('Отчетность (СПИК)'!I11:J11)*Предпосылки!J325,\nAVERAGE('Отчетность (СПИК)'!I11:J11)*Предпосылки!$F$299)","v":0},{"$f":"IF(Предпосылки!$F$288=1,\nAVERAGE('Отчетность (СПИК)'!J11:K11)*Предпосылки!K325,\nAVERAGE('Отчетность (СПИК)'!J11:K11)*Предпосылки!$F$299)","v":0},{"$f":"IF(Предпосылки!$F$288=1,\nAVERAGE('Отчетность (СПИК)'!K11:L11)*Предпосылки!L325,\nAVERAGE('Отчетность (СПИК)'!K11:L11)*Предпосылки!$F$299)","v":0},{"$f":"IF(Предпосылки!$F$288=1,\nAVERAGE('Отчетность (СПИК)'!L11:M11)*Предпосылки!M325,\nAVERAGE('Отчетность (СПИК)'!L11:M11)*Предпосылки!$F$299)","v":0},{"$f":"IF(Предпосылки!$F$288=1,\nAVERAGE('Отчетность (СПИК)'!M11:N11)*Предпосылки!N325,\nAVERAGE('Отчетность (СПИК)'!M11:N11)*Предпосылки!$F$299)","v":0},{"$f":"IF(Предпосылки!$F$288=1,\nAVERAGE('Отчетность (СПИК)'!N11:O11)*Предпосылки!O325,\nAVERAGE('Отчетность (СПИК)'!N11:O11)*Предпосылки!$F$299)","v":0},{"$f":"IF(Предпосылки!$F$288=1,\nAVERAGE('Отчетность (СПИК)'!O11:P11)*Предпосылки!P325,\nAVERAGE('Отчетность (СПИК)'!O11:P11)*Предпосылки!$F$299)","v":0},{"$f":"IF(Предпосылки!$F$288=1,\nAVERAGE('Отчетность (СПИК)'!P11:Q11)*Предпосылки!Q325,\nAVERAGE('Отчетность (СПИК)'!P11:Q11)*Предпосылки!$F$299)","v":0},{"$f":"IF(Предпосылки!$F$288=1,\nAVERAGE('Отчетность (СПИК)'!Q11:R11)*Предпосылки!R325,\nAVERAGE('Отчетность (СПИК)'!Q11:R11)*Предпосылки!$F$299)","v":0},{"$f":"IF(Предпосылки!$F$288=1,\nAVERAGE('Отчетность (СПИК)'!R11:S11)*Предпосылки!S325,\nAVERAGE('Отчетность (СПИК)'!R11:S11)*Предпосылки!$F$299)","v":0},{"$f":"IF(Предпосылки!$F$288=1,\nAVERAGE('Отчетность (СПИК)'!S11:T11)*Предпосылки!T325,\nAVERAGE('Отчетность (СПИК)'!S11:T11)*Предпосылки!$F$299)","v":0},{"$f":"IF(Предпосылки!$F$288=1,\nAVERAGE('Отчетность (СПИК)'!T11:U11)*Предпосылки!U325,\nAVERAGE('Отчетность (СПИК)'!T11:U11)*Предпосылки!$F$299)","v":0},{"$f":"IF(Предпосылки!$F$288=1,\nAVERAGE('Отчетность (СПИК)'!U11:V11)*Предпосылки!V325,\nAVERAGE('Отчетность (СПИК)'!U11:V11)*Предпосылки!$F$299)","v":0},{"$f":"IF(Предпосылки!$F$288=1,\nAVERAGE('Отчетность (СПИК)'!V11:W11)*Предпосылки!W325,\nAVERAGE('Отчетность (СПИК)'!V11:W11)*Предпосылки!$F$299)","v":0},{"$f":"IF(Предпосылки!$F$288=1,\nAVERAGE('Отчетность (СПИК)'!W11:X11)*Предпосылки!X325,\nAVERAGE('Отчетность (СПИК)'!W11:X11)*Предпосылки!$F$299)","v":0},{"$f":"IF(Предпосылки!$F$288=1,\nAVERAGE('Отчетность (СПИК)'!X11:Y11)*Предпосылки!Y325,\nAVERAGE('Отчетность (СПИК)'!X11:Y11)*Предпосылки!$F$299)","v":0},{"$f":"IF(Предпосылки!$F$288=1,\nAVERAGE('Отчетность (СПИК)'!Y11:Z11)*Предпосылки!Z325,\nAVERAGE('Отчетность (СПИК)'!Y11:Z11)*Предпосылки!$F$299)","v":0},{"$f":"IF(Предпосылки!$F$288=1,\nAVERAGE('Отчетность (СПИК)'!Z11:AA11)*Предпосылки!AA325,\nAVERAGE('Отчетность (СПИК)'!Z11:AA11)*Предпосылки!$F$299)","v":0},{"$f":"IF(Предпосылки!$F$288=1,\nAVERAGE('Отчетность (СПИК)'!AA11:AB11)*Предпосылки!AB325,\nAVERAGE('Отчетность (СПИК)'!AA11:AB11)*Предпосылки!$F$299)","v":0}]
[null,null,"Уплата налога на имущество организаций (-)","тыс. руб.",null,null,null,{"$f":"-H187","v":0},0,0,0,0,0,0,0,0,0,0,0,0,0,0,0,0,0,0,0,{"$f":"-AB187","v":0}]
[null,null,"Задолженность на конец периода","тыс. руб.",null,null,null,{"$f":"SUM(H187:H189)","v":0},0,0,0,0,0,0,0,0,0,0,0,0,0,0,0,0,0,0,0,{"$f":"SUM(AB187:AB189)","v":0}]
[]
[null,"Без СПИК"]
[null,null,"Задолженность  на  начало периода","тыс. руб.",null,null,null,{"$f":"G196","v":0},0,0,0,0,0,0,0,0,0,0,0,0,0,0,0,0,0,0,0,0]
[null,null,"Начисление налога на имущество организаций","тыс. руб.",null,null,null,{"$f":"AVERAGE('Отчетность (СПИК)'!G11:H11)*Предпосылки!$F$299","v":0},{"$f":"AVERAGE('Отчетность (СПИК)'!H11:I11)*Предпосылки!$F$299","v":0},{"$f":"AVERAGE('Отчетность (СПИК)'!I11:J11)*Предпосылки!$F$299","v":0},{"$f":"AVERAGE('Отчетность (СПИК)'!J11:K11)*Предпосылки!$F$299","v":0},{"$f":"AVERAGE('Отчетность (СПИК)'!K11:L11)*Предпосылки!$F$299","v":0},{"$f":"AVERAGE('Отчетность (СПИК)'!L11:M11)*Предпосылки!$F$299","v":0},{"$f":"AVERAGE('Отчетность (СПИК)'!M11:N11)*Предпосылки!$F$299","v":0},{"$f":"AVERAGE('Отчетность (СПИК)'!N11:O11)*Предпосылки!$F$299","v":0},{"$f":"AVERAGE('Отчетность (СПИК)'!O11:P11)*Предпосылки!$F$299","v":0},{"$f":"AVERAGE('Отчетность (СПИК)'!P11:Q11)*Предпосылки!$F$299","v":0},{"$f":"AVERAGE('Отчетность (СПИК)'!Q11:R11)*Предпосылки!$F$299","v":0},{"$f":"AVERAGE('Отчетность (СПИК)'!R11:S11)*Предпосылки!$F$299","v":0},{"$f":"AVERAGE('Отчетность (СПИК)'!S11:T11)*Предпосылки!$F$299","v":0},{"$f":"AVERAGE('Отчетность (СПИК)'!T11:U11)*Предпосылки!$F$299","v":0},{"$f":"AVERAGE('Отчетность (СПИК)'!U11:V11)*Предпосылки!$F$299","v":0},{"$f":"AVERAGE('Отчетность (СПИК)'!V11:W11)*Предпосылки!$F$299","v":0},{"$f":"AVERAGE('Отчетность (СПИК)'!W11:X11)*Предпосылки!$F$299","v":0},{"$f":"AVERAGE('Отчетность (СПИК)'!X11:Y11)*Предпосылки!$F$299","v":0},{"$f":"AVERAGE('Отчетность (СПИК)'!Y11:Z11)*Предпосылки!$F$299","v":0},{"$f":"AVERAGE('Отчетность (СПИК)'!Z11:AA11)*Предпосылки!$F$299","v":0},{"$f":"AVERAGE('Отчетность (СПИК)'!AA11:AB11)*Предпосылки!$F$299","v":0}]
[null,null,"Уплата налога на имущество организаций (-)","тыс. руб.",null,null,null,{"$f":"-H193","v":0},0,0,0,0,0,0,0,0,0,0,0,0,0,0,0,0,0,0,0,{"$f":"-AB193","v":0}]
[null,null,"Задолженность на конец периода","тыс. руб.",null,null,null,{"$f":"SUM(H193:H195)","v":0},0,0,0,0,0,0,0,0,0,0,0,0,0,0,0,0,0,0,0,{"$f":"SUM(AB193:AB195)","v":0}]
[]
[null,"Транспортный налог"]
[]
[null,"С учетом СПИК"]
[null,null,"Задолженность  на  начало периода","тыс. руб.",null,null,null,{"$f":"G204","v":0},{"$f":"H204","v":0},0,0,0,0,0,0,0,0,0,0,0,0,0,{"$f":"V204","v":0},0,0,0,0,0]
[null,null,"Начисление транспортного налога","тыс. руб.",null,null,null,{"$f":"IF(Предпосылки!$F$289=1,\nSUMPRODUCT(Предпосылки!$E$317:$E$319,Предпосылки!$F$317:$F$319)*Предпосылки!H326/Thousand,\nSUMPRODUCT(Предпосылки!$E$317:$E$319,Предпосылки!$F$317:$F$319)*Предпосылки!$F$313/Thousand)","v":0},{"$f":"IF(Предпосылки!$F$289=1,\nSUMPRODUCT(Предпосылки!$E$317:$E$319,Предпосылки!$F$317:$F$319)*Предпосылки!I326/Thousand,\nSUMPRODUCT(Предпосылки!$E$317:$E$319,Предпосылки!$F$317:$F$319)*Предпосылки!$F$313/Thousand)","v":0},{"$f":"IF(Предпосылки!$F$289=1,\nSUMPRODUCT(Предпосылки!$E$317:$E$319,Предпосылки!$F$317:$F$319)*Предпосылки!J326/Thousand,\nSUMPRODUCT(Предпосылки!$E$317:$E$319,Предпосылки!$F$317:$F$319)*Предпосылки!$F$313/Thousand)","v":0},{"$f":"IF(Предпосылки!$F$289=1,\nSUMPRODUCT(Предпосылки!$E$317:$E$319,Предпосылки!$F$317:$F$319)*Предпосылки!K326/Thousand,\nSUMPRODUCT(Предпосылки!$E$317:$E$319,Предпосылки!$F$317:$F$319)*Предпосылки!$F$313/Thousand)","v":0},{"$f":"IF(Предпосылки!$F$289=1,\nSUMPRODUCT(Предпосылки!$E$317:$E$319,Предпосылки!$F$317:$F$319)*Предпосылки!L326/Thousand,\nSUMPRODUCT(Предпосылки!$E$317:$E$319,Предпосылки!$F$317:$F$319)*Предпосылки!$F$313/Thousand)","v":0},{"$f":"IF(Предпосылки!$F$289=1,\nSUMPRODUCT(Предпосылки!$E$317:$E$319,Предпосылки!$F$317:$F$319)*Предпосылки!M326/Thousand,\nSUMPRODUCT(Предпосылки!$E$317:$E$319,Предпосылки!$F$317:$F$319)*Предпосылки!$F$313/Thousand)","v":0},{"$f":"IF(Предпосылки!$F$289=1,\nSUMPRODUCT(Предпосылки!$E$317:$E$319,Предпосылки!$F$317:$F$319)*Предпосылки!N326/Thousand,\nSUMPRODUCT(Предпосылки!$E$317:$E$319,Предпосылки!$F$317:$F$319)*Предпосылки!$F$313/Thousand)","v":0},{"$f":"IF(Предпосылки!$F$289=1,\nSUMPRODUCT(Предпосылки!$E$317:$E$319,Предпосылки!$F$317:$F$319)*Предпосылки!O326/Thousand,\nSUMPRODUCT(Предпосылки!$E$317:$E$319,Предпосылки!$F$317:$F$319)*Предпосылки!$F$313/Thousand)","v":0},{"$f":"IF(Предпосылки!$F$289=1,\nSUMPRODUCT(Предпосылки!$E$317:$E$319,Предпосылки!$F$317:$F$319)*Предпосылки!P326/Thousand,\nSUMPRODUCT(Предпосылки!$E$317:$E$319,Предпосылки!$F$317:$F$319)*Предпосылки!$F$313/Thousand)","v":0},{"$f":"IF(Предпосылки!$F$289=1,\nSUMPRODUCT(Предпосылки!$E$317:$E$319,Предпосылки!$F$317:$F$319)*Предпосылки!Q326/Thousand,\nSUMPRODUCT(Предпосылки!$E$317:$E$319,Предпосылки!$F$317:$F$319)*Предпосылки!$F$313/Thousand)","v":0},{"$f":"IF(Предпосылки!$F$289=1,\nSUMPRODUCT(Предпосылки!$E$317:$E$319,Предпосылки!$F$317:$F$319)*Предпосылки!R326/Thousand,\nSUMPRODUCT(Предпосылки!$E$317:$E$319,Предпосылки!$F$317:$F$319)*Предпосылки!$F$313/Thousand)","v":0},{"$f":"IF(Предпосылки!$F$289=1,\nSUMPRODUCT(Предпосылки!$E$317:$E$319,Предпосылки!$F$317:$F$319)*Предпосылки!S326/Thousand,\nSUMPRODUCT(Предпосылки!$E$317:$E$319,Предпосылки!$F$317:$F$319)*Предпосылки!$F$313/Thousand)","v":0},{"$f":"IF(Предпосылки!$F$289=1,\nSUMPRODUCT(Предпосылки!$E$317:$E$319,Предпосылки!$F$317:$F$319)*Предпосылки!T326/Thousand,\nSUMPRODUCT(Предпосылки!$E$317:$E$319,Предпосылки!$F$317:$F$319)*Предпосылки!$F$313/Thousand)","v":0},{"$f":"IF(Предпосылки!$F$289=1,\nSUMPRODUCT(Предпосылки!$E$317:$E$319,Предпосылки!$F$317:$F$319)*Предпосылки!U326/Thousand,\nSUMPRODUCT(Предпосылки!$E$317:$E$319,Предпосылки!$F$317:$F$319)*Предпосылки!$F$313/Thousand)","v":0},{"$f":"IF(Предпосылки!$F$289=1,\nSUMPRODUCT(Предпосылки!$E$317:$E$319,Предпосылки!$F$317:$F$319)*Предпосылки!V326/Thousand,\nSUMPRODUCT(Предпосылки!$E$317:$E$319,Предпосылки!$F$317:$F$319)*Предпосылки!$F$313/Thousand)","v":0},{"$f":"IF(Предпосылки!$F$289=1,\nSUMPRODUCT(Предпосылки!$E$317:$E$319,Предпосылки!$F$317:$F$319)*Предпосылки!W326/Thousand,\nSUMPRODUCT(Предпосылки!$E$317:$E$319,Предпосылки!$F$317:$F$319)*Предпосылки!$F$313/Thousand)","v":0},{"$f":"IF(Предпосылки!$F$289=1,\nSUMPRODUCT(Предпосылки!$E$317:$E$319,Предпосылки!$F$317:$F$319)*Предпосылки!X326/Thousand,\nSUMPRODUCT(Предпосылки!$E$317:$E$319,Предпосылки!$F$317:$F$319)*Предпосылки!$F$313/Thousand)","v":0},{"$f":"IF(Предпосылки!$F$289=1,\nSUMPRODUCT(Предпосылки!$E$317:$E$319,Предпосылки!$F$317:$F$319)*Предпосылки!Y326/Thousand,\nSUMPRODUCT(Предпосылки!$E$317:$E$319,Предпосылки!$F$317:$F$319)*Предпосылки!$F$313/Thousand)","v":0},{"$f":"IF(Предпосылки!$F$289=1,\nSUMPRODUCT(Предпосылки!$E$317:$E$319,Предпосылки!$F$317:$F$319)*Предпосылки!Z326/Thousand,\nSUMPRODUCT(Предпосылки!$E$317:$E$319,Предпосылки!$F$317:$F$319)*Предпосылки!$F$313/Thousand)","v":0},{"$f":"IF(Предпосылки!$F$289=1,\nSUMPRODUCT(Предпосылки!$E$317:$E$319,Предпосылки!$F$317:$F$319)*Предпосылки!AA326/Thousand,\nSUMPRODUCT(Предпосылки!$E$317:$E$319,Предпосылки!$F$317:$F$319)*Предпосылки!$F$313/Thousand)","v":0},{"$f":"IF(Предпосылки!$F$289=1,\nSUMPRODUCT(Предпосылки!$E$317:$E$319,Предпосылки!$F$317:$F$319)*Предпосылки!AB326/Thousand,\nSUMPRODUCT(Предпосылки!$E$317:$E$319,Предпосылки!$F$317:$F$319)*Предпосылки!$F$313/Thousand)","v":0}]
[null,null,"Уплата транспортного налога (-)","тыс. руб.",null,null,null,{"$f":"-H201","v":0},{"$f":"-I201","v":0},0,0,0,0,0,0,0,0,0,0,0,0,0,0,0,0,0,0,{"$f":"-AB201","v":0}]
[null,null,"Задолженность на конец периода","тыс. руб.",null,null,null,{"$f":"SUM(H201:H203)","v":0},0,0,0,0,0,0,0,0,0,0,0,0,0,{"$f":"SUM(V201:V203)","v":0},0,0,0,0,0,{"$f":"SUM(AB201:AB203)","v":0}]
[]
[null,"Без СПИК"]
[null,null,"Задолженность  на  начало периода","тыс. руб.",null,null,null,{"$f":"G210","v":0},{"$f":"H210","v":0},0,0,0,0,0,0,0,0,0,0,0,0,0,{"$f":"V210","v":0},0,0,0,0,0]
[null,null,"Начисление транспортного налога","тыс. руб.",null,null,null,{"$f":"SUMPRODUCT(Предпосылки!$E$317:$E$319,Предпосылки!$F$317:$F$319)*Предпосылки!$F$313/Thousand","v":0},{"$f":"SUMPRODUCT(Предпосылки!$E$317:$E$319,Предпосылки!$F$317:$F$319)*Предпосылки!$F$313/Thousand","v":0},{"$f":"SUMPRODUCT(Предпосылки!$E$317:$E$319,Предпосылки!$F$317:$F$319)*Предпосылки!$F$313/Thousand","v":0},{"$f":"SUMPRODUCT(Предпосылки!$E$317:$E$319,Предпосылки!$F$317:$F$319)*Предпосылки!$F$313/Thousand","v":0},{"$f":"SUMPRODUCT(Предпосылки!$E$317:$E$319,Предпосылки!$F$317:$F$319)*Предпосылки!$F$313/Thousand","v":0},{"$f":"SUMPRODUCT(Предпосылки!$E$317:$E$319,Предпосылки!$F$317:$F$319)*Предпосылки!$F$313/Thousand","v":0},{"$f":"SUMPRODUCT(Предпосылки!$E$317:$E$319,Предпосылки!$F$317:$F$319)*Предпосылки!$F$313/Thousand","v":0},{"$f":"SUMPRODUCT(Предпосылки!$E$317:$E$319,Предпосылки!$F$317:$F$319)*Предпосылки!$F$313/Thousand","v":0},{"$f":"SUMPRODUCT(Предпосылки!$E$317:$E$319,Предпосылки!$F$317:$F$319)*Предпосылки!$F$313/Thousand","v":0},{"$f":"SUMPRODUCT(Предпосылки!$E$317:$E$319,Предпосылки!$F$317:$F$319)*Предпосылки!$F$313/Thousand","v":0},{"$f":"SUMPRODUCT(Предпосылки!$E$317:$E$319,Предпосылки!$F$317:$F$319)*Предпосылки!$F$313/Thousand","v":0},{"$f":"SUMPRODUCT(Предпосылки!$E$317:$E$319,Предпосылки!$F$317:$F$319)*Предпосылки!$F$313/Thousand","v":0},{"$f":"SUMPRODUCT(Предпосылки!$E$317:$E$319,Предпосылки!$F$317:$F$319)*Предпосылки!$F$313/Thousand","v":0},{"$f":"SUMPRODUCT(Предпосылки!$E$317:$E$319,Предпосылки!$F$317:$F$319)*Предпосылки!$F$313/Thousand","v":0},{"$f":"SUMPRODUCT(Предпосылки!$E$317:$E$319,Предпосылки!$F$317:$F$319)*Предпосылки!$F$313/Thousand","v":0},{"$f":"SUMPRODUCT(Предпосылки!$E$317:$E$319,Предпосылки!$F$317:$F$319)*Предпосылки!$F$313/Thousand","v":0},{"$f":"SUMPRODUCT(Предпосылки!$E$317:$E$319,Предпосылки!$F$317:$F$319)*Предпосылки!$F$313/Thousand","v":0},{"$f":"SUMPRODUCT(Предпосылки!$E$317:$E$319,Предпосылки!$F$317:$F$319)*Предпосылки!$F$313/Thousand","v":0},{"$f":"SUMPRODUCT(Предпосылки!$E$317:$E$319,Предпосылки!$F$317:$F$319)*Предпосылки!$F$313/Thousand","v":0},{"$f":"SUMPRODUCT(Предпосылки!$E$317:$E$319,Предпосылки!$F$317:$F$319)*Предпосылки!$F$313/Thousand","v":0},{"$f":"SUMPRODUCT(Предпосылки!$E$317:$E$319,Предпосылки!$F$317:$F$319)*Предпосылки!$F$313/Thousand","v":0}]
[null,null,"Уплата транспортного налога (-)","тыс. руб.",null,null,null,{"$f":"-H207","v":0},{"$f":"-I207","v":0},0,0,0,0,0,0,0,0,0,0,0,0,0,0,0,0,0,0,{"$f":"-AB207","v":0}]
[null,null,"Задолженность на конец периода","тыс. руб.",null,null,null,{"$f":"SUM(H207:H209)","v":0},0,0,0,0,0,0,0,0,0,0,0,0,0,{"$f":"SUM(V207:V209)","v":0},0,0,0,0,0,{"$f":"SUM(AB207:AB209)","v":0}]
[]
[null,"Земельный налог"]
[]
[null,"С учетом СПИК"]
[null,null,"Задолженность  на  начало периода","тыс. руб.",null,null,null,{"$f":"G218","v":0},{"$f":"H218","v":0},0,0,0,0,0,0,0,0,0,0,0,0,0,{"$f":"V218","v":0},0,0,0,0,0]
[null,null,"Начисление земельного налога","тыс. руб.",null,null,null,{"$f":"IF(Предпосылки!$F$290=1,\nAVERAGE('Отчетность (СПИК)'!G13:H13)*Предпосылки!H327,\nAVERAGE('Отчетность (СПИК)'!G13:H13)*Предпосылки!$H$300)","v":0},{"$f":"IF(Предпосылки!$F$290=1,\nAVERAGE('Отчетность (СПИК)'!H13:I13)*Предпосылки!I327,\nAVERAGE('Отчетность (СПИК)'!H13:I13)*Предпосылки!$H$300)","v":0},{"$f":"IF(Предпосылки!$F$290=1,\nAVERAGE('Отчетность (СПИК)'!I13:J13)*Предпосылки!J327,\nAVERAGE('Отчетность (СПИК)'!I13:J13)*Предпосылки!$H$300)","v":0},{"$f":"IF(Предпосылки!$F$290=1,\nAVERAGE('Отчетность (СПИК)'!J13:K13)*Предпосылки!K327,\nAVERAGE('Отчетность (СПИК)'!J13:K13)*Предпосылки!$H$300)","v":0},{"$f":"IF(Предпосылки!$F$290=1,\nAVERAGE('Отчетность (СПИК)'!K13:L13)*Предпосылки!L327,\nAVERAGE('Отчетность (СПИК)'!K13:L13)*Предпосылки!$H$300)","v":0},{"$f":"IF(Предпосылки!$F$290=1,\nAVERAGE('Отчетность (СПИК)'!L13:M13)*Предпосылки!M327,\nAVERAGE('Отчетность (СПИК)'!L13:M13)*Предпосылки!$H$300)","v":0},{"$f":"IF(Предпосылки!$F$290=1,\nAVERAGE('Отчетность (СПИК)'!M13:N13)*Предпосылки!N327,\nAVERAGE('Отчетность (СПИК)'!M13:N13)*Предпосылки!$H$300)","v":0},{"$f":"IF(Предпосылки!$F$290=1,\nAVERAGE('Отчетность (СПИК)'!N13:O13)*Предпосылки!O327,\nAVERAGE('Отчетность (СПИК)'!N13:O13)*Предпосылки!$H$300)","v":0},{"$f":"IF(Предпосылки!$F$290=1,\nAVERAGE('Отчетность (СПИК)'!O13:P13)*Предпосылки!P327,\nAVERAGE('Отчетность (СПИК)'!O13:P13)*Предпосылки!$H$300)","v":0},{"$f":"IF(Предпосылки!$F$290=1,\nAVERAGE('Отчетность (СПИК)'!P13:Q13)*Предпосылки!Q327,\nAVERAGE('Отчетность (СПИК)'!P13:Q13)*Предпосылки!$H$300)","v":0},{"$f":"IF(Предпосылки!$F$290=1,\nAVERAGE('Отчетность (СПИК)'!Q13:R13)*Предпосылки!R327,\nAVERAGE('Отчетность (СПИК)'!Q13:R13)*Предпосылки!$H$300)","v":0},{"$f":"IF(Предпосылки!$F$290=1,\nAVERAGE('Отчетность (СПИК)'!R13:S13)*Предпосылки!S327,\nAVERAGE('Отчетность (СПИК)'!R13:S13)*Предпосылки!$H$300)","v":0},{"$f":"IF(Предпосылки!$F$290=1,\nAVERAGE('Отчетность (СПИК)'!S13:T13)*Предпосылки!T327,\nAVERAGE('Отчетность (СПИК)'!S13:T13)*Предпосылки!$H$300)","v":0},{"$f":"IF(Предпосылки!$F$290=1,\nAVERAGE('Отчетность (СПИК)'!T13:U13)*Предпосылки!U327,\nAVERAGE('Отчетность (СПИК)'!T13:U13)*Предпосылки!$H$300)","v":0},{"$f":"IF(Предпосылки!$F$290=1,\nAVERAGE('Отчетность (СПИК)'!U13:V13)*Предпосылки!V327,\nAVERAGE('Отчетность (СПИК)'!U13:V13)*Предпосылки!$H$300)","v":0},{"$f":"IF(Предпосылки!$F$290=1,\nAVERAGE('Отчетность (СПИК)'!V13:W13)*Предпосылки!W327,\nAVERAGE('Отчетность (СПИК)'!V13:W13)*Предпосылки!$H$300)","v":0},{"$f":"IF(Предпосылки!$F$290=1,\nAVERAGE('Отчетность (СПИК)'!W13:X13)*Предпосылки!X327,\nAVERAGE('Отчетность (СПИК)'!W13:X13)*Предпосылки!$H$300)","v":0},{"$f":"IF(Предпосылки!$F$290=1,\nAVERAGE('Отчетность (СПИК)'!X13:Y13)*Предпосылки!Y327,\nAVERAGE('Отчетность (СПИК)'!X13:Y13)*Предпосылки!$H$300)","v":0},{"$f":"IF(Предпосылки!$F$290=1,\nAVERAGE('Отчетность (СПИК)'!Y13:Z13)*Предпосылки!Z327,\nAVERAGE('Отчетность (СПИК)'!Y13:Z13)*Предпосылки!$H$300)","v":0},{"$f":"IF(Предпосылки!$F$290=1,\nAVERAGE('Отчетность (СПИК)'!Z13:AA13)*Предпосылки!AA327,\nAVERAGE('Отчетность (СПИК)'!Z13:AA13)*Предпосылки!$H$300)","v":0},{"$f":"IF(Предпосылки!$F$290=1,\nAVERAGE('Отчетность (СПИК)'!AA13:AB13)*Предпосылки!AB327,\nAVERAGE('Отчетность (СПИК)'!AA13:AB13)*Предпосылки!$H$300)","v":0}]
[null,null,"Уплата земельного налога (-)","тыс. руб.",null,null,null,{"$f":"-H215","v":0},{"$f":"-I215","v":0},0,0,0,0,0,0,0,0,0,0,0,0,0,0,0,0,0,0,{"$f":"-AB215","v":0}]
[null,null,"Задолженность на конец периода","тыс. руб.",null,null,null,{"$f":"SUM(H215:H217)","v":0},0,0,0,0,0,0,0,0,0,0,0,0,0,{"$f":"SUM(V215:V217)","v":0},0,0,0,0,0,{"$f":"SUM(AB215:AB217)","v":0}]
[]
[null,"Без СПИК"]
[null,null,"Задолженность  на  начало периода","тыс. руб.",null,null,null,{"$f":"G224","v":0},{"$f":"H224","v":0},0,0,0,0,0,0,0,0,0,0,0,0,0,{"$f":"V224","v":0},0,0,0,0,0]
[null,null,"Начисление земельного налога","тыс. руб.",null,null,null,{"$f":"AVERAGE('Отчетность (СПИК)'!G13:H13)*Предпосылки!$F$300","v":0},{"$f":"AVERAGE('Отчетность (СПИК)'!H13:I13)*Предпосылки!$F$300","v":0},{"$f":"AVERAGE('Отчетность (СПИК)'!I13:J13)*Предпосылки!$F$300","v":0},{"$f":"AVERAGE('Отчетность (СПИК)'!J13:K13)*Предпосылки!$F$300","v":0},{"$f":"AVERAGE('Отчетность (СПИК)'!K13:L13)*Предпосылки!$F$300","v":0},{"$f":"AVERAGE('Отчетность (СПИК)'!L13:M13)*Предпосылки!$F$300","v":0},{"$f":"AVERAGE('Отчетность (СПИК)'!M13:N13)*Предпосылки!$F$300","v":0},{"$f":"AVERAGE('Отчетность (СПИК)'!N13:O13)*Предпосылки!$F$300","v":0},{"$f":"AVERAGE('Отчетность (СПИК)'!O13:P13)*Предпосылки!$F$300","v":0},{"$f":"AVERAGE('Отчетность (СПИК)'!P13:Q13)*Предпосылки!$F$300","v":0},{"$f":"AVERAGE('Отчетность (СПИК)'!Q13:R13)*Предпосылки!$F$300","v":0},{"$f":"AVERAGE('Отчетность (СПИК)'!R13:S13)*Предпосылки!$F$300","v":0},{"$f":"AVERAGE('Отчетность (СПИК)'!S13:T13)*Предпосылки!$F$300","v":0},{"$f":"AVERAGE('Отчетность (СПИК)'!T13:U13)*Предпосылки!$F$300","v":0},{"$f":"AVERAGE('Отчетность (СПИК)'!U13:V13)*Предпосылки!$F$300","v":0},{"$f":"AVERAGE('Отчетность (СПИК)'!V13:W13)*Предпосылки!$F$300","v":0},{"$f":"AVERAGE('Отчетность (СПИК)'!W13:X13)*Предпосылки!$F$300","v":0},{"$f":"AVERAGE('Отчетность (СПИК)'!X13:Y13)*Предпосылки!$F$300","v":0},{"$f":"AVERAGE('Отчетность (СПИК)'!Y13:Z13)*Предпосылки!$F$300","v":0},{"$f":"AVERAGE('Отчетность (СПИК)'!Z13:AA13)*Предпосылки!$F$300","v":0},{"$f":"AVERAGE('Отчетность (СПИК)'!AA13:AB13)*Предпосылки!$F$300","v":0}]
[null,null,"Уплата земельного налога (-)","тыс. руб.",null,null,null,{"$f":"-H221","v":0},{"$f":"-I221","v":0},0,0,0,0,0,0,0,0,0,0,0,0,0,0,0,0,0,0,{"$f":"-AB221","v":0}]
[null,null,"Задолженность на конец периода","тыс. руб.",null,null,null,{"$f":"SUM(H221:H223)","v":0},0,0,0,0,0,0,0,0,0,0,0,0,0,{"$f":"SUM(V221:V223)","v":0},0,0,0,0,0,{"$f":"SUM(AB221:AB223)","v":0}]
[]
[null,"Целевой показатель: "]
[null,"Минимальный объем налогов, сборов, страховых взносов, которые будут уплачены инвестором с учетом применения мер стимулирования деятельности в сфере промышленности, предусмотренных СПИК"]
[]
[null,"Со СПИК"]
[]
[null,null,"В федеральный бюджет","тыс. руб.",null,null,null,{"$f":"SUM(H232:H234)","v":0},{"$f":"SUM(I232:I234)","v":0},{"$f":"SUM(J232:J234)","v":0},0,0,0,0,0,0,0,0,0,0,0,0,0,0,0,0,0,{"$f":"SUM(AB232:AB234)","v":0}]
[null,null,"Налог на прибыль организаций","тыс. руб.",null,null,null,{"$f":"H152","v":0},0,0,0,0,0,0,0,0,0,0,0,0,0,0,0,0,0,0,0,{"$f":"AB152","v":0}]
[null,null,"НДФЛ","тыс. руб.",null,null,null,{"$f":"H$123*H$58*Предпосылки!$D$358\n+H$123*H$73*Предпосылки!$D$359\n+H$123*H$88*Предпосылки!$D$360\n+H$123*H$103*Предпосылки!$D$361\n+H$123*H$118*Предпосылки!$D$362","v":0},{"$f":"I$123*I$58*Предпосылки!$D$358\n+I$123*I$73*Предпосылки!$D$359\n+I$123*I$88*Предпосылки!$D$360\n+I$123*I$103*Предпосылки!$D$361\n+I$123*I$118*Предпосылки!$D$362","v":0},{"$f":"J$123*J$58*Предпосылки!$D$358\n+J$123*J$73*Предпосылки!$D$359\n+J$123*J$88*Предпосылки!$D$360\n+J$123*J$103*Предпосылки!$D$361\n+J$123*J$118*Предпосылки!$D$362","v":0},{"$f":"K$123*K$58*Предпосылки!$D$358\n+K$123*K$73*Предпосылки!$D$359\n+K$123*K$88*Предпосылки!$D$360\n+K$123*K$103*Предпосылки!$D$361\n+K$123*K$118*Предпосылки!$D$362","v":0},{"$f":"L$123*L$58*Предпосылки!$D$358\n+L$123*L$73*Предпосылки!$D$359\n+L$123*L$88*Предпосылки!$D$360\n+L$123*L$103*Предпосылки!$D$361\n+L$123*L$118*Предпосылки!$D$362","v":0},{"$f":"M$123*M$58*Предпосылки!$D$358\n+M$123*M$73*Предпосылки!$D$359\n+M$123*M$88*Предпосылки!$D$360\n+M$123*M$103*Предпосылки!$D$361\n+M$123*M$118*Предпосылки!$D$362","v":0},{"$f":"N$123*N$58*Предпосылки!$D$358\n+N$123*N$73*Предпосылки!$D$359\n+N$123*N$88*Предпосылки!$D$360\n+N$123*N$103*Предпосылки!$D$361\n+N$123*N$118*Предпосылки!$D$362","v":0},{"$f":"O$123*O$58*Предпосылки!$D$358\n+O$123*O$73*Предпосылки!$D$359\n+O$123*O$88*Предпосылки!$D$360\n+O$123*O$103*Предпосылки!$D$361\n+O$123*O$118*Предпосылки!$D$362","v":0},{"$f":"P$123*P$58*Предпосылки!$D$358\n+P$123*P$73*Предпосылки!$D$359\n+P$123*P$88*Предпосылки!$D$360\n+P$123*P$103*Предпосылки!$D$361\n+P$123*P$118*Предпосылки!$D$362","v":0},{"$f":"Q$123*Q$58*Предпосылки!$D$358\n+Q$123*Q$73*Предпосылки!$D$359\n+Q$123*Q$88*Предпосылки!$D$360\n+Q$123*Q$103*Предпосылки!$D$361\n+Q$123*Q$118*Предпосылки!$D$362","v":0},{"$f":"R$123*R$58*Предпосылки!$D$358\n+R$123*R$73*Предпосылки!$D$359\n+R$123*R$88*Предпосылки!$D$360\n+R$123*R$103*Предпосылки!$D$361\n+R$123*R$118*Предпосылки!$D$362","v":0},{"$f":"S$123*S$58*Предпосылки!$D$358\n+S$123*S$73*Предпосылки!$D$359\n+S$123*S$88*Предпосылки!$D$360\n+S$123*S$103*Предпосылки!$D$361\n+S$123*S$118*Предпосылки!$D$362","v":0},{"$f":"T$123*T$58*Предпосылки!$D$358\n+T$123*T$73*Предпосылки!$D$359\n+T$123*T$88*Предпосылки!$D$360\n+T$123*T$103*Предпосылки!$D$361\n+T$123*T$118*Предпосылки!$D$362","v":0},{"$f":"U$123*U$58*Предпосылки!$D$358\n+U$123*U$73*Предпосылки!$D$359\n+U$123*U$88*Предпосылки!$D$360\n+U$123*U$103*Предпосылки!$D$361\n+U$123*U$118*Предпосылки!$D$362","v":0},{"$f":"V$123*V$58*Предпосылки!$D$358\n+V$123*V$73*Предпосылки!$D$359\n+V$123*V$88*Предпосылки!$D$360\n+V$123*V$103*Предпосылки!$D$361\n+V$123*V$118*Предпосылки!$D$362","v":0},{"$f":"W$123*W$58*Предпосылки!$D$358\n+W$123*W$73*Предпосылки!$D$359\n+W$123*W$88*Предпосылки!$D$360\n+W$123*W$103*Предпосылки!$D$361\n+W$123*W$118*Предпосылки!$D$362","v":0},{"$f":"X$123*X$58*Предпосылки!$D$358\n+X$123*X$73*Предпосылки!$D$359\n+X$123*X$88*Предпосылки!$D$360\n+X$123*X$103*Предпосылки!$D$361\n+X$123*X$118*Предпосылки!$D$362","v":0},{"$f":"Y$123*Y$58*Предпосылки!$D$358\n+Y$123*Y$73*Предпосылки!$D$359\n+Y$123*Y$88*Предпосылки!$D$360\n+Y$123*Y$103*Предпосылки!$D$361\n+Y$123*Y$118*Предпосылки!$D$362","v":0},{"$f":"Z$123*Z$58*Предпосылки!$D$358\n+Z$123*Z$73*Предпосылки!$D$359\n+Z$123*Z$88*Предпосылки!$D$360\n+Z$123*Z$103*Предпосылки!$D$361\n+Z$123*Z$118*Предпосылки!$D$362","v":0},{"$f":"AA$123*AA$58*Предпосылки!$D$358\n+AA$123*AA$73*Предпосылки!$D$359\n+AA$123*AA$88*Предпосылки!$D$360\n+AA$123*AA$103*Предпосылки!$D$361\n+AA$123*AA$118*Предпосылки!$D$362","v":0},{"$f":"AB$123*AB$58*Предпосылки!$D$358\n+AB$123*AB$73*Предпосылки!$D$359\n+AB$123*AB$88*Предпосылки!$D$360\n+AB$123*AB$103*Предпосылки!$D$361\n+AB$123*AB$118*Предпосылки!$D$362","v":0}]
[null,null,"Таможенные пошлины","тыс. руб.",null,null,null,{"$f":"-'График инвестирования'!H21","v":0},{"$f":"-'График инвестирования'!I21","v":0},{"$f":"-'График инвестирования'!J21","v":0},{"$f":"-'График инвестирования'!K21","v":0},{"$f":"-'График инвестирования'!L21","v":0},{"$f":"-'График инвестирования'!M21","v":0},{"$f":"-'График инвестирования'!N21","v":0},{"$f":"-'График инвестирования'!O21","v":0},{"$f":"-'График инвестирования'!P21","v":0},{"$f":"-'График инвестирования'!Q21","v":0},{"$f":"-'График инвестирования'!R21","v":0},{"$f":"-'График инвестирования'!S21","v":0},{"$f":"-'График инвестирования'!T21","v":0},{"$f":"-'График инвестирования'!U21","v":0},{"$f":"-'График инвестирования'!V21","v":0},{"$f":"-'График инвестирования'!W21","v":0},{"$f":"-'График инвестирования'!X21","v":0},{"$f":"-'График инвестирования'!Y21","v":0},{"$f":"-'График инвестирования'!Z21","v":0},{"$f":"-'График инвестирования'!AA21","v":0},{"$f":"-'График инвестирования'!AB21","v":0}]
[null,null,"В региональный бюджет","тыс. руб.",null,null,null,{"$f":"SUM(H236:H239)","v":0},0,0,0,0,0,0,0,0,0,0,0,0,0,0,0,0,0,0,0,{"$f":"SUM(AB236:AB239)","v":0}]
[null,null,"Налог на прибыль организаций","тыс. руб.",null,null,null,{"$f":"H153","v":0},0,0,0,0,0,0,0,0,0,0,0,0,0,0,0,0,0,0,0,{"$f":"AB153","v":0}]
[null,null,"Налог на имущество организаций","тыс. руб.",null,null,null,{"$f":"H189","v":0},0,0,0,0,0,0,0,0,0,0,0,0,0,0,0,0,0,0,0,{"$f":"AB189","v":0}]
[null,null,"НДФЛ","тыс. руб.",null,null,null,{"$f":"H$123*H$58*Предпосылки!$E$358\n+H$123*H$73*Предпосылки!$E$359\n+H$123*H$88*Предпосылки!$E$360\n+H$123*H$103*Предпосылки!$E$361\n+H$123*H$118*Предпосылки!$E$362","v":0},{"$f":"I$123*I$58*Предпосылки!$E$358\n+I$123*I$73*Предпосылки!$E$359\n+I$123*I$88*Предпосылки!$E$360\n+I$123*I$103*Предпосылки!$E$361\n+I$123*I$118*Предпосылки!$E$362","v":0},{"$f":"J$123*J$58*Предпосылки!$E$358\n+J$123*J$73*Предпосылки!$E$359\n+J$123*J$88*Предпосылки!$E$360\n+J$123*J$103*Предпосылки!$E$361\n+J$123*J$118*Предпосылки!$E$362","v":0},{"$f":"K$123*K$58*Предпосылки!$E$358\n+K$123*K$73*Предпосылки!$E$359\n+K$123*K$88*Предпосылки!$E$360\n+K$123*K$103*Предпосылки!$E$361\n+K$123*K$118*Предпосылки!$E$362","v":0},{"$f":"L$123*L$58*Предпосылки!$E$358\n+L$123*L$73*Предпосылки!$E$359\n+L$123*L$88*Предпосылки!$E$360\n+L$123*L$103*Предпосылки!$E$361\n+L$123*L$118*Предпосылки!$E$362","v":0},{"$f":"M$123*M$58*Предпосылки!$E$358\n+M$123*M$73*Предпосылки!$E$359\n+M$123*M$88*Предпосылки!$E$360\n+M$123*M$103*Предпосылки!$E$361\n+M$123*M$118*Предпосылки!$E$362","v":0},{"$f":"N$123*N$58*Предпосылки!$E$358\n+N$123*N$73*Предпосылки!$E$359\n+N$123*N$88*Предпосылки!$E$360\n+N$123*N$103*Предпосылки!$E$361\n+N$123*N$118*Предпосылки!$E$362","v":0},{"$f":"O$123*O$58*Предпосылки!$E$358\n+O$123*O$73*Предпосылки!$E$359\n+O$123*O$88*Предпосылки!$E$360\n+O$123*O$103*Предпосылки!$E$361\n+O$123*O$118*Предпосылки!$E$362","v":0},{"$f":"P$123*P$58*Предпосылки!$E$358\n+P$123*P$73*Предпосылки!$E$359\n+P$123*P$88*Предпосылки!$E$360\n+P$123*P$103*Предпосылки!$E$361\n+P$123*P$118*Предпосылки!$E$362","v":0},{"$f":"Q$123*Q$58*Предпосылки!$E$358\n+Q$123*Q$73*Предпосылки!$E$359\n+Q$123*Q$88*Предпосылки!$E$360\n+Q$123*Q$103*Предпосылки!$E$361\n+Q$123*Q$118*Предпосылки!$E$362","v":0},{"$f":"R$123*R$58*Предпосылки!$E$358\n+R$123*R$73*Предпосылки!$E$359\n+R$123*R$88*Предпосылки!$E$360\n+R$123*R$103*Предпосылки!$E$361\n+R$123*R$118*Предпосылки!$E$362","v":0},{"$f":"S$123*S$58*Предпосылки!$E$358\n+S$123*S$73*Предпосылки!$E$359\n+S$123*S$88*Предпосылки!$E$360\n+S$123*S$103*Предпосылки!$E$361\n+S$123*S$118*Предпосылки!$E$362","v":0},{"$f":"T$123*T$58*Предпосылки!$E$358\n+T$123*T$73*Предпосылки!$E$359\n+T$123*T$88*Предпосылки!$E$360\n+T$123*T$103*Предпосылки!$E$361\n+T$123*T$118*Предпосылки!$E$362","v":0},{"$f":"U$123*U$58*Предпосылки!$E$358\n+U$123*U$73*Предпосылки!$E$359\n+U$123*U$88*Предпосылки!$E$360\n+U$123*U$103*Предпосылки!$E$361\n+U$123*U$118*Предпосылки!$E$362","v":0},{"$f":"V$123*V$58*Предпосылки!$E$358\n+V$123*V$73*Предпосылки!$E$359\n+V$123*V$88*Предпосылки!$E$360\n+V$123*V$103*Предпосылки!$E$361\n+V$123*V$118*Предпосылки!$E$362","v":0},{"$f":"W$123*W$58*Предпосылки!$E$358\n+W$123*W$73*Предпосылки!$E$359\n+W$123*W$88*Предпосылки!$E$360\n+W$123*W$103*Предпосылки!$E$361\n+W$123*W$118*Предпосылки!$E$362","v":0},{"$f":"X$123*X$58*Предпосылки!$E$358\n+X$123*X$73*Предпосылки!$E$359\n+X$123*X$88*Предпосылки!$E$360\n+X$123*X$103*Предпосылки!$E$361\n+X$123*X$118*Предпосылки!$E$362","v":0},{"$f":"Y$123*Y$58*Предпосылки!$E$358\n+Y$123*Y$73*Предпосылки!$E$359\n+Y$123*Y$88*Предпосылки!$E$360\n+Y$123*Y$103*Предпосылки!$E$361\n+Y$123*Y$118*Предпосылки!$E$362","v":0},{"$f":"Z$123*Z$58*Предпосылки!$E$358\n+Z$123*Z$73*Предпосылки!$E$359\n+Z$123*Z$88*Предпосылки!$E$360\n+Z$123*Z$103*Предпосылки!$E$361\n+Z$123*Z$118*Предпосылки!$E$362","v":0},{"$f":"AA$123*AA$58*Предпосылки!$E$358\n+AA$123*AA$73*Предпосылки!$E$359\n+AA$123*AA$88*Предпосылки!$E$360\n+AA$123*AA$103*Предпосылки!$E$361\n+AA$123*AA$118*Предпосылки!$E$362","v":0},{"$f":"AB$123*AB$58*Предпосылки!$E$358\n+AB$123*AB$73*Предпосылки!$E$359\n+AB$123*AB$88*Предпосылки!$E$360\n+AB$123*AB$103*Предпосылки!$E$361\n+AB$123*AB$118*Предпосылки!$E$362","v":0}]
[null,null,"Транспортный налог","тыс. руб.",null,null,null,{"$f":"H203","v":0},{"$f":"I203","v":0},0,0,0,0,0,0,0,0,0,0,0,0,0,0,0,0,0,0,{"$f":"AB203","v":0}]
[null,null,"В местный бюджет","тыс. руб.",null,null,null,{"$f":"SUM(H241:H242)","v":0},{"$f":"SUM(I241:I242)","v":0},0,0,0,0,0,0,0,0,0,0,0,0,0,0,0,0,0,0,{"$f":"SUM(AB241:AB242)","v":0}]
[null,null,"НДФЛ","тыс. руб.",null,null,null,{"$f":"H$123*H$58*Предпосылки!$F$358\n+H$123*H$73*Предпосылки!$F$359\n+H$123*H$88*Предпосылки!$F$360\n+H$123*H$103*Предпосылки!$F$361\n+H$123*H$118*Предпосылки!$F$362","v":0},{"$f":"I$123*I$58*Предпосылки!$F$358\n+I$123*I$73*Предпосылки!$F$359\n+I$123*I$88*Предпосылки!$F$360\n+I$123*I$103*Предпосылки!$F$361\n+I$123*I$118*Предпосылки!$F$362","v":0},{"$f":"J$123*J$58*Предпосылки!$F$358\n+J$123*J$73*Предпосылки!$F$359\n+J$123*J$88*Предпосылки!$F$360\n+J$123*J$103*Предпосылки!$F$361\n+J$123*J$118*Предпосылки!$F$362","v":0},{"$f":"K$123*K$58*Предпосылки!$F$358\n+K$123*K$73*Предпосылки!$F$359\n+K$123*K$88*Предпосылки!$F$360\n+K$123*K$103*Предпосылки!$F$361\n+K$123*K$118*Предпосылки!$F$362","v":0},{"$f":"L$123*L$58*Предпосылки!$F$358\n+L$123*L$73*Предпосылки!$F$359\n+L$123*L$88*Предпосылки!$F$360\n+L$123*L$103*Предпосылки!$F$361\n+L$123*L$118*Предпосылки!$F$362","v":0},{"$f":"M$123*M$58*Предпосылки!$F$358\n+M$123*M$73*Предпосылки!$F$359\n+M$123*M$88*Предпосылки!$F$360\n+M$123*M$103*Предпосылки!$F$361\n+M$123*M$118*Предпосылки!$F$362","v":0},{"$f":"N$123*N$58*Предпосылки!$F$358\n+N$123*N$73*Предпосылки!$F$359\n+N$123*N$88*Предпосылки!$F$360\n+N$123*N$103*Предпосылки!$F$361\n+N$123*N$118*Предпосылки!$F$362","v":0},{"$f":"O$123*O$58*Предпосылки!$F$358\n+O$123*O$73*Предпосылки!$F$359\n+O$123*O$88*Предпосылки!$F$360\n+O$123*O$103*Предпосылки!$F$361\n+O$123*O$118*Предпосылки!$F$362","v":0},{"$f":"P$123*P$58*Предпосылки!$F$358\n+P$123*P$73*Предпосылки!$F$359\n+P$123*P$88*Предпосылки!$F$360\n+P$123*P$103*Предпосылки!$F$361\n+P$123*P$118*Предпосылки!$F$362","v":0},{"$f":"Q$123*Q$58*Предпосылки!$F$358\n+Q$123*Q$73*Предпосылки!$F$359\n+Q$123*Q$88*Предпосылки!$F$360\n+Q$123*Q$103*Предпосылки!$F$361\n+Q$123*Q$118*Предпосылки!$F$362","v":0},{"$f":"R$123*R$58*Предпосылки!$F$358\n+R$123*R$73*Предпосылки!$F$359\n+R$123*R$88*Предпосылки!$F$360\n+R$123*R$103*Предпосылки!$F$361\n+R$123*R$118*Предпосылки!$F$362","v":0},{"$f":"S$123*S$58*Предпосылки!$F$358\n+S$123*S$73*Предпосылки!$F$359\n+S$123*S$88*Предпосылки!$F$360\n+S$123*S$103*Предпосылки!$F$361\n+S$123*S$118*Предпосылки!$F$362","v":0},{"$f":"T$123*T$58*Предпосылки!$F$358\n+T$123*T$73*Предпосылки!$F$359\n+T$123*T$88*Предпосылки!$F$360\n+T$123*T$103*Предпосылки!$F$361\n+T$123*T$118*Предпосылки!$F$362","v":0},{"$f":"U$123*U$58*Предпосылки!$F$358\n+U$123*U$73*Предпосылки!$F$359\n+U$123*U$88*Предпосылки!$F$360\n+U$123*U$103*Предпосылки!$F$361\n+U$123*U$118*Предпосылки!$F$362","v":0},{"$f":"V$123*V$58*Предпосылки!$F$358\n+V$123*V$73*Предпосылки!$F$359\n+V$123*V$88*Предпосылки!$F$360\n+V$123*V$103*Предпосылки!$F$361\n+V$123*V$118*Предпосылки!$F$362","v":0},{"$f":"W$123*W$58*Предпосылки!$F$358\n+W$123*W$73*Предпосылки!$F$359\n+W$123*W$88*Предпосылки!$F$360\n+W$123*W$103*Предпосылки!$F$361\n+W$123*W$118*Предпосылки!$F$362","v":0},{"$f":"X$123*X$58*Предпосылки!$F$358\n+X$123*X$73*Предпосылки!$F$359\n+X$123*X$88*Предпосылки!$F$360\n+X$123*X$103*Предпосылки!$F$361\n+X$123*X$118*Предпосылки!$F$362","v":0},{"$f":"Y$123*Y$58*Предпосылки!$F$358\n+Y$123*Y$73*Предпосылки!$F$359\n+Y$123*Y$88*Предпосылки!$F$360\n+Y$123*Y$103*Предпосылки!$F$361\n+Y$123*Y$118*Предпосылки!$F$362","v":0},{"$f":"Z$123*Z$58*Предпосылки!$F$358\n+Z$123*Z$73*Предпосылки!$F$359\n+Z$123*Z$88*Предпосылки!$F$360\n+Z$123*Z$103*Предпосылки!$F$361\n+Z$123*Z$118*Предпосылки!$F$362","v":0},{"$f":"AA$123*AA$58*Предпосылки!$F$358\n+AA$123*AA$73*Предпосылки!$F$359\n+AA$123*AA$88*Предпосылки!$F$360\n+AA$123*AA$103*Предпосылки!$F$361\n+AA$123*AA$118*Предпосылки!$F$362","v":0},{"$f":"AB$123*AB$58*Предпосылки!$F$358\n+AB$123*AB$73*Предпосылки!$F$359\n+AB$123*AB$88*Предпосылки!$F$360\n+AB$123*AB$103*Предпосылки!$F$361\n+AB$123*AB$118*Предпосылки!$F$362","v":0}]
[null,null,"Земельный налог","тыс. руб.",null,null,null,{"$f":"H217","v":0},{"$f":"I217","v":0},0,0,0,0,0,0,0,0,0,0,0,0,0,0,0,0,0,0,{"$f":"AB217","v":0}]
[null,null,"Страховые взносы","тыс. руб.","Лист: Операционные затраты",null,null,{"$f":"IF(Предпосылки!$F$291=1,'Операционные затраты'!H138,'Операционные затраты'!H164)","v":0},{"$f":"IF(Предпосылки!$F$291=1,'Операционные затраты'!I138,'Операционные затраты'!I164)","v":0},{"$f":"IF(Предпосылки!$F$291=1,'Операционные затраты'!J138,'Операционные затраты'!J164)","v":0},{"$f":"IF(Предпосылки!$F$291=1,'Операционные затраты'!K138,'Операционные затраты'!K164)","v":0},{"$f":"IF(Предпосылки!$F$291=1,'Операционные затраты'!L138,'Операционные затраты'!L164)","v":0},{"$f":"IF(Предпосылки!$F$291=1,'Операционные затраты'!M138,'Операционные затраты'!M164)","v":0},{"$f":"IF(Предпосылки!$F$291=1,'Операционные затраты'!N138,'Операционные затраты'!N164)","v":0},{"$f":"IF(Предпосылки!$F$291=1,'Операционные затраты'!O138,'Операционные затраты'!O164)","v":0},{"$f":"IF(Предпосылки!$F$291=1,'Операционные затраты'!P138,'Операционные затраты'!P164)","v":0},{"$f":"IF(Предпосылки!$F$291=1,'Операционные затраты'!Q138,'Операционные затраты'!Q164)","v":0},{"$f":"IF(Предпосылки!$F$291=1,'Операционные затраты'!R138,'Операционные затраты'!R164)","v":0},{"$f":"IF(Предпосылки!$F$291=1,'Операционные затраты'!S138,'Операционные затраты'!S164)","v":0},{"$f":"IF(Предпосылки!$F$291=1,'Операционные затраты'!T138,'Операционные затраты'!T164)","v":0},{"$f":"IF(Предпосылки!$F$291=1,'Операционные затраты'!U138,'Операционные затраты'!U164)","v":0},{"$f":"IF(Предпосылки!$F$291=1,'Операционные затраты'!V138,'Операционные затраты'!V164)","v":0},{"$f":"IF(Предпосылки!$F$291=1,'Операционные затраты'!W138,'Операционные затраты'!W164)","v":0},{"$f":"IF(Предпосылки!$F$291=1,'Операционные затраты'!X138,'Операционные затраты'!X164)","v":0},{"$f":"IF(Предпосылки!$F$291=1,'Операционные затраты'!Y138,'Операционные затраты'!Y164)","v":0},{"$f":"IF(Предпосылки!$F$291=1,'Операционные затраты'!Z138,'Операционные затраты'!Z164)","v":0},{"$f":"IF(Предпосылки!$F$291=1,'Операционные затраты'!AA138,'Операционные затраты'!AA164)","v":0},{"$f":"IF(Предпосылки!$F$291=1,'Операционные затраты'!AB138,'Операционные затраты'!AB164)","v":0}]
[null,null,"Итого:","тыс. руб.",null,null,null,{"$f":"SUM(H231,H235,H240,H243)","v":0},{"$f":"SUM(I231,I235,I240,I243)","v":0},0,0,0,0,0,0,0,0,0,0,0,0,0,0,0,0,0,0,{"$f":"SUM(AB231,AB235,AB240,AB243)","v":0}]
[]
[]
[null,"Без СПИК"]
[]
[null,null,"В федеральный бюджет","тыс. руб.",null,null,null,{"$f":"SUM(H250:H252)","v":0},0,0,0,0,0,0,0,0,0,0,0,0,0,0,0,0,0,0,0,{"$f":"SUM(AB250:AB252)","v":0}]
[null,null,"Налог на прибыль организаций","тыс. руб.",null,null,null,{"$f":"H180","v":0},0,0,0,0,0,0,0,0,0,0,0,0,0,0,0,0,0,0,0,{"$f":"AB180","v":0}]
[null,null,"НДФЛ",null,null,null,null,{"$f":"H$123*H$58*Предпосылки!$D$358\n+H$123*H$73*Предпосылки!$D$359\n+H$123*H$88*Предпосылки!$D$360\n+H$123*H$103*Предпосылки!$D$361\n+H$123*H$118*Предпосылки!$D$362","v":0},{"$f":"I$123*I$58*Предпосылки!$D$358\n+I$123*I$73*Предпосылки!$D$359\n+I$123*I$88*Предпосылки!$D$360\n+I$123*I$103*Предпосылки!$D$361\n+I$123*I$118*Предпосылки!$D$362","v":0},{"$f":"J$123*J$58*Предпосылки!$D$358\n+J$123*J$73*Предпосылки!$D$359\n+J$123*J$88*Предпосылки!$D$360\n+J$123*J$103*Предпосылки!$D$361\n+J$123*J$118*Предпосылки!$D$362","v":0},{"$f":"K$123*K$58*Предпосылки!$D$358\n+K$123*K$73*Предпосылки!$D$359\n+K$123*K$88*Предпосылки!$D$360\n+K$123*K$103*Предпосылки!$D$361\n+K$123*K$118*Предпосылки!$D$362","v":0},{"$f":"L$123*L$58*Предпосылки!$D$358\n+L$123*L$73*Предпосылки!$D$359\n+L$123*L$88*Предпосылки!$D$360\n+L$123*L$103*Предпосылки!$D$361\n+L$123*L$118*Предпосылки!$D$362","v":0},{"$f":"M$123*M$58*Предпосылки!$D$358\n+M$123*M$73*Предпосылки!$D$359\n+M$123*M$88*Предпосылки!$D$360\n+M$123*M$103*Предпосылки!$D$361\n+M$123*M$118*Предпосылки!$D$362","v":0},{"$f":"N$123*N$58*Предпосылки!$D$358\n+N$123*N$73*Предпосылки!$D$359\n+N$123*N$88*Предпосылки!$D$360\n+N$123*N$103*Предпосылки!$D$361\n+N$123*N$118*Предпосылки!$D$362","v":0},{"$f":"O$123*O$58*Предпосылки!$D$358\n+O$123*O$73*Предпосылки!$D$359\n+O$123*O$88*Предпосылки!$D$360\n+O$123*O$103*Предпосылки!$D$361\n+O$123*O$118*Предпосылки!$D$362","v":0},{"$f":"P$123*P$58*Предпосылки!$D$358\n+P$123*P$73*Предпосылки!$D$359\n+P$123*P$88*Предпосылки!$D$360\n+P$123*P$103*Предпосылки!$D$361\n+P$123*P$118*Предпосылки!$D$362","v":0},{"$f":"Q$123*Q$58*Предпосылки!$D$358\n+Q$123*Q$73*Предпосылки!$D$359\n+Q$123*Q$88*Предпосылки!$D$360\n+Q$123*Q$103*Предпосылки!$D$361\n+Q$123*Q$118*Предпосылки!$D$362","v":0},{"$f":"R$123*R$58*Предпосылки!$D$358\n+R$123*R$73*Предпосылки!$D$359\n+R$123*R$88*Предпосылки!$D$360\n+R$123*R$103*Предпосылки!$D$361\n+R$123*R$118*Предпосылки!$D$362","v":0},{"$f":"S$123*S$58*Предпосылки!$D$358\n+S$123*S$73*Предпосылки!$D$359\n+S$123*S$88*Предпосылки!$D$360\n+S$123*S$103*Предпосылки!$D$361\n+S$123*S$118*Предпосылки!$D$362","v":0},{"$f":"T$123*T$58*Предпосылки!$D$358\n+T$123*T$73*Предпосылки!$D$359\n+T$123*T$88*Предпосылки!$D$360\n+T$123*T$103*Предпосылки!$D$361\n+T$123*T$118*Предпосылки!$D$362","v":0},{"$f":"U$123*U$58*Предпосылки!$D$358\n+U$123*U$73*Предпосылки!$D$359\n+U$123*U$88*Предпосылки!$D$360\n+U$123*U$103*Предпосылки!$D$361\n+U$123*U$118*Предпосылки!$D$362","v":0},{"$f":"V$123*V$58*Предпосылки!$D$358\n+V$123*V$73*Предпосылки!$D$359\n+V$123*V$88*Предпосылки!$D$360\n+V$123*V$103*Предпосылки!$D$361\n+V$123*V$118*Предпосылки!$D$362","v":0},{"$f":"W$123*W$58*Предпосылки!$D$358\n+W$123*W$73*Предпосылки!$D$359\n+W$123*W$88*Предпосылки!$D$360\n+W$123*W$103*Предпосылки!$D$361\n+W$123*W$118*Предпосылки!$D$362","v":0},{"$f":"X$123*X$58*Предпосылки!$D$358\n+X$123*X$73*Предпосылки!$D$359\n+X$123*X$88*Предпосылки!$D$360\n+X$123*X$103*Предпосылки!$D$361\n+X$123*X$118*Предпосылки!$D$362","v":0},{"$f":"Y$123*Y$58*Предпосылки!$D$358\n+Y$123*Y$73*Предпосылки!$D$359\n+Y$123*Y$88*Предпосылки!$D$360\n+Y$123*Y$103*Предпосылки!$D$361\n+Y$123*Y$118*Предпосылки!$D$362","v":0},{"$f":"Z$123*Z$58*Предпосылки!$D$358\n+Z$123*Z$73*Предпосылки!$D$359\n+Z$123*Z$88*Предпосылки!$D$360\n+Z$123*Z$103*Предпосылки!$D$361\n+Z$123*Z$118*Предпосылки!$D$362","v":0},{"$f":"AA$123*AA$58*Предпосылки!$D$358\n+AA$123*AA$73*Предпосылки!$D$359\n+AA$123*AA$88*Предпосылки!$D$360\n+AA$123*AA$103*Предпосылки!$D$361\n+AA$123*AA$118*Предпосылки!$D$362","v":0},{"$f":"AB$123*AB$58*Предпосылки!$D$358\n+AB$123*AB$73*Предпосылки!$D$359\n+AB$123*AB$88*Предпосылки!$D$360\n+AB$123*AB$103*Предпосылки!$D$361\n+AB$123*AB$118*Предпосылки!$D$362","v":0}]
[null,null,"Таможенные пошлины","тыс. руб.",null,null,null,{"$f":"-'График инвестирования'!H21","v":0},{"$f":"-'График инвестирования'!I21","v":0},{"$f":"-'График инвестирования'!J21","v":0},{"$f":"-'График инвестирования'!K21","v":0},{"$f":"-'График инвестирования'!L21","v":0},{"$f":"-'График инвестирования'!M21","v":0},{"$f":"-'График инвестирования'!N21","v":0},{"$f":"-'График инвестирования'!O21","v":0},{"$f":"-'График инвестирования'!P21","v":0},{"$f":"-'График инвестирования'!Q21","v":0},{"$f":"-'График инвестирования'!R21","v":0},{"$f":"-'График инвестирования'!S21","v":0},{"$f":"-'График инвестирования'!T21","v":0},{"$f":"-'График инвестирования'!U21","v":0},{"$f":"-'График инвестирования'!V21","v":0},{"$f":"-'График инвестирования'!W21","v":0},{"$f":"-'График инвестирования'!X21","v":0},{"$f":"-'График инвестирования'!Y21","v":0},{"$f":"-'График инвестирования'!Z21","v":0},{"$f":"-'График инвестирования'!AA21","v":0},{"$f":"-'График инвестирования'!AB21","v":0}]
[null,null,"В региональный бюджет","тыс. руб.",null,null,null,{"$f":"SUM(H254:H257)","v":0},{"$f":"SUM(I254:I257)","v":0},0,0,0,0,0,0,0,0,0,0,0,0,0,0,0,0,0,0,{"$f":"SUM(AB254:AB257)","v":0}]
[null,null,"Налог на прибыль организаций","тыс. руб.",null,null,null,{"$f":"H181","v":0},0,0,0,0,0,0,0,0,0,0,0,0,0,0,0,0,0,0,0,{"$f":"AB181","v":0}]
[null,null,"Налог на имущество организаций","тыс. руб.",null,null,null,{"$f":"H195","v":0},0,0,0,0,0,0,0,0,0,0,0,0,0,0,0,0,0,0,0,{"$f":"AB195","v":0}]
[null,null,"НДФЛ","тыс. руб.",null,null,null,{"$f":"H$123*H$58*Предпосылки!$E$358\n+H$123*H$73*Предпосылки!$E$359\n+H$123*H$88*Предпосылки!$E$360\n+H$123*H$103*Предпосылки!$E$361\n+H$123*H$118*Предпосылки!$E$362","v":0},{"$f":"I$123*I$58*Предпосылки!$E$358\n+I$123*I$73*Предпосылки!$E$359\n+I$123*I$88*Предпосылки!$E$360\n+I$123*I$103*Предпосылки!$E$361\n+I$123*I$118*Предпосылки!$E$362","v":0},{"$f":"J$123*J$58*Предпосылки!$E$358\n+J$123*J$73*Предпосылки!$E$359\n+J$123*J$88*Предпосылки!$E$360\n+J$123*J$103*Предпосылки!$E$361\n+J$123*J$118*Предпосылки!$E$362","v":0},{"$f":"K$123*K$58*Предпосылки!$E$358\n+K$123*K$73*Предпосылки!$E$359\n+K$123*K$88*Предпосылки!$E$360\n+K$123*K$103*Предпосылки!$E$361\n+K$123*K$118*Предпосылки!$E$362","v":0},{"$f":"L$123*L$58*Предпосылки!$E$358\n+L$123*L$73*Предпосылки!$E$359\n+L$123*L$88*Предпосылки!$E$360\n+L$123*L$103*Предпосылки!$E$361\n+L$123*L$118*Предпосылки!$E$362","v":0},{"$f":"M$123*M$58*Предпосылки!$E$358\n+M$123*M$73*Предпосылки!$E$359\n+M$123*M$88*Предпосылки!$E$360\n+M$123*M$103*Предпосылки!$E$361\n+M$123*M$118*Предпосылки!$E$362","v":0},{"$f":"N$123*N$58*Предпосылки!$E$358\n+N$123*N$73*Предпосылки!$E$359\n+N$123*N$88*Предпосылки!$E$360\n+N$123*N$103*Предпосылки!$E$361\n+N$123*N$118*Предпосылки!$E$362","v":0},{"$f":"O$123*O$58*Предпосылки!$E$358\n+O$123*O$73*Предпосылки!$E$359\n+O$123*O$88*Предпосылки!$E$360\n+O$123*O$103*Предпосылки!$E$361\n+O$123*O$118*Предпосылки!$E$362","v":0},{"$f":"P$123*P$58*Предпосылки!$E$358\n+P$123*P$73*Предпосылки!$E$359\n+P$123*P$88*Предпосылки!$E$360\n+P$123*P$103*Предпосылки!$E$361\n+P$123*P$118*Предпосылки!$E$362","v":0},{"$f":"Q$123*Q$58*Предпосылки!$E$358\n+Q$123*Q$73*Предпосылки!$E$359\n+Q$123*Q$88*Предпосылки!$E$360\n+Q$123*Q$103*Предпосылки!$E$361\n+Q$123*Q$118*Предпосылки!$E$362","v":0},{"$f":"R$123*R$58*Предпосылки!$E$358\n+R$123*R$73*Предпосылки!$E$359\n+R$123*R$88*Предпосылки!$E$360\n+R$123*R$103*Предпосылки!$E$361\n+R$123*R$118*Предпосылки!$E$362","v":0},{"$f":"S$123*S$58*Предпосылки!$E$358\n+S$123*S$73*Предпосылки!$E$359\n+S$123*S$88*Предпосылки!$E$360\n+S$123*S$103*Предпосылки!$E$361\n+S$123*S$118*Предпосылки!$E$362","v":0},{"$f":"T$123*T$58*Предпосылки!$E$358\n+T$123*T$73*Предпосылки!$E$359\n+T$123*T$88*Предпосылки!$E$360\n+T$123*T$103*Предпосылки!$E$361\n+T$123*T$118*Предпосылки!$E$362","v":0},{"$f":"U$123*U$58*Предпосылки!$E$358\n+U$123*U$73*Предпосылки!$E$359\n+U$123*U$88*Предпосылки!$E$360\n+U$123*U$103*Предпосылки!$E$361\n+U$123*U$118*Предпосылки!$E$362","v":0},{"$f":"V$123*V$58*Предпосылки!$E$358\n+V$123*V$73*Предпосылки!$E$359\n+V$123*V$88*Предпосылки!$E$360\n+V$123*V$103*Предпосылки!$E$361\n+V$123*V$118*Предпосылки!$E$362","v":0},{"$f":"W$123*W$58*Предпосылки!$E$358\n+W$123*W$73*Предпосылки!$E$359\n+W$123*W$88*Предпосылки!$E$360\n+W$123*W$103*Предпосылки!$E$361\n+W$123*W$118*Предпосылки!$E$362","v":0},{"$f":"X$123*X$58*Предпосылки!$E$358\n+X$123*X$73*Предпосылки!$E$359\n+X$123*X$88*Предпосылки!$E$360\n+X$123*X$103*Предпосылки!$E$361\n+X$123*X$118*Предпосылки!$E$362","v":0},{"$f":"Y$123*Y$58*Предпосылки!$E$358\n+Y$123*Y$73*Предпосылки!$E$359\n+Y$123*Y$88*Предпосылки!$E$360\n+Y$123*Y$103*Предпосылки!$E$361\n+Y$123*Y$118*Предпосылки!$E$362","v":0},{"$f":"Z$123*Z$58*Предпосылки!$E$358\n+Z$123*Z$73*Предпосылки!$E$359\n+Z$123*Z$88*Предпосылки!$E$360\n+Z$123*Z$103*Предпосылки!$E$361\n+Z$123*Z$118*Предпосылки!$E$362","v":0},{"$f":"AA$123*AA$58*Предпосылки!$E$358\n+AA$123*AA$73*Предпосылки!$E$359\n+AA$123*AA$88*Предпосылки!$E$360\n+AA$123*AA$103*Предпосылки!$E$361\n+AA$123*AA$118*Предпосылки!$E$362","v":0},{"$f":"AB$123*AB$58*Предпосылки!$E$358\n+AB$123*AB$73*Предпосылки!$E$359\n+AB$123*AB$88*Предпосылки!$E$360\n+AB$123*AB$103*Предпосылки!$E$361\n+AB$123*AB$118*Предпосылки!$E$362","v":0}]
[null,null,"Транспортный налог","тыс. руб.",null,null,null,{"$f":"H209","v":0},{"$f":"I209","v":0},0,0,0,0,0,0,0,0,0,0,0,0,0,0,0,0,0,0,{"$f":"AB209","v":0}]
[null,null,"В местный бюджет","тыс. руб.",null,null,null,{"$f":"SUM(H259:H260)","v":0},{"$f":"SUM(I259:I260)","v":0},0,0,0,0,0,{"$f":"SUM(O259:O260)","v":0},0,0,0,0,0,0,0,0,0,0,0,0,{"$f":"SUM(AB259:AB260)","v":0}]
[null,null,"НДФЛ","тыс. руб.",null,null,null,{"$f":"H$123*H$58*Предпосылки!$F$358\n+H$123*H$73*Предпосылки!$F$359\n+H$123*H$88*Предпосылки!$F$360\n+H$123*H$103*Предпосылки!$F$361\n+H$123*H$118*Предпосылки!$F$362","v":0},{"$f":"I$123*I$58*Предпосылки!$F$358\n+I$123*I$73*Предпосылки!$F$359\n+I$123*I$88*Предпосылки!$F$360\n+I$123*I$103*Предпосылки!$F$361\n+I$123*I$118*Предпосылки!$F$362","v":0},{"$f":"J$123*J$58*Предпосылки!$F$358\n+J$123*J$73*Предпосылки!$F$359\n+J$123*J$88*Предпосылки!$F$360\n+J$123*J$103*Предпосылки!$F$361\n+J$123*J$118*Предпосылки!$F$362","v":0},{"$f":"K$123*K$58*Предпосылки!$F$358\n+K$123*K$73*Предпосылки!$F$359\n+K$123*K$88*Предпосылки!$F$360\n+K$123*K$103*Предпосылки!$F$361\n+K$123*K$118*Предпосылки!$F$362","v":0},{"$f":"L$123*L$58*Предпосылки!$F$358\n+L$123*L$73*Предпосылки!$F$359\n+L$123*L$88*Предпосылки!$F$360\n+L$123*L$103*Предпосылки!$F$361\n+L$123*L$118*Предпосылки!$F$362","v":0},{"$f":"M$123*M$58*Предпосылки!$F$358\n+M$123*M$73*Предпосылки!$F$359\n+M$123*M$88*Предпосылки!$F$360\n+M$123*M$103*Предпосылки!$F$361\n+M$123*M$118*Предпосылки!$F$362","v":0},{"$f":"N$123*N$58*Предпосылки!$F$358\n+N$123*N$73*Предпосылки!$F$359\n+N$123*N$88*Предпосылки!$F$360\n+N$123*N$103*Предпосылки!$F$361\n+N$123*N$118*Предпосылки!$F$362","v":0},{"$f":"O$123*O$58*Предпосылки!$F$358\n+O$123*O$73*Предпосылки!$F$359\n+O$123*O$88*Предпосылки!$F$360\n+O$123*O$103*Предпосылки!$F$361\n+O$123*O$118*Предпосылки!$F$362","v":0},{"$f":"P$123*P$58*Предпосылки!$F$358\n+P$123*P$73*Предпосылки!$F$359\n+P$123*P$88*Предпосылки!$F$360\n+P$123*P$103*Предпосылки!$F$361\n+P$123*P$118*Предпосылки!$F$362","v":0},{"$f":"Q$123*Q$58*Предпосылки!$F$358\n+Q$123*Q$73*Предпосылки!$F$359\n+Q$123*Q$88*Предпосылки!$F$360\n+Q$123*Q$103*Предпосылки!$F$361\n+Q$123*Q$118*Предпосылки!$F$362","v":0},{"$f":"R$123*R$58*Предпосылки!$F$358\n+R$123*R$73*Предпосылки!$F$359\n+R$123*R$88*Предпосылки!$F$360\n+R$123*R$103*Предпосылки!$F$361\n+R$123*R$118*Предпосылки!$F$362","v":0},{"$f":"S$123*S$58*Предпосылки!$F$358\n+S$123*S$73*Предпосылки!$F$359\n+S$123*S$88*Предпосылки!$F$360\n+S$123*S$103*Предпосылки!$F$361\n+S$123*S$118*Предпосылки!$F$362","v":0},{"$f":"T$123*T$58*Предпосылки!$F$358\n+T$123*T$73*Предпосылки!$F$359\n+T$123*T$88*Предпосылки!$F$360\n+T$123*T$103*Предпосылки!$F$361\n+T$123*T$118*Предпосылки!$F$362","v":0},{"$f":"U$123*U$58*Предпосылки!$F$358\n+U$123*U$73*Предпосылки!$F$359\n+U$123*U$88*Предпосылки!$F$360\n+U$123*U$103*Предпосылки!$F$361\n+U$123*U$118*Предпосылки!$F$362","v":0},{"$f":"V$123*V$58*Предпосылки!$F$358\n+V$123*V$73*Предпосылки!$F$359\n+V$123*V$88*Предпосылки!$F$360\n+V$123*V$103*Предпосылки!$F$361\n+V$123*V$118*Предпосылки!$F$362","v":0},{"$f":"W$123*W$58*Предпосылки!$F$358\n+W$123*W$73*Предпосылки!$F$359\n+W$123*W$88*Предпосылки!$F$360\n+W$123*W$103*Предпосылки!$F$361\n+W$123*W$118*Предпосылки!$F$362","v":0},{"$f":"X$123*X$58*Предпосылки!$F$358\n+X$123*X$73*Предпосылки!$F$359\n+X$123*X$88*Предпосылки!$F$360\n+X$123*X$103*Предпосылки!$F$361\n+X$123*X$118*Предпосылки!$F$362","v":0},{"$f":"Y$123*Y$58*Предпосылки!$F$358\n+Y$123*Y$73*Предпосылки!$F$359\n+Y$123*Y$88*Предпосылки!$F$360\n+Y$123*Y$103*Предпосылки!$F$361\n+Y$123*Y$118*Предпосылки!$F$362","v":0},{"$f":"Z$123*Z$58*Предпосылки!$F$358\n+Z$123*Z$73*Предпосылки!$F$359\n+Z$123*Z$88*Предпосылки!$F$360\n+Z$123*Z$103*Предпосылки!$F$361\n+Z$123*Z$118*Предпосылки!$F$362","v":0},{"$f":"AA$123*AA$58*Предпосылки!$F$358\n+AA$123*AA$73*Предпосылки!$F$359\n+AA$123*AA$88*Предпосылки!$F$360\n+AA$123*AA$103*Предпосылки!$F$361\n+AA$123*AA$118*Предпосылки!$F$362","v":0},{"$f":"AB$123*AB$58*Предпосылки!$F$358\n+AB$123*AB$73*Предпосылки!$F$359\n+AB$123*AB$88*Предпосылки!$F$360\n+AB$123*AB$103*Предпосылки!$F$361\n+AB$123*AB$118*Предпосылки!$F$362","v":0}]
[null,null,"Земельный налог","тыс. руб.",null,null,null,{"$f":"H223","v":0},{"$f":"I223","v":0},0,0,0,0,0,0,0,0,0,0,0,0,0,0,0,0,0,0,{"$f":"AB223","v":0}]
[null,null,"Страховые взносы","тыс. руб.","Лист: Операционные затраты",null,null,{"$f":"'Операционные затраты'!H164","v":0},{"$f":"'Операционные затраты'!I164","v":0},{"$f":"'Операционные затраты'!J164","v":0},{"$f":"'Операционные затраты'!K164","v":0},{"$f":"'Операционные затраты'!L164","v":0},{"$f":"'Операционные затраты'!M164","v":0},{"$f":"'Операционные затраты'!N164","v":0},{"$f":"'Операционные затраты'!O164","v":0},{"$f":"'Операционные затраты'!P164","v":0},{"$f":"'Операционные затраты'!Q164","v":0},{"$f":"'Операционные затраты'!R164","v":0},{"$f":"'Операционные затраты'!S164","v":0},{"$f":"'Операционные затраты'!T164","v":0},{"$f":"'Операционные затраты'!U164","v":0},{"$f":"'Операционные затраты'!V164","v":0},{"$f":"'Операционные затраты'!W164","v":0},{"$f":"'Операционные затраты'!X164","v":0},{"$f":"'Операционные затраты'!Y164","v":0},{"$f":"'Операционные затраты'!Z164","v":0},{"$f":"'Операционные затраты'!AA164","v":0},{"$f":"'Операционные затраты'!AB164","v":0}]
[null,null,"Итого:","тыс. руб.",null,null,null,{"$f":"SUM(H249,H253,H258,H261)","v":0},0,0,0,0,0,0,0,0,0,0,0,0,0,0,0,0,0,0,0,{"$f":"SUM(AB249,AB253,AB258,AB261)","v":0}]
[]
[]
[null,"Объем недополученных доходов и расходов бюджетов бюджетной системы РФ"]
[]
[null,null,"Расходы бюджета","тыс. руб.","Лист: Предпосылки",null,null,{"$f":"SUM(Предпосылки!H281:H282)","v":0},{"$f":"SUM(Предпосылки!I281:I282)","v":0},{"$f":"SUM(Предпосылки!J281:J282)","v":0},{"$f":"SUM(Предпосылки!K281:K282)","v":0},{"$f":"SUM(Предпосылки!L281:L282)","v":0},{"$f":"SUM(Предпосылки!M281:M282)","v":0},{"$f":"SUM(Предпосылки!N281:N282)","v":0},{"$f":"SUM(Предпосылки!O281:O282)","v":0},{"$f":"SUM(Предпосылки!P281:P282)","v":0},{"$f":"SUM(Предпосылки!Q281:Q282)","v":0},{"$f":"SUM(Предпосылки!R281:R282)","v":0},{"$f":"SUM(Предпосылки!S281:S282)","v":0},{"$f":"SUM(Предпосылки!T281:T282)","v":0},{"$f":"SUM(Предпосылки!U281:U282)","v":0},{"$f":"SUM(Предпосылки!V281:V282)","v":0},{"$f":"SUM(Предпосылки!W281:W282)","v":0},{"$f":"SUM(Предпосылки!X281:X282)","v":0},{"$f":"SUM(Предпосылки!Y281:Y282)","v":0},{"$f":"SUM(Предпосылки!Z281:Z282)","v":0},{"$f":"SUM(Предпосылки!AA281:AA282)","v":0},{"$f":"SUM(Предпосылки!AB281:AB282)","v":0}]
[null,null,"Недополученные доходы бюджета","тыс. руб.",null,null,null,{"$f":"-(H262-H244)","v":0},0,0,0,0,0,0,0,0,0,0,0,0,0,0,0,0,0,0,0,{"$f":"-(AB262-AB244)","v":0}]
[null,null,"Итого:","тыс. руб.",null,null,null,{"$f":"SUM(H267:H268)","v":0},0,0,0,0,0,0,0,0,0,0,0,0,0,0,0,0,0,0,0,{"$f":"SUM(AB267:AB268)","v":0}]
[null,null,"( в т.ч. накопительным итогом)","тыс. руб.",null,null,null,{"$f":"SUM($H269:H269)","v":0},{"$f":"SUM($H269:I269)","v":0},{"$f":"SUM($H269:J269)","v":0},{"$f":"SUM($H269:K269)","v":0},{"$f":"SUM($H269:L269)","v":0},{"$f":"SUM($H269:M269)","v":0},{"$f":"SUM($H269:N269)","v":0},{"$f":"SUM($H269:O269)","v":0},{"$f":"SUM($H269:P269)","v":0},{"$f":"SUM($H269:Q269)","v":0},{"$f":"SUM($H269:R269)","v":0},{"$f":"SUM($H269:S269)","v":0},{"$f":"SUM($H269:T269)","v":0},{"$f":"SUM($H269:U269)","v":0},{"$f":"SUM($H269:V269)","v":0},{"$f":"SUM($H269:W269)","v":0},{"$f":"SUM($H269:X269)","v":0},{"$f":"SUM($H269:Y269)","v":0},{"$f":"SUM($H269:Z269)","v":0},{"$f":"SUM($H269:AA269)","v":0},{"$f":"SUM($H269:AB269)","v":0}]
[]
[null,null,"Объем капитальных вложений","тыс. руб.","Лист: График инвестирования",null,null,{"$f":"'График инвестирования'!F35","v":0}]
[null,null,"50% от объема капитальных вложений","тыс. руб.",null,null,null,{"$f":"H272*50%","v":0}]
[]
[null,"Расчет срока действия налоговых льгот"]
[]
[null,null,"Соотношение расходов и недополученных доходов бюджета к объему капитальных вложений в соответствии с Методикой приложения 4 к ПП РФ № 1048","%",null,null,null,{"$f":"H270/$H$272","v":{"$error":"#DIV/0!"}},{"$f":"I270/$H$272","v":{"$error":"#DIV/0!"}},{"$error":"#DIV/0!"},{"$error":"#DIV/0!"},{"$error":"#DIV/0!"},{"$error":"#DIV/0!"},{"$error":"#DIV/0!"},{"$error":"#DIV/0!"},{"$error":"#DIV/0!"},{"$error":"#DIV/0!"},{"$error":"#DIV/0!"},{"$error":"#DIV/0!"},{"$error":"#DIV/0!"},{"$error":"#DIV/0!"},{"$error":"#DIV/0!"},{"$error":"#DIV/0!"},{"$error":"#DIV/0!"},{"$error":"#DIV/0!"},{"$error":"#DIV/0!"},{"$error":"#DIV/0!"},{"$f":"AB270/$H$272","v":{"$error":"#DIV/0!"}}]
[null,null,"Действие налоговых льгот ","лет",null,{"$f":"SUM(H278:AA278)","v":1},null,{"$f":"IF(OR(G270>$H$273,H3>Предпосылки!$F$8),0,1)","v":1},{"$f":"IF(OR(H270>$H$273,I3>Предпосылки!$F$8),0,1)","v":0},{"$f":"IF(OR(I270>$H$273,J3>Предпосылки!$F$8),0,1)","v":0},{"$f":"IF(OR(J270>$H$273,K3>Предпосылки!$F$8),0,1)","v":0},{"$f":"IF(OR(K270>$H$273,L3>Предпосылки!$F$8),0,1)","v":0},{"$f":"IF(OR(L270>$H$273,M3>Предпосылки!$F$8),0,1)","v":0},{"$f":"IF(OR(M270>$H$273,N3>Предпосылки!$F$8),0,1)","v":0},{"$f":"IF(OR(N270>$H$273,O3>Предпосылки!$F$8),0,1)","v":0},{"$f":"IF(OR(O270>$H$273,P3>Предпосылки!$F$8),0,1)","v":0},{"$f":"IF(OR(P270>$H$273,Q3>Предпосылки!$F$8),0,1)","v":0},{"$f":"IF(OR(Q270>$H$273,R3>Предпосылки!$F$8),0,1)","v":0},{"$f":"IF(OR(R270>$H$273,S3>Предпосылки!$F$8),0,1)","v":0},{"$f":"IF(OR(S270>$H$273,T3>Предпосылки!$F$8),0,1)","v":0},{"$f":"IF(OR(T270>$H$273,U3>Предпосылки!$F$8),0,1)","v":0},{"$f":"IF(OR(U270>$H$273,V3>Предпосылки!$F$8),0,1)","v":0},{"$f":"IF(OR(V270>$H$273,W3>Предпосылки!$F$8),0,1)","v":0},{"$f":"IF(OR(W270>$H$273,X3>Предпосылки!$F$8),0,1)","v":0},{"$f":"IF(OR(X270>$H$273,Y3>Предпосылки!$F$8),0,1)","v":0},{"$f":"IF(OR(Y270>$H$273,Z3>Предпосылки!$F$8),0,1)","v":0},{"$f":"IF(OR(Z270>$H$273,AA3>Предпосылки!$F$8),0,1)","v":0},{"$f":"IF(OR(AA270>$H$273,AB3>Предпосылки!$F$8),0,1)","v":0}]
[null,null,"Действие льготы по налогу на прибыль","лет",null,{"$f":"SUM(H279:AA279)","v":1},null,{"$f":"IF(OR(G270>$H$273,H3>Предпосылки!$F$8),0,1)","v":1},{"$f":"IF(OR(H270>$H$273,I3>Предпосылки!$F$8),0,1)","v":0},{"$f":"IF(OR(I270>$H$273,J3>Предпосылки!$F$8),0,1)","v":0},{"$f":"IF(OR(J270>$H$273,K3>Предпосылки!$F$8),0,1)","v":0},{"$f":"IF(OR(K270>$H$273,L3>Предпосылки!$F$8),0,1)","v":0},{"$f":"IF(OR(L270>$H$273,M3>Предпосылки!$F$8),0,1)","v":0},{"$f":"IF(OR(M270>$H$273,N3>Предпосылки!$F$8),0,1)","v":0},{"$f":"IF(OR(N270>$H$273,O3>Предпосылки!$F$8),0,1)","v":0},{"$f":"IF(OR(O270>$H$273,P3>Предпосылки!$F$8),0,1)","v":0},{"$f":"IF(OR(P270>$H$273,Q3>Предпосылки!$F$8),0,1)","v":0},{"$f":"IF(OR(Q270>$H$273,R3>Предпосылки!$F$8),0,1)","v":0},{"$f":"IF(OR(R270>$H$273,S3>Предпосылки!$F$8),0,1)","v":0},{"$f":"IF(OR(S270>$H$273,T3>Предпосылки!$F$8),0,1)","v":0},{"$f":"IF(OR(T270>$H$273,U3>Предпосылки!$F$8),0,1)","v":0},{"$f":"IF(OR(U270>$H$273,V3>Предпосылки!$F$8),0,1)","v":0},{"$f":"IF(OR(V270>$H$273,W3>Предпосылки!$F$8),0,1)","v":0},{"$f":"IF(OR(W270>$H$273,X3>Предпосылки!$F$8),0,1)","v":0},{"$f":"IF(OR(X270>$H$273,Y3>Предпосылки!$F$8),0,1)","v":0},{"$f":"IF(OR(Y270>$H$273,Z3>Предпосылки!$F$8),0,1)","v":0},{"$f":"IF(OR(Z270>$H$273,AA3>Предпосылки!$F$8),0,1)","v":0},{"$f":"IF(OR(AA270>$H$273,AB3>Предпосылки!$F$8),0,1)","v":0}]
[null,null,"Действие льготы по страховым взносам","лет",null,{"$f":"SUM(H280:AA280)","v":1},null,{"$f":"IF(OR(G270>$H$272,\nH3>Предпосылки!$F$8,\nSUM($G$280:G280>=7)),\n0,1)","v":1},{"$f":"IF(OR(H270>$H$272,\nI3>Предпосылки!$F$8,\nSUM($G$280:H280)>=7),\n0,1)","v":0},{"$f":"IF(OR(I270>$H$272,\nJ3>Предпосылки!$F$8,\nSUM($G$280:I280)>=7),\n0,1)","v":0},{"$f":"IF(OR(J270>$H$272,\nK3>Предпосылки!$F$8,\nSUM($G$280:J280)>=7),\n0,1)","v":0},{"$f":"IF(OR(K270>$H$272,\nL3>Предпосылки!$F$8,\nSUM($G$280:K280)>=7),\n0,1)","v":0},{"$f":"IF(OR(L270>$H$272,\nM3>Предпосылки!$F$8,\nSUM($G$280:L280)>=7),\n0,1)","v":0},{"$f":"IF(OR(M270>$H$272,\nN3>Предпосылки!$F$8,\nSUM($G$280:M280)>=7),\n0,1)","v":0},{"$f":"IF(OR(N270>$H$272,\nO3>Предпосылки!$F$8,\nSUM($G$280:N280)>=7),\n0,1)","v":0},{"$f":"IF(OR(O270>$H$272,\nP3>Предпосылки!$F$8,\nSUM($G$280:O280)>=7),\n0,1)","v":0},{"$f":"IF(OR(P270>$H$272,\nQ3>Предпосылки!$F$8,\nSUM($G$280:P280)>=7),\n0,1)","v":0},{"$f":"IF(OR(Q270>$H$272,\nR3>Предпосылки!$F$8,\nSUM($G$280:Q280)>=7),\n0,1)","v":0},{"$f":"IF(OR(R270>$H$272,\nS3>Предпосылки!$F$8,\nSUM($G$280:R280)>=7),\n0,1)","v":0},{"$f":"IF(OR(S270>$H$272,\nT3>Предпосылки!$F$8,\nSUM($G$280:S280)>=7),\n0,1)","v":0},{"$f":"IF(OR(T270>$H$272,\nU3>Предпосылки!$F$8,\nSUM($G$280:T280)>=7),\n0,1)","v":0},{"$f":"IF(OR(U270>$H$272,\nV3>Предпосылки!$F$8,\nSUM($G$280:U280)>=7),\n0,1)","v":0},{"$f":"IF(OR(V270>$H$272,\nW3>Предпосылки!$F$8,\nSUM($G$280:V280)>=7),\n0,1)","v":0},{"$f":"IF(OR(W270>$H$272,\nX3>Предпосылки!$F$8,\nSUM($G$280:W280)>=7),\n0,1)","v":0},{"$f":"IF(OR(X270>$H$272,\nY3>Предпосылки!$F$8,\nSUM($G$280:X280)>=7),\n0,1)","v":0},{"$f":"IF(OR(Y270>$H$272,\nZ3>Предпосылки!$F$8,\nSUM($G$280:Y280)>=7),\n0,1)","v":0},{"$f":"IF(OR(Z270>$H$272,\nAA3>Предпосылки!$F$8,\nSUM($G$280:Z280)>=7),\n0,1)","v":0},{"$f":"IF(OR(AA270>$H$272,\nAB3>Предпосылки!$F$8,\nSUM($G$280:AA280)>=7),\n0,1)","v":0}]
[null,null,"Действие прочих налоговых льгот","лет",null,{"$f":"SUM(H281:AA281)","v":1},null,{"$f":"IF(OR(G270>$H$272,H3>Предпосылки!$F$8),0,1)","v":1},{"$f":"IF(OR(H270>$H$272,I3>Предпосылки!$F$8),0,1)","v":0},{"$f":"IF(OR(I270>$H$272,J3>Предпосылки!$F$8),0,1)","v":0},{"$f":"IF(OR(J270>$H$272,K3>Предпосылки!$F$8),0,1)","v":0},{"$f":"IF(OR(K270>$H$272,L3>Предпосылки!$F$8),0,1)","v":0},{"$f":"IF(OR(L270>$H$272,M3>Предпосылки!$F$8),0,1)","v":0},{"$f":"IF(OR(M270>$H$272,N3>Предпосылки!$F$8),0,1)","v":0},{"$f":"IF(OR(N270>$H$272,O3>Предпосылки!$F$8),0,1)","v":0},{"$f":"IF(OR(O270>$H$272,P3>Предпосылки!$F$8),0,1)","v":0},{"$f":"IF(OR(P270>$H$272,Q3>Предпосылки!$F$8),0,1)","v":0},{"$f":"IF(OR(Q270>$H$272,R3>Предпосылки!$F$8),0,1)","v":0},{"$f":"IF(OR(R270>$H$272,S3>Предпосылки!$F$8),0,1)","v":0},{"$f":"IF(OR(S270>$H$272,T3>Предпосылки!$F$8),0,1)","v":0},{"$f":"IF(OR(T270>$H$272,U3>Предпосылки!$F$8),0,1)","v":0},{"$f":"IF(OR(U270>$H$272,V3>Предпосылки!$F$8),0,1)","v":0},{"$f":"IF(OR(V270>$H$272,W3>Предпосылки!$F$8),0,1)","v":0},{"$f":"IF(OR(W270>$H$272,X3>Предпосылки!$F$8),0,1)","v":0},{"$f":"IF(OR(X270>$H$272,Y3>Предпосылки!$F$8),0,1)","v":0},{"$f":"IF(OR(Y270>$H$272,Z3>Предпосылки!$F$8),0,1)","v":0},{"$f":"IF(OR(Z270>$H$272,AA3>Предпосылки!$F$8),0,1)","v":0},{"$f":"IF(OR(AA270>$H$272,AB3>Предпосылки!$F$8),0,1)","v":0}]
[]
[null,"Поквартальный расчет действия налоговых льгот (упрощенно):"]
[null,null,"Номер квартала",null,null,null,null,{"$f":"H2","v":2026},2027,2028,2029,2030,2031,2032,2033,2034,2035,2036,2037,2038,2039,2040,2041,2042,2043,2044,2045,{"$f":"AB2","v":2046}]
[null,null,1,null,null,null,null,{"$f":"($C285*H$269/Количество_кварталов  + G$270)/$H$272","v":{"$error":"#DIV/0!"}},{"$error":"#DIV/0!"},{"$error":"#DIV/0!"},{"$error":"#DIV/0!"},{"$error":"#DIV/0!"},{"$error":"#DIV/0!"},{"$error":"#DIV/0!"},{"$error":"#DIV/0!"},{"$error":"#DIV/0!"},{"$error":"#DIV/0!"},{"$error":"#DIV/0!"},{"$error":"#DIV/0!"},{"$error":"#DIV/0!"},{"$error":"#DIV/0!"},{"$error":"#DIV/0!"},{"$error":"#DIV/0!"},{"$error":"#DIV/0!"},{"$error":"#DIV/0!"},{"$error":"#DIV/0!"},{"$error":"#DIV/0!"},{"$error":"#DIV/0!"}]
[null,null,2,null,null,null,null,{"$f":"($C286*H$269/Количество_кварталов  + G$270)/$H$272","v":{"$error":"#DIV/0!"}},{"$error":"#DIV/0!"},{"$error":"#DIV/0!"},{"$error":"#DIV/0!"},{"$error":"#DIV/0!"},{"$error":"#DIV/0!"},{"$error":"#DIV/0!"},{"$error":"#DIV/0!"},{"$error":"#DIV/0!"},{"$error":"#DIV/0!"},{"$error":"#DIV/0!"},{"$error":"#DIV/0!"},{"$error":"#DIV/0!"},{"$error":"#DIV/0!"},{"$error":"#DIV/0!"},{"$error":"#DIV/0!"},{"$error":"#DIV/0!"},{"$error":"#DIV/0!"},{"$error":"#DIV/0!"},{"$error":"#DIV/0!"},{"$error":"#DIV/0!"}]
[null,null,3,null,null,null,null,{"$f":"($C287*H$269/Количество_кварталов  + G$270)/$H$272","v":{"$error":"#DIV/0!"}},{"$error":"#DIV/0!"},{"$error":"#DIV/0!"},{"$error":"#DIV/0!"},{"$error":"#DIV/0!"},{"$error":"#DIV/0!"},{"$error":"#DIV/0!"},{"$error":"#DIV/0!"},{"$error":"#DIV/0!"},{"$error":"#DIV/0!"},{"$error":"#DIV/0!"},{"$error":"#DIV/0!"},{"$error":"#DIV/0!"},{"$error":"#DIV/0!"},{"$error":"#DIV/0!"},{"$error":"#DIV/0!"},{"$error":"#DIV/0!"},{"$error":"#DIV/0!"},{"$error":"#DIV/0!"},{"$error":"#DIV/0!"},{"$error":"#DIV/0!"}]
[null,null,4,null,null,null,null,{"$f":"($C288*H$269/Количество_кварталов  + G$270)/$H$272","v":{"$error":"#DIV/0!"}},{"$error":"#DIV/0!"},{"$error":"#DIV/0!"},{"$error":"#DIV/0!"},{"$error":"#DIV/0!"},{"$error":"#DIV/0!"},{"$error":"#DIV/0!"},{"$error":"#DIV/0!"},{"$error":"#DIV/0!"},{"$error":"#DIV/0!"},{"$error":"#DIV/0!"},{"$error":"#DIV/0!"},{"$error":"#DIV/0!"},{"$error":"#DIV/0!"},{"$error":"#DIV/0!"},{"$error":"#DIV/0!"},{"$error":"#DIV/0!"},{"$error":"#DIV/0!"},{"$error":"#DIV/0!"},{"$error":"#DIV/0!"},{"$error":"#DIV/0!"}]
[]
[null,null,"Примечание:"]
[null,null,"Во избежание циклических ссылок в финансовой модели необходимо вручную завести льготные налоговые ставки в строки 324-327 листа \" Предпосылки\" в соответствии с сроком действия налоговых льгот"]
[]
[null,"Действие налоговых льгот по отдельным налогам"]
[]
[null,null,"Налог",null,"Льгота запрашивается?","Налог уплачивается?",null,{"$f":"H284","v":2026},{"$f":"I284","v":2027},2028,2029,2030,2031,2032,2033,2034,2035,2036,2037,2038,2039,2040,2041,2042,2043,2044,2045,{"$f":"AB284","v":2046}]
[null,null,{"$f":"Предпосылки!C287","v":"Налог на прибыль"},null,{"$f":"IF(Предпосылки!F287=1,\"Да\",\"Нет\")","v":"Нет"},"Да",null,{"$f":"IF($E296=\"Нет\",0,\nIF(Предпосылки!H322<SUM(Предпосылки!H297:H298),1,0))","v":0},{"$f":"IF($E296=\"Нет\",0,\nIF(Предпосылки!I322<SUM(Предпосылки!I297:I298),1,0))","v":0},{"$f":"IF($E296=\"Нет\",0,\nIF(Предпосылки!J322<SUM(Предпосылки!J297:J298),1,0))","v":0},{"$f":"IF($E296=\"Нет\",0,\nIF(Предпосылки!K322<SUM(Предпосылки!K297:K298),1,0))","v":0},{"$f":"IF($E296=\"Нет\",0,\nIF(Предпосылки!L322<SUM(Предпосылки!L297:L298),1,0))","v":0},{"$f":"IF($E296=\"Нет\",0,\nIF(Предпосылки!M322<SUM(Предпосылки!M297:M298),1,0))","v":0},{"$f":"IF($E296=\"Нет\",0,\nIF(Предпосылки!N322<SUM(Предпосылки!N297:N298),1,0))","v":0},{"$f":"IF($E296=\"Нет\",0,\nIF(Предпосылки!O322<SUM(Предпосылки!O297:O298),1,0))","v":0},{"$f":"IF($E296=\"Нет\",0,\nIF(Предпосылки!P322<SUM(Предпосылки!P297:P298),1,0))","v":0},{"$f":"IF($E296=\"Нет\",0,\nIF(Предпосылки!Q322<SUM(Предпосылки!Q297:Q298),1,0))","v":0},{"$f":"IF($E296=\"Нет\",0,\nIF(Предпосылки!R322<SUM(Предпосылки!R297:R298),1,0))","v":0},{"$f":"IF($E296=\"Нет\",0,\nIF(Предпосылки!S322<SUM(Предпосылки!S297:S298),1,0))","v":0},{"$f":"IF($E296=\"Нет\",0,\nIF(Предпосылки!T322<SUM(Предпосылки!T297:T298),1,0))","v":0},{"$f":"IF($E296=\"Нет\",0,\nIF(Предпосылки!U322<SUM(Предпосылки!U297:U298),1,0))","v":0},{"$f":"IF($E296=\"Нет\",0,\nIF(Предпосылки!V322<SUM(Предпосылки!V297:V298),1,0))","v":0},{"$f":"IF($E296=\"Нет\",0,\nIF(Предпосылки!W322<SUM(Предпосылки!W297:W298),1,0))","v":0},{"$f":"IF($E296=\"Нет\",0,\nIF(Предпосылки!X322<SUM(Предпосылки!X297:X298),1,0))","v":0},{"$f":"IF($E296=\"Нет\",0,\nIF(Предпосылки!Y322<SUM(Предпосылки!Y297:Y298),1,0))","v":0},{"$f":"IF($E296=\"Нет\",0,\nIF(Предпосылки!Z322<SUM(Предпосылки!Z297:Z298),1,0))","v":0},{"$f":"IF($E296=\"Нет\",0,\nIF(Предпосылки!AA322<SUM(Предпосылки!AA297:AA298),1,0))","v":0},{"$f":"IF($E296=\"Нет\",0,\nIF(Предпосылки!AB322<SUM(Предпосылки!AB297:AB298),1,0))","v":0}]
[null,null,{"$f":"Предпосылки!C288","v":"Налог на имущество"},null,{"$f":"IF(Предпосылки!F288=1,\"Да\",\"Нет\")","v":"Нет"},{"$f":"IF(SUM(H255:AA255)<0,\"Да\",\"Нет\")","v":"Нет"},null,{"$f":"IF($E297=\"Нет\",0,\nIF($F297=\"Нет\",0,\nIF(Предпосылки!H325<Предпосылки!$F$299,1,0)))","v":0},{"$f":"IF($E297=\"Нет\",0,\nIF($F297=\"Нет\",0,\nIF(Предпосылки!I325<Предпосылки!$F$299,1,0)))","v":0},{"$f":"IF($E297=\"Нет\",0,\nIF($F297=\"Нет\",0,\nIF(Предпосылки!J325<Предпосылки!$F$299,1,0)))","v":0},{"$f":"IF($E297=\"Нет\",0,\nIF($F297=\"Нет\",0,\nIF(Предпосылки!K325<Предпосылки!$F$299,1,0)))","v":0},{"$f":"IF($E297=\"Нет\",0,\nIF($F297=\"Нет\",0,\nIF(Предпосылки!L325<Предпосылки!$F$299,1,0)))","v":0},{"$f":"IF($E297=\"Нет\",0,\nIF($F297=\"Нет\",0,\nIF(Предпосылки!M325<Предпосылки!$F$299,1,0)))","v":0},{"$f":"IF($E297=\"Нет\",0,\nIF($F297=\"Нет\",0,\nIF(Предпосылки!N325<Предпосылки!$F$299,1,0)))","v":0},{"$f":"IF($E297=\"Нет\",0,\nIF($F297=\"Нет\",0,\nIF(Предпосылки!O325<Предпосылки!$F$299,1,0)))","v":0},{"$f":"IF($E297=\"Нет\",0,\nIF($F297=\"Нет\",0,\nIF(Предпосылки!P325<Предпосылки!$F$299,1,0)))","v":0},{"$f":"IF($E297=\"Нет\",0,\nIF($F297=\"Нет\",0,\nIF(Предпосылки!Q325<Предпосылки!$F$299,1,0)))","v":0},{"$f":"IF($E297=\"Нет\",0,\nIF($F297=\"Нет\",0,\nIF(Предпосылки!R325<Предпосылки!$F$299,1,0)))","v":0},{"$f":"IF($E297=\"Нет\",0,\nIF($F297=\"Нет\",0,\nIF(Предпосылки!S325<Предпосылки!$F$299,1,0)))","v":0},{"$f":"IF($E297=\"Нет\",0,\nIF($F297=\"Нет\",0,\nIF(Предпосылки!T325<Предпосылки!$F$299,1,0)))","v":0},{"$f":"IF($E297=\"Нет\",0,\nIF($F297=\"Нет\",0,\nIF(Предпосылки!U325<Предпосылки!$F$299,1,0)))","v":0},{"$f":"IF($E297=\"Нет\",0,\nIF($F297=\"Нет\",0,\nIF(Предпосылки!V325<Предпосылки!$F$299,1,0)))","v":0},{"$f":"IF($E297=\"Нет\",0,\nIF($F297=\"Нет\",0,\nIF(Предпосылки!W325<Предпосылки!$F$299,1,0)))","v":0},{"$f":"IF($E297=\"Нет\",0,\nIF($F297=\"Нет\",0,\nIF(Предпосылки!X325<Предпосылки!$F$299,1,0)))","v":0},{"$f":"IF($E297=\"Нет\",0,\nIF($F297=\"Нет\",0,\nIF(Предпосылки!Y325<Предпосылки!$F$299,1,0)))","v":0},{"$f":"IF($E297=\"Нет\",0,\nIF($F297=\"Нет\",0,\nIF(Предпосылки!Z325<Предпосылки!$F$299,1,0)))","v":0},{"$f":"IF($E297=\"Нет\",0,\nIF($F297=\"Нет\",0,\nIF(Предпосылки!AA325<Предпосылки!$F$299,1,0)))","v":0},{"$f":"IF($E297=\"Нет\",0,\nIF($F297=\"Нет\",0,\nIF(Предпосылки!AB325<Предпосылки!$F$299,1,0)))","v":0}]
[null,null,{"$f":"Предпосылки!C289","v":"Транспортный налог"},null,{"$f":"IF(Предпосылки!F289=1,\"Да\",\"Нет\")","v":"Нет"},{"$f":"IF(SUM(H257:AA257)<0,\"Да\",\"Нет\")","v":"Нет"},null,{"$f":"IF($E298=\"Нет\",0,\nIF($F298=\"Нет\",0,\nIF(Предпосылки!H326<Предпосылки!$F$313,1,0)))","v":0},{"$f":"IF($E298=\"Нет\",0,\nIF($F298=\"Нет\",0,\nIF(Предпосылки!I326<Предпосылки!$F$313,1,0)))","v":0},{"$f":"IF($E298=\"Нет\",0,\nIF($F298=\"Нет\",0,\nIF(Предпосылки!J326<Предпосылки!$F$313,1,0)))","v":0},{"$f":"IF($E298=\"Нет\",0,\nIF($F298=\"Нет\",0,\nIF(Предпосылки!K326<Предпосылки!$F$313,1,0)))","v":0},{"$f":"IF($E298=\"Нет\",0,\nIF($F298=\"Нет\",0,\nIF(Предпосылки!L326<Предпосылки!$F$313,1,0)))","v":0},{"$f":"IF($E298=\"Нет\",0,\nIF($F298=\"Нет\",0,\nIF(Предпосылки!M326<Предпосылки!$F$313,1,0)))","v":0},{"$f":"IF($E298=\"Нет\",0,\nIF($F298=\"Нет\",0,\nIF(Предпосылки!N326<Предпосылки!$F$313,1,0)))","v":0},{"$f":"IF($E298=\"Нет\",0,\nIF($F298=\"Нет\",0,\nIF(Предпосылки!O326<Предпосылки!$F$313,1,0)))","v":0},{"$f":"IF($E298=\"Нет\",0,\nIF($F298=\"Нет\",0,\nIF(Предпосылки!P326<Предпосылки!$F$313,1,0)))","v":0},{"$f":"IF($E298=\"Нет\",0,\nIF($F298=\"Нет\",0,\nIF(Предпосылки!Q326<Предпосылки!$F$313,1,0)))","v":0},{"$f":"IF($E298=\"Нет\",0,\nIF($F298=\"Нет\",0,\nIF(Предпосылки!R326<Предпосылки!$F$313,1,0)))","v":0},{"$f":"IF($E298=\"Нет\",0,\nIF($F298=\"Нет\",0,\nIF(Предпосылки!S326<Предпосылки!$F$313,1,0)))","v":0},{"$f":"IF($E298=\"Нет\",0,\nIF($F298=\"Нет\",0,\nIF(Предпосылки!T326<Предпосылки!$F$313,1,0)))","v":0},{"$f":"IF($E298=\"Нет\",0,\nIF($F298=\"Нет\",0,\nIF(Предпосылки!U326<Предпосылки!$F$313,1,0)))","v":0},{"$f":"IF($E298=\"Нет\",0,\nIF($F298=\"Нет\",0,\nIF(Предпосылки!V326<Предпосылки!$F$313,1,0)))","v":0},{"$f":"IF($E298=\"Нет\",0,\nIF($F298=\"Нет\",0,\nIF(Предпосылки!W326<Предпосылки!$F$313,1,0)))","v":0},{"$f":"IF($E298=\"Нет\",0,\nIF($F298=\"Нет\",0,\nIF(Предпосылки!X326<Предпосылки!$F$313,1,0)))","v":0},{"$f":"IF($E298=\"Нет\",0,\nIF($F298=\"Нет\",0,\nIF(Предпосылки!Y326<Предпосылки!$F$313,1,0)))","v":0},{"$f":"IF($E298=\"Нет\",0,\nIF($F298=\"Нет\",0,\nIF(Предпосылки!Z326<Предпосылки!$F$313,1,0)))","v":0},{"$f":"IF($E298=\"Нет\",0,\nIF($F298=\"Нет\",0,\nIF(Предпосылки!AA326<Предпосылки!$F$313,1,0)))","v":0},{"$f":"IF($E298=\"Нет\",0,\nIF($F298=\"Нет\",0,\nIF(Предпосылки!AB326<Предпосылки!$F$313,1,0)))","v":0}]
[null,null,{"$f":"Предпосылки!C290","v":"Земельный налог"},null,{"$f":"IF(Предпосылки!F290=1,\"Да\",\"Нет\")","v":"Нет"},{"$f":"IF(SUM(H260:AA260)<0,\"Да\",\"Нет\")","v":"Нет"},null,{"$f":"IF($E299=\"Нет\",0,\nIF($F299=\"Нет\",0,\nIF(Предпосылки!H327<Предпосылки!$F$300,1,0)))","v":0},{"$f":"IF($E299=\"Нет\",0,\nIF($F299=\"Нет\",0,\nIF(Предпосылки!I327<Предпосылки!$F$300,1,0)))","v":0},{"$f":"IF($E299=\"Нет\",0,\nIF($F299=\"Нет\",0,\nIF(Предпосылки!J327<Предпосылки!$F$300,1,0)))","v":0},{"$f":"IF($E299=\"Нет\",0,\nIF($F299=\"Нет\",0,\nIF(Предпосылки!K327<Предпосылки!$F$300,1,0)))","v":0},{"$f":"IF($E299=\"Нет\",0,\nIF($F299=\"Нет\",0,\nIF(Предпосылки!L327<Предпосылки!$F$300,1,0)))","v":0},{"$f":"IF($E299=\"Нет\",0,\nIF($F299=\"Нет\",0,\nIF(Предпосылки!M327<Предпосылки!$F$300,1,0)))","v":0},{"$f":"IF($E299=\"Нет\",0,\nIF($F299=\"Нет\",0,\nIF(Предпосылки!N327<Предпосылки!$F$300,1,0)))","v":0},{"$f":"IF($E299=\"Нет\",0,\nIF($F299=\"Нет\",0,\nIF(Предпосылки!O327<Предпосылки!$F$300,1,0)))","v":0},{"$f":"IF($E299=\"Нет\",0,\nIF($F299=\"Нет\",0,\nIF(Предпосылки!P327<Предпосылки!$F$300,1,0)))","v":0},{"$f":"IF($E299=\"Нет\",0,\nIF($F299=\"Нет\",0,\nIF(Предпосылки!Q327<Предпосылки!$F$300,1,0)))","v":0},{"$f":"IF($E299=\"Нет\",0,\nIF($F299=\"Нет\",0,\nIF(Предпосылки!R327<Предпосылки!$F$300,1,0)))","v":0},{"$f":"IF($E299=\"Нет\",0,\nIF($F299=\"Нет\",0,\nIF(Предпосылки!S327<Предпосылки!$F$300,1,0)))","v":0},{"$f":"IF($E299=\"Нет\",0,\nIF($F299=\"Нет\",0,\nIF(Предпосылки!T327<Предпосылки!$F$300,1,0)))","v":0},{"$f":"IF($E299=\"Нет\",0,\nIF($F299=\"Нет\",0,\nIF(Предпосылки!U327<Предпосылки!$F$300,1,0)))","v":0},{"$f":"IF($E299=\"Нет\",0,\nIF($F299=\"Нет\",0,\nIF(Предпосылки!V327<Предпосылки!$F$300,1,0)))","v":0},{"$f":"IF($E299=\"Нет\",0,\nIF($F299=\"Нет\",0,\nIF(Предпосылки!W327<Предпосылки!$F$300,1,0)))","v":0},{"$f":"IF($E299=\"Нет\",0,\nIF($F299=\"Нет\",0,\nIF(Предпосылки!X327<Предпосылки!$F$300,1,0)))","v":0},{"$f":"IF($E299=\"Нет\",0,\nIF($F299=\"Нет\",0,\nIF(Предпосылки!Y327<Предпосылки!$F$300,1,0)))","v":0},{"$f":"IF($E299=\"Нет\",0,\nIF($F299=\"Нет\",0,\nIF(Предпосылки!Z327<Предпосылки!$F$300,1,0)))","v":0},{"$f":"IF($E299=\"Нет\",0,\nIF($F299=\"Нет\",0,\nIF(Предпосылки!AA327<Предпосылки!$F$300,1,0)))","v":0},{"$f":"IF($E299=\"Нет\",0,\nIF($F299=\"Нет\",0,\nIF(Предпосылки!AB327<Предпосылки!$F$300,1,0)))","v":0}]
[null,null,{"$f":"Предпосылки!C291","v":"Страховые взносы"},null,{"$f":"IF(Предпосылки!F291=1,\"Да\",\"Нет\")","v":"Нет"},"Да",null,{"$f":"IF($E300=\"Нет\",0,\nIF($F300=\"Нет\",0,\nIF(Предпосылки!H351<SUM(Предпосылки!H340:H347),1,0)))","v":0},{"$f":"IF($E300=\"Нет\",0,\nIF($F300=\"Нет\",0,\nIF(Предпосылки!I351<SUM(Предпосылки!I340:I347),1,0)))","v":0},{"$f":"IF($E300=\"Нет\",0,\nIF($F300=\"Нет\",0,\nIF(Предпосылки!J351<SUM(Предпосылки!J340:J347),1,0)))","v":0},{"$f":"IF($E300=\"Нет\",0,\nIF($F300=\"Нет\",0,\nIF(Предпосылки!K351<SUM(Предпосылки!K340:K347),1,0)))","v":0},{"$f":"IF($E300=\"Нет\",0,\nIF($F300=\"Нет\",0,\nIF(Предпосылки!L351<SUM(Предпосылки!L340:L347),1,0)))","v":0},{"$f":"IF($E300=\"Нет\",0,\nIF($F300=\"Нет\",0,\nIF(Предпосылки!M351<SUM(Предпосылки!M340:M347),1,0)))","v":0},{"$f":"IF($E300=\"Нет\",0,\nIF($F300=\"Нет\",0,\nIF(Предпосылки!N351<SUM(Предпосылки!N340:N347),1,0)))","v":0},{"$f":"IF($E300=\"Нет\",0,\nIF($F300=\"Нет\",0,\nIF(Предпосылки!O351<SUM(Предпосылки!O340:O347),1,0)))","v":0},{"$f":"IF($E300=\"Нет\",0,\nIF($F300=\"Нет\",0,\nIF(Предпосылки!P351<SUM(Предпосылки!P340:P347),1,0)))","v":0},{"$f":"IF($E300=\"Нет\",0,\nIF($F300=\"Нет\",0,\nIF(Предпосылки!Q351<SUM(Предпосылки!Q340:Q347),1,0)))","v":0},{"$f":"IF($E300=\"Нет\",0,\nIF($F300=\"Нет\",0,\nIF(Предпосылки!R351<SUM(Предпосылки!R340:R347),1,0)))","v":0},{"$f":"IF($E300=\"Нет\",0,\nIF($F300=\"Нет\",0,\nIF(Предпосылки!S351<SUM(Предпосылки!S340:S347),1,0)))","v":0},{"$f":"IF($E300=\"Нет\",0,\nIF($F300=\"Нет\",0,\nIF(Предпосылки!T351<SUM(Предпосылки!T340:T347),1,0)))","v":0},{"$f":"IF($E300=\"Нет\",0,\nIF($F300=\"Нет\",0,\nIF(Предпосылки!U351<SUM(Предпосылки!U340:U347),1,0)))","v":0},{"$f":"IF($E300=\"Нет\",0,\nIF($F300=\"Нет\",0,\nIF(Предпосылки!V351<SUM(Предпосылки!V340:V347),1,0)))","v":0},{"$f":"IF($E300=\"Нет\",0,\nIF($F300=\"Нет\",0,\nIF(Предпосылки!W351<SUM(Предпосылки!W340:W347),1,0)))","v":0},{"$f":"IF($E300=\"Нет\",0,\nIF($F300=\"Нет\",0,\nIF(Предпосылки!X351<SUM(Предпосылки!X340:X347),1,0)))","v":0},{"$f":"IF($E300=\"Нет\",0,\nIF($F300=\"Нет\",0,\nIF(Предпосылки!Y351<SUM(Предпосылки!Y340:Y347),1,0)))","v":0},{"$f":"IF($E300=\"Нет\",0,\nIF($F300=\"Нет\",0,\nIF(Предпосылки!Z351<SUM(Предпосылки!Z340:Z347),1,0)))","v":0},{"$f":"IF($E300=\"Нет\",0,\nIF($F300=\"Нет\",0,\nIF(Предпосылки!AA351<SUM(Предпосылки!AA340:AA347),1,0)))","v":0},{"$f":"IF($E300=\"Нет\",0,\nIF($F300=\"Нет\",0,\nIF(Предпосылки!AB351<SUM(Предпосылки!AB340:AB347),1,0)))","v":0}]
[null,null,"ИТОГО действие льгот",null,null,null,null,{"$f":"IF(SUM(H296:H300)>0,1,0)","v":0},{"$f":"IF(SUM(I296:I300)>0,1,0)","v":0},0,{"$f":"IF(SUM(K296:K300)>0,1,0)","v":0},0,0,0,0,0,0,0,0,0,0,0,0,0,0,0,0,{"$f":"IF(SUM(AB296:AB300)>0,1,0)","v":0}]

{"sheet":"Финансирование","index":16,"n_rows":122,"n_cols":28,"rows_kept":122,"cut":false,"hidden":false,"merged":[[0,11,0,16],[1,2,2,2],[1,3,2,3],[1,4,2,4],[1,5,2,5],[0,9,0,10],[1,6,2,6]]}
[null,null,null,null,{"$f":"\"Лист:  \" & RIGHT(CELL(\"filename\",A1),LEN(CELL(\"filename\",A1))-SEARCH(\"]\",CELL(\"filename\",A1)))","v":"Лист:  Финансирование"},null,null,null,null,"Проверка:",null,{"$f":"IF(AND(F24=\"Верно\",F40=\"Верно\",F91=\"Верно\",F105=\"Верно\"), \"Верно\", \"Имеются некорректные данные\")","v":"Верно"}]
[null,null,"Параметр","Ед. изм.","Источник",null,"Текущее значение",{"$f":"Предпосылки!H2","v":2026},{"$f":"Предпосылки!I2","v":2027},{"$f":"Предпосылки!J2","v":2028},{"$f":"Предпосылки!K2","v":2029},{"$f":"Предпосылки!L2","v":2030},{"$f":"Предпосылки!M2","v":2031},{"$f":"Предпосылки!N2","v":2032},{"$f":"Предпосылки!O2","v":2033},{"$f":"Предпосылки!P2","v":2034},{"$f":"Предпосылки!Q2","v":2035},{"$f":"Предпосылки!R2","v":2036},{"$f":"Предпосылки!S2","v":2037},{"$f":"Предпосылки!T2","v":2038},{"$f":"Предпосылки!U2","v":2039},{"$f":"Предпосылки!V2","v":2040},{"$f":"Предпосылки!W2","v":2041},{"$f":"Предпосылки!X2","v":2042},{"$f":"Предпосылки!Y2","v":2043},{"$f":"Предпосылки!Z2","v":2044},{"$f":"Предпосылки!AA2","v":2045},{"$f":"Предпосылки!AB2","v":2046}]
[null,null,null,null,null,null,null,1,2,3,4,5,6,7,8,9,10,11,12,13,14,15,16,17,18,19,20,21]
[]
[null,null,"Дней в отчетном периоде","дн","Лист: Предпосылки",null,null,{"$f":"Предпосылки!H12","v":365},{"$f":"Предпосылки!I12","v":365},{"$f":"Предпосылки!J12","v":366},{"$f":"Предпосылки!K12","v":365},{"$f":"Предпосылки!L12","v":365},{"$f":"Предпосылки!M12","v":365},{"$f":"Предпосылки!N12","v":366},{"$f":"Предпосылки!O12","v":365},{"$f":"Предпосылки!P12","v":365},{"$f":"Предпосылки!Q12","v":365},{"$f":"Предпосылки!R12","v":366},{"$f":"Предпосылки!S12","v":365},{"$f":"Предпосылки!T12","v":365},{"$f":"Предпосылки!U12","v":365},{"$f":"Предпосылки!V12","v":366},{"$f":"Предпосылки!W12","v":365},{"$f":"Предпосылки!X12","v":365},{"$f":"Предпосылки!Y12","v":365},{"$f":"Предпосылки!Z12","v":366},{"$f":"Предпосылки!AA12","v":365},{"$f":"Предпосылки!AB12","v":365}]
[]
[null,"Долгосрочные кредиты и займы"]
[]
[]
[null,{"$f":"Предпосылки!C257","v":"  №"}]
[null,null,"Срок","мес."]
[null,null,"Общая сумма займа по договору","тыс. руб."]
[null,null,"Сумма займа в рамках СПИК","тыс. руб."]
[null,null,"Дата получения займа","х"]
[null,null,"Дата погашения займа","х",null,{"$f":"EDATE(F14,F11)","v":"00:00:00"}]
[null,null,"Процентная ставка по займу","%","Лист: Предпосылки",null,null,{"$f":"$F$16","v":0},{"$f":"$F$16","v":0},{"$f":"$F$16","v":0},0,0,0,0,0,0,0,0,0,0,0,0,0,0,0,0,0,0]
[]
[null,null,"Задолженность на начало периода","тыс. руб.",null,null,null,{"$f":"IF(YEAR(F14)=$H$2,H19,\nG22)","v":0},{"$f":"H22","v":0},0,0,0,0,0,0,0,0,0,0,0,0,0,{"$f":"V22","v":0},0,0,0,0,0]
[null,null,"Привлечение займа","тыс. руб.",null,{"$f":"SUM(H19:AA19)","v":0},null,{"$f":"IF(YEAR($F14)=H$2,$F13,0)","v":0},0,0,0,0,0,0,0,0,0,0,0,0,0,0,0,0,0,0,0,{"$f":"IF(YEAR($F14)=AB$2,$F13,0)","v":0}]
[null,null,"Выплата тела долга (-)","тыс. руб.",null,{"$f":"SUM(H20:AA20)","v":0}]
[null,null,"Выплата процентов по долгу (-)","тыс. руб.",null,{"$f":"SUM(H21:AA21)","v":0},null,{"$f":"-AVERAGE(H18,H22)*H16","v":0},{"$f":"-AVERAGE(I18,I22)*I16","v":0},0,0,0,0,0,0,0,0,0,0,0,0,0,0,0,0,0,0,{"$f":"-AVERAGE(AB18,AB22)*AB16","v":0}]
[null,null,"Задолженность на конец периода","тыс. руб.",null,null,null,{"$f":"IF(YEAR(F14)=$H$2,H19+H20,\nSUM(H18:H20))","v":0},{"$f":"SUM(I18:I20)","v":0},0,0,0,0,0,0,0,0,0,0,0,0,{"$f":"SUM(V18:V20)","v":0},0,0,0,0,0,0]
[]
[null,null,"Проверка своевременности погашения тела долга",null,null,{"$f":"IF(F13=0,\"Верно\",IF(INDEX(H22:Z22,,MATCH(YEAR($F15),H$2:Z$2,0)) = 0, \"Верно\", \"Ошибка\"))","v":"Верно"}]
[]
[null,{"$f":"Предпосылки!C268","v":"  №"}]
[null,null,{"$f":"C11","v":"Срок"},"мес."]
[null,null,"Общая сумма займа по договору","тыс. руб."]
[null,null,"Сумма займа в рамках СПИК","тыс. руб."]
[null,null,"Дата получения займа","х"]
[null,null,"Дата погашения займа","х",null,{"$f":"EDATE(F30,F27)","v":"00:00:00"}]
[null,null,"Процентная ставка по займу","%","Лист: Предпосылки",null,null,{"$f":"$F$32","v":0},{"$f":"$F$32","v":0},0,{"$f":"$F$32","v":0},0,0,0,0,0,0,0,0,0,0,0,0,0,0,0,0,0]
[]
[null,null,"Задолженность на начало периода","тыс. руб.",null,null,null,{"$f":"IF(YEAR(F30)=$H$2,H35,\nG38)","v":0},{"$f":"H38","v":0},{"$f":"I38","v":0},0,0,0,0,0,0,0,0,0,0,0,0,{"$f":"V38","v":0},0,0,0,0,0]
[null,null,"Привлечение займа","тыс. руб.",null,{"$f":"SUM(H35:AA35)","v":0},null,{"$f":"IF(YEAR($F30)=H$2,$F29,0)","v":0},{"$f":"IF(YEAR($F30)=I$2,$F29,0)","v":0},0,0,0,0,0,0,0,0,0,0,0,0,0,0,0,0,0,0,{"$f":"IF(YEAR($F30)=AB$2,$F29,0)","v":0}]
[null,null,"Выплата тела долга (-)","тыс. руб.",null,{"$f":"SUM(H36:AA36)","v":0}]
[null,null,"Выплата процентов по долгу (-)","тыс. руб.",null,{"$f":"SUM(H37:AA37)","v":0},null,{"$f":"-AVERAGE(H34,H38)*H32","v":0},{"$f":"-AVERAGE(I34,I38)*I32","v":0},0,0,0,0,0,0,0,0,0,0,0,0,0,0,0,0,0,0,{"$f":"-AVERAGE(AB34,AB38)*AB32","v":0}]
[null,null,"Задолженность на конец периода","тыс. руб.",null,null,null,{"$f":"IF(YEAR(F30)=$H$2,H35+H36,\nSUM(H34:H36))","v":0},{"$f":"SUM(I34:I36)","v":0},{"$f":"SUM(J34:J36)","v":0},0,0,0,0,0,0,0,0,0,0,0,0,0,0,0,0,0,{"$f":"SUM(AB34:AB36)","v":0}]
[]
[null,null,"Проверка своевременности погашения тела долга",null,null,{"$f":"IF(F29=0,\"Верно\",IF(INDEX(H38:Z38,,MATCH(YEAR($F31),H$2:Z$2,0)) = 0, \"Верно\", \"Ошибка\"))","v":"Верно"}]
[null,"…"]
[]
[null,"Свод по долгосрочным кредитам и займам"]
[]
[null,null,"Привлечение заемного финансирования","тыс. руб.",null,{"$f":"SUM(H45:AA45)","v":0},null,{"$f":"SUM(H19,G22,H35,G38)","v":0},{"$f":"SUM(I19,I35)","v":0},0,0,0,0,0,0,0,0,0,0,0,0,0,0,0,0,0,0,{"$f":"SUM(AB19,AB35)","v":0}]
[null,null,"Выплата тела долга (-)","тыс. руб.",null,{"$f":"SUM(H46:AA46)","v":0},null,{"$f":"SUM(H20,H36)","v":0},0,0,0,0,0,0,0,0,0,0,0,0,0,0,0,0,0,0,0,{"$f":"SUM(AB20,AB36)","v":0}]
[null,null,"Начисление процентов по долгу (-)","тыс. руб.",null,{"$f":"SUM(H47:AA47)","v":0},null,{"$f":"SUM(H21,H37)","v":0},0,0,0,0,0,0,0,0,0,0,0,0,0,0,0,0,0,0,0,{"$f":"SUM(AB21,AB37)","v":0}]
[null,null,"Задолженность на конец периода","тыс. руб.",null,null,null,{"$f":"SUM(H22,H38)","v":0},0,0,0,0,0,0,0,0,0,0,0,0,0,0,0,0,0,0,0,{"$f":"SUM(AB22,AB38)","v":0}]
[]
[null,"Потребность в финансировании"]
[]
[null,"Сценарий \"Со СПИК\""]
[]
[null,null,"Денежные средства на начало периода","тыс. руб.","Лист: Отчетность",null,null,{"$f":"'Отчетность (СПИК)'!H135","v":0},{"$f":"'Отчетность (СПИК)'!I135","v":0},{"$f":"'Отчетность (СПИК)'!J135","v":0},{"$f":"'Отчетность (СПИК)'!K135","v":0},{"$f":"'Отчетность (СПИК)'!L135","v":0},{"$f":"'Отчетность (СПИК)'!M135","v":0},{"$f":"'Отчетность (СПИК)'!N135","v":0},{"$f":"'Отчетность (СПИК)'!O135","v":0},{"$f":"'Отчетность (СПИК)'!P135","v":0},{"$f":"'Отчетность (СПИК)'!Q135","v":0},{"$f":"'Отчетность (СПИК)'!R135","v":0},{"$f":"'Отчетность (СПИК)'!S135","v":0},{"$f":"'Отчетность (СПИК)'!T135","v":0},{"$f":"'Отчетность (СПИК)'!U135","v":0},{"$f":"'Отчетность (СПИК)'!V135","v":0},{"$f":"'Отчетность (СПИК)'!W135","v":0},{"$f":"'Отчетность (СПИК)'!X135","v":0},{"$f":"'Отчетность (СПИК)'!Y135","v":0},{"$f":"'Отчетность (СПИК)'!Z135","v":0},{"$f":"'Отчетность (СПИК)'!AA135","v":0},{"$f":"'Отчетность (СПИК)'!AB135","v":0}]
[null,null,"Денежный поток от операционной деятельности","тыс. руб.","Лист: Отчетность",null,null,{"$f":"'Отчетность (СПИК)'!H114","v":0},{"$f":"'Отчетность (СПИК)'!I114","v":0},{"$f":"'Отчетность (СПИК)'!J114","v":0},{"$f":"'Отчетность (СПИК)'!K114","v":0},{"$f":"'Отчетность (СПИК)'!L114","v":0},{"$f":"'Отчетность (СПИК)'!M114","v":0},{"$f":"'Отчетность (СПИК)'!N114","v":0},{"$f":"'Отчетность (СПИК)'!O114","v":0},{"$f":"'Отчетность (СПИК)'!P114","v":0},{"$f":"'Отчетность (СПИК)'!Q114","v":0},{"$f":"'Отчетность (СПИК)'!R114","v":0},{"$f":"'Отчетность (СПИК)'!S114","v":0},{"$f":"'Отчетность (СПИК)'!T114","v":0},{"$f":"'Отчетность (СПИК)'!U114","v":0},{"$f":"'Отчетность (СПИК)'!V114","v":0},{"$f":"'Отчетность (СПИК)'!W114","v":0},{"$f":"'Отчетность (СПИК)'!X114","v":0},{"$f":"'Отчетность (СПИК)'!Y114","v":0},{"$f":"'Отчетность (СПИК)'!Z114","v":0},{"$f":"'Отчетность (СПИК)'!AA114","v":0},{"$f":"'Отчетность (СПИК)'!AB114","v":0}]
[null,null,"Денежный поток от инвестиционной деятельности","тыс. руб.","Лист: Отчетность",null,null,{"$f":"'Отчетность (СПИК)'!H123","v":0},{"$f":"'Отчетность (СПИК)'!I123","v":0},{"$f":"'Отчетность (СПИК)'!J123","v":0},{"$f":"'Отчетность (СПИК)'!K123","v":0},{"$f":"'Отчетность (СПИК)'!L123","v":0},{"$f":"'Отчетность (СПИК)'!M123","v":0},{"$f":"'Отчетность (СПИК)'!N123","v":0},{"$f":"'Отчетность (СПИК)'!O123","v":0},{"$f":"'Отчетность (СПИК)'!P123","v":0},{"$f":"'Отчетность (СПИК)'!Q123","v":0},{"$f":"'Отчетность (СПИК)'!R123","v":0},{"$f":"'Отчетность (СПИК)'!S123","v":0},{"$f":"'Отчетность (СПИК)'!T123","v":0},{"$f":"'Отчетность (СПИК)'!U123","v":0},{"$f":"'Отчетность (СПИК)'!V123","v":0},{"$f":"'Отчетность (СПИК)'!W123","v":0},{"$f":"'Отчетность (СПИК)'!X123","v":0},{"$f":"'Отчетность (СПИК)'!Y123","v":0},{"$f":"'Отчетность (СПИК)'!Z123","v":0},{"$f":"'Отчетность (СПИК)'!AA123","v":0},{"$f":"'Отчетность (СПИК)'!AB123","v":0}]
[null,null,"Взнос в уставный капитал и добавочный капитал","тыс. руб.","Лист: Отчетность",null,null,{"$f":"'Отчетность (СПИК)'!H129","v":0},{"$f":"'Отчетность (СПИК)'!I129","v":0},{"$f":"'Отчетность (СПИК)'!J129","v":0},{"$f":"'Отчетность (СПИК)'!K129","v":0},{"$f":"'Отчетность (СПИК)'!L129","v":0},{"$f":"'Отчетность (СПИК)'!M129","v":0},{"$f":"'Отчетность (СПИК)'!N129","v":0},{"$f":"'Отчетность (СПИК)'!O129","v":0},{"$f":"'Отчетность (СПИК)'!P129","v":0},{"$f":"'Отчетность (СПИК)'!Q129","v":0},{"$f":"'Отчетность (СПИК)'!R129","v":0},{"$f":"'Отчетность (СПИК)'!S129","v":0},{"$f":"'Отчетность (СПИК)'!T129","v":0},{"$f":"'Отчетность (СПИК)'!U129","v":0},{"$f":"'Отчетность (СПИК)'!V129","v":0},{"$f":"'Отчетность (СПИК)'!W129","v":0},{"$f":"'Отчетность (СПИК)'!X129","v":0},{"$f":"'Отчетность (СПИК)'!Y129","v":0},{"$f":"'Отчетность (СПИК)'!Z129","v":0},{"$f":"'Отчетность (СПИК)'!AA129","v":0},{"$f":"'Отчетность (СПИК)'!AB129","v":0}]
[null,null,"Получение долгосрочного займа","тыс. руб.","Лист: Отчетность",null,null,{"$f":"H45","v":0},0,0,0,0,0,0,0,0,0,0,0,0,0,0,0,0,0,0,0,{"$f":"AB45","v":0}]
[null,null,"Выплата тела долгосрочного и краткосрочного займа","тыс. руб.","Лист: Отчетность",null,null,{"$f":"'Отчетность (СПИК)'!H132","v":0},{"$f":"'Отчетность (СПИК)'!I132","v":0},{"$f":"'Отчетность (СПИК)'!J132","v":0},{"$f":"'Отчетность (СПИК)'!K132","v":0},{"$f":"'Отчетность (СПИК)'!L132","v":0},{"$f":"'Отчетность (СПИК)'!M132","v":0},{"$f":"'Отчетность (СПИК)'!N132","v":0},{"$f":"'Отчетность (СПИК)'!O132","v":0},{"$f":"'Отчетность (СПИК)'!P132","v":0},{"$f":"'Отчетность (СПИК)'!Q132","v":0},{"$f":"'Отчетность (СПИК)'!R132","v":0},{"$f":"'Отчетность (СПИК)'!S132","v":0},{"$f":"'Отчетность (СПИК)'!T132","v":0},{"$f":"'Отчетность (СПИК)'!U132","v":0},{"$f":"'Отчетность (СПИК)'!V132","v":0},{"$f":"'Отчетность (СПИК)'!W132","v":0},{"$f":"'Отчетность (СПИК)'!X132","v":0},{"$f":"'Отчетность (СПИК)'!Y132","v":0},{"$f":"'Отчетность (СПИК)'!Z132","v":0},{"$f":"'Отчетность (СПИК)'!AA132","v":0},{"$f":"'Отчетность (СПИК)'!AB132","v":0}]
[]
[null,null,"Итоговая потребность в денежных средствах","тыс. руб.",null,null,null,{"$f":"-MIN(SUM(H54:H59),0)","v":0},{"$f":"-MIN(SUM(I54:I59),0)","v":0},{"$f":"-MIN(SUM(J54:J59),0)","v":0},0,0,0,0,0,0,0,0,0,0,0,0,0,0,0,0,0,{"$f":"-MIN(SUM(AB54:AB59),0)","v":0}]
[]
[null,"Сценарий \"Без СПИК\""]
[]
[null,"Потребность в финансировании"]
[]
[null,null,"Денежные средства на начало периода","тыс. руб.","Лист: Отчетность",null,null,{"$f":"'Отчетность (Без СПИК)'!H132","v":0},{"$f":"'Отчетность (Без СПИК)'!I132","v":0},{"$f":"'Отчетность (Без СПИК)'!J132","v":0},{"$f":"'Отчетность (Без СПИК)'!K132","v":0},{"$f":"'Отчетность (Без СПИК)'!L132","v":0},{"$f":"'Отчетность (Без СПИК)'!M132","v":0},{"$f":"'Отчетность (Без СПИК)'!N132","v":0},{"$f":"'Отчетность (Без СПИК)'!O132","v":0},{"$f":"'Отчетность (Без СПИК)'!P132","v":0},{"$f":"'Отчетность (Без СПИК)'!Q132","v":0},{"$f":"'Отчетность (Без СПИК)'!R132","v":0},{"$f":"'Отчетность (Без СПИК)'!S132","v":0},{"$f":"'Отчетность (Без СПИК)'!T132","v":0},{"$f":"'Отчетность (Без СПИК)'!U132","v":0},{"$f":"'Отчетность (Без СПИК)'!V132","v":0},{"$f":"'Отчетность (Без СПИК)'!W132","v":0},{"$f":"'Отчетность (Без СПИК)'!X132","v":0},{"$f":"'Отчетность (Без СПИК)'!Y132","v":0},{"$f":"'Отчетность (Без СПИК)'!Z132","v":0},{"$f":"'Отчетность (Без СПИК)'!AA132","v":0},{"$f":"'Отчетность (Без СПИК)'!AB132","v":0}]
[null,null,"Денежный поток от операционной деятельности","тыс. руб.","Лист: Отчетность",null,null,{"$f":"'Отчетность (Без СПИК)'!H111","v":0},{"$f":"'Отчетность (Без СПИК)'!I111","v":0},{"$f":"'Отчетность (Без СПИК)'!J111","v":0},{"$f":"'Отчетность (Без СПИК)'!K111","v":0},{"$f":"'Отчетность (Без СПИК)'!L111","v":0},{"$f":"'Отчетность (Без СПИК)'!M111","v":0},{"$f":"'Отчетность (Без СПИК)'!N111","v":0},{"$f":"'Отчетность (Без СПИК)'!O111","v":0},{"$f":"'Отчетность (Без СПИК)'!P111","v":0},{"$f":"'Отчетность (Без СПИК)'!Q111","v":0},{"$f":"'Отчетность (Без СПИК)'!R111","v":0},{"$f":"'Отчетность (Без СПИК)'!S111","v":0},{"$f":"'Отчетность (Без СПИК)'!T111","v":0},{"$f":"'Отчетность (Без СПИК)'!U111","v":0},{"$f":"'Отчетность (Без СПИК)'!V111","v":0},{"$f":"'Отчетность (Без СПИК)'!W111","v":0},{"$f":"'Отчетность (Без СПИК)'!X111","v":0},{"$f":"'Отчетность (Без СПИК)'!Y111","v":0},{"$f":"'Отчетность (Без СПИК)'!Z111","v":0},{"$f":"'Отчетность (Без СПИК)'!AA111","v":0},{"$f":"'Отчетность (Без СПИК)'!AB111","v":0}]
[null,null,"Денежный поток от инвестиционной деятельности","тыс. руб.","Лист: Отчетность",null,null,{"$f":"'Отчетность (Без СПИК)'!H120","v":0},{"$f":"'Отчетность (Без СПИК)'!I120","v":0},{"$f":"'Отчетность (Без СПИК)'!J120","v":0},{"$f":"'Отчетность (Без СПИК)'!K120","v":0},{"$f":"'Отчетность (Без СПИК)'!L120","v":0},{"$f":"'Отчетность (Без СПИК)'!M120","v":0},{"$f":"'Отчетность (Без СПИК)'!N120","v":0},{"$f":"'Отчетность (Без СПИК)'!O120","v":0},{"$f":"'Отчетность (Без СПИК)'!P120","v":0},{"$f":"'Отчетность (Без СПИК)'!Q120","v":0},{"$f":"'Отчетность (Без СПИК)'!R120","v":0},{"$f":"'Отчетность (Без СПИК)'!S120","v":0},{"$f":"'Отчетность (Без СПИК)'!T120","v":0},{"$f":"'Отчетность (Без СПИК)'!U120","v":0},{"$f":"'Отчетность (Без СПИК)'!V120","v":0},{"$f":"'Отчетность (Без СПИК)'!W120","v":0},{"$f":"'Отчетность (Без СПИК)'!X120","v":0},{"$f":"'Отчетность (Без СПИК)'!Y120","v":0},{"$f":"'Отчетность (Без СПИК)'!Z120","v":0},{"$f":"'Отчетность (Без СПИК)'!AA120","v":0},{"$f":"'Отчетность (Без СПИК)'!AB120","v":0}]
[null,null,"Взнос в уставный капитал и добавочный капитал","тыс. руб.","Лист: Отчетность",null,null,{"$f":"'Отчетность (Без СПИК)'!H126","v":0},{"$f":"'Отчетность (Без СПИК)'!I126","v":0},{"$f":"'Отчетность (Без СПИК)'!J126","v":0},{"$f":"'Отчетность (Без СПИК)'!K126","v":0},{"$f":"'Отчетность (Без СПИК)'!L126","v":0},{"$f":"'Отчетность (Без СПИК)'!M126","v":0},{"$f":"'Отчетность (Без СПИК)'!N126","v":0},{"$f":"'Отчетность (Без СПИК)'!O126","v":0},{"$f":"'Отчетность (Без СПИК)'!P126","v":0},{"$f":"'Отчетность (Без СПИК)'!Q126","v":0},{"$f":"'Отчетность (Без СПИК)'!R126","v":0},{"$f":"'Отчетность (Без СПИК)'!S126","v":0},{"$f":"'Отчетность (Без СПИК)'!T126","v":0},{"$f":"'Отчетность (Без СПИК)'!U126","v":0},{"$f":"'Отчетность (Без СПИК)'!V126","v":0},{"$f":"'Отчетность (Без СПИК)'!W126","v":0},{"$f":"'Отчетность (Без СПИК)'!X126","v":0},{"$f":"'Отчетность (Без СПИК)'!Y126","v":0},{"$f":"'Отчетность (Без СПИК)'!Z126","v":0},{"$f":"'Отчетность (Без СПИК)'!AA126","v":0},{"$f":"'Отчетность (Без СПИК)'!AB126","v":0}]
[null,null,"Получение долгосрочного займа","тыс. руб.","Лист: Отчетность",null,null,{"$f":"H45","v":0},0,0,0,0,0,0,0,0,0,0,0,0,0,0,0,0,0,0,0,{"$f":"AB45","v":0}]
[null,null,"Выплата тела долгосрочного и краткосрочного займа","тыс. руб.","Лист: Отчетность",null,null,{"$f":"'Отчетность (Без СПИК)'!H129","v":0},{"$f":"'Отчетность (Без СПИК)'!I129","v":0},{"$f":"'Отчетность (Без СПИК)'!J129","v":0},{"$f":"'Отчетность (Без СПИК)'!K129","v":0},{"$f":"'Отчетность (Без СПИК)'!L129","v":0},{"$f":"'Отчетность (Без СПИК)'!M129","v":0},{"$f":"'Отчетность (Без СПИК)'!N129","v":0},{"$f":"'Отчетность (Без СПИК)'!O129","v":0},{"$f":"'Отчетность (Без СПИК)'!P129","v":0},{"$f":"'Отчетность (Без СПИК)'!Q129","v":0},{"$f":"'Отчетность (Без СПИК)'!R129","v":0},{"$f":"'Отчетность (Без СПИК)'!S129","v":0},{"$f":"'Отчетность (Без СПИК)'!T129","v":0},{"$f":"'Отчетность (Без СПИК)'!U129","v":0},{"$f":"'Отчетность (Без СПИК)'!V129","v":0},{"$f":"'Отчетность (Без СПИК)'!W129","v":0},{"$f":"'Отчетность (Без СПИК)'!X129","v":0},{"$f":"'Отчетность (Без СПИК)'!Y129","v":0},{"$f":"'Отчетность (Без СПИК)'!Z129","v":0},{"$f":"'Отчетность (Без СПИК)'!AA129","v":0},{"$f":"'Отчетность (Без СПИК)'!AB129","v":0}]
[]
[null,null,"Итоговая потребность в денежных средствах","тыс. руб.",null,null,null,{"$f":"-MIN(SUM(H67:H72),0)","v":0},{"$f":"-MIN(SUM(I67:I72),0)","v":0},0,0,0,0,0,0,0,0,0,0,0,0,0,0,0,0,0,0,{"$f":"-MIN(SUM(AB67:AB72),0)","v":0}]
[]
[null,null,"В случае дополнительной потребности в финансировании операционной деятельности в строках ниже настроен механизм подбора размера краткосрочного заемного финансирования"]
[null,null,"В модели реализована возможность подбора параметра \"Привлечение займа\"  при помощи нажатия на кнопку в столбце Е "]
[]
[null,"Краткосрочные кредиты и займы"]
[]
[null,"Сценарий \"Со СПИК\""]
[]
[null,null,"Задолженность на начало периода","тыс. руб.",null,null,null,{"$f":"G86","v":0},{"$f":"H86","v":0},0,0,0,0,0,0,0,0,0,0,0,0,0,{"$f":"V86","v":0},0,0,0,0,0]
[null,null,"Привлечение займа","тыс. руб.",null,{"$f":"SUM(H84:AA84)","v":0},null,null,null,null,null,null,null,null,null,null,null,0,0,0,0,0,0,0,0,0,0,0]
[null,null,"Выплата тела долга (-)","тыс. руб.",null,{"$f":"SUM(H85:AA85)","v":0},null,{"$f":"-MAX(H83,0)","v":0},{"$f":"-MAX(I83,0)","v":0},0,0,0,0,0,0,0,0,0,0,0,0,0,0,0,0,0,0,{"$f":"-MAX(AB83,0)","v":0}]
[null,null,"Задолженность на конец периода","тыс. руб.",null,null,null,{"$f":"SUM(H83:H85)","v":0},{"$f":"SUM(I83:I85)","v":0},0,0,0,0,0,0,0,0,0,0,0,0,0,0,0,0,0,0,{"$f":"SUM(AB83:AB85)","v":0}]
[]
[null,null,"Процентная ставка по краткосрочному займу","%",null,null,null,{"$f":"$F$88","v":0},0,0,0,0,0,0,0,0,0,0,0,0,0,0,0,0,0,0,0,0]
[null,null,"Начисление процентов по долгу (-)","тыс. руб.",null,null,null,{"$f":"-H84*H88","v":0},{"$f":"-I84*I88","v":0},0,0,0,0,0,0,0,0,0,0,0,0,0,0,0,0,0,0,{"$f":"-AB84*AB88","v":0}]
[]
[null,null,"Проверка положительности ДС",null,null,{"$f":"IF(COUNTIF(H91:AA91, \"Ошибка\") = 0, \"Верно\", \"Ошибка\")","v":"Верно"},null,{"$f":"IF(H54<0,\"Ошибка\", \"Верно\")","v":"Верно"},"Верно","Верно","Верно","Верно","Верно","Верно","Верно","Верно","Верно","Верно","Верно","Верно","Верно","Верно","Верно","Верно","Верно","Верно","Верно",{"$f":"IF(AB54<0,\"Ошибка\", \"Верно\")","v":"Верно"}]
[null,null,"Разница между потребностью в ДС и привлечением краткосрочных кредитов и займов (для макроса)",null,null,{"$f":"SUM(H92:AA92)","v":0},null,{"$f":"ABS(H61-H84)","v":0},0,{"$f":"ABS(J61-J84)","v":0},0,0,0,0,0,0,0,0,0,0,0,0,0,0,0,0,0,{"$f":"ABS(AB61-AB84)","v":0}]
[]
[]
[null,"Сценарий \"Без СПИК\""]
[]
[null,null,"Задолженность на начало периода","тыс. руб.",null,null,null,{"$f":"G100","v":0},0,0,0,0,0,0,0,0,0,0,0,0,0,0,0,0,0,0,0,0]
[null,null,"Привлечение займа","тыс. руб.",null,{"$f":"SUM(H98:AA98)","v":0},null,null,null,null,null,null,null,null,null,null,null,null,null,0,0,0,0,0,0,0,0,0]
[null,null,"Выплата тела долга (-)","тыс. руб.",null,{"$f":"SUM(H99:AA99)","v":0},null,{"$f":"-MAX(H97,0)","v":0},{"$f":"-MAX(I97,0)","v":0},0,0,0,{"$f":"-MAX(M97,0)","v":0},0,0,0,0,0,0,0,0,0,0,0,0,0,0,{"$f":"-MAX(AB97,0)","v":0}]
[null,null,"Задолженность на конец периода","тыс. руб.",null,null,null,{"$f":"SUM(H97:H99)","v":0},{"$f":"SUM(I97:I99)","v":0},0,0,0,0,0,0,0,0,0,0,0,0,0,0,0,0,0,0,{"$f":"SUM(AB97:AB99)","v":0}]
[]
[null,null,{"$f":"C88","v":"Процентная ставка по краткосрочному займу"},"%",null,null,null,{"$f":"$F$102","v":0},0,0,0,0,0,0,0,0,0,0,0,0,0,0,0,0,0,0,0,0]
[null,null,"Начисление процентов по долгу (-)","тыс. руб.",null,null,null,{"$f":"-H98*H102","v":0},{"$f":"-I98*I102","v":0},0,0,0,0,0,0,0,0,0,0,0,0,0,0,0,0,0,0,{"$f":"-AB98*AB102","v":0}]
[]
[null,null,"Проверка положительности ДС",null,null,{"$f":"IF(COUNTIF(H105:AA105, \"Ошибка\") = 0, \"Верно\", \"Ошибка\")","v":"Верно"},null,{"$f":"IF(H67<0,\"Ошибка\", \"Верно\")","v":"Верно"},"Верно","Верно","Верно","Верно","Верно","Верно","Верно","Верно","Верно","Верно","Верно","Верно","Верно","Верно","Верно","Верно","Верно","Верно","Верно",{"$f":"IF(AB67<0,\"Ошибка\", \"Верно\")","v":"Верно"}]
[null,null,"Разница между потребностью в ДС и привлечением краткосрочных кредитов и займов (для макроса)",null,null,{"$f":"SUM(H106:AA106)","v":0},null,{"$f":"ABS(H74-H98)","v":0},0,0,0,0,0,0,0,0,0,0,0,0,0,0,0,0,0,0,0,{"$f":"ABS(AB74-AB98)","v":0}]
[]
[null,"Расчеты по кредитам и займам"]
[]
[null,"Сценарий \"Со СПИК\""]
[]
[null,null,"Задолженность на начало периода","тыс. руб.",null,null,null,{"$f":"G115","v":0},{"$f":"H115","v":0},0,0,0,0,0,0,0,0,0,0,0,0,0,0,0,0,0,0,0]
[null,null,"Начисление процентов","тыс. руб.",null,null,null,{"$f":"-(H47+H89)","v":0},0,0,0,0,0,0,0,0,0,0,0,0,0,0,0,0,0,0,0,{"$f":"-(AB47+AB89)","v":0}]
[null,null,"Уплата процентов (-)","тыс. руб.",null,null,null,{"$f":"-H113*Предпосылки!H400-H112","v":0},{"$f":"-I113*Предпосылки!I400-I112","v":0},{"$f":"-J113*Предпосылки!J400-J112","v":0},{"$f":"-K113*Предпосылки!K400-K112","v":0},{"$f":"-L113*Предпосылки!L400-L112","v":0},{"$f":"-M113*Предпосылки!M400-M112","v":0},{"$f":"-N113*Предпосылки!N400-N112","v":0},{"$f":"-O113*Предпосылки!O400-O112","v":0},{"$f":"-P113*Предпосылки!P400-P112","v":0},{"$f":"-Q113*Предпосылки!Q400-Q112","v":0},{"$f":"-R113*Предпосылки!R400-R112","v":0},{"$f":"-S113*Предпосылки!S400-S112","v":0},{"$f":"-T113*Предпосылки!T400-T112","v":0},{"$f":"-U113*Предпосылки!U400-U112","v":0},{"$f":"-V113*Предпосылки!V400-V112","v":0},{"$f":"-W113*Предпосылки!W400-W112","v":0},{"$f":"-X113*Предпосылки!X400-X112","v":0},{"$f":"-Y113*Предпосылки!Y400-Y112","v":0},{"$f":"-Z113*Предпосылки!Z400-Z112","v":0},{"$f":"-AA113*Предпосылки!AA400-AA112","v":0},{"$f":"-AB113*Предпосылки!AB400-AB112","v":0}]
[null,null,"Задолженность на конец периода","тыс. руб.",null,null,null,{"$f":"SUM(H112:H114)","v":0},{"$f":"SUM(I112:I114)","v":0},0,0,0,0,0,0,0,0,0,0,0,0,0,0,0,0,0,0,{"$f":"SUM(AB112:AB114)","v":0}]
[]
[null,"Сценарий \"Без СПИК\""]
[]
[null,null,"Задолженность на начало периода","тыс. руб.",null,null,null,{"$f":"G122","v":0},0,0,0,0,0,0,0,0,0,0,0,0,0,0,0,0,0,0,0,0]
[null,null,"Начисление процентов","тыс. руб.",null,null,null,{"$f":"-(H47+H103)","v":0},0,0,0,0,0,0,0,0,0,0,0,0,0,0,0,0,0,0,0,{"$f":"-(AB47+AB103)","v":0}]
[null,null,"Уплата процентов (-)","тыс. руб.",null,null,null,{"$f":"-H120*Предпосылки!H400-H119","v":0},{"$f":"-I120*Предпосылки!I400-I119","v":0},{"$f":"-J120*Предпосылки!J400-J119","v":0},{"$f":"-K120*Предпосылки!K400-K119","v":0},{"$f":"-L120*Предпосылки!L400-L119","v":0},{"$f":"-M120*Предпосылки!M400-M119","v":0},{"$f":"-N120*Предпосылки!N400-N119","v":0},{"$f":"-O120*Предпосылки!O400-O119","v":0},{"$f":"-P120*Предпосылки!P400-P119","v":0},{"$f":"-Q120*Предпосылки!Q400-Q119","v":0},{"$f":"-R120*Предпосылки!R400-R119","v":0},{"$f":"-S120*Предпосылки!S400-S119","v":0},{"$f":"-T120*Предпосылки!T400-T119","v":0},{"$f":"-U120*Предпосылки!U400-U119","v":0},{"$f":"-V120*Предпосылки!V400-V119","v":0},{"$f":"-W120*Предпосылки!W400-W119","v":0},{"$f":"-X120*Предпосылки!X400-X119","v":0},{"$f":"-Y120*Предпосылки!Y400-Y119","v":0},{"$f":"-Z120*Предпосылки!Z400-Z119","v":0},{"$f":"-AA120*Предпосылки!AA400-AA119","v":0},{"$f":"-AB120*Предпосылки!AB400-AB119","v":0}]
[null,null,"Задолженность на конец периода","тыс. руб.",null,null,null,{"$f":"SUM(H119:H121)","v":0},{"$f":"SUM(I119:I121)","v":0},0,0,0,0,0,0,0,0,0,0,0,0,0,0,0,0,0,0,{"$f":"SUM(AB119:AB121)","v":0}]

{"sheet":"Отчетность (СПИК)","index":17,"n_rows":139,"n_cols":28,"rows_kept":139,"cut":false,"hidden":false,"merged":[[0,11,0,16],[1,2,2,2],[1,3,2,3],[1,4,2,4],[1,5,2,5],[0,9,0,10]]}
[null,null,null,null,{"$f":"\"Лист:  \" & RIGHT(CELL(\"filename\",A1),LEN(CELL(\"filename\",A1))-SEARCH(\"]\",CELL(\"filename\",A1)))","v":"Лист:  Отчетность (СПИК)"},null,null,null,null,"Проверка:",null,{"$f":"IF(AND(F43=\"Верно\",F86=\"Верно\", F89=\"Верно\",F139=\"Верно\"), \"Верно\", \"Имеются некорректные данные\")","v":"Имеются некорректные данные"}]
[null,null,"Параметр","Ед. изм.","Источник","Текущее значение",null,{"$f":"Предпосылки!H2","v":2026},{"$f":"Предпосылки!I2","v":2027},{"$f":"Предпосылки!J2","v":2028},{"$f":"Предпосылки!K2","v":2029},{"$f":"Предпосылки!L2","v":2030},{"$f":"Предпосылки!M2","v":2031},{"$f":"Предпосылки!N2","v":2032},{"$f":"Предпосылки!O2","v":2033},{"$f":"Предпосылки!P2","v":2034},{"$f":"Предпосылки!Q2","v":2035},{"$f":"Предпосылки!R2","v":2036},{"$f":"Предпосылки!S2","v":2037},{"$f":"Предпосылки!T2","v":2038},{"$f":"Предпосылки!U2","v":2039},{"$f":"Предпосылки!V2","v":2040},{"$f":"Предпосылки!W2","v":2041},{"$f":"Предпосылки!X2","v":2042},{"$f":"Предпосылки!Y2","v":2043},{"$f":"Предпосылки!Z2","v":2044},{"$f":"Предпосылки!AA2","v":2045},{"$f":"Предпосылки!AB2","v":2046}]
[null,null,null,null,null,null,null,1,2,3,4,5,6,7,8,9,10,11,12,13,14,15,16,17,18,19,20,21]
[]
[null,"Бухгалтерский баланс"]
[]
[null,"АКТИВЫ"]
[null,"I. Внеоборотные активы",null,"тыс. руб.",null,null,null,{"$f":"SUM(H9:H10,H15)","v":0},0,0,0,0,0,0,0,0,0,0,0,0,0,0,0,0,0,0,0,{"$f":"SUM(AB9:AB10,AB15)","v":0}]
[null,null,"Нематериальные активы","тыс. руб.","Лист: Капитальные вложения",null,null,{"$f":"SUM('Капитальные вложения'!$H42:H42,'Капитальные вложения'!H177)","v":0},{"$f":"SUM('Капитальные вложения'!$H42:I42,'Капитальные вложения'!I177)","v":0},{"$f":"SUM('Капитальные вложения'!$H42:J42,'Капитальные вложения'!J177)","v":0},{"$f":"SUM('Капитальные вложения'!$H42:K42,'Капитальные вложения'!K177)","v":0},{"$f":"SUM('Капитальные вложения'!$H42:L42,'Капитальные вложения'!L177)","v":0},{"$f":"SUM('Капитальные вложения'!$H42:M42,'Капитальные вложения'!M177)","v":0},{"$f":"SUM('Капитальные вложения'!$H42:N42,'Капитальные вложения'!N177)","v":0},{"$f":"SUM('Капитальные вложения'!$H42:O42,'Капитальные вложения'!O177)","v":0},{"$f":"SUM('Капитальные вложения'!$H42:P42,'Капитальные вложения'!P177)","v":0},{"$f":"SUM('Капитальные вложения'!$H42:Q42,'Капитальные вложения'!Q177)","v":0},{"$f":"SUM('Капитальные вложения'!$H42:R42,'Капитальные вложения'!R177)","v":0},{"$f":"SUM('Капитальные вложения'!$H42:S42,'Капитальные вложения'!S177)","v":0},{"$f":"SUM('Капитальные вложения'!$H42:T42,'Капитальные вложения'!T177)","v":0},{"$f":"SUM('Капитальные вложения'!$H42:U42,'Капитальные вложения'!U177)","v":0},{"$f":"SUM('Капитальные вложения'!$H42:V42,'Капитальные вложения'!V177)","v":0},{"$f":"SUM('Капитальные вложения'!$H42:W42,'Капитальные вложения'!W177)","v":0},{"$f":"SUM('Капитальные вложения'!$H42:X42,'Капитальные вложения'!X177)","v":0},{"$f":"SUM('Капитальные вложения'!$H42:Y42,'Капитальные вложения'!Y177)","v":0},{"$f":"SUM('Капитальные вложения'!$H42:Z42,'Капитальные вложения'!Z177)","v":0},{"$f":"SUM('Капитальные вложения'!$H42:AA42,'Капитальные вложения'!AA177)","v":0},{"$f":"SUM('Капитальные вложения'!$H42:AB42,'Капитальные вложения'!AB177)","v":0}]
[null,null,"Основные средства:","тыс. руб.",null,null,null,{"$f":"SUM(H11:H14)","v":0},{"$f":"SUM(I11:I14)","v":0},0,0,0,0,0,0,0,0,0,0,0,0,0,0,0,0,0,0,{"$f":"SUM(AB11:AB14)","v":0}]
[null,null,"здания и сооружения","тыс. руб.","Лист: Капитальные вложения",null,null,{"$f":"'Капитальные вложения'!H84","v":0},{"$f":"'Капитальные вложения'!I84","v":0},{"$f":"'Капитальные вложения'!J84","v":0},{"$f":"'Капитальные вложения'!K84","v":0},{"$f":"'Капитальные вложения'!L84","v":0},{"$f":"'Капитальные вложения'!M84","v":0},{"$f":"'Капитальные вложения'!N84","v":0},{"$f":"'Капитальные вложения'!O84","v":0},{"$f":"'Капитальные вложения'!P84","v":0},{"$f":"'Капитальные вложения'!Q84","v":0},{"$f":"'Капитальные вложения'!R84","v":0},{"$f":"'Капитальные вложения'!S84","v":0},{"$f":"'Капитальные вложения'!T84","v":0},{"$f":"'Капитальные вложения'!U84","v":0},{"$f":"'Капитальные вложения'!V84","v":0},{"$f":"'Капитальные вложения'!W84","v":0},{"$f":"'Капитальные вложения'!X84","v":0},{"$f":"'Капитальные вложения'!Y84","v":0},{"$f":"'Капитальные вложения'!Z84","v":0},{"$f":"'Капитальные вложения'!AA84","v":0},{"$f":"'Капитальные вложения'!AB84","v":0}]
[null,null,"машины и оборудование","тыс. руб.","Лист: Капитальные вложения",null,null,{"$f":"'Капитальные вложения'!H115","v":0},{"$f":"'Капитальные вложения'!I115","v":0},{"$f":"'Капитальные вложения'!J115","v":0},{"$f":"'Капитальные вложения'!K115","v":0},{"$f":"'Капитальные вложения'!L115","v":0},{"$f":"'Капитальные вложения'!M115","v":0},{"$f":"'Капитальные вложения'!N115","v":0},{"$f":"'Капитальные вложения'!O115","v":0},{"$f":"'Капитальные вложения'!P115","v":0},{"$f":"'Капитальные вложения'!Q115","v":0},{"$f":"'Капитальные вложения'!R115","v":0},{"$f":"'Капитальные вложения'!S115","v":0},{"$f":"'Капитальные вложения'!T115","v":0},{"$f":"'Капитальные вложения'!U115","v":0},{"$f":"'Капитальные вложения'!V115","v":0},{"$f":"'Капитальные вложения'!W115","v":0},{"$f":"'Капитальные вложения'!X115","v":0},{"$f":"'Капитальные вложения'!Y115","v":0},{"$f":"'Капитальные вложения'!Z115","v":0},{"$f":"'Капитальные вложения'!AA115","v":0},{"$f":"'Капитальные вложения'!AB115","v":0}]
[null,null,"земля","тыс. руб.","Лист: Капитальные вложения",null,null,{"$f":"SUM('Капитальные вложения'!$H39:H39)","v":0},{"$f":"SUM('Капитальные вложения'!$H39:I39)","v":0},{"$f":"SUM('Капитальные вложения'!$H39:J39)","v":0},{"$f":"SUM('Капитальные вложения'!$H39:K39)","v":0},{"$f":"SUM('Капитальные вложения'!$H39:L39)","v":0},{"$f":"SUM('Капитальные вложения'!$H39:M39)","v":0},{"$f":"SUM('Капитальные вложения'!$H39:N39)","v":0},{"$f":"SUM('Капитальные вложения'!$H39:O39)","v":0},{"$f":"SUM('Капитальные вложения'!$H39:P39)","v":0},{"$f":"SUM('Капитальные вложения'!$H39:Q39)","v":0},{"$f":"SUM('Капитальные вложения'!$H39:R39)","v":0},{"$f":"SUM('Капитальные вложения'!$H39:S39)","v":0},{"$f":"SUM('Капитальные вложения'!$H39:T39)","v":0},{"$f":"SUM('Капитальные вложения'!$H39:U39)","v":0},{"$f":"SUM('Капитальные вложения'!$H39:V39)","v":0},{"$f":"SUM('Капитальные вложения'!$H39:W39)","v":0},{"$f":"SUM('Капитальные вложения'!$H39:X39)","v":0},{"$f":"SUM('Капитальные вложения'!$H39:Y39)","v":0},{"$f":"SUM('Капитальные вложения'!$H39:Z39)","v":0},{"$f":"SUM('Капитальные вложения'!$H39:AA39)","v":0},{"$f":"SUM('Капитальные вложения'!$H39:AB39)","v":0}]
[null,null,"транспортные средства","тыс. руб.","Лист: Капитальные вложения",null,null,{"$f":"'Капитальные вложения'!H146","v":0},{"$f":"'Капитальные вложения'!I146","v":0},{"$f":"'Капитальные вложения'!J146","v":0},{"$f":"'Капитальные вложения'!K146","v":0},{"$f":"'Капитальные вложения'!L146","v":0},{"$f":"'Капитальные вложения'!M146","v":0},{"$f":"'Капитальные вложения'!N146","v":0},{"$f":"'Капитальные вложения'!O146","v":0},{"$f":"'Капитальные вложения'!P146","v":0},{"$f":"'Капитальные вложения'!Q146","v":0},{"$f":"'Капитальные вложения'!R146","v":0},{"$f":"'Капитальные вложения'!S146","v":0},{"$f":"'Капитальные вложения'!T146","v":0},{"$f":"'Капитальные вложения'!U146","v":0},{"$f":"'Капитальные вложения'!V146","v":0},{"$f":"'Капитальные вложения'!W146","v":0},{"$f":"'Капитальные вложения'!X146","v":0},{"$f":"'Капитальные вложения'!Y146","v":0},{"$f":"'Капитальные вложения'!Z146","v":0},{"$f":"'Капитальные вложения'!AA146","v":0},{"$f":"'Капитальные вложения'!AB146","v":0}]
[null,null,"Прочие внеоборотные активы:","тыс. руб.",null,null,null,{"$f":"H16","v":0},{"$f":"I16","v":0},0,0,0,0,0,0,0,0,0,0,0,0,0,0,0,0,0,0,0]
[null,null,"незавершенное строительство","тыс. руб.","Лист: Капитальные вложения",null,null,{"$f":"'Капитальные вложения'!H49","v":0},{"$f":"'Капитальные вложения'!I49","v":0},{"$f":"'Капитальные вложения'!J49","v":0},{"$f":"'Капитальные вложения'!K49","v":0},{"$f":"'Капитальные вложения'!L49","v":0},{"$f":"'Капитальные вложения'!M49","v":0},{"$f":"'Капитальные вложения'!N49","v":0},{"$f":"'Капитальные вложения'!O49","v":0},{"$f":"'Капитальные вложения'!P49","v":0},{"$f":"'Капитальные вложения'!Q49","v":0},{"$f":"'Капитальные вложения'!R49","v":0},{"$f":"'Капитальные вложения'!S49","v":0},{"$f":"'Капитальные вложения'!T49","v":0},{"$f":"'Капитальные вложения'!U49","v":0},{"$f":"'Капитальные вложения'!V49","v":0},{"$f":"'Капитальные вложения'!W49","v":0},{"$f":"'Капитальные вложения'!X49","v":0},{"$f":"'Капитальные вложения'!Y49","v":0},{"$f":"'Капитальные вложения'!Z49","v":0},{"$f":"'Капитальные вложения'!AA49","v":0},{"$f":"'Капитальные вложения'!AB49","v":0}]
[]
[null,"II. Оборотные активы",null,"тыс. руб.",null,null,null,{"$f":"SUM(H19:H22)","v":0},{"$f":"SUM(I19:I22)","v":0},0,0,0,0,0,0,0,0,0,0,0,0,0,0,0,0,0,0,{"$f":"SUM(AB19:AB22)","v":0}]
[null,null,"Запасы","тыс. руб.","Лист: Оборотный капитал",null,null,{"$f":"'Оборотный капитал'!H45","v":0},{"$f":"'Оборотный капитал'!I45","v":0},{"$f":"'Оборотный капитал'!J45","v":0},{"$f":"'Оборотный капитал'!K45","v":0},{"$f":"'Оборотный капитал'!L45","v":0},{"$f":"'Оборотный капитал'!M45","v":0},{"$f":"'Оборотный капитал'!N45","v":0},{"$f":"'Оборотный капитал'!O45","v":0},{"$f":"'Оборотный капитал'!P45","v":0},{"$f":"'Оборотный капитал'!Q45","v":0},{"$f":"'Оборотный капитал'!R45","v":0},{"$f":"'Оборотный капитал'!S45","v":0},{"$f":"'Оборотный капитал'!T45","v":0},{"$f":"'Оборотный капитал'!U45","v":0},{"$f":"'Оборотный капитал'!V45","v":0},{"$f":"'Оборотный капитал'!W45","v":0},{"$f":"'Оборотный капитал'!X45","v":0},{"$f":"'Оборотный капитал'!Y45","v":0},{"$f":"'Оборотный капитал'!Z45","v":0},{"$f":"'Оборотный капитал'!AA45","v":0},{"$f":"'Оборотный капитал'!AB45","v":0}]
[null,null,"Налог на добавленную стоимость по приобретенным ценностям","тыс. руб.","Лист: Налоги",null,null,{"$f":"Налоги!H23","v":0},{"$f":"Налоги!I23","v":0},{"$f":"Налоги!J23","v":0},{"$f":"Налоги!K23","v":0},{"$f":"Налоги!L23","v":0},{"$f":"Налоги!M23","v":0},{"$f":"Налоги!N23","v":0},{"$f":"Налоги!O23","v":0},{"$f":"Налоги!P23","v":0},{"$f":"Налоги!Q23","v":0},{"$f":"Налоги!R23","v":0},{"$f":"Налоги!S23","v":0},{"$f":"Налоги!T23","v":0},{"$f":"Налоги!U23","v":0},{"$f":"Налоги!V23","v":0},{"$f":"Налоги!W23","v":0},{"$f":"Налоги!X23","v":0},{"$f":"Налоги!Y23","v":0},{"$f":"Налоги!Z23","v":0},{"$f":"Налоги!AA23","v":0},{"$f":"Налоги!AB23","v":0}]
[null,null,"Дебиторская задолженность","тыс. руб.","Лист: Оборотный капитал",null,null,{"$f":"'Оборотный капитал'!H103","v":0},{"$f":"'Оборотный капитал'!I103","v":0},{"$f":"'Оборотный капитал'!J103","v":0},{"$f":"'Оборотный капитал'!K103","v":0},{"$f":"'Оборотный капитал'!L103","v":0},{"$f":"'Оборотный капитал'!M103","v":0},{"$f":"'Оборотный капитал'!N103","v":0},{"$f":"'Оборотный капитал'!O103","v":0},{"$f":"'Оборотный капитал'!P103","v":0},{"$f":"'Оборотный капитал'!Q103","v":0},{"$f":"'Оборотный капитал'!R103","v":0},{"$f":"'Оборотный капитал'!S103","v":0},{"$f":"'Оборотный капитал'!T103","v":0},{"$f":"'Оборотный капитал'!U103","v":0},{"$f":"'Оборотный капитал'!V103","v":0},{"$f":"'Оборотный капитал'!W103","v":0},{"$f":"'Оборотный капитал'!X103","v":0},{"$f":"'Оборотный капитал'!Y103","v":0},{"$f":"'Оборотный капитал'!Z103","v":0},{"$f":"'Оборотный капитал'!AA103","v":0},{"$f":"'Оборотный капитал'!AB103","v":0}]
[null,null,"Денежные средства и их эквиваленты","тыс. руб.","Расчет",null,null,{"$f":"H137","v":0},{"$f":"I137","v":0},0,0,0,0,0,0,0,0,0,0,0,0,0,0,0,0,0,0,{"$f":"AB137","v":0}]
[null,"ИТОГО АКТИВЫ",null,"тыс. руб.",null,null,null,{"$f":"SUM(H8,H18)","v":0},0,0,0,0,0,0,0,0,0,0,0,0,0,0,0,0,0,0,0,{"$f":"SUM(AB8,AB18)","v":0}]
[]
[null,"ПАССИВЫ"]
[null,"III. Капитал и резервы",null,"тыс. руб.",null,null,null,{"$f":"SUM(H27:H29)","v":0},{"$f":"SUM(I27:I29)","v":0},0,0,0,0,0,0,0,0,0,0,0,0,0,0,0,0,0,0,{"$f":"SUM(AB27:AB29)","v":0}]
[null,null,"Уставный капитал","тыс. руб.","Лист: Предпосылки",null,null,{"$f":"SUM(Предпосылки!$H254:H254)\n+'Оборотный капитал'!$H$42","v":0},{"$f":"SUM(Предпосылки!$H254:I254)\n+'Оборотный капитал'!$H$42","v":0},{"$f":"SUM(Предпосылки!$H254:J254)\n+'Оборотный капитал'!$H$42","v":0},{"$f":"SUM(Предпосылки!$H254:K254)\n+'Оборотный капитал'!$H$42","v":0},{"$f":"SUM(Предпосылки!$H254:L254)\n+'Оборотный капитал'!$H$42","v":0},{"$f":"SUM(Предпосылки!$H254:M254)\n+'Оборотный капитал'!$H$42","v":0},{"$f":"SUM(Предпосылки!$H254:N254)\n+'Оборотный капитал'!$H$42","v":0},{"$f":"SUM(Предпосылки!$H254:O254)\n+'Оборотный капитал'!$H$42","v":0},{"$f":"SUM(Предпосылки!$H254:P254)\n+'Оборотный капитал'!$H$42","v":0},{"$f":"SUM(Предпосылки!$H254:Q254)\n+'Оборотный капитал'!$H$42","v":0},{"$f":"SUM(Предпосылки!$H254:R254)\n+'Оборотный капитал'!$H$42","v":0},{"$f":"SUM(Предпосылки!$H254:S254)\n+'Оборотный капитал'!$H$42","v":0},{"$f":"SUM(Предпосылки!$H254:T254)\n+'Оборотный капитал'!$H$42","v":0},{"$f":"SUM(Предпосылки!$H254:U254)\n+'Оборотный капитал'!$H$42","v":0},{"$f":"SUM(Предпосылки!$H254:V254)\n+'Оборотный капитал'!$H$42","v":0},{"$f":"SUM(Предпосылки!$H254:W254)\n+'Оборотный капитал'!$H$42","v":0},{"$f":"SUM(Предпосылки!$H254:X254)\n+'Оборотный капитал'!$H$42","v":0},{"$f":"SUM(Предпосылки!$H254:Y254)\n+'Оборотный капитал'!$H$42","v":0},{"$f":"SUM(Предпосылки!$H254:Z254)\n+'Оборотный капитал'!$H$42","v":0},{"$f":"SUM(Предпосылки!$H254:AA254)\n+'Оборотный капитал'!$H$42","v":0},{"$f":"SUM(Предпосылки!$H254:AB254)\n+'Оборотный капитал'!$H$42","v":0}]
[null,null,"Добавочный капитал","тыс. руб.","Лист: Предпосылки",null,null,{"$f":"SUM(Предпосылки!$H255:H255)","v":0},{"$f":"SUM(Предпосылки!$H255:I255)","v":0},{"$f":"SUM(Предпосылки!$H255:J255)","v":0},{"$f":"SUM(Предпосылки!$H255:K255)","v":0},{"$f":"SUM(Предпосылки!$H255:L255)","v":0},{"$f":"SUM(Предпосылки!$H255:M255)","v":0},{"$f":"SUM(Предпосылки!$H255:N255)","v":0},{"$f":"SUM(Предпосылки!$H255:O255)","v":0},{"$f":"SUM(Предпосылки!$H255:P255)","v":0},{"$f":"SUM(Предпосылки!$H255:Q255)","v":0},{"$f":"SUM(Предпосылки!$H255:R255)","v":0},{"$f":"SUM(Предпосылки!$H255:S255)","v":0},{"$f":"SUM(Предпосылки!$H255:T255)","v":0},{"$f":"SUM(Предпосылки!$H255:U255)","v":0},{"$f":"SUM(Предпосылки!$H255:V255)","v":0},{"$f":"SUM(Предпосылки!$H255:W255)","v":0},{"$f":"SUM(Предпосылки!$H255:X255)","v":0},{"$f":"SUM(Предпосылки!$H255:Y255)","v":0},{"$f":"SUM(Предпосылки!$H255:Z255)","v":0},{"$f":"SUM(Предпосылки!$H255:AA255)","v":0},{"$f":"SUM(Предпосылки!$H255:AB255)","v":0}]
[null,null,"Нераспределенная прибыль","тыс. руб.","Расчет",null,null,{"$f":"G29+H71","v":0},0,0,0,0,0,0,0,0,0,0,0,0,0,0,0,0,0,0,0,0]
[]
[null,"IV. Долгосрочные обязательства",null,"тыс. руб.",null,null,null,{"$f":"H32","v":0},{"$f":"I32","v":0},0,0,0,0,0,0,0,0,0,0,0,0,0,0,0,0,0,0,0]
[null,null,"Кредиты и займы","тыс. руб.","Лист: Финансирование",null,null,{"$f":"Финансирование!H48","v":0},{"$f":"Финансирование!I48","v":0},{"$f":"Финансирование!J48","v":0},{"$f":"Финансирование!K48","v":0},{"$f":"Финансирование!L48","v":0},{"$f":"Финансирование!M48","v":0},{"$f":"Финансирование!N48","v":0},{"$f":"Финансирование!O48","v":0},{"$f":"Финансирование!P48","v":0},{"$f":"Финансирование!Q48","v":0},{"$f":"Финансирование!R48","v":0},{"$f":"Финансирование!S48","v":0},{"$f":"Финансирование!T48","v":0},{"$f":"Финансирование!U48","v":0},{"$f":"Финансирование!V48","v":0},{"$f":"Финансирование!W48","v":0},{"$f":"Финансирование!X48","v":0},{"$f":"Финансирование!Y48","v":0},{"$f":"Финансирование!Z48","v":0},{"$f":"Финансирование!AA48","v":0},{"$f":"Финансирование!AB48","v":0}]
[]
[null,"V. Краткосрочные обязательства",null,"тыс. руб.",null,null,null,{"$f":"SUM(H35:H36)","v":0},{"$f":"SUM(I35:I36)","v":0},0,0,0,0,0,0,0,0,0,0,0,0,0,{"$f":"SUM(W35:W36)","v":0},0,0,0,0,0]
[null,null,"Кредиты и займы","тыс. руб.","Лист: Финансирование",null,null,{"$f":"Финансирование!H86","v":0},{"$f":"Финансирование!I86","v":0},{"$f":"Финансирование!J86","v":0},{"$f":"Финансирование!K86","v":0},{"$f":"Финансирование!L86","v":0},{"$f":"Финансирование!M86","v":0},{"$f":"Финансирование!N86","v":0},{"$f":"Финансирование!O86","v":0},{"$f":"Финансирование!P86","v":0},{"$f":"Финансирование!Q86","v":0},{"$f":"Финансирование!R86","v":0},{"$f":"Финансирование!S86","v":0},{"$f":"Финансирование!T86","v":0},{"$f":"Финансирование!U86","v":0},{"$f":"Финансирование!V86","v":0},{"$f":"Финансирование!W86","v":0},{"$f":"Финансирование!X86","v":0},{"$f":"Финансирование!Y86","v":0},{"$f":"Финансирование!Z86","v":0},{"$f":"Финансирование!AA86","v":0},{"$f":"Финансирование!AB86","v":0}]
[null,null,"Кредиторская задолженность","тыс. руб.",null,null,null,{"$f":"SUM(H37:H40)","v":0},{"$f":"SUM(I37:I40)","v":0},{"$f":"SUM(J37:J40)","v":0},0,0,0,0,0,0,0,0,0,0,0,0,0,0,0,0,0,{"$f":"SUM(AB37:AB40)","v":0}]
[null,null,"Задолженность перед покупателями, поставщиками и подрядчиками","тыс. руб.","Лист: Оборотный капитал",null,null,{"$f":"'Оборотный капитал'!H112","v":0},{"$f":"'Оборотный капитал'!I112","v":0},{"$f":"'Оборотный капитал'!J112","v":0},{"$f":"'Оборотный капитал'!K112","v":0},{"$f":"'Оборотный капитал'!L112","v":0},{"$f":"'Оборотный капитал'!M112","v":0},{"$f":"'Оборотный капитал'!N112","v":0},{"$f":"'Оборотный капитал'!O112","v":0},{"$f":"'Оборотный капитал'!P112","v":0},{"$f":"'Оборотный капитал'!Q112","v":0},{"$f":"'Оборотный капитал'!R112","v":0},{"$f":"'Оборотный капитал'!S112","v":0},{"$f":"'Оборотный капитал'!T112","v":0},{"$f":"'Оборотный капитал'!U112","v":0},{"$f":"'Оборотный капитал'!V112","v":0},{"$f":"'Оборотный капитал'!W112","v":0},{"$f":"'Оборотный капитал'!X112","v":0},{"$f":"'Оборотный капитал'!Y112","v":0},{"$f":"'Оборотный капитал'!Z112","v":0},{"$f":"'Оборотный капитал'!AA112","v":0},{"$f":"'Оборотный капитал'!AB112","v":0}]
[null,null,"Задолженность по налогам и сборам","тыс. руб.","Лист: Оборотный капитал",null,null,{"$f":"'Оборотный капитал'!H128","v":0},{"$f":"'Оборотный капитал'!I128","v":0},{"$f":"'Оборотный капитал'!J128","v":0},{"$f":"'Оборотный капитал'!K128","v":0},{"$f":"'Оборотный капитал'!L128","v":0},{"$f":"'Оборотный капитал'!M128","v":0},{"$f":"'Оборотный капитал'!N128","v":0},{"$f":"'Оборотный капитал'!O128","v":0},{"$f":"'Оборотный капитал'!P128","v":0},{"$f":"'Оборотный капитал'!Q128","v":0},{"$f":"'Оборотный капитал'!R128","v":0},{"$f":"'Оборотный капитал'!S128","v":0},{"$f":"'Оборотный капитал'!T128","v":0},{"$f":"'Оборотный капитал'!U128","v":0},{"$f":"'Оборотный капитал'!V128","v":0},{"$f":"'Оборотный капитал'!W128","v":0},{"$f":"'Оборотный капитал'!X128","v":0},{"$f":"'Оборотный капитал'!Y128","v":0},{"$f":"'Оборотный капитал'!Z128","v":0},{"$f":"'Оборотный капитал'!AA128","v":0},{"$f":"'Оборотный капитал'!AB128","v":0}]
[null,null,"Задолженность по оплате труда","тыс. руб.","Лист: Оборотный капитал",null,null,{"$f":"'Оборотный капитал'!H115","v":0},{"$f":"'Оборотный капитал'!I115","v":0},{"$f":"'Оборотный капитал'!J115","v":0},{"$f":"'Оборотный капитал'!K115","v":0},{"$f":"'Оборотный капитал'!L115","v":0},{"$f":"'Оборотный капитал'!M115","v":0},{"$f":"'Оборотный капитал'!N115","v":0},{"$f":"'Оборотный капитал'!O115","v":0},{"$f":"'Оборотный капитал'!P115","v":0},{"$f":"'Оборотный капитал'!Q115","v":0},{"$f":"'Оборотный капитал'!R115","v":0},{"$f":"'Оборотный капитал'!S115","v":0},{"$f":"'Оборотный капитал'!T115","v":0},{"$f":"'Оборотный капитал'!U115","v":0},{"$f":"'Оборотный капитал'!V115","v":0},{"$f":"'Оборотный капитал'!W115","v":0},{"$f":"'Оборотный капитал'!X115","v":0},{"$f":"'Оборотный капитал'!Y115","v":0},{"$f":"'Оборотный капитал'!Z115","v":0},{"$f":"'Оборотный капитал'!AA115","v":0},{"$f":"'Оборотный капитал'!AB115","v":0}]
[null,null,"Задолженность по оплате процентов","тыс. руб.","Лист: Оборотный капитал",null,null,{"$f":"'Оборотный капитал'!H142","v":0},{"$f":"'Оборотный капитал'!I142","v":0},{"$f":"'Оборотный капитал'!J142","v":0},{"$f":"'Оборотный капитал'!K142","v":0},{"$f":"'Оборотный капитал'!L142","v":0},{"$f":"'Оборотный капитал'!M142","v":0},{"$f":"'Оборотный капитал'!N142","v":0},{"$f":"'Оборотный капитал'!O142","v":0},{"$f":"'Оборотный капитал'!P142","v":0},{"$f":"'Оборотный капитал'!Q142","v":0},{"$f":"'Оборотный капитал'!R142","v":0},{"$f":"'Оборотный капитал'!S142","v":0},{"$f":"'Оборотный капитал'!T142","v":0},{"$f":"'Оборотный капитал'!U142","v":0},{"$f":"'Оборотный капитал'!V142","v":0},{"$f":"'Оборотный капитал'!W142","v":0},{"$f":"'Оборотный капитал'!X142","v":0},{"$f":"'Оборотный капитал'!Y142","v":0},{"$f":"'Оборотный капитал'!Z142","v":0},{"$f":"'Оборотный капитал'!AA142","v":0},{"$f":"'Оборотный капитал'!AB142","v":0}]
[null,"ИТОГО ПАССИВЫ",null,"тыс. руб.",null,null,null,{"$f":"SUM(H26,H31,H34)","v":0},0,0,0,0,0,0,0,0,0,0,0,0,0,0,0,0,0,0,0,{"$f":"SUM(AB26,AB31,AB34)","v":0}]
[]
[null,null,"Проверка: равенство активов и пассивов",null,null,{"$f":"IF(COUNTIF(H43:AA43, \"Ошибка\") = 0, \"Верно\", \"Ошибка\")","v":"Верно"},null,{"$f":"IF(ROUND(H23-H41,2)=0, \"Верно\", \"Ошибка\")","v":"Верно"},"Верно","Верно","Верно","Верно","Верно","Верно","Верно","Верно","Верно","Верно","Верно","Верно","Верно","Верно","Верно","Верно","Верно","Верно","Верно",{"$f":"IF(ROUND(AB23-AB41,2)=0, \"Верно\", \"Ошибка\")","v":"Верно"}]
[null,null,null,null,null,null,null,{"$f":"H23-H41","v":0},0,0,0,0,0,0,0,0,0,0,0,0,0,0,0,0,0,0,0,{"$f":"AB23-AB41","v":0}]
[null,"Приложение к балансу"]
[]
[null,null,"Чистый оборотный капитал","тыс. руб.",null,null,null,{"$f":"H19+H21-H36","v":0},0,0,0,0,0,0,0,0,0,0,0,0,0,0,0,0,0,0,0,{"$f":"AB19+AB21-AB36","v":0}]
[null,null,"Долг","тыс. руб.",null,null,null,{"$f":"H32+H35","v":0},0,0,0,0,0,0,0,0,0,0,0,0,0,0,0,0,0,0,0,{"$f":"AB32+AB35","v":0}]
[null,null,"Чистый долг","тыс. руб.",null,null,null,{"$f":"H48-H22","v":0},0,0,0,0,0,0,0,0,0,0,0,0,0,0,0,0,0,0,0,{"$f":"AB48-AB22","v":0}]
[]
[null,"Отчет о финансовых результатах"]
[]
[null,"Выручка",null,"тыс. руб.","Лист: Выручка и себестоимость",null,null,{"$f":"'Выручка и себестоимость'!H17","v":0},{"$f":"'Выручка и себестоимость'!I17","v":0},{"$f":"'Выручка и себестоимость'!J17","v":0},{"$f":"'Выручка и себестоимость'!K17","v":0},{"$f":"'Выручка и себестоимость'!L17","v":0},{"$f":"'Выручка и себестоимость'!M17","v":0},{"$f":"'Выручка и себестоимость'!N17","v":0},{"$f":"'Выручка и себестоимость'!O17","v":0},{"$f":"'Выручка и себестоимость'!P17","v":0},{"$f":"'Выручка и себестоимость'!Q17","v":0},{"$f":"'Выручка и себестоимость'!R17","v":0},{"$f":"'Выручка и себестоимость'!S17","v":0},{"$f":"'Выручка и себестоимость'!T17","v":0},{"$f":"'Выручка и себестоимость'!U17","v":0},{"$f":"'Выручка и себестоимость'!V17","v":0},{"$f":"'Выручка и себестоимость'!W17","v":0},{"$f":"'Выручка и себестоимость'!X17","v":0},{"$f":"'Выручка и себестоимость'!Y17","v":0},{"$f":"'Выручка и себестоимость'!Z17","v":0},{"$f":"'Выручка и себестоимость'!AA17","v":0},{"$f":"'Выручка и себестоимость'!AB17","v":0}]
[null,null,"Себестоимость продаж (-)","тыс. руб.","Лист: Выручка и себестоимость",null,null,{"$f":"-IF(Предпосылки!$F$291=1,'Выручка и себестоимость'!H45,'Выручка и себестоимость'!H52)","v":0},{"$f":"-IF(Предпосылки!$F$291=1,'Выручка и себестоимость'!I45,'Выручка и себестоимость'!I52)","v":0},{"$f":"-IF(Предпосылки!$F$291=1,'Выручка и себестоимость'!J45,'Выручка и себестоимость'!J52)","v":0},{"$f":"-IF(Предпосылки!$F$291=1,'Выручка и себестоимость'!K45,'Выручка и себестоимость'!K52)","v":0},{"$f":"-IF(Предпосылки!$F$291=1,'Выручка и себестоимость'!L45,'Выручка и себестоимость'!L52)","v":0},{"$f":"-IF(Предпосылки!$F$291=1,'Выручка и себестоимость'!M45,'Выручка и себестоимость'!M52)","v":0},{"$f":"-IF(Предпосылки!$F$291=1,'Выручка и себестоимость'!N45,'Выручка и себестоимость'!N52)","v":0},{"$f":"-IF(Предпосылки!$F$291=1,'Выручка и себестоимость'!O45,'Выручка и себестоимость'!O52)","v":0},{"$f":"-IF(Предпосылки!$F$291=1,'Выручка и себестоимость'!P45,'Выручка и себестоимость'!P52)","v":0},{"$f":"-IF(Предпосылки!$F$291=1,'Выручка и себестоимость'!Q45,'Выручка и себестоимость'!Q52)","v":0},{"$f":"-IF(Предпосылки!$F$291=1,'Выручка и себестоимость'!R45,'Выручка и себестоимость'!R52)","v":0},{"$f":"-IF(Предпосылки!$F$291=1,'Выручка и себестоимость'!S45,'Выручка и себестоимость'!S52)","v":0},{"$f":"-IF(Предпосылки!$F$291=1,'Выручка и себестоимость'!T45,'Выручка и себестоимость'!T52)","v":0},{"$f":"-IF(Предпосылки!$F$291=1,'Выручка и себестоимость'!U45,'Выручка и себестоимость'!U52)","v":0},{"$f":"-IF(Предпосылки!$F$291=1,'Выручка и себестоимость'!V45,'Выручка и себестоимость'!V52)","v":0},{"$f":"-IF(Предпосылки!$F$291=1,'Выручка и себестоимость'!W45,'Выручка и себестоимость'!W52)","v":0},{"$f":"-IF(Предпосылки!$F$291=1,'Выручка и себестоимость'!X45,'Выручка и себестоимость'!X52)","v":0},{"$f":"-IF(Предпосылки!$F$291=1,'Выручка и себестоимость'!Y45,'Выручка и себестоимость'!Y52)","v":0},{"$f":"-IF(Предпосылки!$F$291=1,'Выручка и себестоимость'!Z45,'Выручка и себестоимость'!Z52)","v":0},{"$f":"-IF(Предпосылки!$F$291=1,'Выручка и себестоимость'!AA45,'Выручка и себестоимость'!AA52)","v":0},{"$f":"-IF(Предпосылки!$F$291=1,'Выручка и себестоимость'!AB45,'Выручка и себестоимость'!AB52)","v":0}]
[null,"Валовая прибыль (убыток)",null,"тыс. руб.",null,null,null,{"$f":"SUM(H53:H54)","v":0},{"$f":"SUM(I53:I54)","v":0},0,0,0,0,0,0,0,0,0,0,0,0,0,0,0,0,0,0,{"$f":"SUM(AB53:AB54)","v":0}]
[null,null,"Коммерческие расходы (-)","тыс. руб.","Лист: Операционные затраты",null,null,{"$f":"-Предпосылки!H99","v":0},{"$f":"-Предпосылки!I99","v":0},{"$f":"-Предпосылки!J99","v":0},{"$f":"-Предпосылки!K99","v":0},{"$f":"-Предпосылки!L99","v":0},{"$f":"-Предпосылки!M99","v":0},{"$f":"-Предпосылки!N99","v":0},{"$f":"-Предпосылки!O99","v":0},{"$f":"-Предпосылки!P99","v":0},{"$f":"-Предпосылки!Q99","v":0},{"$f":"-Предпосылки!R99","v":0},{"$f":"-Предпосылки!S99","v":0},{"$f":"-Предпосылки!T99","v":0},{"$f":"-Предпосылки!U99","v":0},{"$f":"-Предпосылки!V99","v":0},{"$f":"-Предпосылки!W99","v":0},{"$f":"-Предпосылки!X99","v":0},{"$f":"-Предпосылки!Y99","v":0},{"$f":"-Предпосылки!Z99","v":0},{"$f":"-Предпосылки!AA99","v":0},{"$f":"-Предпосылки!AB99","v":0}]
[null,null,"Управленческие расходы (-)","тыс. руб.","Лист: Операционные затраты",null,null,{"$f":"SUM(H58:H63)","v":0},{"$f":"SUM(I58:I63)","v":0},0,0,0,0,0,0,0,0,0,0,0,0,0,0,0,0,0,0,{"$f":"SUM(AB58:AB63)","v":0}]
[null,null,"Управленческие расходы (-)","тыс. руб.","Лист: Операционные затраты",null,null,{"$f":"-Предпосылки!H105","v":0},{"$f":"-Предпосылки!I105","v":0},{"$f":"-Предпосылки!J105","v":0},{"$f":"-Предпосылки!K105","v":0},{"$f":"-Предпосылки!L105","v":0},{"$f":"-Предпосылки!M105","v":0},{"$f":"-Предпосылки!N105","v":0},{"$f":"-Предпосылки!O105","v":0},{"$f":"-Предпосылки!P105","v":0},{"$f":"-Предпосылки!Q105","v":0},{"$f":"-Предпосылки!R105","v":0},{"$f":"-Предпосылки!S105","v":0},{"$f":"-Предпосылки!T105","v":0},{"$f":"-Предпосылки!U105","v":0},{"$f":"-Предпосылки!V105","v":0},{"$f":"-Предпосылки!W105","v":0},{"$f":"-Предпосылки!X105","v":0},{"$f":"-Предпосылки!Y105","v":0},{"$f":"-Предпосылки!Z105","v":0},{"$f":"-Предпосылки!AA105","v":0},{"$f":"-Предпосылки!AB105","v":0}]
[null,null,"Оплата труда административного персонала (-)","тыс. руб.","Лист: Операционные затраты",null,null,{"$f":"-IF(Предпосылки!$F$291=1,'Операционные затраты'!H79,'Операционные затраты'!H121)","v":0},{"$f":"-IF(Предпосылки!$F$291=1,'Операционные затраты'!I79,'Операционные затраты'!I121)","v":0},{"$f":"-IF(Предпосылки!$F$291=1,'Операционные затраты'!J79,'Операционные затраты'!J121)","v":0},{"$f":"-IF(Предпосылки!$F$291=1,'Операционные затраты'!K79,'Операционные затраты'!K121)","v":0},{"$f":"-IF(Предпосылки!$F$291=1,'Операционные затраты'!L79,'Операционные затраты'!L121)","v":0},{"$f":"-IF(Предпосылки!$F$291=1,'Операционные затраты'!M79,'Операционные затраты'!M121)","v":0},{"$f":"-IF(Предпосылки!$F$291=1,'Операционные затраты'!N79,'Операционные затраты'!N121)","v":0},{"$f":"-IF(Предпосылки!$F$291=1,'Операционные затраты'!O79,'Операционные затраты'!O121)","v":0},{"$f":"-IF(Предпосылки!$F$291=1,'Операционные затраты'!P79,'Операционные затраты'!P121)","v":0},{"$f":"-IF(Предпосылки!$F$291=1,'Операционные затраты'!Q79,'Операционные затраты'!Q121)","v":0},{"$f":"-IF(Предпосылки!$F$291=1,'Операционные затраты'!R79,'Операционные затраты'!R121)","v":0},{"$f":"-IF(Предпосылки!$F$291=1,'Операционные затраты'!S79,'Операционные затраты'!S121)","v":0},{"$f":"-IF(Предпосылки!$F$291=1,'Операционные затраты'!T79,'Операционные затраты'!T121)","v":0},{"$f":"-IF(Предпосылки!$F$291=1,'Операционные затраты'!U79,'Операционные затраты'!U121)","v":0},{"$f":"-IF(Предпосылки!$F$291=1,'Операционные затраты'!V79,'Операционные затраты'!V121)","v":0},{"$f":"-IF(Предпосылки!$F$291=1,'Операционные затраты'!W79,'Операционные затраты'!W121)","v":0},{"$f":"-IF(Предпосылки!$F$291=1,'Операционные затраты'!X79,'Операционные затраты'!X121)","v":0},{"$f":"-IF(Предпосылки!$F$291=1,'Операционные затраты'!Y79,'Операционные затраты'!Y121)","v":0},{"$f":"-IF(Предпосылки!$F$291=1,'Операционные затраты'!Z79,'Операционные затраты'!Z121)","v":0},{"$f":"-IF(Предпосылки!$F$291=1,'Операционные затраты'!AA79,'Операционные затраты'!AA121)","v":0},{"$f":"-IF(Предпосылки!$F$291=1,'Операционные затраты'!AB79,'Операционные затраты'!AB121)","v":0}]
[null,null,"Амортизация непроизводственных основных средств (-)","тыс. руб.","Лист: Капитальные вложения",null,null,{"$f":"-'Капитальные вложения'!H53","v":0},{"$f":"-'Капитальные вложения'!I53","v":0},{"$f":"-'Капитальные вложения'!J53","v":0},{"$f":"-'Капитальные вложения'!K53","v":0},{"$f":"-'Капитальные вложения'!L53","v":0},{"$f":"-'Капитальные вложения'!M53","v":0},{"$f":"-'Капитальные вложения'!N53","v":0},{"$f":"-'Капитальные вложения'!O53","v":0},{"$f":"-'Капитальные вложения'!P53","v":0},{"$f":"-'Капитальные вложения'!Q53","v":0},{"$f":"-'Капитальные вложения'!R53","v":0},{"$f":"-'Капитальные вложения'!S53","v":0},{"$f":"-'Капитальные вложения'!T53","v":0},{"$f":"-'Капитальные вложения'!U53","v":0},{"$f":"-'Капитальные вложения'!V53","v":0},{"$f":"-'Капитальные вложения'!W53","v":0},{"$f":"-'Капитальные вложения'!X53","v":0},{"$f":"-'Капитальные вложения'!Y53","v":0},{"$f":"-'Капитальные вложения'!Z53","v":0},{"$f":"-'Капитальные вложения'!AA53","v":0},{"$f":"-'Капитальные вложения'!AB53","v":0}]
[null,null,"Налог на имущество организаций (-)","тыс. руб.","Лист: Налоги",null,null,{"$f":"-Налоги!H188","v":0},{"$f":"-Налоги!I188","v":0},{"$f":"-Налоги!J188","v":0},{"$f":"-Налоги!K188","v":0},{"$f":"-Налоги!L188","v":0},{"$f":"-Налоги!M188","v":0},{"$f":"-Налоги!N188","v":0},{"$f":"-Налоги!O188","v":0},{"$f":"-Налоги!P188","v":0},{"$f":"-Налоги!Q188","v":0},{"$f":"-Налоги!R188","v":0},{"$f":"-Налоги!S188","v":0},{"$f":"-Налоги!T188","v":0},{"$f":"-Налоги!U188","v":0},{"$f":"-Налоги!V188","v":0},{"$f":"-Налоги!W188","v":0},{"$f":"-Налоги!X188","v":0},{"$f":"-Налоги!Y188","v":0},{"$f":"-Налоги!Z188","v":0},{"$f":"-Налоги!AA188","v":0},{"$f":"-Налоги!AB188","v":0}]
[null,null,"Транспортный налог (-)","тыс. руб.","Лист: Налоги",null,null,{"$f":"-Налоги!H202","v":0},{"$f":"-Налоги!I202","v":0},{"$f":"-Налоги!J202","v":0},{"$f":"-Налоги!K202","v":0},{"$f":"-Налоги!L202","v":0},{"$f":"-Налоги!M202","v":0},{"$f":"-Налоги!N202","v":0},{"$f":"-Налоги!O202","v":0},{"$f":"-Налоги!P202","v":0},{"$f":"-Налоги!Q202","v":0},{"$f":"-Налоги!R202","v":0},{"$f":"-Налоги!S202","v":0},{"$f":"-Налоги!T202","v":0},{"$f":"-Налоги!U202","v":0},{"$f":"-Налоги!V202","v":0},{"$f":"-Налоги!W202","v":0},{"$f":"-Налоги!X202","v":0},{"$f":"-Налоги!Y202","v":0},{"$f":"-Налоги!Z202","v":0},{"$f":"-Налоги!AA202","v":0},{"$f":"-Налоги!AB202","v":0}]
[null,null,"Земельный налог (-)","тыс. руб.","Лист: Налоги",null,null,{"$f":"-Налоги!H216","v":0},{"$f":"-Налоги!I216","v":0},{"$f":"-Налоги!J216","v":0},{"$f":"-Налоги!K216","v":0},{"$f":"-Налоги!L216","v":0},{"$f":"-Налоги!M216","v":0},{"$f":"-Налоги!N216","v":0},{"$f":"-Налоги!O216","v":0},{"$f":"-Налоги!P216","v":0},{"$f":"-Налоги!Q216","v":0},{"$f":"-Налоги!R216","v":0},{"$f":"-Налоги!S216","v":0},{"$f":"-Налоги!T216","v":0},{"$f":"-Налоги!U216","v":0},{"$f":"-Налоги!V216","v":0},{"$f":"-Налоги!W216","v":0},{"$f":"-Налоги!X216","v":0},{"$f":"-Налоги!Y216","v":0},{"$f":"-Налоги!Z216","v":0},{"$f":"-Налоги!AA216","v":0},{"$f":"-Налоги!AB216","v":0}]
[null,"Прибыль (убыток) от продаж",null,"тыс. руб.",null,null,null,{"$f":"SUM(H55:H57)","v":0},0,0,0,0,0,0,0,0,0,0,0,0,0,0,0,0,0,0,0,{"$f":"SUM(AB55:AB57)","v":0}]
[null,null,"Проценты к получению","тыс. руб."]
[null,null,"Проценты к уплате (-)","тыс. руб.","Лист: Финансирование",null,null,{"$f":"Финансирование!H47+Финансирование!H89","v":0},{"$f":"Финансирование!I47+Финансирование!I89","v":0},{"$f":"Финансирование!J47+Финансирование!J89","v":0},{"$f":"Финансирование!K47+Финансирование!K89","v":0},{"$f":"Финансирование!L47+Финансирование!L89","v":0},{"$f":"Финансирование!M47+Финансирование!M89","v":0},{"$f":"Финансирование!N47+Финансирование!N89","v":0},{"$f":"Финансирование!O47+Финансирование!O89","v":0},{"$f":"Финансирование!P47+Финансирование!P89","v":0},{"$f":"Финансирование!Q47+Финансирование!Q89","v":0},{"$f":"Финансирование!R47+Финансирование!R89","v":0},{"$f":"Финансирование!S47+Финансирование!S89","v":0},{"$f":"Финансирование!T47+Финансирование!T89","v":0},{"$f":"Финансирование!U47+Финансирование!U89","v":0},{"$f":"Финансирование!V47+Финансирование!V89","v":0},{"$f":"Финансирование!W47+Финансирование!W89","v":0},{"$f":"Финансирование!X47+Финансирование!X89","v":0},{"$f":"Финансирование!Y47+Финансирование!Y89","v":0},{"$f":"Финансирование!Z47+Финансирование!Z89","v":0},{"$f":"Финансирование!AA47+Финансирование!AA89","v":0},{"$f":"Финансирование!AB47+Финансирование!AB89","v":0}]
[null,null,"Прочие доходы (в т.ч. получение государственных субсидий)","тыс. руб.","Лист: Предпосылки",null,null,{"$f":"SUM(Предпосылки!H281:H282)","v":0},{"$f":"SUM(Предпосылки!I281:I282)","v":0},{"$f":"SUM(Предпосылки!J281:J282)","v":0},{"$f":"SUM(Предпосылки!K281:K282)","v":0},{"$f":"SUM(Предпосылки!L281:L282)","v":0},{"$f":"SUM(Предпосылки!M281:M282)","v":0},{"$f":"SUM(Предпосылки!N281:N282)","v":0},{"$f":"SUM(Предпосылки!O281:O282)","v":0},{"$f":"SUM(Предпосылки!P281:P282)","v":0},{"$f":"SUM(Предпосылки!Q281:Q282)","v":0},{"$f":"SUM(Предпосылки!R281:R282)","v":0},{"$f":"SUM(Предпосылки!S281:S282)","v":0},{"$f":"SUM(Предпосылки!T281:T282)","v":0},{"$f":"SUM(Предпосылки!U281:U282)","v":0},{"$f":"SUM(Предпосылки!V281:V282)","v":0},{"$f":"SUM(Предпосылки!W281:W282)","v":0},{"$f":"SUM(Предпосылки!X281:X282)","v":0},{"$f":"SUM(Предпосылки!Y281:Y282)","v":0},{"$f":"SUM(Предпосылки!Z281:Z282)","v":0},{"$f":"SUM(Предпосылки!AA281:AA282)","v":0},{"$f":"SUM(Предпосылки!AB281:AB282)","v":0}]
[null,null,"Прочие расходы (-)","тыс. руб.","Лист: Операционные затраты",null,null,{"$f":"-Предпосылки!H114","v":0},{"$f":"-Предпосылки!I114","v":0},{"$f":"-Предпосылки!J114","v":0},{"$f":"-Предпосылки!K114","v":0},{"$f":"-Предпосылки!L114","v":0},{"$f":"-Предпосылки!M114","v":0},{"$f":"-Предпосылки!N114","v":0},{"$f":"-Предпосылки!O114","v":0},{"$f":"-Предпосылки!P114","v":0},{"$f":"-Предпосылки!Q114","v":0},{"$f":"-Предпосылки!R114","v":0},{"$f":"-Предпосылки!S114","v":0},{"$f":"-Предпосылки!T114","v":0},{"$f":"-Предпосылки!U114","v":0},{"$f":"-Предпосылки!V114","v":0},{"$f":"-Предпосылки!W114","v":0},{"$f":"-Предпосылки!X114","v":0},{"$f":"-Предпосылки!Y114","v":0},{"$f":"-Предпосылки!Z114","v":0},{"$f":"-Предпосылки!AA114","v":0},{"$f":"-Предпосылки!AB114","v":0}]
[null,"Прибыль  (убыток) до налогообложения",null,"тыс. руб.",null,null,null,{"$f":"SUM(H64:H68)","v":0},0,0,0,0,0,0,0,0,0,0,0,0,0,0,0,0,0,0,0,{"$f":"SUM(AB64:AB68)","v":0}]
[null,null,"Налог на прибыль (-)","тыс. руб.","Лист: Налоги",null,null,{"$f":"-Налоги!H150","v":0},{"$f":"-Налоги!I150","v":0},{"$f":"-Налоги!J150","v":0},{"$f":"-Налоги!K150","v":0},{"$f":"-Налоги!L150","v":0},{"$f":"-Налоги!M150","v":0},{"$f":"-Налоги!N150","v":0},{"$f":"-Налоги!O150","v":0},{"$f":"-Налоги!P150","v":0},{"$f":"-Налоги!Q150","v":0},{"$f":"-Налоги!R150","v":0},{"$f":"-Налоги!S150","v":0},{"$f":"-Налоги!T150","v":0},{"$f":"-Налоги!U150","v":0},{"$f":"-Налоги!V150","v":0},{"$f":"-Налоги!W150","v":0},{"$f":"-Налоги!X150","v":0},{"$f":"-Налоги!Y150","v":0},{"$f":"-Налоги!Z150","v":0},{"$f":"-Налоги!AA150","v":0},{"$f":"-Налоги!AB150","v":0}]
[null,"Чистая прибыль (убыток)",null,"тыс. руб.",null,null,null,{"$f":"SUM(H69:H70)","v":0},{"$f":"SUM(I69:I70)","v":0},0,0,0,0,0,0,0,0,0,0,0,0,0,0,0,0,0,0,{"$f":"SUM(AB69:AB70)","v":0}]
[]
[null,"Приложение к отчету о финансовых результатах"]
[]
[null,"Проектная операционная прибыль",null,"тыс. руб.",null,null,null,{"$f":"SUM(H76)-SUM(H77:H78,H80:H83)","v":0},0,0,0,0,0,0,0,0,0,0,0,0,0,0,0,0,0,0,0,{"$f":"SUM(AB76)-SUM(AB77:AB78,AB80:AB83)","v":0}]
[null,null,"Прибыль (убыток) до налогообложения","тыс. руб.",null,null,null,{"$f":"H69","v":0},{"$f":"I69","v":0},0,0,0,0,0,0,0,0,0,0,0,0,0,0,0,0,0,0,{"$f":"AB69","v":0}]
[null,null,"Проценты к уплате по долговым обязательствам, связанным с реализацией Проекта (-)","тыс. руб.",null,null,null,{"$f":"H66","v":0},{"$f":"I66","v":0},0,0,0,0,0,0,0,0,0,0,0,0,0,0,0,0,0,0,{"$f":"AB66","v":0}]
[null,null,"Проценты к получению по долговым обязательствам, связанным с реализацией Проекта","тыс. руб.",null,null,null,{"$f":"H65","v":0},0,0,0,0,0,0,0,0,0,0,0,0,0,0,0,0,0,0,0,{"$f":"AB65","v":0}]
[null,null,"Корректировка на составляющие строк ОФР \"Прочие доходы\" и \"Прочие расходы\", исключаемые из расчета проектной операционной прибыли (требуют заполнения в случае, если данные статьи отражены в  ОФР данной финансовой модели):"]
[null,null,"Положительные (отрицательные) курсовые разницы","тыс. руб."]
[null,null,"Отчисления в резервы (восстановление резервов)","тыс. руб."]
[null,null,"Доходы (расходы), связанные с обстоятельствами чрезвычайного характера","тыс. руб."]
[null,null,"Иные доходы (расходы) не связанные с реализацией инвестиционного проекта","тыс. руб."]
[]
[]
[null,null,"Проверка: выход на проектную операционную прибыль в течение срока СПИК",null,null,{"$f":"IF(COUNTIF(H86:AA86, 1) > 0, \"Верно\", \"Ошибка\")","v":"Ошибка"},null,{"$f":"IF(H75>0,1,0)","v":0},0,0,0,0,0,0,{"$f":"IF(O75>0,1,0)","v":0},{"$f":"IF(P75>0,1,0)","v":0},0,0,0,0,0,0,0,0,0,0,0,{"$f":"IF(AB75>0,1,0)","v":0}]
[]
[null,null,"Расчет срока действия СПИК",null,null,{"$f":"SUM(H88:AA88)","v":1},null,{"$f":"IF(Предпосылки!H8=0,0,\nIF(OR(SUM($G$86:G86)>=6,\nSUM($G$88:G88)>=10),0,1))","v":1},{"$f":"IF(Предпосылки!I8=0,0,\nIF(OR(SUM($G$86:H86)>=6,\nSUM($G$88:H88)>=10),0,1))","v":0},{"$f":"IF(Предпосылки!J8=0,0,\nIF(OR(SUM($G$86:I86)>=6,\nSUM($G$88:I88)>=10),0,1))","v":0},{"$f":"IF(Предпосылки!K8=0,0,\nIF(OR(SUM($G$86:J86)>=6,\nSUM($G$88:J88)>=10),0,1))","v":0},{"$f":"IF(Предпосылки!L8=0,0,\nIF(OR(SUM($G$86:K86)>=6,\nSUM($G$88:K88)>=10),0,1))","v":0},{"$f":"IF(Предпосылки!M8=0,0,\nIF(OR(SUM($G$86:L86)>=6,\nSUM($G$88:L88)>=10),0,1))","v":0},{"$f":"IF(Предпосылки!N8=0,0,\nIF(OR(SUM($G$86:M86)>=6,\nSUM($G$88:M88)>=10),0,1))","v":0},{"$f":"IF(Предпосылки!O8=0,0,\nIF(OR(SUM($G$86:N86)>=6,\nSUM($G$88:N88)>=10),0,1))","v":0},{"$f":"IF(Предпосылки!P8=0,0,\nIF(OR(SUM($G$86:O86)>=6,\nSUM($G$88:O88)>=10),0,1))","v":0},{"$f":"IF(Предпосылки!Q8=0,0,\nIF(OR(SUM($G$86:P86)>=6,\nSUM($G$88:P88)>=10),0,1))","v":0},{"$f":"IF(Предпосылки!R8=0,0,\nIF(OR(SUM($G$86:Q86)>=6,\nSUM($G$88:Q88)>=10),0,1))","v":0},{"$f":"IF(Предпосылки!S8=0,0,\nIF(OR(SUM($G$86:R86)>=6,\nSUM($G$88:R88)>=10),0,1))","v":0},{"$f":"IF(Предпосылки!T8=0,0,\nIF(OR(SUM($G$86:S86)>=6,\nSUM($G$88:S88)>=10),0,1))","v":0},{"$f":"IF(Предпосылки!U8=0,0,\nIF(OR(SUM($G$86:T86)>=6,\nSUM($G$88:T88)>=10),0,1))","v":0},{"$f":"IF(Предпосылки!V8=0,0,\nIF(OR(SUM($G$86:U86)>=6,\nSUM($G$88:U88)>=10),0,1))","v":0},{"$f":"IF(Предпосылки!W8=0,0,\nIF(OR(SUM($G$86:V86)>=6,\nSUM($G$88:V88)>=10),0,1))","v":0},{"$f":"IF(Предпосылки!X8=0,0,\nIF(OR(SUM($G$86:W86)>=6,\nSUM($G$88:W88)>=10),0,1))","v":0},{"$f":"IF(Предпосылки!Y8=0,0,\nIF(OR(SUM($G$86:X86)>=6,\nSUM($G$88:X88)>=10),0,1))","v":0},{"$f":"IF(Предпосылки!Z8=0,0,\nIF(OR(SUM($G$86:Y86)>=6,\nSUM($G$88:Y88)>=10),0,1))","v":0},{"$f":"IF(Предпосылки!AA8=0,0,\nIF(OR(SUM($G$86:Z86)>=6,\nSUM($G$88:Z88)>=10),0,1))","v":0},{"$f":"IF(Предпосылки!AB8=0,0,\nIF(OR(SUM($G$86:AA86)>=6,\nSUM($G$88:AA88)>=10),0,1))","v":0}]
[null,null,"Проверка заявленного срока действия СПИК",null,null,{"$f":"IF(MIN($H$89:$AA$89)=1,\"Верно\",\"Ошибка\")","v":"Верно"},null,{"$f":"IF(Предпосылки!H8>'Отчетность (СПИК)'!H88,0,1)","v":1},{"$f":"IF(Предпосылки!I8>'Отчетность (СПИК)'!I88,0,1)","v":1},{"$f":"IF(Предпосылки!J8>'Отчетность (СПИК)'!J88,0,1)","v":1},{"$f":"IF(Предпосылки!K8>'Отчетность (СПИК)'!K88,0,1)","v":1},{"$f":"IF(Предпосылки!L8>'Отчетность (СПИК)'!L88,0,1)","v":1},{"$f":"IF(Предпосылки!M8>'Отчетность (СПИК)'!M88,0,1)","v":1},{"$f":"IF(Предпосылки!N8>'Отчетность (СПИК)'!N88,0,1)","v":1},{"$f":"IF(Предпосылки!O8>'Отчетность (СПИК)'!O88,0,1)","v":1},{"$f":"IF(Предпосылки!P8>'Отчетность (СПИК)'!P88,0,1)","v":1},{"$f":"IF(Предпосылки!Q8>'Отчетность (СПИК)'!Q88,0,1)","v":1},{"$f":"IF(Предпосылки!R8>'Отчетность (СПИК)'!R88,0,1)","v":1},{"$f":"IF(Предпосылки!S8>'Отчетность (СПИК)'!S88,0,1)","v":1},{"$f":"IF(Предпосылки!T8>'Отчетность (СПИК)'!T88,0,1)","v":1},{"$f":"IF(Предпосылки!U8>'Отчетность (СПИК)'!U88,0,1)","v":1},{"$f":"IF(Предпосылки!V8>'Отчетность (СПИК)'!V88,0,1)","v":1},{"$f":"IF(Предпосылки!W8>'Отчетность (СПИК)'!W88,0,1)","v":1},{"$f":"IF(Предпосылки!X8>'Отчетность (СПИК)'!X88,0,1)","v":1},{"$f":"IF(Предпосылки!Y8>'Отчетность (СПИК)'!Y88,0,1)","v":1},{"$f":"IF(Предпосылки!Z8>'Отчетность (СПИК)'!Z88,0,1)","v":1},{"$f":"IF(Предпосылки!AA8>'Отчетность (СПИК)'!AA88,0,1)","v":1},{"$f":"IF(Предпосылки!AB8>'Отчетность (СПИК)'!AB88,0,1)","v":1}]
[]
[null,"EBIT",null,"тыс. руб.",null,null,null,{"$f":"H69- SUM(H65:H66)","v":0},0,0,0,0,0,0,0,0,0,0,0,0,0,0,0,0,0,0,0,{"$f":"AB69- SUM(AB65:AB66)","v":0}]
[null,"Амортизация за период",null,"тыс. руб.","Лист: Капитальные вложения",null,null,{"$f":"'Капитальные вложения'!H51","v":0},{"$f":"'Капитальные вложения'!I51","v":0},{"$f":"'Капитальные вложения'!J51","v":0},{"$f":"'Капитальные вложения'!K51","v":0},{"$f":"'Капитальные вложения'!L51","v":0},{"$f":"'Капитальные вложения'!M51","v":0},{"$f":"'Капитальные вложения'!N51","v":0},{"$f":"'Капитальные вложения'!O51","v":0},{"$f":"'Капитальные вложения'!P51","v":0},{"$f":"'Капитальные вложения'!Q51","v":0},{"$f":"'Капитальные вложения'!R51","v":0},{"$f":"'Капитальные вложения'!S51","v":0},{"$f":"'Капитальные вложения'!T51","v":0},{"$f":"'Капитальные вложения'!U51","v":0},{"$f":"'Капитальные вложения'!V51","v":0},{"$f":"'Капитальные вложения'!W51","v":0},{"$f":"'Капитальные вложения'!X51","v":0},{"$f":"'Капитальные вложения'!Y51","v":0},{"$f":"'Капитальные вложения'!Z51","v":0},{"$f":"'Капитальные вложения'!AA51","v":0},{"$f":"'Капитальные вложения'!AB51","v":0}]
[null,"EBITDA",null,"тыс. руб.",null,null,null,{"$f":"H91+H92","v":0},{"$f":"I91+I92","v":0},0,0,0,0,0,0,0,0,0,0,0,0,0,0,0,0,0,0,{"$f":"AB91+AB92","v":0}]
[]
[null,"Отчет о движении денежных средств"]
[]
[null,"Денежный поток от операционной деятельности:"]
[]
[null,"Поступления - всего:",null,"тыс. руб.",null,null,null,{"$f":"SUM(H100:H102)","v":0},{"$f":"SUM(I100:I102)","v":0},0,0,0,0,0,0,0,0,0,0,0,0,0,0,0,0,0,0,{"$f":"SUM(AB100:AB102)","v":0}]
[null,null,"От продажи продукции, товаров, работ и услуг","тыс. руб.","Лист: Оборотный капитал",null,null,{"$f":"'Оборотный капитал'!H58","v":0},{"$f":"'Оборотный капитал'!I58","v":0},{"$f":"'Оборотный капитал'!J58","v":0},{"$f":"'Оборотный капитал'!K58","v":0},{"$f":"'Оборотный капитал'!L58","v":0},{"$f":"'Оборотный капитал'!M58","v":0},{"$f":"'Оборотный капитал'!N58","v":0},{"$f":"'Оборотный капитал'!O58","v":0},{"$f":"'Оборотный капитал'!P58","v":0},{"$f":"'Оборотный капитал'!Q58","v":0},{"$f":"'Оборотный капитал'!R58","v":0},{"$f":"'Оборотный капитал'!S58","v":0},{"$f":"'Оборотный капитал'!T58","v":0},{"$f":"'Оборотный капитал'!U58","v":0},{"$f":"'Оборотный капитал'!V58","v":0},{"$f":"'Оборотный капитал'!W58","v":0},{"$f":"'Оборотный капитал'!X58","v":0},{"$f":"'Оборотный капитал'!Y58","v":0},{"$f":"'Оборотный капитал'!Z58","v":0},{"$f":"'Оборотный капитал'!AA58","v":0},{"$f":"'Оборотный капитал'!AB58","v":0}]
[null,null,"Возмещение НДС","тыс. руб.","Лист: Налоги",null,null,{"$f":"Налоги!H22","v":0},{"$f":"Налоги!I22","v":0},{"$f":"Налоги!J22","v":0},{"$f":"Налоги!K22","v":0},{"$f":"Налоги!L22","v":0},{"$f":"Налоги!M22","v":0},{"$f":"Налоги!N22","v":0},{"$f":"Налоги!O22","v":0},{"$f":"Налоги!P22","v":0},{"$f":"Налоги!Q22","v":0},{"$f":"Налоги!R22","v":0},{"$f":"Налоги!S22","v":0},{"$f":"Налоги!T22","v":0},{"$f":"Налоги!U22","v":0},{"$f":"Налоги!V22","v":0},{"$f":"Налоги!W22","v":0},{"$f":"Налоги!X22","v":0},{"$f":"Налоги!Y22","v":0},{"$f":"Налоги!Z22","v":0},{"$f":"Налоги!AA22","v":0},{"$f":"Налоги!AB22","v":0}]
[null,null,"Получение государственных субсидий (на покрытие операционных расходов)","тыс. руб.","Лист: Предпосылки",null,null,{"$f":"Предпосылки!H281","v":0},{"$f":"Предпосылки!I281","v":0},{"$f":"Предпосылки!J281","v":0},{"$f":"Предпосылки!K281","v":0},{"$f":"Предпосылки!L281","v":0},{"$f":"Предпосылки!M281","v":0},{"$f":"Предпосылки!N281","v":0},{"$f":"Предпосылки!O281","v":0},{"$f":"Предпосылки!P281","v":0},{"$f":"Предпосылки!Q281","v":0},{"$f":"Предпосылки!R281","v":0},{"$f":"Предпосылки!S281","v":0},{"$f":"Предпосылки!T281","v":0},{"$f":"Предпосылки!U281","v":0},{"$f":"Предпосылки!V281","v":0},{"$f":"Предпосылки!W281","v":0},{"$f":"Предпосылки!X281","v":0},{"$f":"Предпосылки!Y281","v":0},{"$f":"Предпосылки!Z281","v":0},{"$f":"Предпосылки!AA281","v":0},{"$f":"Предпосылки!AB281","v":0}]
[]
[null,"Платежи - всего:",null,"тыс. руб.",null,null,null,{"$f":"SUM(H105:H113)","v":0},0,0,0,0,0,0,0,0,0,0,0,0,0,0,0,0,0,0,0,{"$f":"SUM(AB105:AB113)","v":0}]
[null,null,"Платежи поставщикам (подрядчикам) за сырье, материалы, работы, услуги  (-)","тыс. руб.","Лист: Оборотный капитал",null,null,{"$f":"-('Оборотный капитал'!H74+'Оборотный капитал'!H88+'Оборотный капитал'!H95)","v":0},{"$f":"-('Оборотный капитал'!I74+'Оборотный капитал'!I88+'Оборотный капитал'!I95)","v":0},{"$f":"-('Оборотный капитал'!J74+'Оборотный капитал'!J88+'Оборотный капитал'!J95)","v":0},{"$f":"-('Оборотный капитал'!K74+'Оборотный капитал'!K88+'Оборотный капитал'!K95)","v":0},{"$f":"-('Оборотный капитал'!L74+'Оборотный капитал'!L88+'Оборотный капитал'!L95)","v":0},{"$f":"-('Оборотный капитал'!M74+'Оборотный капитал'!M88+'Оборотный капитал'!M95)","v":0},{"$f":"-('Оборотный капитал'!N74+'Оборотный капитал'!N88+'Оборотный капитал'!N95)","v":0},{"$f":"-('Оборотный капитал'!O74+'Оборотный капитал'!O88+'Оборотный капитал'!O95)","v":0},{"$f":"-('Оборотный капитал'!P74+'Оборотный капитал'!P88+'Оборотный капитал'!P95)","v":0},{"$f":"-('Оборотный капитал'!Q74+'Оборотный капитал'!Q88+'Оборотный капитал'!Q95)","v":0},{"$f":"-('Оборотный капитал'!R74+'Оборотный капитал'!R88+'Оборотный капитал'!R95)","v":0},{"$f":"-('Оборотный капитал'!S74+'Оборотный капитал'!S88+'Оборотный капитал'!S95)","v":0},{"$f":"-('Оборотный капитал'!T74+'Оборотный капитал'!T88+'Оборотный капитал'!T95)","v":0},{"$f":"-('Оборотный капитал'!U74+'Оборотный капитал'!U88+'Оборотный капитал'!U95)","v":0},{"$f":"-('Оборотный капитал'!V74+'Оборотный капитал'!V88+'Оборотный капитал'!V95)","v":0},{"$f":"-('Оборотный капитал'!W74+'Оборотный капитал'!W88+'Оборотный капитал'!W95)","v":0},{"$f":"-('Оборотный капитал'!X74+'Оборотный капитал'!X88+'Оборотный капитал'!X95)","v":0},{"$f":"-('Оборотный капитал'!Y74+'Оборотный капитал'!Y88+'Оборотный капитал'!Y95)","v":0},{"$f":"-('Оборотный капитал'!Z74+'Оборотный капитал'!Z88+'Оборотный капитал'!Z95)","v":0},{"$f":"-('Оборотный капитал'!AA74+'Оборотный капитал'!AA88+'Оборотный капитал'!AA95)","v":0},{"$f":"-('Оборотный капитал'!AB74+'Оборотный капитал'!AB88+'Оборотный капитал'!AB95)","v":0}]
[null,null,"Оплата труда работников в том числе НДФЛ (-)","тыс. руб.","Лист: Операционные затраты",null,null,{"$f":"'Операционные затраты'!H128","v":0},{"$f":"'Операционные затраты'!I128","v":0},{"$f":"'Операционные затраты'!J128","v":0},{"$f":"'Операционные затраты'!K128","v":0},{"$f":"'Операционные затраты'!L128","v":0},{"$f":"'Операционные затраты'!M128","v":0},{"$f":"'Операционные затраты'!N128","v":0},{"$f":"'Операционные затраты'!O128","v":0},{"$f":"'Операционные затраты'!P128","v":0},{"$f":"'Операционные затраты'!Q128","v":0},{"$f":"'Операционные затраты'!R128","v":0},{"$f":"'Операционные затраты'!S128","v":0},{"$f":"'Операционные затраты'!T128","v":0},{"$f":"'Операционные затраты'!U128","v":0},{"$f":"'Операционные затраты'!V128","v":0},{"$f":"'Операционные затраты'!W128","v":0},{"$f":"'Операционные затраты'!X128","v":0},{"$f":"'Операционные затраты'!Y128","v":0},{"$f":"'Операционные затраты'!Z128","v":0},{"$f":"'Операционные затраты'!AA128","v":0},{"$f":"'Операционные затраты'!AB128","v":0}]
[null,null,"Погашение процентов по долговым обязательствам  (-)","тыс. руб.","Лист: Финансирование",null,null,{"$f":"Финансирование!H114","v":0},{"$f":"Финансирование!I114","v":0},{"$f":"Финансирование!J114","v":0},{"$f":"Финансирование!K114","v":0},{"$f":"Финансирование!L114","v":0},{"$f":"Финансирование!M114","v":0},{"$f":"Финансирование!N114","v":0},{"$f":"Финансирование!O114","v":0},{"$f":"Финансирование!P114","v":0},{"$f":"Финансирование!Q114","v":0},{"$f":"Финансирование!R114","v":0},{"$f":"Финансирование!S114","v":0},{"$f":"Финансирование!T114","v":0},{"$f":"Финансирование!U114","v":0},{"$f":"Финансирование!V114","v":0},{"$f":"Финансирование!W114","v":0},{"$f":"Финансирование!X114","v":0},{"$f":"Финансирование!Y114","v":0},{"$f":"Финансирование!Z114","v":0},{"$f":"Финансирование!AA114","v":0},{"$f":"Финансирование!AB114","v":0}]
[null,null,"Уплата НДС  (-)","тыс. руб.","Лист: Налоги",null,null,{"$f":"Налоги!H27","v":0},{"$f":"Налоги!I27","v":0},{"$f":"Налоги!J27","v":0},{"$f":"Налоги!K27","v":0},{"$f":"Налоги!L27","v":0},{"$f":"Налоги!M27","v":0},{"$f":"Налоги!N27","v":0},{"$f":"Налоги!O27","v":0},{"$f":"Налоги!P27","v":0},{"$f":"Налоги!Q27","v":0},{"$f":"Налоги!R27","v":0},{"$f":"Налоги!S27","v":0},{"$f":"Налоги!T27","v":0},{"$f":"Налоги!U27","v":0},{"$f":"Налоги!V27","v":0},{"$f":"Налоги!W27","v":0},{"$f":"Налоги!X27","v":0},{"$f":"Налоги!Y27","v":0},{"$f":"Налоги!Z27","v":0},{"$f":"Налоги!AA27","v":0},{"$f":"Налоги!AB27","v":0}]
[null,null,"Уплата налога на имущество  (-)","тыс. руб.","Лист: Налоги",null,null,{"$f":"Налоги!H237","v":0},{"$f":"Налоги!I237","v":0},{"$f":"Налоги!J237","v":0},{"$f":"Налоги!K237","v":0},{"$f":"Налоги!L237","v":0},{"$f":"Налоги!M237","v":0},{"$f":"Налоги!N237","v":0},{"$f":"Налоги!O237","v":0},{"$f":"Налоги!P237","v":0},{"$f":"Налоги!Q237","v":0},{"$f":"Налоги!R237","v":0},{"$f":"Налоги!S237","v":0},{"$f":"Налоги!T237","v":0},{"$f":"Налоги!U237","v":0},{"$f":"Налоги!V237","v":0},{"$f":"Налоги!W237","v":0},{"$f":"Налоги!X237","v":0},{"$f":"Налоги!Y237","v":0},{"$f":"Налоги!Z237","v":0},{"$f":"Налоги!AA237","v":0},{"$f":"Налоги!AB237","v":0}]
[null,null,"Уплата налога на прибыль  (-)","тыс. руб.","Лист: Налоги",null,null,{"$f":"Налоги!H232+Налоги!H236","v":0},{"$f":"Налоги!I232+Налоги!I236","v":0},{"$f":"Налоги!J232+Налоги!J236","v":0},{"$f":"Налоги!K232+Налоги!K236","v":0},{"$f":"Налоги!L232+Налоги!L236","v":0},{"$f":"Налоги!M232+Налоги!M236","v":0},{"$f":"Налоги!N232+Налоги!N236","v":0},{"$f":"Налоги!O232+Налоги!O236","v":0},{"$f":"Налоги!P232+Налоги!P236","v":0},{"$f":"Налоги!Q232+Налоги!Q236","v":0},{"$f":"Налоги!R232+Налоги!R236","v":0},{"$f":"Налоги!S232+Налоги!S236","v":0},{"$f":"Налоги!T232+Налоги!T236","v":0},{"$f":"Налоги!U232+Налоги!U236","v":0},{"$f":"Налоги!V232+Налоги!V236","v":0},{"$f":"Налоги!W232+Налоги!W236","v":0},{"$f":"Налоги!X232+Налоги!X236","v":0},{"$f":"Налоги!Y232+Налоги!Y236","v":0},{"$f":"Налоги!Z232+Налоги!Z236","v":0},{"$f":"Налоги!AA232+Налоги!AA236","v":0},{"$f":"Налоги!AB232+Налоги!AB236","v":0}]
[null,null,"Уплата транспортного налога (-)","тыс. руб.","Лист: Налоги",null,null,{"$f":"Налоги!H239","v":0},{"$f":"Налоги!I239","v":0},{"$f":"Налоги!J239","v":0},{"$f":"Налоги!K239","v":0},{"$f":"Налоги!L239","v":0},{"$f":"Налоги!M239","v":0},{"$f":"Налоги!N239","v":0},{"$f":"Налоги!O239","v":0},{"$f":"Налоги!P239","v":0},{"$f":"Налоги!Q239","v":0},{"$f":"Налоги!R239","v":0},{"$f":"Налоги!S239","v":0},{"$f":"Налоги!T239","v":0},{"$f":"Налоги!U239","v":0},{"$f":"Налоги!V239","v":0},{"$f":"Налоги!W239","v":0},{"$f":"Налоги!X239","v":0},{"$f":"Налоги!Y239","v":0},{"$f":"Налоги!Z239","v":0},{"$f":"Налоги!AA239","v":0},{"$f":"Налоги!AB239","v":0}]
[null,null,"Уплата земельного налога (-)","тыс. руб.","Лист: Налоги",null,null,{"$f":"Налоги!H242","v":0},{"$f":"Налоги!I242","v":0},{"$f":"Налоги!J242","v":0},{"$f":"Налоги!K242","v":0},{"$f":"Налоги!L242","v":0},{"$f":"Налоги!M242","v":0},{"$f":"Налоги!N242","v":0},{"$f":"Налоги!O242","v":0},{"$f":"Налоги!P242","v":0},{"$f":"Налоги!Q242","v":0},{"$f":"Налоги!R242","v":0},{"$f":"Налоги!S242","v":0},{"$f":"Налоги!T242","v":0},{"$f":"Налоги!U242","v":0},{"$f":"Налоги!V242","v":0},{"$f":"Налоги!W242","v":0},{"$f":"Налоги!X242","v":0},{"$f":"Налоги!Y242","v":0},{"$f":"Налоги!Z242","v":0},{"$f":"Налоги!AA242","v":0},{"$f":"Налоги!AB242","v":0}]
[null,null,"Уплата страховых взносов  (-)","тыс. руб.","Лист: Операционные затраты",null,null,{"$f":"IF(Предпосылки!$F$291=1,'Операционные затраты'!H138,'Операционные затраты'!H164)","v":0},{"$f":"IF(Предпосылки!$F$291=1,'Операционные затраты'!I138,'Операционные затраты'!I164)","v":0},{"$f":"IF(Предпосылки!$F$291=1,'Операционные затраты'!J138,'Операционные затраты'!J164)","v":0},{"$f":"IF(Предпосылки!$F$291=1,'Операционные затраты'!K138,'Операционные затраты'!K164)","v":0},{"$f":"IF(Предпосылки!$F$291=1,'Операционные затраты'!L138,'Операционные затраты'!L164)","v":0},{"$f":"IF(Предпосылки!$F$291=1,'Операционные затраты'!M138,'Операционные затраты'!M164)","v":0},{"$f":"IF(Предпосылки!$F$291=1,'Операционные затраты'!N138,'Операционные затраты'!N164)","v":0},{"$f":"IF(Предпосылки!$F$291=1,'Операционные затраты'!O138,'Операционные затраты'!O164)","v":0},{"$f":"IF(Предпосылки!$F$291=1,'Операционные затраты'!P138,'Операционные затраты'!P164)","v":0},{"$f":"IF(Предпосылки!$F$291=1,'Операционные затраты'!Q138,'Операционные затраты'!Q164)","v":0},{"$f":"IF(Предпосылки!$F$291=1,'Операционные затраты'!R138,'Операционные затраты'!R164)","v":0},{"$f":"IF(Предпосылки!$F$291=1,'Операционные затраты'!S138,'Операционные затраты'!S164)","v":0},{"$f":"IF(Предпосылки!$F$291=1,'Операционные затраты'!T138,'Операционные затраты'!T164)","v":0},{"$f":"IF(Предпосылки!$F$291=1,'Операционные затраты'!U138,'Операционные затраты'!U164)","v":0},{"$f":"IF(Предпосылки!$F$291=1,'Операционные затраты'!V138,'Операционные затраты'!V164)","v":0},{"$f":"IF(Предпосылки!$F$291=1,'Операционные затраты'!W138,'Операционные затраты'!W164)","v":0},{"$f":"IF(Предпосылки!$F$291=1,'Операционные затраты'!X138,'Операционные затраты'!X164)","v":0},{"$f":"IF(Предпосылки!$F$291=1,'Операционные затраты'!Y138,'Операционные затраты'!Y164)","v":0},{"$f":"IF(Предпосылки!$F$291=1,'Операционные затраты'!Z138,'Операционные затраты'!Z164)","v":0},{"$f":"IF(Предпосылки!$F$291=1,'Операционные затраты'!AA138,'Операционные затраты'!AA164)","v":0},{"$f":"IF(Предпосылки!$F$291=1,'Операционные затраты'!AB138,'Операционные затраты'!AB164)","v":0}]
[null,"Итого операционный денежный поток",null,"тыс. руб.",null,null,null,{"$f":"H99+H104","v":0},0,0,0,0,0,0,0,0,0,0,0,0,0,0,0,0,0,0,0,{"$f":"AB99+AB104","v":0}]
[]
[null,"Денежный поток от инвестиционной деятельности:"]
[]
[null,"Поступления  -всего:",null,"тыс. руб.",null,null,null,{"$f":"H119","v":0},{"$f":"I119","v":0},0,0,0,0,0,0,0,0,0,0,0,0,0,0,0,0,0,0,0]
[null,null,"Получение государственных субсидий (на покрытие инвестиционных расходов)","тыс. руб.","Лист: Предпосылки",null,null,{"$f":"Предпосылки!H282","v":0},{"$f":"Предпосылки!I282","v":0},{"$f":"Предпосылки!J282","v":0},{"$f":"Предпосылки!K282","v":0},{"$f":"Предпосылки!L282","v":0},{"$f":"Предпосылки!M282","v":0},{"$f":"Предпосылки!N282","v":0},{"$f":"Предпосылки!O282","v":0},{"$f":"Предпосылки!P282","v":0},{"$f":"Предпосылки!Q282","v":0},{"$f":"Предпосылки!R282","v":0},{"$f":"Предпосылки!S282","v":0},{"$f":"Предпосылки!T282","v":0},{"$f":"Предпосылки!U282","v":0},{"$f":"Предпосылки!V282","v":0},{"$f":"Предпосылки!W282","v":0},{"$f":"Предпосылки!X282","v":0},{"$f":"Предпосылки!Y282","v":0},{"$f":"Предпосылки!Z282","v":0},{"$f":"Предпосылки!AA282","v":0},{"$f":"Предпосылки!AB282","v":0}]
[]
[null,"Платежи - всего:",null,"тыс. руб.",null,null,null,{"$f":"H122","v":0},{"$f":"I122","v":0},0,0,0,0,0,0,0,0,0,0,0,0,0,0,0,0,0,0,0]
[null,null,"Платежи в связи с приобретением, созданием, модернизацией, реконструкцией и подготовкой к использованию внеоборотных активов   (-)","тыс. руб.","Лист: Оборотный капитал",null,null,{"$f":"-'Капитальные вложения'!H27","v":0},{"$f":"-'Капитальные вложения'!I27","v":0},{"$f":"-'Капитальные вложения'!J27","v":0},{"$f":"-'Капитальные вложения'!K27","v":0},{"$f":"-'Капитальные вложения'!L27","v":0},{"$f":"-'Капитальные вложения'!M27","v":0},{"$f":"-'Капитальные вложения'!N27","v":0},{"$f":"-'Капитальные вложения'!O27","v":0},{"$f":"-'Капитальные вложения'!P27","v":0},{"$f":"-'Капитальные вложения'!Q27","v":0},{"$f":"-'Капитальные вложения'!R27","v":0},{"$f":"-'Капитальные вложения'!S27","v":0},{"$f":"-'Капитальные вложения'!T27","v":0},{"$f":"-'Капитальные вложения'!U27","v":0},{"$f":"-'Капитальные вложения'!V27","v":0},{"$f":"-'Капитальные вложения'!W27","v":0},{"$f":"-'Капитальные вложения'!X27","v":0},{"$f":"-'Капитальные вложения'!Y27","v":0},{"$f":"-'Капитальные вложения'!Z27","v":0},{"$f":"-'Капитальные вложения'!AA27","v":0},{"$f":"-'Капитальные вложения'!AB27","v":0}]
[null,"Итого инвестиционный денежный поток",null,"тыс. руб.",null,null,null,{"$f":"SUM(H118,H121)","v":0},{"$f":"SUM(I118,I121)","v":0},0,0,0,0,0,0,0,0,0,0,0,0,0,0,0,0,0,0,{"$f":"SUM(AB118,AB121)","v":0}]
[]
[null,"Денежный поток от финансовой деятельности"]
[]
[null,"Поступления - всего:",null,"тыс. руб.",null,null,null,{"$f":"SUM(H128:H129)","v":0},{"$f":"SUM(I128:I129)","v":0},0,0,0,0,0,0,0,0,0,0,0,0,0,0,0,0,0,0,{"$f":"SUM(AB128:AB129)","v":0}]
[null,null,"Получение кредитов и займов","тыс. руб.","Лист: Финансирование",null,null,{"$f":"Финансирование!H45+Финансирование!H84","v":0},{"$f":"Финансирование!I45+Финансирование!I84","v":0},{"$f":"Финансирование!J45+Финансирование!J84","v":0},{"$f":"Финансирование!K45+Финансирование!K84","v":0},{"$f":"Финансирование!L45+Финансирование!L84","v":0},{"$f":"Финансирование!M45+Финансирование!M84","v":0},{"$f":"Финансирование!N45+Финансирование!N84","v":0},{"$f":"Финансирование!O45+Финансирование!O84","v":0},{"$f":"Финансирование!P45+Финансирование!P84","v":0},{"$f":"Финансирование!Q45+Финансирование!Q84","v":0},{"$f":"Финансирование!R45+Финансирование!R84","v":0},{"$f":"Финансирование!S45+Финансирование!S84","v":0},{"$f":"Финансирование!T45+Финансирование!T84","v":0},{"$f":"Финансирование!U45+Финансирование!U84","v":0},{"$f":"Финансирование!V45+Финансирование!V84","v":0},{"$f":"Финансирование!W45+Финансирование!W84","v":0},{"$f":"Финансирование!X45+Финансирование!X84","v":0},{"$f":"Финансирование!Y45+Финансирование!Y84","v":0},{"$f":"Финансирование!Z45+Финансирование!Z84","v":0},{"$f":"Финансирование!AA45+Финансирование!AA84","v":0},{"$f":"Финансирование!AB45+Финансирование!AB84","v":0}]
[null,null,"Получение денежных вкладов от собственников (участников)","тыс. руб.","Лист: Предпосылки",null,null,{"$f":"SUM(Предпосылки!H254:H255)","v":0},{"$f":"SUM(Предпосылки!I254:I255)","v":0},{"$f":"SUM(Предпосылки!J254:J255)","v":0},{"$f":"SUM(Предпосылки!K254:K255)","v":0},{"$f":"SUM(Предпосылки!L254:L255)","v":0},{"$f":"SUM(Предпосылки!M254:M255)","v":0},{"$f":"SUM(Предпосылки!N254:N255)","v":0},{"$f":"SUM(Предпосылки!O254:O255)","v":0},{"$f":"SUM(Предпосылки!P254:P255)","v":0},{"$f":"SUM(Предпосылки!Q254:Q255)","v":0},{"$f":"SUM(Предпосылки!R254:R255)","v":0},{"$f":"SUM(Предпосылки!S254:S255)","v":0},{"$f":"SUM(Предпосылки!T254:T255)","v":0},{"$f":"SUM(Предпосылки!U254:U255)","v":0},{"$f":"SUM(Предпосылки!V254:V255)","v":0},{"$f":"SUM(Предпосылки!W254:W255)","v":0},{"$f":"SUM(Предпосылки!X254:X255)","v":0},{"$f":"SUM(Предпосылки!Y254:Y255)","v":0},{"$f":"SUM(Предпосылки!Z254:Z255)","v":0},{"$f":"SUM(Предпосылки!AA254:AA255)","v":0},{"$f":"SUM(Предпосылки!AB254:AB255)","v":0}]
[]
[null,"Платежи - всего:",null,"тыс. руб.",null,null,null,{"$f":"H132","v":0},{"$f":"I132","v":0},0,0,0,0,0,0,0,0,0,0,0,0,0,0,0,0,0,0,0]
[null,null,"Погашение кредитов и займов  (-)","тыс. руб.","Лист: Финансирование",null,null,{"$f":"Финансирование!H46+Финансирование!H85","v":0},{"$f":"Финансирование!I46+Финансирование!I85","v":0},{"$f":"Финансирование!J46+Финансирование!J85","v":0},{"$f":"Финансирование!K46+Финансирование!K85","v":0},{"$f":"Финансирование!L46+Финансирование!L85","v":0},{"$f":"Финансирование!M46+Финансирование!M85","v":0},{"$f":"Финансирование!N46+Финансирование!N85","v":0},{"$f":"Финансирование!O46+Финансирование!O85","v":0},{"$f":"Финансирование!P46+Финансирование!P85","v":0},{"$f":"Финансирование!Q46+Финансирование!Q85","v":0},{"$f":"Финансирование!R46+Финансирование!R85","v":0},{"$f":"Финансирование!S46+Финансирование!S85","v":0},{"$f":"Финансирование!T46+Финансирование!T85","v":0},{"$f":"Финансирование!U46+Финансирование!U85","v":0},{"$f":"Финансирование!V46+Финансирование!V85","v":0},{"$f":"Финансирование!W46+Финансирование!W85","v":0},{"$f":"Финансирование!X46+Финансирование!X85","v":0},{"$f":"Финансирование!Y46+Финансирование!Y85","v":0},{"$f":"Финансирование!Z46+Финансирование!Z85","v":0},{"$f":"Финансирование!AA46+Финансирование!AA85","v":0},{"$f":"Финансирование!AB46+Финансирование!AB85","v":0}]
[null,"Итого финансовый денежный поток",null,"тыс. руб.",null,null,null,{"$f":"SUM(H127,H131)","v":0},{"$f":"SUM(I127,I131)","v":0},0,0,0,0,0,0,0,0,0,0,0,0,0,0,0,0,0,0,{"$f":"SUM(AB127,AB131)","v":0}]
[]
[null,null,"Остаток денежных средств на начало периода","тыс. руб.",null,null,null,0,{"$f":"H137","v":0},{"$f":"I137","v":0},{"$f":"J137","v":0},{"$f":"K137","v":0},0,0,0,0,0,0,0,0,0,0,{"$f":"V137","v":0},0,0,0,0,0]
[null,null,"Изменение денежных средств за период","тыс. руб.",null,null,null,{"$f":"ROUND(SUM(H114,H123,H133),3)","v":0},{"$f":"ROUND(SUM(I114,I123,I133),3)","v":0},{"$f":"ROUND(SUM(J114,J123,J133),3)","v":0},0,0,0,0,0,0,0,0,0,0,0,0,0,0,0,0,0,{"$f":"ROUND(SUM(AB114,AB123,AB133),3)","v":0}]
[null,null,"Остаток денежных средств на конец периода","тыс. руб.",null,null,null,{"$f":"SUM(H135:H136)","v":0},{"$f":"SUM(I135:I136)","v":0},{"$f":"SUM(J135:J136)","v":0},0,0,0,0,0,0,0,0,0,0,0,0,0,0,0,0,0,{"$f":"SUM(AB135:AB136)","v":0}]
[]
[null,null,"Проверка: положительные остатки денежных средств",null,null,{"$f":"IF(COUNTIF(H139:AA139, \"Ошибка\") = 0, \"Верно\", \"Ошибка\")","v":"Верно"},null,{"$f":"IF(H137<0,\"Ошибка\", \"Верно\")","v":"Верно"},{"$f":"IF(I137<0,\"Ошибка\", \"Верно\")","v":"Верно"},"Верно","Верно","Верно","Верно","Верно","Верно","Верно","Верно","Верно","Верно","Верно","Верно","Верно","Верно","Верно","Верно","Верно","Верно",{"$f":"IF(AB137<0,\"Ошибка\", \"Верно\")","v":"Верно"}]

{"sheet":"Эффективность (СПИК)","index":18,"n_rows":113,"n_cols":28,"rows_kept":113,"cut":false,"hidden":false,"merged":[[1,2,2,2],[1,3,2,3],[1,4,2,4],[1,5,2,5]]}
[null,null,null,null,{"$f":"\"Лист:  \" & RIGHT(CELL(\"filename\",A1),LEN(CELL(\"filename\",A1))-SEARCH(\"]\",CELL(\"filename\",A1)))","v":"Лист:  Эффективность (СПИК)"}]
[null,null,"Параметр","Ед. изм.","Источник","Итоговое значение",null,{"$f":"Предпосылки!H2","v":2026},{"$f":"Предпосылки!I2","v":2027},{"$f":"Предпосылки!J2","v":2028},{"$f":"Предпосылки!K2","v":2029},{"$f":"Предпосылки!L2","v":2030},{"$f":"Предпосылки!M2","v":2031},{"$f":"Предпосылки!N2","v":2032},{"$f":"Предпосылки!O2","v":2033},{"$f":"Предпосылки!P2","v":2034},{"$f":"Предпосылки!Q2","v":2035},{"$f":"Предпосылки!R2","v":2036},{"$f":"Предпосылки!S2","v":2037},{"$f":"Предпосылки!T2","v":2038},{"$f":"Предпосылки!U2","v":2039},{"$f":"Предпосылки!V2","v":2040},{"$f":"Предпосылки!W2","v":2041},{"$f":"Предпосылки!X2","v":2042},{"$f":"Предпосылки!Y2","v":2043},{"$f":"Предпосылки!Z2","v":2044},{"$f":"Предпосылки!AA2","v":2045},{"$f":"Предпосылки!AB2","v":2046}]
[null,null,null,null,null,null,null,1,2,3,4,5,6,7,8,9,10,11,12,13,14,15,16,17,18,19,20,21]
[]
[null,null,"Дата оценки",null,"Лист: Предпосылки",{"$f":"Предпосылки!F7","v":"2026-01-01"}]
[]
[null,"Дисконтирование"]
[]
[null,null,"Ставка дисконтирования для проекта","%","Лист: WACC",{"$f":"WACC!D20","v":0.22999359887060991}]
[null,null,"Корректировка с учетом даты оценки","х",null,null,null,{"$f":"IF(H2>YEAR($F$5),One, (DATE(H2,12,31)-F5)/Предпосылки!H12)","v":0.99726027397260275},{"$f":"IF(I2>YEAR($F$5),One, (DATE(I2,12,31)-G5)/Предпосылки!I12)","v":1},{"$f":"IF(J2>YEAR($F$5),One, (DATE(J2,12,31)-H5)/Предпосылки!J12)","v":1},{"$f":"IF(K2>YEAR($F$5),One, (DATE(K2,12,31)-I5)/Предпосылки!K12)","v":1},{"$f":"IF(L2>YEAR($F$5),One, (DATE(L2,12,31)-J5)/Предпосылки!L12)","v":1},{"$f":"IF(M2>YEAR($F$5),One, (DATE(M2,12,31)-K5)/Предпосылки!M12)","v":1},{"$f":"IF(N2>YEAR($F$5),One, (DATE(N2,12,31)-L5)/Предпосылки!N12)","v":1},{"$f":"IF(O2>YEAR($F$5),One, (DATE(O2,12,31)-M5)/Предпосылки!O12)","v":1},{"$f":"IF(P2>YEAR($F$5),One, (DATE(P2,12,31)-N5)/Предпосылки!P12)","v":1},{"$f":"IF(Q2>YEAR($F$5),One, (DATE(Q2,12,31)-O5)/Предпосылки!Q12)","v":1},{"$f":"IF(R2>YEAR($F$5),One, (DATE(R2,12,31)-P5)/Предпосылки!R12)","v":1},{"$f":"IF(S2>YEAR($F$5),One, (DATE(S2,12,31)-Q5)/Предпосылки!S12)","v":1},{"$f":"IF(T2>YEAR($F$5),One, (DATE(T2,12,31)-R5)/Предпосылки!T12)","v":1},{"$f":"IF(U2>YEAR($F$5),One, (DATE(U2,12,31)-S5)/Предпосылки!U12)","v":1},{"$f":"IF(V2>YEAR($F$5),One, (DATE(V2,12,31)-T5)/Предпосылки!V12)","v":1},{"$f":"IF(W2>YEAR($F$5),One, (DATE(W2,12,31)-U5)/Предпосылки!W12)","v":1},{"$f":"IF(X2>YEAR($F$5),One, (DATE(X2,12,31)-V5)/Предпосылки!X12)","v":1},{"$f":"IF(Y2>YEAR($F$5),One, (DATE(Y2,12,31)-W5)/Предпосылки!Y12)","v":1},{"$f":"IF(Z2>YEAR($F$5),One, (DATE(Z2,12,31)-X5)/Предпосылки!Z12)","v":1},{"$f":"IF(AA2>YEAR($F$5),One, (DATE(AA2,12,31)-Y5)/Предпосылки!AA12)","v":1},{"$f":"IF(AB2>YEAR($F$5),One, (DATE(AB2,12,31)-Z5)/Предпосылки!AB12)","v":1}]
[null,null,"Ставка дисконтирования с учетом корректировки","%",null,null,null,{"$f":"$F$9*H10*(1+'Анализ чувствительности (СПИК)'!$D$71)","v":0.22936347942164934},{"$f":"$F$9*I10*(1+'Анализ чувствительности (СПИК)'!$D$71)","v":0.22999359887060991},{"$f":"$F$9*J10*(1+'Анализ чувствительности (СПИК)'!$D$71)","v":0.22999359887060991},{"$f":"$F$9*K10*(1+'Анализ чувствительности (СПИК)'!$D$71)","v":0.22999359887060991},{"$f":"$F$9*L10*(1+'Анализ чувствительности (СПИК)'!$D$71)","v":0.22999359887060991},{"$f":"$F$9*M10*(1+'Анализ чувствительности (СПИК)'!$D$71)","v":0.22999359887060991},{"$f":"$F$9*N10*(1+'Анализ чувствительности (СПИК)'!$D$71)","v":0.22999359887060991},{"$f":"$F$9*O10*(1+'Анализ чувствительности (СПИК)'!$D$71)","v":0.22999359887060991},{"$f":"$F$9*P10*(1+'Анализ чувствительности (СПИК)'!$D$71)","v":0.22999359887060991},{"$f":"$F$9*Q10*(1+'Анализ чувствительности (СПИК)'!$D$71)","v":0.22999359887060991},{"$f":"$F$9*R10*(1+'Анализ чувствительности (СПИК)'!$D$71)","v":0.22999359887060991},{"$f":"$F$9*S10*(1+'Анализ чувствительности (СПИК)'!$D$71)","v":0.22999359887060991},{"$f":"$F$9*T10*(1+'Анализ чувствительности (СПИК)'!$D$71)","v":0.22999359887060991},{"$f":"$F$9*U10*(1+'Анализ чувствительности (СПИК)'!$D$71)","v":0.22999359887060991},{"$f":"$F$9*V10*(1+'Анализ чувствительности (СПИК)'!$D$71)","v":0.22999359887060991},{"$f":"$F$9*W10*(1+'Анализ чувствительности (СПИК)'!$D$71)","v":0.22999359887060991},{"$f":"$F$9*X10*(1+'Анализ чувствительности (СПИК)'!$D$71)","v":0.22999359887060991},{"$f":"$F$9*Y10*(1+'Анализ чувствительности (СПИК)'!$D$71)","v":0.22999359887060991},{"$f":"$F$9*Z10*(1+'Анализ чувствительности (СПИК)'!$D$71)","v":0.22999359887060991},{"$f":"$F$9*AA10*(1+'Анализ чувствительности (СПИК)'!$D$71)","v":0.22999359887060991},{"$f":"$F$9*AB10*(1+'Анализ чувствительности (СПИК)'!$D$71)","v":0.22999359887060991}]
[]
[null,null,"Дисконт-фактор за период","х",null,null,null,{"$f":"One/ (One+H11)","v":0.8134290767043505},0.81301236113603204,0.81301236113603204,0.81301236113603204,0.81301236113603204,0.81301236113603204,0.81301236113603204,0.81301236113603204,0.81301236113603204,0.81301236113603204,0.81301236113603204,0.81301236113603204,0.81301236113603204,0.81301236113603204,0.81301236113603204,0.81301236113603204,0.81301236113603204,0.81301236113603204,0.81301236113603204,0.81301236113603204,{"$f":"One/ (One+AB11)","v":0.81301236113603204}]
[null,null,"Дисконт-фактор накопленный","х",null,null,null,{"$f":"H13^($H3-0.5)","v":0.90190303065482069},{"$f":"PRODUCT($H$13:H$13)*I13^($H3-0.5)","v":0.73344620691182127},{"$f":"PRODUCT($H$13:I$13)*J13^($H3-0.5)","v":0.59630083244764653},{"$f":"PRODUCT($H$13:J$13)*K13^($H3-0.5)","v":0.4847999477356425},{"$f":"PRODUCT($H$13:K$13)*L13^($H3-0.5)","v":0.39414835018717959},{"$f":"PRODUCT($H$13:L$13)*M13^($H3-0.5)","v":0.32044748082355046},{"$f":"PRODUCT($H$13:M$13)*N13^($H3-0.5)","v":0.26052776300444813},{"$f":"PRODUCT($H$13:N$13)*O13^($H3-0.5)","v":0.21181229174173494},{"$f":"PRODUCT($H$13:O$13)*P13^($H3-0.5)","v":0.17220601142658198},{"$f":"PRODUCT($H$13:P$13)*Q13^($H3-0.5)","v":0.14000561595174391},{"$f":"PRODUCT($H$13:Q$13)*R13^($H3-0.5)","v":0.11382629639723182},{"$f":"PRODUCT($H$13:R$13)*S13^($H3-0.5)","v":9.2542185993283274E-2},{"$f":"PRODUCT($H$13:S$13)*T13^($H3-0.5)","v":7.5237941139089062E-2},{"$f":"PRODUCT($H$13:T$13)*U13^($H3-0.5)","v":6.1169376172504598E-2},{"$f":"PRODUCT($H$13:U$13)*V13^($H3-0.5)","v":4.9731458951226104E-2},{"$f":"PRODUCT($H$13:V$13)*W13^($H3-0.5)","v":4.0432290864675993E-2},{"$f":"PRODUCT($H$13:W$13)*X13^($H3-0.5)","v":3.2871952262029047E-2},{"$f":"PRODUCT($H$13:X$13)*Y13^($H3-0.5)","v":2.6725303523703167E-2},{"$f":"PRODUCT($H$13:Y$13)*Z13^($H3-0.5)","v":2.172800211988303E-2},{"$f":"PRODUCT($H$13:Z$13)*AA13^($H3-0.5)","v":1.7665134306254812E-2},{"$f":"PRODUCT($H$13:AA$13)*AB13^($H3-0.5)","v":1.4361972552113347E-2}]
[]
[null,null,"Справочно: расчет дисконт-фактора при фиксированной ставке дисконтирования"]
[null,null,"Дисконт-фактор ","х",null,null,null,{"$f":"One/(One+H11)^(H$3-0.5)","v":0.90190303065482069},0.7330704661598646,0.59599535057172326,0.48455158719441382,0.3939464299971423,0.32028331721308728,0.26039429595989277,0.21170378138470719,0.17211779116500714,0.13993389178858093,0.11376798376598816,9.2494777103271808E-2,7.5199397125482001E-2,6.1138039412994269E-2,4.9705981778386255E-2,4.0411577608230401E-2,3.2855112128499391E-2,2.6711612286980369E-2,2.1716870975188159E-2,1.7656084548024295E-2,{"$f":"One/(One+AB11)^(AB$3-0.5)","v":1.4354614986806638E-2}]
[]
[null,null,"Ставка дисконтирования для расчета LLCR (средневзвешенная стоимость долга)",null,"Лист: WACC",{"$f":"WACC!D18","v":0}]
[]
[null,null,"Ставка дисконтирования для расчета бюджетной эффективности","%","Лист: Предпосылки",{"$f":"Предпосылки!F15","v":0.14499999999999999}]
[null,null,"Ставка дисконтирования с учетом корректировки на дату оценки","%",null,null,null,{"$f":"$F$21*H10","v":0.14460273972602739},0.14499999999999999,0.14499999999999999,0.14499999999999999,0.14499999999999999,0.14499999999999999,0.14499999999999999,0.14499999999999999,0.14499999999999999,0.14499999999999999,0.14499999999999999,0.14499999999999999,0.14499999999999999,0.14499999999999999,0.14499999999999999,0.14499999999999999,0.14499999999999999,0.14499999999999999,0.14499999999999999,0.14499999999999999,{"$f":"$F$21*AB10","v":0.14499999999999999}]
[]
[null,null,"Дисконт-фактор за период","х",null,null,null,{"$f":"One/ (One+H22)","v":0.87366556560869357},0.8733624454148472,0.8733624454148472,0.8733624454148472,0.8733624454148472,0.8733624454148472,0.8733624454148472,0.8733624454148472,0.8733624454148472,0.8733624454148472,0.8733624454148472,0.8733624454148472,0.8733624454148472,0.8733624454148472,0.8733624454148472,0.8733624454148472,0.8733624454148472,0.8733624454148472,0.8733624454148472,0.8733624454148472,{"$f":"One/ (One+AB22)","v":0.8733624454148472}]
[null,null,"Дисконт-фактор накопленный","х",null,null,null,{"$f":"H24^($H3-0.5)","v":0.93470078934849177},{"$f":"PRODUCT($H$24:H$24)*I24^($H3-0.5)","v":0.81647421816908028},{"$f":"PRODUCT($H$24:I$24)*J24^($H3-0.5)","v":0.71307791979832347},{"$f":"PRODUCT($H$24:J$24)*K24^($H3-0.5)","v":0.62277547580639603},{"$f":"PRODUCT($H$24:K$24)*L24^($H3-0.5)","v":0.54390871249466899},{"$f":"PRODUCT($H$24:L$24)*M24^($H3-0.5)","v":0.47502944322678525},{"$f":"PRODUCT($H$24:M$24)*N24^($H3-0.5)","v":0.41487287618059848},{"$f":"PRODUCT($H$24:N$24)*O24^($H3-0.5)","v":0.36233438967737858},{"$f":"PRODUCT($H$24:O$24)*P24^($H3-0.5)","v":0.31644924862653157},{"$f":"PRODUCT($H$24:P$24)*Q24^($H3-0.5)","v":0.27637488963015855},{"$f":"PRODUCT($H$24:Q$24)*R24^($H3-0.5)","v":0.24137544945865377},{"$f":"PRODUCT($H$24:R$24)*S24^($H3-0.5)","v":0.21080825280231771},{"$f":"PRODUCT($H$24:S$24)*T24^($H3-0.5)","v":0.18411201118106352},{"$f":"PRODUCT($H$24:T$24)*U24^($H3-0.5)","v":0.16079651631533934},{"$f":"PRODUCT($H$24:U$24)*V24^($H3-0.5)","v":0.14043363870335315},{"$f":"PRODUCT($H$24:V$24)*W24^($H3-0.5)","v":0.12264946611646564},{"$f":"PRODUCT($H$24:W$24)*X24^($H3-0.5)","v":0.10711743765630187},{"$f":"PRODUCT($H$24:X$24)*Y24^($H3-0.5)","v":9.3552347298080249E-2},{"$f":"PRODUCT($H$24:Y$24)*Z24^($H3-0.5)","v":8.1705106810550432E-2},{"$f":"PRODUCT($H$24:Z$24)*AA24^($H3-0.5)","v":7.13581718869436E-2},{"$f":"PRODUCT($H$24:AA$24)*AB24^($H3-0.5)","v":6.2321547499514074E-2}]
[]
[null,null,"Справочно: расчет дисконт-фактора при фиксированной ставке дисконтирования"]
[null,null,"Дисконт-фактор","х",null,null,null,{"$f":"One/(One+H22)^(H$3-0.5)","v":0.93470078934849166},0.81619094063929742,0.71283051584218116,0.62255940248225417,0.54372000216790761,0.47486463071432983,0.4147289351216854,0.36220867696217063,0.31633945586215784,0.27627900075297618,0.24129170371438971,0.21073511241431414,0.18404813311293816,0.16074072760955294,0.14038491494284103,0.12260691261383491,0.10708027302518336,9.3519889104963602E-2,8.1676759043636374E-2,7.1333414011909471E-2,{"$f":"One/(One+AB22)^(AB$3-0.5)","v":6.2299924901230992E-2}]
[]
[null,"Расчет свободного денежного потока"]
[]
[null,null,"Эффективная ставка налога на прибыль","%",null,null,null,{"$f":"IFERROR(-'Отчетность (СПИК)'!H70/'Отчетность (СПИК)'!H69,0)","v":0},{"$f":"IFERROR(-'Отчетность (СПИК)'!I70/'Отчетность (СПИК)'!I69,0)","v":0},{"$f":"IFERROR(-'Отчетность (СПИК)'!J70/'Отчетность (СПИК)'!J69,0)","v":0},{"$f":"IFERROR(-'Отчетность (СПИК)'!K70/'Отчетность (СПИК)'!K69,0)","v":0},{"$f":"IFERROR(-'Отчетность (СПИК)'!L70/'Отчетность (СПИК)'!L69,0)","v":0},{"$f":"IFERROR(-'Отчетность (СПИК)'!M70/'Отчетность (СПИК)'!M69,0)","v":0},{"$f":"IFERROR(-'Отчетность (СПИК)'!N70/'Отчетность (СПИК)'!N69,0)","v":0},{"$f":"IFERROR(-'Отчетность (СПИК)'!O70/'Отчетность (СПИК)'!O69,0)","v":0},{"$f":"IFERROR(-'Отчетность (СПИК)'!P70/'Отчетность (СПИК)'!P69,0)","v":0},{"$f":"IFERROR(-'Отчетность (СПИК)'!Q70/'Отчетность (СПИК)'!Q69,0)","v":0},{"$f":"IFERROR(-'Отчетность (СПИК)'!R70/'Отчетность (СПИК)'!R69,0)","v":0},{"$f":"IFERROR(-'Отчетность (СПИК)'!S70/'Отчетность (СПИК)'!S69,0)","v":0},{"$f":"IFERROR(-'Отчетность (СПИК)'!T70/'Отчетность (СПИК)'!T69,0)","v":0},{"$f":"IFERROR(-'Отчетность (СПИК)'!U70/'Отчетность (СПИК)'!U69,0)","v":0},{"$f":"IFERROR(-'Отчетность (СПИК)'!V70/'Отчетность (СПИК)'!V69,0)","v":0},{"$f":"IFERROR(-'Отчетность (СПИК)'!W70/'Отчетность (СПИК)'!W69,0)","v":0},{"$f":"IFERROR(-'Отчетность (СПИК)'!X70/'Отчетность (СПИК)'!X69,0)","v":0},{"$f":"IFERROR(-'Отчетность (СПИК)'!Y70/'Отчетность (СПИК)'!Y69,0)","v":0},{"$f":"IFERROR(-'Отчетность (СПИК)'!Z70/'Отчетность (СПИК)'!Z69,0)","v":0},{"$f":"IFERROR(-'Отчетность (СПИК)'!AA70/'Отчетность (СПИК)'!AA69,0)","v":0},{"$f":"IFERROR(-'Отчетность (СПИК)'!AB70/'Отчетность (СПИК)'!AB69,0)","v":0}]
[]
[null,null,"EBIT","тыс. руб.","Лист: Отчетность (СПИК)",null,null,{"$f":"'Отчетность (СПИК)'!H91","v":0},{"$f":"'Отчетность (СПИК)'!I91","v":0},{"$f":"'Отчетность (СПИК)'!J91","v":0},{"$f":"'Отчетность (СПИК)'!K91","v":0},{"$f":"'Отчетность (СПИК)'!L91","v":0},{"$f":"'Отчетность (СПИК)'!M91","v":0},{"$f":"'Отчетность (СПИК)'!N91","v":0},{"$f":"'Отчетность (СПИК)'!O91","v":0},{"$f":"'Отчетность (СПИК)'!P91","v":0},{"$f":"'Отчетность (СПИК)'!Q91","v":0},{"$f":"'Отчетность (СПИК)'!R91","v":0},{"$f":"'Отчетность (СПИК)'!S91","v":0},{"$f":"'Отчетность (СПИК)'!T91","v":0},{"$f":"'Отчетность (СПИК)'!U91","v":0},{"$f":"'Отчетность (СПИК)'!V91","v":0},{"$f":"'Отчетность (СПИК)'!W91","v":0},{"$f":"'Отчетность (СПИК)'!X91","v":0},{"$f":"'Отчетность (СПИК)'!Y91","v":0},{"$f":"'Отчетность (СПИК)'!Z91","v":0},{"$f":"'Отчетность (СПИК)'!AA91","v":0},{"$f":"'Отчетность (СПИК)'!AB91","v":0}]
[null,null,"Амортизация","тыс. руб.","Лист: Отчетность (СПИК)",null,null,{"$f":"'Отчетность (СПИК)'!H92","v":0},{"$f":"'Отчетность (СПИК)'!I92","v":0},{"$f":"'Отчетность (СПИК)'!J92","v":0},{"$f":"'Отчетность (СПИК)'!K92","v":0},{"$f":"'Отчетность (СПИК)'!L92","v":0},{"$f":"'Отчетность (СПИК)'!M92","v":0},{"$f":"'Отчетность (СПИК)'!N92","v":0},{"$f":"'Отчетность (СПИК)'!O92","v":0},{"$f":"'Отчетность (СПИК)'!P92","v":0},{"$f":"'Отчетность (СПИК)'!Q92","v":0},{"$f":"'Отчетность (СПИК)'!R92","v":0},{"$f":"'Отчетность (СПИК)'!S92","v":0},{"$f":"'Отчетность (СПИК)'!T92","v":0},{"$f":"'Отчетность (СПИК)'!U92","v":0},{"$f":"'Отчетность (СПИК)'!V92","v":0},{"$f":"'Отчетность (СПИК)'!W92","v":0},{"$f":"'Отчетность (СПИК)'!X92","v":0},{"$f":"'Отчетность (СПИК)'!Y92","v":0},{"$f":"'Отчетность (СПИК)'!Z92","v":0},{"$f":"'Отчетность (СПИК)'!AA92","v":0},{"$f":"'Отчетность (СПИК)'!AB92","v":0}]
[null,null,"Капитальные вложения (-)","тыс. руб.","Лист: Отчетность (СПИК)",null,null,{"$f":"'Отчетность (СПИК)'!H122","v":0},{"$f":"'Отчетность (СПИК)'!I122","v":0},{"$f":"'Отчетность (СПИК)'!J122","v":0},{"$f":"'Отчетность (СПИК)'!K122","v":0},{"$f":"'Отчетность (СПИК)'!L122","v":0},{"$f":"'Отчетность (СПИК)'!M122","v":0},{"$f":"'Отчетность (СПИК)'!N122","v":0},{"$f":"'Отчетность (СПИК)'!O122","v":0},{"$f":"'Отчетность (СПИК)'!P122","v":0},{"$f":"'Отчетность (СПИК)'!Q122","v":0},{"$f":"'Отчетность (СПИК)'!R122","v":0},{"$f":"'Отчетность (СПИК)'!S122","v":0},{"$f":"'Отчетность (СПИК)'!T122","v":0},{"$f":"'Отчетность (СПИК)'!U122","v":0},{"$f":"'Отчетность (СПИК)'!V122","v":0},{"$f":"'Отчетность (СПИК)'!W122","v":0},{"$f":"'Отчетность (СПИК)'!X122","v":0},{"$f":"'Отчетность (СПИК)'!Y122","v":0},{"$f":"'Отчетность (СПИК)'!Z122","v":0},{"$f":"'Отчетность (СПИК)'!AA122","v":0},{"$f":"'Отчетность (СПИК)'!AB122","v":0}]
[null,null,"Изменение в чистом оборотном капитале (-)","тыс. руб.","Лист: Отчетность (СПИК)",null,null,{"$f":"-('Отчетность (СПИК)'!H47-'Отчетность (СПИК)'!G47)","v":0},{"$f":"-('Отчетность (СПИК)'!I47-'Отчетность (СПИК)'!H47)","v":0},{"$f":"-('Отчетность (СПИК)'!J47-'Отчетность (СПИК)'!I47)","v":0},{"$f":"-('Отчетность (СПИК)'!K47-'Отчетность (СПИК)'!J47)","v":0},{"$f":"-('Отчетность (СПИК)'!L47-'Отчетность (СПИК)'!K47)","v":0},{"$f":"-('Отчетность (СПИК)'!M47-'Отчетность (СПИК)'!L47)","v":0},{"$f":"-('Отчетность (СПИК)'!N47-'Отчетность (СПИК)'!M47)","v":0},{"$f":"-('Отчетность (СПИК)'!O47-'Отчетность (СПИК)'!N47)","v":0},{"$f":"-('Отчетность (СПИК)'!P47-'Отчетность (СПИК)'!O47)","v":0},{"$f":"-('Отчетность (СПИК)'!Q47-'Отчетность (СПИК)'!P47)","v":0},{"$f":"-('Отчетность (СПИК)'!R47-'Отчетность (СПИК)'!Q47)","v":0},{"$f":"-('Отчетность (СПИК)'!S47-'Отчетность (СПИК)'!R47)","v":0},{"$f":"-('Отчетность (СПИК)'!T47-'Отчетность (СПИК)'!S47)","v":0},{"$f":"-('Отчетность (СПИК)'!U47-'Отчетность (СПИК)'!T47)","v":0},{"$f":"-('Отчетность (СПИК)'!V47-'Отчетность (СПИК)'!U47)","v":0},{"$f":"-('Отчетность (СПИК)'!W47-'Отчетность (СПИК)'!V47)","v":0},{"$f":"-('Отчетность (СПИК)'!X47-'Отчетность (СПИК)'!W47)","v":0},{"$f":"-('Отчетность (СПИК)'!Y47-'Отчетность (СПИК)'!X47)","v":0},{"$f":"-('Отчетность (СПИК)'!Z47-'Отчетность (СПИК)'!Y47)","v":0},{"$f":"-('Отчетность (СПИК)'!AA47-'Отчетность (СПИК)'!Z47)","v":0},{"$f":"-('Отчетность (СПИК)'!AB47-'Отчетность (СПИК)'!AA47)","v":0}]
[]
[null,null,"FCFF","тыс. руб.",null,null,null,{"$f":"H34*(One-H32)+SUM(H35:H37)","v":0},{"$f":"I34*(One-I32)+SUM(I35:I37)","v":0},0,0,0,0,0,0,0,0,0,0,0,0,0,0,0,0,0,0,{"$f":"AB34*(One-AB32)+SUM(AB35:AB37)","v":0}]
[null,null,"FCFF накопительным итогом","тыс. руб.",null,null,null,{"$f":"SUM($H39:H39)","v":0},{"$f":"SUM($H39:I39)","v":0},{"$f":"SUM($H39:J39)","v":0},{"$f":"SUM($H39:K39)","v":0},{"$f":"SUM($H39:L39)","v":0},{"$f":"SUM($H39:M39)","v":0},{"$f":"SUM($H39:N39)","v":0},{"$f":"SUM($H39:O39)","v":0},{"$f":"SUM($H39:P39)","v":0},{"$f":"SUM($H39:Q39)","v":0},{"$f":"SUM($H39:R39)","v":0},{"$f":"SUM($H39:S39)","v":0},{"$f":"SUM($H39:T39)","v":0},{"$f":"SUM($H39:U39)","v":0},{"$f":"SUM($H39:V39)","v":0},{"$f":"SUM($H39:W39)","v":0},{"$f":"SUM($H39:X39)","v":0},{"$f":"SUM($H39:Y39)","v":0},{"$f":"SUM($H39:Z39)","v":0},{"$f":"SUM($H39:AA39)","v":0},{"$f":"SUM($H39:AB39)","v":0}]
[]
[null,null,"FCFF за период действия СПИК",null,null,null,null,{"$f":"H39*Предпосылки!H8","v":0},{"$f":"I39*Предпосылки!I8","v":0},{"$f":"J39*Предпосылки!J8","v":0},{"$f":"K39*Предпосылки!K8","v":0},{"$f":"L39*Предпосылки!L8","v":0},{"$f":"M39*Предпосылки!M8","v":0},{"$f":"N39*Предпосылки!N8","v":0},{"$f":"O39*Предпосылки!O8","v":0},{"$f":"P39*Предпосылки!P8","v":0},{"$f":"Q39*Предпосылки!Q8","v":0},{"$f":"R39*Предпосылки!R8","v":0},{"$f":"S39*Предпосылки!S8","v":0},{"$f":"T39*Предпосылки!T8","v":0},{"$f":"U39*Предпосылки!U8","v":0},{"$f":"V39*Предпосылки!V8","v":0},{"$f":"W39*Предпосылки!W8","v":0},{"$f":"X39*Предпосылки!X8","v":0},{"$f":"Y39*Предпосылки!Y8","v":0},{"$f":"Z39*Предпосылки!Z8","v":0},{"$f":"AA39*Предпосылки!AA8","v":0},{"$f":"AB39*Предпосылки!AB8","v":0}]
[null,null,"FCFF накопительным итогом за период действия СПИК",null,null,null,null,{"$f":"SUM($H$42:H42)","v":0},{"$f":"SUM($H$42:I42)","v":0},{"$f":"SUM($H$42:J42)","v":0},{"$f":"SUM($H$42:K42)","v":0},{"$f":"SUM($H$42:L42)","v":0},{"$f":"SUM($H$42:M42)","v":0},{"$f":"SUM($H$42:N42)","v":0},{"$f":"SUM($H$42:O42)","v":0},{"$f":"SUM($H$42:P42)","v":0},{"$f":"SUM($H$42:Q42)","v":0},{"$f":"SUM($H$42:R42)","v":0},{"$f":"SUM($H$42:S42)","v":0},{"$f":"SUM($H$42:T42)","v":0},{"$f":"SUM($H$42:U42)","v":0},{"$f":"SUM($H$42:V42)","v":0},{"$f":"SUM($H$42:W42)","v":0},{"$f":"SUM($H$42:X42)","v":0},{"$f":"SUM($H$42:Y42)","v":0},{"$f":"SUM($H$42:Z42)","v":0},{"$f":"SUM($H$42:AA42)","v":0},{"$f":"SUM($H$42:AB42)","v":0}]
[]
[null,"Показатели эффективности инвестиционного проекта"]
[]
[null,null,"Дисконтированные потоки проекта","тыс. руб.",null,null,null,{"$f":"H39*H14","v":0},0,0,0,0,0,0,0,0,0,0,0,0,0,0,0,0,0,0,0,{"$f":"AB39*AB14","v":0}]
[null,null,"Дисконтированные потоки прогнозного периода (в течение срока действия СПИК)","тыс. руб.",null,null,null,{"$f":"H47*Предпосылки!H8","v":0},{"$f":"I47*Предпосылки!I8","v":0},{"$f":"J47*Предпосылки!J8","v":0},{"$f":"K47*Предпосылки!K8","v":0},{"$f":"L47*Предпосылки!L8","v":0},{"$f":"M47*Предпосылки!M8","v":0},{"$f":"N47*Предпосылки!N8","v":0},{"$f":"O47*Предпосылки!O8","v":0},{"$f":"P47*Предпосылки!P8","v":0},{"$f":"Q47*Предпосылки!Q8","v":0},{"$f":"R47*Предпосылки!R8","v":0},{"$f":"S47*Предпосылки!S8","v":0},{"$f":"T47*Предпосылки!T8","v":0},{"$f":"U47*Предпосылки!U8","v":0},{"$f":"V47*Предпосылки!V8","v":0},{"$f":"W47*Предпосылки!W8","v":0},{"$f":"X47*Предпосылки!X8","v":0},{"$f":"Y47*Предпосылки!Y8","v":0},{"$f":"Z47*Предпосылки!Z8","v":0},{"$f":"AA47*Предпосылки!AA8","v":0},{"$f":"AB47*Предпосылки!AB8","v":0}]
[]
[null,null,"Терминальная стоимость","тыс. руб.",null,{"$f":"INDEX(H39:AA39,,MATCH(Предпосылки!F8,H3:AA3,0))*(One+Предпосылки!F16)/(Предпосылки!F14-Предпосылки!F16)","v":0}]
[null,null,"Дисконтированная терминальная стоимость","тыс. руб.",null,{"$f":"F50*INDEX(H14:AA14,,MATCH(Предпосылки!F8,H3:AA3,0))","v":0}]
[]
[null,null,"NPV (чистая приведенная стоимость)","тыс. руб.",null,{"$f":"SUM(H48:AA48,F51)","v":0}]
[null,null,"NPV (чистая приведенная стоимость) за срок действия СПИК","тыс. руб.",null,{"$f":"SUM(H48:AA48)","v":0}]
[null,null,"IRR (внутренняя норма доходности) за срок действия СПИК","%",null,{"$f":"IRR(H42:AA42,F9)","v":{"$error":"#NUM!"}}]
[null,null,"PBP (простой период окупаемости)","лет",null,{"$f":" SUM(H56:V56)","v":15},null,{"$f":"IF(H43>0,0,1)","v":1},{"$f":"IF(I43>0,0,1)","v":1},1,1,1,1,1,1,1,1,1,1,1,1,1,1,1,1,1,1,{"$f":"IF(AB43>0,0,1)","v":1}]
[null,null,"DPBP (дисконтированный период окупаемости)","лет",null,{"$f":" SUM(H57:V57)","v":15},null,{"$f":"IF(SUM($H48:H48)>0,0,1)","v":1},{"$f":"IF(SUM($H48:I48)>0,0,1)","v":1},{"$f":"IF(SUM($H48:J48)>0,0,1)","v":1},{"$f":"IF(SUM($H48:K48)>0,0,1)","v":1},{"$f":"IF(SUM($H48:L48)>0,0,1)","v":1},{"$f":"IF(SUM($H48:M48)>0,0,1)","v":1},{"$f":"IF(SUM($H48:N48)>0,0,1)","v":1},{"$f":"IF(SUM($H48:O48)>0,0,1)","v":1},{"$f":"IF(SUM($H48:P48)>0,0,1)","v":1},{"$f":"IF(SUM($H48:Q48)>0,0,1)","v":1},{"$f":"IF(SUM($H48:R48)>0,0,1)","v":1},{"$f":"IF(SUM($H48:S48)>0,0,1)","v":1},{"$f":"IF(SUM($H48:T48)>0,0,1)","v":1},{"$f":"IF(SUM($H48:U48)>0,0,1)","v":1},{"$f":"IF(SUM($H48:V48)>0,0,1)","v":1},{"$f":"IF(SUM($H48:W48)>0,0,1)","v":1},{"$f":"IF(SUM($H48:X48)>0,0,1)","v":1},{"$f":"IF(SUM($H48:Y48)>0,0,1)","v":1},{"$f":"IF(SUM($H48:Z48)>0,0,1)","v":1},{"$f":"IF(SUM($H48:AA48)>0,0,1)","v":1},{"$f":"IF(SUM($H48:AB48)>0,0,1)","v":1}]
[]
[]
[null,null,"Инвестиции по проекту","тыс. руб.","Лист: Отчетность (СПИК)",null,null,{"$f":"'Отчетность (СПИК)'!H122","v":0},{"$f":"'Отчетность (СПИК)'!I122","v":0},{"$f":"'Отчетность (СПИК)'!J122","v":0},{"$f":"'Отчетность (СПИК)'!K122","v":0},{"$f":"'Отчетность (СПИК)'!L122","v":0},{"$f":"'Отчетность (СПИК)'!M122","v":0},{"$f":"'Отчетность (СПИК)'!N122","v":0},{"$f":"'Отчетность (СПИК)'!O122","v":0},{"$f":"'Отчетность (СПИК)'!P122","v":0},{"$f":"'Отчетность (СПИК)'!Q122","v":0},{"$f":"'Отчетность (СПИК)'!R122","v":0},{"$f":"'Отчетность (СПИК)'!S122","v":0},{"$f":"'Отчетность (СПИК)'!T122","v":0},{"$f":"'Отчетность (СПИК)'!U122","v":0},{"$f":"'Отчетность (СПИК)'!V122","v":0},{"$f":"'Отчетность (СПИК)'!W122","v":0},{"$f":"'Отчетность (СПИК)'!X122","v":0},{"$f":"'Отчетность (СПИК)'!Y122","v":0},{"$f":"'Отчетность (СПИК)'!Z122","v":0},{"$f":"'Отчетность (СПИК)'!AA122","v":0},{"$f":"'Отчетность (СПИК)'!AB122","v":0}]
[null,null,"Дисконтированные инвестиции по проекту","тыс. руб.",null,null,null,{"$f":"H60*H14","v":0},0,0,0,0,0,0,0,0,0,0,0,0,0,0,0,0,0,0,0,{"$f":"AB60*AB14","v":0}]
[null,null,"PI (индекс прибыльности)","х",null,{"$f":"One+F54/-SUM(H61:AA61)","v":{"$error":"#DIV/0!"}}]
[]
[null,"Показатели бюджетной эффективности инвестиционного проекта"]
[]
[null,null,"Денежный поток бюджета","тыс. руб.","Лист: Налоги",{"$f":"SUM(H66:AA66)","v":0},null,{"$f":"-Налоги!H244-Налоги!H267","v":0},{"$f":"-Налоги!I244-Налоги!I267","v":0},{"$f":"-Налоги!J244-Налоги!J267","v":0},{"$f":"-Налоги!K244-Налоги!K267","v":0},{"$f":"-Налоги!L244-Налоги!L267","v":0},{"$f":"-Налоги!M244-Налоги!M267","v":0},{"$f":"-Налоги!N244-Налоги!N267","v":0},{"$f":"-Налоги!O244-Налоги!O267","v":0},{"$f":"-Налоги!P244-Налоги!P267","v":0},{"$f":"-Налоги!Q244-Налоги!Q267","v":0},{"$f":"-Налоги!R244-Налоги!R267","v":0},{"$f":"-Налоги!S244-Налоги!S267","v":0},{"$f":"-Налоги!T244-Налоги!T267","v":0},{"$f":"-Налоги!U244-Налоги!U267","v":0},{"$f":"-Налоги!V244-Налоги!V267","v":0},{"$f":"-Налоги!W244-Налоги!W267","v":0},{"$f":"-Налоги!X244-Налоги!X267","v":0},{"$f":"-Налоги!Y244-Налоги!Y267","v":0},{"$f":"-Налоги!Z244-Налоги!Z267","v":0},{"$f":"-Налоги!AA244-Налоги!AA267","v":0},{"$f":"-Налоги!AB244-Налоги!AB267","v":0}]
[null,null,"Денежный поток бюджета за период действия СПИК",null,null,{"$f":"SUM(H67:AA67)","v":0},null,{"$f":"(-Налоги!H244-Налоги!H267)*Предпосылки!H8","v":0},{"$f":"(-Налоги!I244-Налоги!I267)*Предпосылки!I8","v":0},{"$f":"(-Налоги!J244-Налоги!J267)*Предпосылки!J8","v":0},{"$f":"(-Налоги!K244-Налоги!K267)*Предпосылки!K8","v":0},{"$f":"(-Налоги!L244-Налоги!L267)*Предпосылки!L8","v":0},{"$f":"(-Налоги!M244-Налоги!M267)*Предпосылки!M8","v":0},{"$f":"(-Налоги!N244-Налоги!N267)*Предпосылки!N8","v":0},{"$f":"(-Налоги!O244-Налоги!O267)*Предпосылки!O8","v":0},{"$f":"(-Налоги!P244-Налоги!P267)*Предпосылки!P8","v":0},{"$f":"(-Налоги!Q244-Налоги!Q267)*Предпосылки!Q8","v":0},{"$f":"(-Налоги!R244-Налоги!R267)*Предпосылки!R8","v":0},{"$f":"(-Налоги!S244-Налоги!S267)*Предпосылки!S8","v":0},{"$f":"(-Налоги!T244-Налоги!T267)*Предпосылки!T8","v":0},{"$f":"(-Налоги!U244-Налоги!U267)*Предпосылки!U8","v":0},{"$f":"(-Налоги!V244-Налоги!V267)*Предпосылки!V8","v":0},{"$f":"(-Налоги!W244-Налоги!W267)*Предпосылки!W8","v":0},{"$f":"(-Налоги!X244-Налоги!X267)*Предпосылки!X8","v":0},{"$f":"(-Налоги!Y244-Налоги!Y267)*Предпосылки!Y8","v":0},{"$f":"(-Налоги!Z244-Налоги!Z267)*Предпосылки!Z8","v":0},{"$f":"(-Налоги!AA244-Налоги!AA267)*Предпосылки!AA8","v":0},{"$f":"(-Налоги!AB244-Налоги!AB267)*Предпосылки!AB8","v":0}]
[]
[null,null,"Дисконтированный денежный поток бюджета","тыс. руб.",null,null,null,{"$f":"H66*H25","v":0},0,0,0,0,0,0,0,0,0,0,0,0,0,0,0,0,0,0,0,{"$f":"AB66*AB25","v":0}]
[null,null,"Дисконтированные потоки прогнозного периода (в течение срока действия СПИК)","тыс. руб.",null,null,null,{"$f":"H69*Предпосылки!H8","v":0},{"$f":"I69*Предпосылки!I8","v":0},{"$f":"J69*Предпосылки!J8","v":0},{"$f":"K69*Предпосылки!K8","v":0},{"$f":"L69*Предпосылки!L8","v":0},{"$f":"M69*Предпосылки!M8","v":0},{"$f":"N69*Предпосылки!N8","v":0},{"$f":"O69*Предпосылки!O8","v":0},{"$f":"P69*Предпосылки!P8","v":0},{"$f":"Q69*Предпосылки!Q8","v":0},{"$f":"R69*Предпосылки!R8","v":0},{"$f":"S69*Предпосылки!S8","v":0},{"$f":"T69*Предпосылки!T8","v":0},{"$f":"U69*Предпосылки!U8","v":0},{"$f":"V69*Предпосылки!V8","v":0},{"$f":"W69*Предпосылки!W8","v":0},{"$f":"X69*Предпосылки!X8","v":0},{"$f":"Y69*Предпосылки!Y8","v":0},{"$f":"Z69*Предпосылки!Z8","v":0},{"$f":"AA69*Предпосылки!AA8","v":0},{"$f":"AB69*Предпосылки!AB8","v":0}]
[]
[null,null,"BNPV (чистая приведенная стоимость) за срок действия СПИК","тыс. руб.",null,{"$f":"SUM(H70:AA70)","v":0}]
[null,null,"Расходы бюджета","тыс. руб.","Лист: Налоги",null,null,{"$f":"Налоги!H267","v":0},{"$f":"Налоги!I267","v":0},{"$f":"Налоги!J267","v":0},{"$f":"Налоги!K267","v":0},{"$f":"Налоги!L267","v":0},{"$f":"Налоги!M267","v":0},{"$f":"Налоги!N267","v":0},{"$f":"Налоги!O267","v":0},{"$f":"Налоги!P267","v":0},{"$f":"Налоги!Q267","v":0},{"$f":"Налоги!R267","v":0},{"$f":"Налоги!S267","v":0},{"$f":"Налоги!T267","v":0},{"$f":"Налоги!U267","v":0},{"$f":"Налоги!V267","v":0},{"$f":"Налоги!W267","v":0},{"$f":"Налоги!X267","v":0},{"$f":"Налоги!Y267","v":0},{"$f":"Налоги!Z267","v":0},{"$f":"Налоги!AA267","v":0},{"$f":"Налоги!AB267","v":0}]
[null,null,"Дисконтированные расходы бюджета","тыс. руб.",null,null,null,{"$f":"H73*H25","v":0},0,0,0,0,0,0,0,0,0,0,0,0,0,0,0,0,0,0,0,{"$f":"AB73*AB25","v":0}]
[null,null,"Дисконтированные расходы бюджета ( в течение срока действия СПИК)","тыс. руб.",null,{"$f":"SUM(H75:AA75)","v":0},null,{"$f":"H74*Предпосылки!H8","v":0},{"$f":"I74*Предпосылки!I8","v":0},{"$f":"J74*Предпосылки!J8","v":0},{"$f":"K74*Предпосылки!K8","v":0},{"$f":"L74*Предпосылки!L8","v":0},{"$f":"M74*Предпосылки!M8","v":0},{"$f":"N74*Предпосылки!N8","v":0},{"$f":"O74*Предпосылки!O8","v":0},{"$f":"P74*Предпосылки!P8","v":0},{"$f":"Q74*Предпосылки!Q8","v":0},{"$f":"R74*Предпосылки!R8","v":0},{"$f":"S74*Предпосылки!S8","v":0},{"$f":"T74*Предпосылки!T8","v":0},{"$f":"U74*Предпосылки!U8","v":0},{"$f":"V74*Предпосылки!V8","v":0},{"$f":"W74*Предпосылки!W8","v":0},{"$f":"X74*Предпосылки!X8","v":0},{"$f":"Y74*Предпосылки!Y8","v":0},{"$f":"Z74*Предпосылки!Z8","v":0},{"$f":"AA74*Предпосылки!AA8","v":0},{"$f":"AB74*Предпосылки!AB8","v":0}]
[null,null,"BPI (индекс  бюджетной прибыльности)","тыс. руб.",null,{"$f":"IF(F75=0, \"-\",F72/F75)","v":"-"}]
[]
[null,"Показатели финансовой устойчивости"]
[]
[null,null,"ICR (коэффициент покрытия процентных выплат)","х",null,null,null,{"$f":"IFERROR(-'Отчетность (СПИК)'!H91/'Отчетность (СПИК)'!H107,)","v":0},{"$f":"IFERROR(-'Отчетность (СПИК)'!I91/'Отчетность (СПИК)'!I107,)","v":0},{"$f":"IFERROR(-'Отчетность (СПИК)'!J91/'Отчетность (СПИК)'!J107,)","v":0},{"$f":"IFERROR(-'Отчетность (СПИК)'!K91/'Отчетность (СПИК)'!K107,)","v":0},{"$f":"IFERROR(-'Отчетность (СПИК)'!L91/'Отчетность (СПИК)'!L107,)","v":0},{"$f":"IFERROR(-'Отчетность (СПИК)'!M91/'Отчетность (СПИК)'!M107,)","v":0},{"$f":"IFERROR(-'Отчетность (СПИК)'!N91/'Отчетность (СПИК)'!N107,)","v":0},{"$f":"IFERROR(-'Отчетность (СПИК)'!O91/'Отчетность (СПИК)'!O107,)","v":0},{"$f":"IFERROR(-'Отчетность (СПИК)'!P91/'Отчетность (СПИК)'!P107,)","v":0},{"$f":"IFERROR(-'Отчетность (СПИК)'!Q91/'Отчетность (СПИК)'!Q107,)","v":0},{"$f":"IFERROR(-'Отчетность (СПИК)'!R91/'Отчетность (СПИК)'!R107,)","v":0},{"$f":"IFERROR(-'Отчетность (СПИК)'!S91/'Отчетность (СПИК)'!S107,)","v":0},{"$f":"IFERROR(-'Отчетность (СПИК)'!T91/'Отчетность (СПИК)'!T107,)","v":0},{"$f":"IFERROR(-'Отчетность (СПИК)'!U91/'Отчетность (СПИК)'!U107,)","v":0},{"$f":"IFERROR(-'Отчетность (СПИК)'!V91/'Отчетность (СПИК)'!V107,)","v":0},{"$f":"IFERROR(-'Отчетность (СПИК)'!W91/'Отчетность (СПИК)'!W107,)","v":0},{"$f":"IFERROR(-'Отчетность (СПИК)'!X91/'Отчетность (СПИК)'!X107,)","v":0},{"$f":"IFERROR(-'Отчетность (СПИК)'!Y91/'Отчетность (СПИК)'!Y107,)","v":0},{"$f":"IFERROR(-'Отчетность (СПИК)'!Z91/'Отчетность (СПИК)'!Z107,)","v":0},{"$f":"IFERROR(-'Отчетность (СПИК)'!AA91/'Отчетность (СПИК)'!AA107,)","v":0},{"$f":"IFERROR(-'Отчетность (СПИК)'!AB91/'Отчетность (СПИК)'!AB107,)","v":0}]
[]
[null,null,"CFADS (с учетом дофинансирования)","тыс. руб.",null,null,null,{"$f":"H39+H32*'Отчетность (СПИК)'!H66+'Отчетность (СПИК)'!H118+'Отчетность (СПИК)'!H128+'Отчетность (СПИК)'!H129","v":0},{"$f":"I39+I32*'Отчетность (СПИК)'!I66+'Отчетность (СПИК)'!I118+'Отчетность (СПИК)'!I128+'Отчетность (СПИК)'!I129","v":0},{"$f":"J39+J32*'Отчетность (СПИК)'!J66+'Отчетность (СПИК)'!J118+'Отчетность (СПИК)'!J128+'Отчетность (СПИК)'!J129","v":0},{"$f":"K39+K32*'Отчетность (СПИК)'!K66+'Отчетность (СПИК)'!K118+'Отчетность (СПИК)'!K128+'Отчетность (СПИК)'!K129","v":0},{"$f":"L39+L32*'Отчетность (СПИК)'!L66+'Отчетность (СПИК)'!L118+'Отчетность (СПИК)'!L128+'Отчетность (СПИК)'!L129","v":0},{"$f":"M39+M32*'Отчетность (СПИК)'!M66+'Отчетность (СПИК)'!M118+'Отчетность (СПИК)'!M128+'Отчетность (СПИК)'!M129","v":0},{"$f":"N39+N32*'Отчетность (СПИК)'!N66+'Отчетность (СПИК)'!N118+'Отчетность (СПИК)'!N128+'Отчетность (СПИК)'!N129","v":0},{"$f":"O39+O32*'Отчетность (СПИК)'!O66+'Отчетность (СПИК)'!O118+'Отчетность (СПИК)'!O128+'Отчетность (СПИК)'!O129","v":0},{"$f":"P39+P32*'Отчетность (СПИК)'!P66+'Отчетность (СПИК)'!P118+'Отчетность (СПИК)'!P128+'Отчетность (СПИК)'!P129","v":0},{"$f":"Q39+Q32*'Отчетность (СПИК)'!Q66+'Отчетность (СПИК)'!Q118+'Отчетность (СПИК)'!Q128+'Отчетность (СПИК)'!Q129","v":0},{"$f":"R39+R32*'Отчетность (СПИК)'!R66+'Отчетность (СПИК)'!R118+'Отчетность (СПИК)'!R128+'Отчетность (СПИК)'!R129","v":0},{"$f":"S39+S32*'Отчетность (СПИК)'!S66+'Отчетность (СПИК)'!S118+'Отчетность (СПИК)'!S128+'Отчетность (СПИК)'!S129","v":0},{"$f":"T39+T32*'Отчетность (СПИК)'!T66+'Отчетность (СПИК)'!T118+'Отчетность (СПИК)'!T128+'Отчетность (СПИК)'!T129","v":0},{"$f":"U39+U32*'Отчетность (СПИК)'!U66+'Отчетность (СПИК)'!U118+'Отчетность (СПИК)'!U128+'Отчетность (СПИК)'!U129","v":0},{"$f":"V39+V32*'Отчетность (СПИК)'!V66+'Отчетность (СПИК)'!V118+'Отчетность (СПИК)'!V128+'Отчетность (СПИК)'!V129","v":0},{"$f":"W39+W32*'Отчетность (СПИК)'!W66+'Отчетность (СПИК)'!W118+'Отчетность (СПИК)'!W128+'Отчетность (СПИК)'!W129","v":0},{"$f":"X39+X32*'Отчетность (СПИК)'!X66+'Отчетность (СПИК)'!X118+'Отчетность (СПИК)'!X128+'Отчетность (СПИК)'!X129","v":0},{"$f":"Y39+Y32*'Отчетность (СПИК)'!Y66+'Отчетность (СПИК)'!Y118+'Отчетность (СПИК)'!Y128+'Отчетность (СПИК)'!Y129","v":0},{"$f":"Z39+Z32*'Отчетность (СПИК)'!Z66+'Отчетность (СПИК)'!Z118+'Отчетность (СПИК)'!Z128+'Отчетность (СПИК)'!Z129","v":0},{"$f":"AA39+AA32*'Отчетность (СПИК)'!AA66+'Отчетность (СПИК)'!AA118+'Отчетность (СПИК)'!AA128+'Отчетность (СПИК)'!AA129","v":0},{"$f":"AB39+AB32*'Отчетность (СПИК)'!AB66+'Отчетность (СПИК)'!AB118+'Отчетность (СПИК)'!AB128+'Отчетность (СПИК)'!AB129","v":0}]
[null,null,"NPV(CFADS) упрощенно","тыс. руб.",null,null,null,{"$f":"NPV($F$19,H82:$AA82)","v":0},{"$f":"NPV($F$19,I82:$AA82)","v":0},{"$f":"NPV($F$19,J82:$AA82)","v":0},{"$f":"NPV($F$19,K82:$AA82)","v":0},{"$f":"NPV($F$19,L82:$AA82)","v":0},{"$f":"NPV($F$19,M82:$AA82)","v":0},{"$f":"NPV($F$19,N82:$AA82)","v":0},{"$f":"NPV($F$19,O82:$AA82)","v":0},{"$f":"NPV($F$19,P82:$AA82)","v":0},{"$f":"NPV($F$19,Q82:$AA82)","v":0},{"$f":"NPV($F$19,R82:$AA82)","v":0},{"$f":"NPV($F$19,S82:$AA82)","v":0},{"$f":"NPV($F$19,T82:$AA82)","v":0},{"$f":"NPV($F$19,U82:$AA82)","v":0},{"$f":"NPV($F$19,V82:$AA82)","v":0},{"$f":"NPV($F$19,W82:$AA82)","v":0},{"$f":"NPV($F$19,X82:$AA82)","v":0},{"$f":"NPV($F$19,Y82:$AA82)","v":0},{"$f":"NPV($F$19,Z82:$AA82)","v":0},{"$f":"NPV($F$19,AA82:$AA82)","v":0},{"$f":"NPV($F$19,$AA82:AB82)","v":0}]
[]
[null,null,"DSCR (коэффициент покрытия выплат по обслуживанию долга)","х",null,null,null,{"$f":"IFERROR(-H82/('Отчетность (СПИК)'!H107+'Отчетность (СПИК)'!H132),)","v":0},{"$f":"IFERROR(-I82/('Отчетность (СПИК)'!I107+'Отчетность (СПИК)'!I132),)","v":0},{"$f":"IFERROR(-J82/('Отчетность (СПИК)'!J107+'Отчетность (СПИК)'!J132),)","v":0},{"$f":"IFERROR(-K82/('Отчетность (СПИК)'!K107+'Отчетность (СПИК)'!K132),)","v":0},{"$f":"IFERROR(-L82/('Отчетность (СПИК)'!L107+'Отчетность (СПИК)'!L132),)","v":0},{"$f":"IFERROR(-M82/('Отчетность (СПИК)'!M107+'Отчетность (СПИК)'!M132),)","v":0},{"$f":"IFERROR(-N82/('Отчетность (СПИК)'!N107+'Отчетность (СПИК)'!N132),)","v":0},{"$f":"IFERROR(-O82/('Отчетность (СПИК)'!O107+'Отчетность (СПИК)'!O132),)","v":0},{"$f":"IFERROR(-P82/('Отчетность (СПИК)'!P107+'Отчетность (СПИК)'!P132),)","v":0},{"$f":"IFERROR(-Q82/('Отчетность (СПИК)'!Q107+'Отчетность (СПИК)'!Q132),)","v":0},{"$f":"IFERROR(-R82/('Отчетность (СПИК)'!R107+'Отчетность (СПИК)'!R132),)","v":0},{"$f":"IFERROR(-S82/('Отчетность (СПИК)'!S107+'Отчетность (СПИК)'!S132),)","v":0},{"$f":"IFERROR(-T82/('Отчетность (СПИК)'!T107+'Отчетность (СПИК)'!T132),)","v":0},{"$f":"IFERROR(-U82/('Отчетность (СПИК)'!U107+'Отчетность (СПИК)'!U132),)","v":0},{"$f":"IFERROR(-V82/('Отчетность (СПИК)'!V107+'Отчетность (СПИК)'!V132),)","v":0},{"$f":"IFERROR(-W82/('Отчетность (СПИК)'!W107+'Отчетность (СПИК)'!W132),)","v":0},{"$f":"IFERROR(-X82/('Отчетность (СПИК)'!X107+'Отчетность (СПИК)'!X132),)","v":0},{"$f":"IFERROR(-Y82/('Отчетность (СПИК)'!Y107+'Отчетность (СПИК)'!Y132),)","v":0},{"$f":"IFERROR(-Z82/('Отчетность (СПИК)'!Z107+'Отчетность (СПИК)'!Z132),)","v":0},{"$f":"IFERROR(-AA82/('Отчетность (СПИК)'!AA107+'Отчетность (СПИК)'!AA132),)","v":0},{"$f":"IFERROR(-AB82/('Отчетность (СПИК)'!AB107+'Отчетность (СПИК)'!AB132),)","v":0}]
[null,null,"LLCR (Коэффициент покрытия долга денежными потоками, доступными для обслуживания долга)","х",null,null,null,{"$f":"IFERROR(H83/('Отчетность (СПИК)'!G48),)","v":0},{"$f":"IFERROR(I83/('Отчетность (СПИК)'!H48),)","v":0},{"$f":"IFERROR(J83/('Отчетность (СПИК)'!I48),)","v":0},{"$f":"IFERROR(K83/('Отчетность (СПИК)'!J48),)","v":0},{"$f":"IFERROR(L83/('Отчетность (СПИК)'!K48),)","v":0},{"$f":"IFERROR(M83/('Отчетность (СПИК)'!L48),)","v":0},{"$f":"IFERROR(N83/('Отчетность (СПИК)'!M48),)","v":0},{"$f":"IFERROR(O83/('Отчетность (СПИК)'!N48),)","v":0},{"$f":"IFERROR(P83/('Отчетность (СПИК)'!O48),)","v":0},{"$f":"IFERROR(Q83/('Отчетность (СПИК)'!P48),)","v":0},{"$f":"IFERROR(R83/('Отчетность (СПИК)'!Q48),)","v":0},{"$f":"IFERROR(S83/('Отчетность (СПИК)'!R48),)","v":0},{"$f":"IFERROR(T83/('Отчетность (СПИК)'!S48),)","v":0},{"$f":"IFERROR(U83/('Отчетность (СПИК)'!T48),)","v":0},{"$f":"IFERROR(V83/('Отчетность (СПИК)'!U48),)","v":0},{"$f":"IFERROR(W83/('Отчетность (СПИК)'!V48),)","v":0},{"$f":"IFERROR(X83/('Отчетность (СПИК)'!W48),)","v":0},{"$f":"IFERROR(Y83/('Отчетность (СПИК)'!X48),)","v":0},{"$f":"IFERROR(Z83/('Отчетность (СПИК)'!Y48),)","v":0},{"$f":"IFERROR(AA83/('Отчетность (СПИК)'!Z48),)","v":0},{"$f":"IFERROR(AB83/('Отчетность (СПИК)'!AA48),)","v":0}]
[]
[null," ","Долг / Собственный капитал","х",null,null,null,{"$f":"'Отчетность (СПИК)'!H48/'Отчетность (СПИК)'!H26","v":{"$error":"#DIV/0!"}},{"$f":"'Отчетность (СПИК)'!I48/'Отчетность (СПИК)'!I26","v":{"$error":"#DIV/0!"}},{"$f":"'Отчетность (СПИК)'!J48/'Отчетность (СПИК)'!J26","v":{"$error":"#DIV/0!"}},{"$f":"'Отчетность (СПИК)'!K48/'Отчетность (СПИК)'!K26","v":{"$error":"#DIV/0!"}},{"$f":"'Отчетность (СПИК)'!L48/'Отчетность (СПИК)'!L26","v":{"$error":"#DIV/0!"}},{"$f":"'Отчетность (СПИК)'!M48/'Отчетность (СПИК)'!M26","v":{"$error":"#DIV/0!"}},{"$f":"'Отчетность (СПИК)'!N48/'Отчетность (СПИК)'!N26","v":{"$error":"#DIV/0!"}},{"$f":"'Отчетность (СПИК)'!O48/'Отчетность (СПИК)'!O26","v":{"$error":"#DIV/0!"}},{"$f":"'Отчетность (СПИК)'!P48/'Отчетность (СПИК)'!P26","v":{"$error":"#DIV/0!"}},{"$f":"'Отчетность (СПИК)'!Q48/'Отчетность (СПИК)'!Q26","v":{"$error":"#DIV/0!"}},{"$f":"'Отчетность (СПИК)'!R48/'Отчетность (СПИК)'!R26","v":{"$error":"#DIV/0!"}},{"$f":"'Отчетность (СПИК)'!S48/'Отчетность (СПИК)'!S26","v":{"$error":"#DIV/0!"}},{"$f":"'Отчетность (СПИК)'!T48/'Отчетность (СПИК)'!T26","v":{"$error":"#DIV/0!"}},{"$f":"'Отчетность (СПИК)'!U48/'Отчетность (СПИК)'!U26","v":{"$error":"#DIV/0!"}},{"$f":"'Отчетность (СПИК)'!V48/'Отчетность (СПИК)'!V26","v":{"$error":"#DIV/0!"}},{"$f":"'Отчетность (СПИК)'!W48/'Отчетность (СПИК)'!W26","v":{"$error":"#DIV/0!"}},{"$f":"'Отчетность (СПИК)'!X48/'Отчетность (СПИК)'!X26","v":{"$error":"#DIV/0!"}},{"$f":"'Отчетность (СПИК)'!Y48/'Отчетность (СПИК)'!Y26","v":{"$error":"#DIV/0!"}},{"$f":"'Отчетность (СПИК)'!Z48/'Отчетность (СПИК)'!Z26","v":{"$error":"#DIV/0!"}},{"$f":"'Отчетность (СПИК)'!AA48/'Отчетность (СПИК)'!AA26","v":{"$error":"#DIV/0!"}},{"$f":"'Отчетность (СПИК)'!AB48/'Отчетность (СПИК)'!AB26","v":{"$error":"#DIV/0!"}}]
[null,null,"Долг / EBIT","х",null,null,null,{"$f":"AVERAGE('Отчетность (СПИК)'!G48:H48)/'Отчетность (СПИК)'!H91","v":{"$error":"#DIV/0!"}},{"$f":"AVERAGE('Отчетность (СПИК)'!H48:I48)/'Отчетность (СПИК)'!I91","v":{"$error":"#DIV/0!"}},{"$f":"AVERAGE('Отчетность (СПИК)'!I48:J48)/'Отчетность (СПИК)'!J91","v":{"$error":"#DIV/0!"}},{"$f":"AVERAGE('Отчетность (СПИК)'!J48:K48)/'Отчетность (СПИК)'!K91","v":{"$error":"#DIV/0!"}},{"$f":"AVERAGE('Отчетность (СПИК)'!K48:L48)/'Отчетность (СПИК)'!L91","v":{"$error":"#DIV/0!"}},{"$f":"AVERAGE('Отчетность (СПИК)'!L48:M48)/'Отчетность (СПИК)'!M91","v":{"$error":"#DIV/0!"}},{"$f":"AVERAGE('Отчетность (СПИК)'!M48:N48)/'Отчетность (СПИК)'!N91","v":{"$error":"#DIV/0!"}},{"$f":"AVERAGE('Отчетность (СПИК)'!N48:O48)/'Отчетность (СПИК)'!O91","v":{"$error":"#DIV/0!"}},{"$f":"AVERAGE('Отчетность (СПИК)'!O48:P48)/'Отчетность (СПИК)'!P91","v":{"$error":"#DIV/0!"}},{"$f":"AVERAGE('Отчетность (СПИК)'!P48:Q48)/'Отчетность (СПИК)'!Q91","v":{"$error":"#DIV/0!"}},{"$f":"AVERAGE('Отчетность (СПИК)'!Q48:R48)/'Отчетность (СПИК)'!R91","v":{"$error":"#DIV/0!"}},{"$f":"AVERAGE('Отчетность (СПИК)'!R48:S48)/'Отчетность (СПИК)'!S91","v":{"$error":"#DIV/0!"}},{"$f":"AVERAGE('Отчетность (СПИК)'!S48:T48)/'Отчетность (СПИК)'!T91","v":{"$error":"#DIV/0!"}},{"$f":"AVERAGE('Отчетность (СПИК)'!T48:U48)/'Отчетность (СПИК)'!U91","v":{"$error":"#DIV/0!"}},{"$f":"AVERAGE('Отчетность (СПИК)'!U48:V48)/'Отчетность (СПИК)'!V91","v":{"$error":"#DIV/0!"}},{"$f":"AVERAGE('Отчетность (СПИК)'!V48:W48)/'Отчетность (СПИК)'!W91","v":{"$error":"#DIV/0!"}},{"$f":"AVERAGE('Отчетность (СПИК)'!W48:X48)/'Отчетность (СПИК)'!X91","v":{"$error":"#DIV/0!"}},{"$f":"AVERAGE('Отчетность (СПИК)'!X48:Y48)/'Отчетность (СПИК)'!Y91","v":{"$error":"#DIV/0!"}},{"$f":"AVERAGE('Отчетность (СПИК)'!Y48:Z48)/'Отчетность (СПИК)'!Z91","v":{"$error":"#DIV/0!"}},{"$f":"AVERAGE('Отчетность (СПИК)'!Z48:AA48)/'Отчетность (СПИК)'!AA91","v":{"$error":"#DIV/0!"}},{"$f":"AVERAGE('Отчетность (СПИК)'!AA48:AB48)/'Отчетность (СПИК)'!AB91","v":{"$error":"#DIV/0!"}}]
[null,null,"Чистый долг / EBITDA","х",null,null,null,{"$f":"AVERAGE('Отчетность (СПИК)'!G49:H49)/'Отчетность (СПИК)'!H93","v":{"$error":"#DIV/0!"}},{"$f":"AVERAGE('Отчетность (СПИК)'!H49:I49)/'Отчетность (СПИК)'!I93","v":{"$error":"#DIV/0!"}},{"$f":"AVERAGE('Отчетность (СПИК)'!I49:J49)/'Отчетность (СПИК)'!J93","v":{"$error":"#DIV/0!"}},{"$f":"AVERAGE('Отчетность (СПИК)'!J49:K49)/'Отчетность (СПИК)'!K93","v":{"$error":"#DIV/0!"}},{"$f":"AVERAGE('Отчетность (СПИК)'!K49:L49)/'Отчетность (СПИК)'!L93","v":{"$error":"#DIV/0!"}},{"$f":"AVERAGE('Отчетность (СПИК)'!L49:M49)/'Отчетность (СПИК)'!M93","v":{"$error":"#DIV/0!"}},{"$f":"AVERAGE('Отчетность (СПИК)'!M49:N49)/'Отчетность (СПИК)'!N93","v":{"$error":"#DIV/0!"}},{"$f":"AVERAGE('Отчетность (СПИК)'!N49:O49)/'Отчетность (СПИК)'!O93","v":{"$error":"#DIV/0!"}},{"$f":"AVERAGE('Отчетность (СПИК)'!O49:P49)/'Отчетность (СПИК)'!P93","v":{"$error":"#DIV/0!"}},{"$f":"AVERAGE('Отчетность (СПИК)'!P49:Q49)/'Отчетность (СПИК)'!Q93","v":{"$error":"#DIV/0!"}},{"$f":"AVERAGE('Отчетность (СПИК)'!Q49:R49)/'Отчетность (СПИК)'!R93","v":{"$error":"#DIV/0!"}},{"$f":"AVERAGE('Отчетность (СПИК)'!R49:S49)/'Отчетность (СПИК)'!S93","v":{"$error":"#DIV/0!"}},{"$f":"AVERAGE('Отчетность (СПИК)'!S49:T49)/'Отчетность (СПИК)'!T93","v":{"$error":"#DIV/0!"}},{"$f":"AVERAGE('Отчетность (СПИК)'!T49:U49)/'Отчетность (СПИК)'!U93","v":{"$error":"#DIV/0!"}},{"$f":"AVERAGE('Отчетность (СПИК)'!U49:V49)/'Отчетность (СПИК)'!V93","v":{"$error":"#DIV/0!"}},{"$f":"AVERAGE('Отчетность (СПИК)'!V49:W49)/'Отчетность (СПИК)'!W93","v":{"$error":"#DIV/0!"}},{"$f":"AVERAGE('Отчетность (СПИК)'!W49:X49)/'Отчетность (СПИК)'!X93","v":{"$error":"#DIV/0!"}},{"$f":"AVERAGE('Отчетность (СПИК)'!X49:Y49)/'Отчетность (СПИК)'!Y93","v":{"$error":"#DIV/0!"}},{"$f":"AVERAGE('Отчетность (СПИК)'!Y49:Z49)/'Отчетность (СПИК)'!Z93","v":{"$error":"#DIV/0!"}},{"$f":"AVERAGE('Отчетность (СПИК)'!Z49:AA49)/'Отчетность (СПИК)'!AA93","v":{"$error":"#DIV/0!"}},{"$f":"AVERAGE('Отчетность (СПИК)'!AA49:AB49)/'Отчетность (СПИК)'!AB93","v":{"$error":"#DIV/0!"}}]
[]
[null,"Показатели ликвидности (платежеспособности)"]
[]
[null,null,"Коэффициент  текущей ликвидности","х",null,null,null,{"$f":"'Отчетность (СПИК)'!H18/'Отчетность (СПИК)'!H34","v":{"$error":"#DIV/0!"}},{"$f":"'Отчетность (СПИК)'!I18/'Отчетность (СПИК)'!I34","v":{"$error":"#DIV/0!"}},{"$f":"'Отчетность (СПИК)'!J18/'Отчетность (СПИК)'!J34","v":{"$error":"#DIV/0!"}},{"$f":"'Отчетность (СПИК)'!K18/'Отчетность (СПИК)'!K34","v":{"$error":"#DIV/0!"}},{"$f":"'Отчетность (СПИК)'!L18/'Отчетность (СПИК)'!L34","v":{"$error":"#DIV/0!"}},{"$f":"'Отчетность (СПИК)'!M18/'Отчетность (СПИК)'!M34","v":{"$error":"#DIV/0!"}},{"$f":"'Отчетность (СПИК)'!N18/'Отчетность (СПИК)'!N34","v":{"$error":"#DIV/0!"}},{"$f":"'Отчетность (СПИК)'!O18/'Отчетность (СПИК)'!O34","v":{"$error":"#DIV/0!"}},{"$f":"'Отчетность (СПИК)'!P18/'Отчетность (СПИК)'!P34","v":{"$error":"#DIV/0!"}},{"$f":"'Отчетность (СПИК)'!Q18/'Отчетность (СПИК)'!Q34","v":{"$error":"#DIV/0!"}},{"$f":"'Отчетность (СПИК)'!R18/'Отчетность (СПИК)'!R34","v":{"$error":"#DIV/0!"}},{"$f":"'Отчетность (СПИК)'!S18/'Отчетность (СПИК)'!S34","v":{"$error":"#DIV/0!"}},{"$f":"'Отчетность (СПИК)'!T18/'Отчетность (СПИК)'!T34","v":{"$error":"#DIV/0!"}},{"$f":"'Отчетность (СПИК)'!U18/'Отчетность (СПИК)'!U34","v":{"$error":"#DIV/0!"}},{"$f":"'Отчетность (СПИК)'!V18/'Отчетность (СПИК)'!V34","v":{"$error":"#DIV/0!"}},{"$f":"'Отчетность (СПИК)'!W18/'Отчетность (СПИК)'!W34","v":{"$error":"#DIV/0!"}},{"$f":"'Отчетность (СПИК)'!X18/'Отчетность (СПИК)'!X34","v":{"$error":"#DIV/0!"}},{"$f":"'Отчетность (СПИК)'!Y18/'Отчетность (СПИК)'!Y34","v":{"$error":"#DIV/0!"}},{"$f":"'Отчетность (СПИК)'!Z18/'Отчетность (СПИК)'!Z34","v":{"$error":"#DIV/0!"}},{"$f":"'Отчетность (СПИК)'!AA18/'Отчетность (СПИК)'!AA34","v":{"$error":"#DIV/0!"}},{"$f":"'Отчетность (СПИК)'!AB18/'Отчетность (СПИК)'!AB34","v":{"$error":"#DIV/0!"}}]
[null,null,"Коэффициент быстрой ликвидности","х",null,null,null,{"$f":"('Отчетность (СПИК)'!H18-'Отчетность (СПИК)'!H19)/'Отчетность (СПИК)'!H34","v":{"$error":"#DIV/0!"}},{"$f":"('Отчетность (СПИК)'!I18-'Отчетность (СПИК)'!I19)/'Отчетность (СПИК)'!I34","v":{"$error":"#DIV/0!"}},{"$f":"('Отчетность (СПИК)'!J18-'Отчетность (СПИК)'!J19)/'Отчетность (СПИК)'!J34","v":{"$error":"#DIV/0!"}},{"$f":"('Отчетность (СПИК)'!K18-'Отчетность (СПИК)'!K19)/'Отчетность (СПИК)'!K34","v":{"$error":"#DIV/0!"}},{"$f":"('Отчетность (СПИК)'!L18-'Отчетность (СПИК)'!L19)/'Отчетность (СПИК)'!L34","v":{"$error":"#DIV/0!"}},{"$f":"('Отчетность (СПИК)'!M18-'Отчетность (СПИК)'!M19)/'Отчетность (СПИК)'!M34","v":{"$error":"#DIV/0!"}},{"$f":"('Отчетность (СПИК)'!N18-'Отчетность (СПИК)'!N19)/'Отчетность (СПИК)'!N34","v":{"$error":"#DIV/0!"}},{"$f":"('Отчетность (СПИК)'!O18-'Отчетность (СПИК)'!O19)/'Отчетность (СПИК)'!O34","v":{"$error":"#DIV/0!"}},{"$f":"('Отчетность (СПИК)'!P18-'Отчетность (СПИК)'!P19)/'Отчетность (СПИК)'!P34","v":{"$error":"#DIV/0!"}},{"$f":"('Отчетность (СПИК)'!Q18-'Отчетность (СПИК)'!Q19)/'Отчетность (СПИК)'!Q34","v":{"$error":"#DIV/0!"}},{"$f":"('Отчетность (СПИК)'!R18-'Отчетность (СПИК)'!R19)/'Отчетность (СПИК)'!R34","v":{"$error":"#DIV/0!"}},{"$f":"('Отчетность (СПИК)'!S18-'Отчетность (СПИК)'!S19)/'Отчетность (СПИК)'!S34","v":{"$error":"#DIV/0!"}},{"$f":"('Отчетность (СПИК)'!T18-'Отчетность (СПИК)'!T19)/'Отчетность (СПИК)'!T34","v":{"$error":"#DIV/0!"}},{"$f":"('Отчетность (СПИК)'!U18-'Отчетность (СПИК)'!U19)/'Отчетность (СПИК)'!U34","v":{"$error":"#DIV/0!"}},{"$f":"('Отчетность (СПИК)'!V18-'Отчетность (СПИК)'!V19)/'Отчетность (СПИК)'!V34","v":{"$error":"#DIV/0!"}},{"$f":"('Отчетность (СПИК)'!W18-'Отчетность (СПИК)'!W19)/'Отчетность (СПИК)'!W34","v":{"$error":"#DIV/0!"}},{"$f":"('Отчетность (СПИК)'!X18-'Отчетность (СПИК)'!X19)/'Отчетность (СПИК)'!X34","v":{"$error":"#DIV/0!"}},{"$f":"('Отчетность (СПИК)'!Y18-'Отчетность (СПИК)'!Y19)/'Отчетность (СПИК)'!Y34","v":{"$error":"#DIV/0!"}},{"$f":"('Отчетность (СПИК)'!Z18-'Отчетность (СПИК)'!Z19)/'Отчетность (СПИК)'!Z34","v":{"$error":"#DIV/0!"}},{"$f":"('Отчетность (СПИК)'!AA18-'Отчетность (СПИК)'!AA19)/'Отчетность (СПИК)'!AA34","v":{"$error":"#DIV/0!"}},{"$f":"('Отчетность (СПИК)'!AB18-'Отчетность (СПИК)'!AB19)/'Отчетность (СПИК)'!AB34","v":{"$error":"#DIV/0!"}}]
[]
[null,"Показатели рентабельности"]
[]
[null,null,"ROA (рентабельность активов)","%",null,null,null,{"$f":"'Отчетность (СПИК)'!H71/AVERAGE('Отчетность (СПИК)'!G23:H23)","v":{"$error":"#DIV/0!"}},{"$f":"'Отчетность (СПИК)'!I71/AVERAGE('Отчетность (СПИК)'!H23:I23)","v":{"$error":"#DIV/0!"}},{"$f":"'Отчетность (СПИК)'!J71/AVERAGE('Отчетность (СПИК)'!I23:J23)","v":{"$error":"#DIV/0!"}},{"$f":"'Отчетность (СПИК)'!K71/AVERAGE('Отчетность (СПИК)'!J23:K23)","v":{"$error":"#DIV/0!"}},{"$f":"'Отчетность (СПИК)'!L71/AVERAGE('Отчетность (СПИК)'!K23:L23)","v":{"$error":"#DIV/0!"}},{"$f":"'Отчетность (СПИК)'!M71/AVERAGE('Отчетность (СПИК)'!L23:M23)","v":{"$error":"#DIV/0!"}},{"$f":"'Отчетность (СПИК)'!N71/AVERAGE('Отчетность (СПИК)'!M23:N23)","v":{"$error":"#DIV/0!"}},{"$f":"'Отчетность (СПИК)'!O71/AVERAGE('Отчетность (СПИК)'!N23:O23)","v":{"$error":"#DIV/0!"}},{"$f":"'Отчетность (СПИК)'!P71/AVERAGE('Отчетность (СПИК)'!O23:P23)","v":{"$error":"#DIV/0!"}},{"$f":"'Отчетность (СПИК)'!Q71/AVERAGE('Отчетность (СПИК)'!P23:Q23)","v":{"$error":"#DIV/0!"}},{"$f":"'Отчетность (СПИК)'!R71/AVERAGE('Отчетность (СПИК)'!Q23:R23)","v":{"$error":"#DIV/0!"}},{"$f":"'Отчетность (СПИК)'!S71/AVERAGE('Отчетность (СПИК)'!R23:S23)","v":{"$error":"#DIV/0!"}},{"$f":"'Отчетность (СПИК)'!T71/AVERAGE('Отчетность (СПИК)'!S23:T23)","v":{"$error":"#DIV/0!"}},{"$f":"'Отчетность (СПИК)'!U71/AVERAGE('Отчетность (СПИК)'!T23:U23)","v":{"$error":"#DIV/0!"}},{"$f":"'Отчетность (СПИК)'!V71/AVERAGE('Отчетность (СПИК)'!U23:V23)","v":{"$error":"#DIV/0!"}},{"$f":"'Отчетность (СПИК)'!W71/AVERAGE('Отчетность (СПИК)'!V23:W23)","v":{"$error":"#DIV/0!"}},{"$f":"'Отчетность (СПИК)'!X71/AVERAGE('Отчетность (СПИК)'!W23:X23)","v":{"$error":"#DIV/0!"}},{"$f":"'Отчетность (СПИК)'!Y71/AVERAGE('Отчетность (СПИК)'!X23:Y23)","v":{"$error":"#DIV/0!"}},{"$f":"'Отчетность (СПИК)'!Z71/AVERAGE('Отчетность (СПИК)'!Y23:Z23)","v":{"$error":"#DIV/0!"}},{"$f":"'Отчетность (СПИК)'!AA71/AVERAGE('Отчетность (СПИК)'!Z23:AA23)","v":{"$error":"#DIV/0!"}},{"$f":"'Отчетность (СПИК)'!AB71/AVERAGE('Отчетность (СПИК)'!AA23:AB23)","v":{"$error":"#DIV/0!"}}]
[null,null,"ROE (рентабельность собственного капитала)","%",null,null,null,{"$f":"'Отчетность (СПИК)'!H71/AVERAGE('Отчетность (СПИК)'!G26:H26)","v":{"$error":"#DIV/0!"}},{"$f":"'Отчетность (СПИК)'!I71/AVERAGE('Отчетность (СПИК)'!H26:I26)","v":{"$error":"#DIV/0!"}},{"$f":"'Отчетность (СПИК)'!J71/AVERAGE('Отчетность (СПИК)'!I26:J26)","v":{"$error":"#DIV/0!"}},{"$f":"'Отчетность (СПИК)'!K71/AVERAGE('Отчетность (СПИК)'!J26:K26)","v":{"$error":"#DIV/0!"}},{"$f":"'Отчетность (СПИК)'!L71/AVERAGE('Отчетность (СПИК)'!K26:L26)","v":{"$error":"#DIV/0!"}},{"$f":"'Отчетность (СПИК)'!M71/AVERAGE('Отчетность (СПИК)'!L26:M26)","v":{"$error":"#DIV/0!"}},{"$f":"'Отчетность (СПИК)'!N71/AVERAGE('Отчетность (СПИК)'!M26:N26)","v":{"$error":"#DIV/0!"}},{"$f":"'Отчетность (СПИК)'!O71/AVERAGE('Отчетность (СПИК)'!N26:O26)","v":{"$error":"#DIV/0!"}},{"$f":"'Отчетность (СПИК)'!P71/AVERAGE('Отчетность (СПИК)'!O26:P26)","v":{"$error":"#DIV/0!"}},{"$f":"'Отчетность (СПИК)'!Q71/AVERAGE('Отчетность (СПИК)'!P26:Q26)","v":{"$error":"#DIV/0!"}},{"$f":"'Отчетность (СПИК)'!R71/AVERAGE('Отчетность (СПИК)'!Q26:R26)","v":{"$error":"#DIV/0!"}},{"$f":"'Отчетность (СПИК)'!S71/AVERAGE('Отчетность (СПИК)'!R26:S26)","v":{"$error":"#DIV/0!"}},{"$f":"'Отчетность (СПИК)'!T71/AVERAGE('Отчетность (СПИК)'!S26:T26)","v":{"$error":"#DIV/0!"}},{"$f":"'Отчетность (СПИК)'!U71/AVERAGE('Отчетность (СПИК)'!T26:U26)","v":{"$error":"#DIV/0!"}},{"$f":"'Отчетность (СПИК)'!V71/AVERAGE('Отчетность (СПИК)'!U26:V26)","v":{"$error":"#DIV/0!"}},{"$f":"'Отчетность (СПИК)'!W71/AVERAGE('Отчетность (СПИК)'!V26:W26)","v":{"$error":"#DIV/0!"}},{"$f":"'Отчетность (СПИК)'!X71/AVERAGE('Отчетность (СПИК)'!W26:X26)","v":{"$error":"#DIV/0!"}},{"$f":"'Отчетность (СПИК)'!Y71/AVERAGE('Отчетность (СПИК)'!X26:Y26)","v":{"$error":"#DIV/0!"}},{"$f":"'Отчетность (СПИК)'!Z71/AVERAGE('Отчетность (СПИК)'!Y26:Z26)","v":{"$error":"#DIV/0!"}},{"$f":"'Отчетность (СПИК)'!AA71/AVERAGE('Отчетность (СПИК)'!Z26:AA26)","v":{"$error":"#DIV/0!"}},{"$f":"'Отчетность (СПИК)'!AB71/AVERAGE('Отчетность (СПИК)'!AA26:AB26)","v":{"$error":"#DIV/0!"}}]
[null,null,"ROIC (Рентабельность инвестированного капитала)","%",null,null,null,{"$f":"'Отчетность (СПИК)'!H71/(AVERAGE('Отчетность (СПИК)'!G26:H26)+AVERAGE('Отчетность (СПИК)'!G31:H31))","v":{"$error":"#DIV/0!"}},{"$f":"'Отчетность (СПИК)'!I71/(AVERAGE('Отчетность (СПИК)'!H26:I26)+AVERAGE('Отчетность (СПИК)'!H31:I31))","v":{"$error":"#DIV/0!"}},{"$f":"'Отчетность (СПИК)'!J71/(AVERAGE('Отчетность (СПИК)'!I26:J26)+AVERAGE('Отчетность (СПИК)'!I31:J31))","v":{"$error":"#DIV/0!"}},{"$f":"'Отчетность (СПИК)'!K71/(AVERAGE('Отчетность (СПИК)'!J26:K26)+AVERAGE('Отчетность (СПИК)'!J31:K31))","v":{"$error":"#DIV/0!"}},{"$f":"'Отчетность (СПИК)'!L71/(AVERAGE('Отчетность (СПИК)'!K26:L26)+AVERAGE('Отчетность (СПИК)'!K31:L31))","v":{"$error":"#DIV/0!"}},{"$f":"'Отчетность (СПИК)'!M71/(AVERAGE('Отчетность (СПИК)'!L26:M26)+AVERAGE('Отчетность (СПИК)'!L31:M31))","v":{"$error":"#DIV/0!"}},{"$f":"'Отчетность (СПИК)'!N71/(AVERAGE('Отчетность (СПИК)'!M26:N26)+AVERAGE('Отчетность (СПИК)'!M31:N31))","v":{"$error":"#DIV/0!"}},{"$f":"'Отчетность (СПИК)'!O71/(AVERAGE('Отчетность (СПИК)'!N26:O26)+AVERAGE('Отчетность (СПИК)'!N31:O31))","v":{"$error":"#DIV/0!"}},{"$f":"'Отчетность (СПИК)'!P71/(AVERAGE('Отчетность (СПИК)'!O26:P26)+AVERAGE('Отчетность (СПИК)'!O31:P31))","v":{"$error":"#DIV/0!"}},{"$f":"'Отчетность (СПИК)'!Q71/(AVERAGE('Отчетность (СПИК)'!P26:Q26)+AVERAGE('Отчетность (СПИК)'!P31:Q31))","v":{"$error":"#DIV/0!"}},{"$f":"'Отчетность (СПИК)'!R71/(AVERAGE('Отчетность (СПИК)'!Q26:R26)+AVERAGE('Отчетность (СПИК)'!Q31:R31))","v":{"$error":"#DIV/0!"}},{"$f":"'Отчетность (СПИК)'!S71/(AVERAGE('Отчетность (СПИК)'!R26:S26)+AVERAGE('Отчетность (СПИК)'!R31:S31))","v":{"$error":"#DIV/0!"}},{"$f":"'Отчетность (СПИК)'!T71/(AVERAGE('Отчетность (СПИК)'!S26:T26)+AVERAGE('Отчетность (СПИК)'!S31:T31))","v":{"$error":"#DIV/0!"}},{"$f":"'Отчетность (СПИК)'!U71/(AVERAGE('Отчетность (СПИК)'!T26:U26)+AVERAGE('Отчетность (СПИК)'!T31:U31))","v":{"$error":"#DIV/0!"}},{"$f":"'Отчетность (СПИК)'!V71/(AVERAGE('Отчетность (СПИК)'!U26:V26)+AVERAGE('Отчетность (СПИК)'!U31:V31))","v":{"$error":"#DIV/0!"}},{"$f":"'Отчетность (СПИК)'!W71/(AVERAGE('Отчетность (СПИК)'!V26:W26)+AVERAGE('Отчетность (СПИК)'!V31:W31))","v":{"$error":"#DIV/0!"}},{"$f":"'Отчетность (СПИК)'!X71/(AVERAGE('Отчетность (СПИК)'!W26:X26)+AVERAGE('Отчетность (СПИК)'!W31:X31))","v":{"$error":"#DIV/0!"}},{"$f":"'Отчетность (СПИК)'!Y71/(AVERAGE('Отчетность (СПИК)'!X26:Y26)+AVERAGE('Отчетность (СПИК)'!X31:Y31))","v":{"$error":"#DIV/0!"}},{"$f":"'Отчетность (СПИК)'!Z71/(AVERAGE('Отчетность (СПИК)'!Y26:Z26)+AVERAGE('Отчетность (СПИК)'!Y31:Z31))","v":{"$error":"#DIV/0!"}},{"$f":"'Отчетность (СПИК)'!AA71/(AVERAGE('Отчетность (СПИК)'!Z26:AA26)+AVERAGE('Отчетность (СПИК)'!Z31:AA31))","v":{"$error":"#DIV/0!"}},{"$f":"'Отчетность (СПИК)'!AB71/(AVERAGE('Отчетность (СПИК)'!AA26:AB26)+AVERAGE('Отчетность (СПИК)'!AA31:AB31))","v":{"$error":"#DIV/0!"}}]
[]
[null,null,"Рентабельность по валовой прибыли","%",null,null,null,{"$f":"IFERROR('Отчетность (СПИК)'!H55/'Отчетность (СПИК)'!H$53,\"-\")","v":"-"},{"$f":"IFERROR('Отчетность (СПИК)'!I55/'Отчетность (СПИК)'!I$53,\"-\")","v":"-"},{"$f":"IFERROR('Отчетность (СПИК)'!J55/'Отчетность (СПИК)'!J$53,\"-\")","v":"-"},{"$f":"IFERROR('Отчетность (СПИК)'!K55/'Отчетность (СПИК)'!K$53,\"-\")","v":"-"},{"$f":"IFERROR('Отчетность (СПИК)'!L55/'Отчетность (СПИК)'!L$53,\"-\")","v":"-"},{"$f":"IFERROR('Отчетность (СПИК)'!M55/'Отчетность (СПИК)'!M$53,\"-\")","v":"-"},{"$f":"IFERROR('Отчетность (СПИК)'!N55/'Отчетность (СПИК)'!N$53,\"-\")","v":"-"},{"$f":"IFERROR('Отчетность (СПИК)'!O55/'Отчетность (СПИК)'!O$53,\"-\")","v":"-"},{"$f":"IFERROR('Отчетность (СПИК)'!P55/'Отчетность (СПИК)'!P$53,\"-\")","v":"-"},{"$f":"IFERROR('Отчетность (СПИК)'!Q55/'Отчетность (СПИК)'!Q$53,\"-\")","v":"-"},{"$f":"IFERROR('Отчетность (СПИК)'!R55/'Отчетность (СПИК)'!R$53,\"-\")","v":"-"},{"$f":"IFERROR('Отчетность (СПИК)'!S55/'Отчетность (СПИК)'!S$53,\"-\")","v":"-"},{"$f":"IFERROR('Отчетность (СПИК)'!T55/'Отчетность (СПИК)'!T$53,\"-\")","v":"-"},{"$f":"IFERROR('Отчетность (СПИК)'!U55/'Отчетность (СПИК)'!U$53,\"-\")","v":"-"},{"$f":"IFERROR('Отчетность (СПИК)'!V55/'Отчетность (СПИК)'!V$53,\"-\")","v":"-"},{"$f":"IFERROR('Отчетность (СПИК)'!W55/'Отчетность (СПИК)'!W$53,\"-\")","v":"-"},{"$f":"IFERROR('Отчетность (СПИК)'!X55/'Отчетность (СПИК)'!X$53,\"-\")","v":"-"},{"$f":"IFERROR('Отчетность (СПИК)'!Y55/'Отчетность (СПИК)'!Y$53,\"-\")","v":"-"},{"$f":"IFERROR('Отчетность (СПИК)'!Z55/'Отчетность (СПИК)'!Z$53,\"-\")","v":"-"},{"$f":"IFERROR('Отчетность (СПИК)'!AA55/'Отчетность (СПИК)'!AA$53,\"-\")","v":"-"},{"$f":"IFERROR('Отчетность (СПИК)'!AB55/'Отчетность (СПИК)'!AB$53,\"-\")","v":"-"}]
[null,null,"ROS (рентабельность продаж)","%",null,null,null,{"$f":"IFERROR('Отчетность (СПИК)'!H64/'Отчетность (СПИК)'!H$53,\"-\")","v":"-"},{"$f":"IFERROR('Отчетность (СПИК)'!I64/'Отчетность (СПИК)'!I$53,\"-\")","v":"-"},{"$f":"IFERROR('Отчетность (СПИК)'!J64/'Отчетность (СПИК)'!J$53,\"-\")","v":"-"},{"$f":"IFERROR('Отчетность (СПИК)'!K64/'Отчетность (СПИК)'!K$53,\"-\")","v":"-"},{"$f":"IFERROR('Отчетность (СПИК)'!L64/'Отчетность (СПИК)'!L$53,\"-\")","v":"-"},{"$f":"IFERROR('Отчетность (СПИК)'!M64/'Отчетность (СПИК)'!M$53,\"-\")","v":"-"},{"$f":"IFERROR('Отчетность (СПИК)'!N64/'Отчетность (СПИК)'!N$53,\"-\")","v":"-"},{"$f":"IFERROR('Отчетность (СПИК)'!O64/'Отчетность (СПИК)'!O$53,\"-\")","v":"-"},{"$f":"IFERROR('Отчетность (СПИК)'!P64/'Отчетность (СПИК)'!P$53,\"-\")","v":"-"},{"$f":"IFERROR('Отчетность (СПИК)'!Q64/'Отчетность (СПИК)'!Q$53,\"-\")","v":"-"},{"$f":"IFERROR('Отчетность (СПИК)'!R64/'Отчетность (СПИК)'!R$53,\"-\")","v":"-"},{"$f":"IFERROR('Отчетность (СПИК)'!S64/'Отчетность (СПИК)'!S$53,\"-\")","v":"-"},{"$f":"IFERROR('Отчетность (СПИК)'!T64/'Отчетность (СПИК)'!T$53,\"-\")","v":"-"},{"$f":"IFERROR('Отчетность (СПИК)'!U64/'Отчетность (СПИК)'!U$53,\"-\")","v":"-"},{"$f":"IFERROR('Отчетность (СПИК)'!V64/'Отчетность (СПИК)'!V$53,\"-\")","v":"-"},{"$f":"IFERROR('Отчетность (СПИК)'!W64/'Отчетность (СПИК)'!W$53,\"-\")","v":"-"},{"$f":"IFERROR('Отчетность (СПИК)'!X64/'Отчетность (СПИК)'!X$53,\"-\")","v":"-"},{"$f":"IFERROR('Отчетность (СПИК)'!Y64/'Отчетность (СПИК)'!Y$53,\"-\")","v":"-"},{"$f":"IFERROR('Отчетность (СПИК)'!Z64/'Отчетность (СПИК)'!Z$53,\"-\")","v":"-"},{"$f":"IFERROR('Отчетность (СПИК)'!AA64/'Отчетность (СПИК)'!AA$53,\"-\")","v":"-"},{"$f":"IFERROR('Отчетность (СПИК)'!AB64/'Отчетность (СПИК)'!AB$53,\"-\")","v":"-"}]
[null,null,"Рентабельность по EBIT","%",null,null,null,{"$f":"IFERROR('Отчетность (СПИК)'!H91/'Отчетность (СПИК)'!H$53,\"-\")","v":"-"},{"$f":"IFERROR('Отчетность (СПИК)'!I91/'Отчетность (СПИК)'!I$53,\"-\")","v":"-"},{"$f":"IFERROR('Отчетность (СПИК)'!J91/'Отчетность (СПИК)'!J$53,\"-\")","v":"-"},{"$f":"IFERROR('Отчетность (СПИК)'!K91/'Отчетность (СПИК)'!K$53,\"-\")","v":"-"},{"$f":"IFERROR('Отчетность (СПИК)'!L91/'Отчетность (СПИК)'!L$53,\"-\")","v":"-"},{"$f":"IFERROR('Отчетность (СПИК)'!M91/'Отчетность (СПИК)'!M$53,\"-\")","v":"-"},{"$f":"IFERROR('Отчетность (СПИК)'!N91/'Отчетность (СПИК)'!N$53,\"-\")","v":"-"},{"$f":"IFERROR('Отчетность (СПИК)'!O91/'Отчетность (СПИК)'!O$53,\"-\")","v":"-"},{"$f":"IFERROR('Отчетность (СПИК)'!P91/'Отчетность (СПИК)'!P$53,\"-\")","v":"-"},{"$f":"IFERROR('Отчетность (СПИК)'!Q91/'Отчетность (СПИК)'!Q$53,\"-\")","v":"-"},{"$f":"IFERROR('Отчетность (СПИК)'!R91/'Отчетность (СПИК)'!R$53,\"-\")","v":"-"},{"$f":"IFERROR('Отчетность (СПИК)'!S91/'Отчетность (СПИК)'!S$53,\"-\")","v":"-"},{"$f":"IFERROR('Отчетность (СПИК)'!T91/'Отчетность (СПИК)'!T$53,\"-\")","v":"-"},{"$f":"IFERROR('Отчетность (СПИК)'!U91/'Отчетность (СПИК)'!U$53,\"-\")","v":"-"},{"$f":"IFERROR('Отчетность (СПИК)'!V91/'Отчетность (СПИК)'!V$53,\"-\")","v":"-"},{"$f":"IFERROR('Отчетность (СПИК)'!W91/'Отчетность (СПИК)'!W$53,\"-\")","v":"-"},{"$f":"IFERROR('Отчетность (СПИК)'!X91/'Отчетность (СПИК)'!X$53,\"-\")","v":"-"},{"$f":"IFERROR('Отчетность (СПИК)'!Y91/'Отчетность (СПИК)'!Y$53,\"-\")","v":"-"},{"$f":"IFERROR('Отчетность (СПИК)'!Z91/'Отчетность (СПИК)'!Z$53,\"-\")","v":"-"},{"$f":"IFERROR('Отчетность (СПИК)'!AA91/'Отчетность (СПИК)'!AA$53,\"-\")","v":"-"},{"$f":"IFERROR('Отчетность (СПИК)'!AB91/'Отчетность (СПИК)'!AB$53,\"-\")","v":"-"}]
[null,null,"Рентабельность по EBITDA","%",null,null,null,{"$f":"IFERROR('Отчетность (СПИК)'!H93/'Отчетность (СПИК)'!H$53,\"-\")","v":"-"},{"$f":"IFERROR('Отчетность (СПИК)'!I93/'Отчетность (СПИК)'!I$53,\"-\")","v":"-"},{"$f":"IFERROR('Отчетность (СПИК)'!J93/'Отчетность (СПИК)'!J$53,\"-\")","v":"-"},{"$f":"IFERROR('Отчетность (СПИК)'!K93/'Отчетность (СПИК)'!K$53,\"-\")","v":"-"},{"$f":"IFERROR('Отчетность (СПИК)'!L93/'Отчетность (СПИК)'!L$53,\"-\")","v":"-"},{"$f":"IFERROR('Отчетность (СПИК)'!M93/'Отчетность (СПИК)'!M$53,\"-\")","v":"-"},{"$f":"IFERROR('Отчетность (СПИК)'!N93/'Отчетность (СПИК)'!N$53,\"-\")","v":"-"},{"$f":"IFERROR('Отчетность (СПИК)'!O93/'Отчетность (СПИК)'!O$53,\"-\")","v":"-"},{"$f":"IFERROR('Отчетность (СПИК)'!P93/'Отчетность (СПИК)'!P$53,\"-\")","v":"-"},{"$f":"IFERROR('Отчетность (СПИК)'!Q93/'Отчетность (СПИК)'!Q$53,\"-\")","v":"-"},{"$f":"IFERROR('Отчетность (СПИК)'!R93/'Отчетность (СПИК)'!R$53,\"-\")","v":"-"},{"$f":"IFERROR('Отчетность (СПИК)'!S93/'Отчетность (СПИК)'!S$53,\"-\")","v":"-"},{"$f":"IFERROR('Отчетность (СПИК)'!T93/'Отчетность (СПИК)'!T$53,\"-\")","v":"-"},{"$f":"IFERROR('Отчетность (СПИК)'!U93/'Отчетность (СПИК)'!U$53,\"-\")","v":"-"},{"$f":"IFERROR('Отчетность (СПИК)'!V93/'Отчетность (СПИК)'!V$53,\"-\")","v":"-"},{"$f":"IFERROR('Отчетность (СПИК)'!W93/'Отчетность (СПИК)'!W$53,\"-\")","v":"-"},{"$f":"IFERROR('Отчетность (СПИК)'!X93/'Отчетность (СПИК)'!X$53,\"-\")","v":"-"},{"$f":"IFERROR('Отчетность (СПИК)'!Y93/'Отчетность (СПИК)'!Y$53,\"-\")","v":"-"},{"$f":"IFERROR('Отчетность (СПИК)'!Z93/'Отчетность (СПИК)'!Z$53,\"-\")","v":"-"},{"$f":"IFERROR('Отчетность (СПИК)'!AA93/'Отчетность (СПИК)'!AA$53,\"-\")","v":"-"},{"$f":"IFERROR('Отчетность (СПИК)'!AB93/'Отчетность (СПИК)'!AB$53,\"-\")","v":"-"}]
[null,null,"Рентабельность по чистой прибыли","%",null,null,null,{"$f":"IFERROR('Отчетность (СПИК)'!H71/'Отчетность (СПИК)'!H$53,\"-\")","v":"-"},{"$f":"IFERROR('Отчетность (СПИК)'!I71/'Отчетность (СПИК)'!I$53,\"-\")","v":"-"},{"$f":"IFERROR('Отчетность (СПИК)'!J71/'Отчетность (СПИК)'!J$53,\"-\")","v":"-"},{"$f":"IFERROR('Отчетность (СПИК)'!K71/'Отчетность (СПИК)'!K$53,\"-\")","v":"-"},{"$f":"IFERROR('Отчетность (СПИК)'!L71/'Отчетность (СПИК)'!L$53,\"-\")","v":"-"},{"$f":"IFERROR('Отчетность (СПИК)'!M71/'Отчетность (СПИК)'!M$53,\"-\")","v":"-"},{"$f":"IFERROR('Отчетность (СПИК)'!N71/'Отчетность (СПИК)'!N$53,\"-\")","v":"-"},{"$f":"IFERROR('Отчетность (СПИК)'!O71/'Отчетность (СПИК)'!O$53,\"-\")","v":"-"},{"$f":"IFERROR('Отчетность (СПИК)'!P71/'Отчетность (СПИК)'!P$53,\"-\")","v":"-"},{"$f":"IFERROR('Отчетность (СПИК)'!Q71/'Отчетность (СПИК)'!Q$53,\"-\")","v":"-"},{"$f":"IFERROR('Отчетность (СПИК)'!R71/'Отчетность (СПИК)'!R$53,\"-\")","v":"-"},{"$f":"IFERROR('Отчетность (СПИК)'!S71/'Отчетность (СПИК)'!S$53,\"-\")","v":"-"},{"$f":"IFERROR('Отчетность (СПИК)'!T71/'Отчетность (СПИК)'!T$53,\"-\")","v":"-"},{"$f":"IFERROR('Отчетность (СПИК)'!U71/'Отчетность (СПИК)'!U$53,\"-\")","v":"-"},{"$f":"IFERROR('Отчетность (СПИК)'!V71/'Отчетность (СПИК)'!V$53,\"-\")","v":"-"},{"$f":"IFERROR('Отчетность (СПИК)'!W71/'Отчетность (СПИК)'!W$53,\"-\")","v":"-"},{"$f":"IFERROR('Отчетность (СПИК)'!X71/'Отчетность (СПИК)'!X$53,\"-\")","v":"-"},{"$f":"IFERROR('Отчетность (СПИК)'!Y71/'Отчетность (СПИК)'!Y$53,\"-\")","v":"-"},{"$f":"IFERROR('Отчетность (СПИК)'!Z71/'Отчетность (СПИК)'!Z$53,\"-\")","v":"-"},{"$f":"IFERROR('Отчетность (СПИК)'!AA71/'Отчетность (СПИК)'!AA$53,\"-\")","v":"-"},{"$f":"IFERROR('Отчетность (СПИК)'!AB71/'Отчетность (СПИК)'!AB$53,\"-\")","v":"-"}]
[]
[null,"Показатели оборачиваемости"]
[]
[null,null,"Оборачиваемость дебиторской задолженности","х",null,null,null,{"$f":"IFERROR('Отчетность (СПИК)'!H53/AVERAGE('Отчетность (СПИК)'!G21:H21),\"-\")","v":"-"},{"$f":"IFERROR('Отчетность (СПИК)'!I53/AVERAGE('Отчетность (СПИК)'!H21:I21),\"-\")","v":"-"},{"$f":"IFERROR('Отчетность (СПИК)'!J53/AVERAGE('Отчетность (СПИК)'!I21:J21),\"-\")","v":"-"},{"$f":"IFERROR('Отчетность (СПИК)'!K53/AVERAGE('Отчетность (СПИК)'!J21:K21),\"-\")","v":"-"},{"$f":"IFERROR('Отчетность (СПИК)'!L53/AVERAGE('Отчетность (СПИК)'!K21:L21),\"-\")","v":"-"},{"$f":"IFERROR('Отчетность (СПИК)'!M53/AVERAGE('Отчетность (СПИК)'!L21:M21),\"-\")","v":"-"},{"$f":"IFERROR('Отчетность (СПИК)'!N53/AVERAGE('Отчетность (СПИК)'!M21:N21),\"-\")","v":"-"},{"$f":"IFERROR('Отчетность (СПИК)'!O53/AVERAGE('Отчетность (СПИК)'!N21:O21),\"-\")","v":"-"},{"$f":"IFERROR('Отчетность (СПИК)'!P53/AVERAGE('Отчетность (СПИК)'!O21:P21),\"-\")","v":"-"},{"$f":"IFERROR('Отчетность (СПИК)'!Q53/AVERAGE('Отчетность (СПИК)'!P21:Q21),\"-\")","v":"-"},{"$f":"IFERROR('Отчетность (СПИК)'!R53/AVERAGE('Отчетность (СПИК)'!Q21:R21),\"-\")","v":"-"},{"$f":"IFERROR('Отчетность (СПИК)'!S53/AVERAGE('Отчетность (СПИК)'!R21:S21),\"-\")","v":"-"},{"$f":"IFERROR('Отчетность (СПИК)'!T53/AVERAGE('Отчетность (СПИК)'!S21:T21),\"-\")","v":"-"},{"$f":"IFERROR('Отчетность (СПИК)'!U53/AVERAGE('Отчетность (СПИК)'!T21:U21),\"-\")","v":"-"},{"$f":"IFERROR('Отчетность (СПИК)'!V53/AVERAGE('Отчетность (СПИК)'!U21:V21),\"-\")","v":"-"},{"$f":"IFERROR('Отчетность (СПИК)'!W53/AVERAGE('Отчетность (СПИК)'!V21:W21),\"-\")","v":"-"},{"$f":"IFERROR('Отчетность (СПИК)'!X53/AVERAGE('Отчетность (СПИК)'!W21:X21),\"-\")","v":"-"},{"$f":"IFERROR('Отчетность (СПИК)'!Y53/AVERAGE('Отчетность (СПИК)'!X21:Y21),\"-\")","v":"-"},{"$f":"IFERROR('Отчетность (СПИК)'!Z53/AVERAGE('Отчетность (СПИК)'!Y21:Z21),\"-\")","v":"-"},{"$f":"IFERROR('Отчетность (СПИК)'!AA53/AVERAGE('Отчетность (СПИК)'!Z21:AA21),\"-\")","v":"-"},{"$f":"IFERROR('Отчетность (СПИК)'!AB53/AVERAGE('Отчетность (СПИК)'!AA21:AB21),\"-\")","v":"-"}]
[null,null,"Оборачиваемость кредиторской задолженности","х",null,null,null,{"$f":"IFERROR(-'Отчетность (СПИК)'!H54/AVERAGE('Отчетность (СПИК)'!G36:H36),\"-\")","v":"-"},{"$f":"IFERROR(-'Отчетность (СПИК)'!I54/AVERAGE('Отчетность (СПИК)'!H36:I36),\"-\")","v":"-"},{"$f":"IFERROR(-'Отчетность (СПИК)'!J54/AVERAGE('Отчетность (СПИК)'!I36:J36),\"-\")","v":"-"},{"$f":"IFERROR(-'Отчетность (СПИК)'!K54/AVERAGE('Отчетность (СПИК)'!J36:K36),\"-\")","v":"-"},{"$f":"IFERROR(-'Отчетность (СПИК)'!L54/AVERAGE('Отчетность (СПИК)'!K36:L36),\"-\")","v":"-"},{"$f":"IFERROR(-'Отчетность (СПИК)'!M54/AVERAGE('Отчетность (СПИК)'!L36:M36),\"-\")","v":"-"},{"$f":"IFERROR(-'Отчетность (СПИК)'!N54/AVERAGE('Отчетность (СПИК)'!M36:N36),\"-\")","v":"-"},{"$f":"IFERROR(-'Отчетность (СПИК)'!O54/AVERAGE('Отчетность (СПИК)'!N36:O36),\"-\")","v":"-"},{"$f":"IFERROR(-'Отчетность (СПИК)'!P54/AVERAGE('Отчетность (СПИК)'!O36:P36),\"-\")","v":"-"},{"$f":"IFERROR(-'Отчетность (СПИК)'!Q54/AVERAGE('Отчетность (СПИК)'!P36:Q36),\"-\")","v":"-"},{"$f":"IFERROR(-'Отчетность (СПИК)'!R54/AVERAGE('Отчетность (СПИК)'!Q36:R36),\"-\")","v":"-"},{"$f":"IFERROR(-'Отчетность (СПИК)'!S54/AVERAGE('Отчетность (СПИК)'!R36:S36),\"-\")","v":"-"},{"$f":"IFERROR(-'Отчетность (СПИК)'!T54/AVERAGE('Отчетность (СПИК)'!S36:T36),\"-\")","v":"-"},{"$f":"IFERROR(-'Отчетность (СПИК)'!U54/AVERAGE('Отчетность (СПИК)'!T36:U36),\"-\")","v":"-"},{"$f":"IFERROR(-'Отчетность (СПИК)'!V54/AVERAGE('Отчетность (СПИК)'!U36:V36),\"-\")","v":"-"},{"$f":"IFERROR(-'Отчетность (СПИК)'!W54/AVERAGE('Отчетность (СПИК)'!V36:W36),\"-\")","v":"-"},{"$f":"IFERROR(-'Отчетность (СПИК)'!X54/AVERAGE('Отчетность (СПИК)'!W36:X36),\"-\")","v":"-"},{"$f":"IFERROR(-'Отчетность (СПИК)'!Y54/AVERAGE('Отчетность (СПИК)'!X36:Y36),\"-\")","v":"-"},{"$f":"IFERROR(-'Отчетность (СПИК)'!Z54/AVERAGE('Отчетность (СПИК)'!Y36:Z36),\"-\")","v":"-"},{"$f":"IFERROR(-'Отчетность (СПИК)'!AA54/AVERAGE('Отчетность (СПИК)'!Z36:AA36),\"-\")","v":"-"},{"$f":"IFERROR(-'Отчетность (СПИК)'!AB54/AVERAGE('Отчетность (СПИК)'!AA36:AB36),\"-\")","v":"-"}]
[null,null,"Оборачиваемость запасов","х",null,null,null,{"$f":"IFERROR(-'Отчетность (СПИК)'!H54/AVERAGE('Отчетность (СПИК)'!G19:H19),\"-\")","v":"-"},{"$f":"IFERROR(-'Отчетность (СПИК)'!I54/AVERAGE('Отчетность (СПИК)'!H19:I19),\"-\")","v":"-"},{"$f":"IFERROR(-'Отчетность (СПИК)'!J54/AVERAGE('Отчетность (СПИК)'!I19:J19),\"-\")","v":"-"},{"$f":"IFERROR(-'Отчетность (СПИК)'!K54/AVERAGE('Отчетность (СПИК)'!J19:K19),\"-\")","v":"-"},{"$f":"IFERROR(-'Отчетность (СПИК)'!L54/AVERAGE('Отчетность (СПИК)'!K19:L19),\"-\")","v":"-"},{"$f":"IFERROR(-'Отчетность (СПИК)'!M54/AVERAGE('Отчетность (СПИК)'!L19:M19),\"-\")","v":"-"},{"$f":"IFERROR(-'Отчетность (СПИК)'!N54/AVERAGE('Отчетность (СПИК)'!M19:N19),\"-\")","v":"-"},{"$f":"IFERROR(-'Отчетность (СПИК)'!O54/AVERAGE('Отчетность (СПИК)'!N19:O19),\"-\")","v":"-"},{"$f":"IFERROR(-'Отчетность (СПИК)'!P54/AVERAGE('Отчетность (СПИК)'!O19:P19),\"-\")","v":"-"},{"$f":"IFERROR(-'Отчетность (СПИК)'!Q54/AVERAGE('Отчетность (СПИК)'!P19:Q19),\"-\")","v":"-"},{"$f":"IFERROR(-'Отчетность (СПИК)'!R54/AVERAGE('Отчетность (СПИК)'!Q19:R19),\"-\")","v":"-"},{"$f":"IFERROR(-'Отчетность (СПИК)'!S54/AVERAGE('Отчетность (СПИК)'!R19:S19),\"-\")","v":"-"},{"$f":"IFERROR(-'Отчетность (СПИК)'!T54/AVERAGE('Отчетность (СПИК)'!S19:T19),\"-\")","v":"-"},{"$f":"IFERROR(-'Отчетность (СПИК)'!U54/AVERAGE('Отчетность (СПИК)'!T19:U19),\"-\")","v":"-"},{"$f":"IFERROR(-'Отчетность (СПИК)'!V54/AVERAGE('Отчетность (СПИК)'!U19:V19),\"-\")","v":"-"},{"$f":"IFERROR(-'Отчетность (СПИК)'!W54/AVERAGE('Отчетность (СПИК)'!V19:W19),\"-\")","v":"-"},{"$f":"IFERROR(-'Отчетность (СПИК)'!X54/AVERAGE('Отчетность (СПИК)'!W19:X19),\"-\")","v":"-"},{"$f":"IFERROR(-'Отчетность (СПИК)'!Y54/AVERAGE('Отчетность (СПИК)'!X19:Y19),\"-\")","v":"-"},{"$f":"IFERROR(-'Отчетность (СПИК)'!Z54/AVERAGE('Отчетность (СПИК)'!Y19:Z19),\"-\")","v":"-"},{"$f":"IFERROR(-'Отчетность (СПИК)'!AA54/AVERAGE('Отчетность (СПИК)'!Z19:AA19),\"-\")","v":"-"},{"$f":"IFERROR(-'Отчетность (СПИК)'!AB54/AVERAGE('Отчетность (СПИК)'!AA19:AB19),\"-\")","v":"-"}]

{"sheet":"Анализ чувствительности (СПИК)","index":19,"n_rows":80,"n_cols":13,"rows_kept":80,"cut":false,"hidden":false,"merged":[[4,4,4,12],[10,4,10,12],[16,4,16,12],[22,4,22,12],[28,4,28,12]]}
[null,null,null,null,null,{"$f":"\"Лист:  \" & RIGHT(CELL(\"filename\",A1),LEN(CELL(\"filename\",A1))-SEARCH(\"]\",CELL(\"filename\",A1)))","v":"Лист:  Анализ чувствительности (СПИК)"},null,null,null,null,"Внимание: анализ чувствительности (однофакторный или двухфакторный - на усмотрение инвестора) необходимо настроить самостоятельно"]
[null,"Однофакторный анализ"]
[]
[null,null,"Изменяемый параметр","Ед. изм.",-0.15,-0.1,-0.05,-0.01,0,0.01,0.05,0.1,0.15]
[null,null,null,null,"NPV"]
[null,null,"Изменение цен на готовую продукцию",{"$f":"'Эффективность (СПИК)'!$D$54","v":"тыс. руб."},{"$f":"E40","v":0},{"$f":"F40","v":0},0,0,0,0,0,0,0]
[null,null,"Изменение объёма производства и реализации",{"$f":"'Эффективность (СПИК)'!$D$54","v":"тыс. руб."},{"$f":"E48","v":0},{"$f":"F48","v":0},0,0,0,0,0,0,0]
[null,null,"Изменение цен на сырье и материалы",{"$f":"'Эффективность (СПИК)'!$D$54","v":"тыс. руб."},{"$f":"E56","v":0},{"$f":"F56","v":0},0,0,0,0,0,0,0]
[null,null,"Изменение курса валюты (при наличии в модели)",{"$f":"'Эффективность (СПИК)'!$D$54","v":"тыс. руб."},{"$f":"E64","v":0},{"$f":"F64","v":0},0,0,0,0,0,0,0]
[null,null,"Изменение ставки дисконтирования",{"$f":"'Эффективность (СПИК)'!$D$54","v":"тыс. руб."},{"$f":"E72","v":0},{"$f":"F72","v":0},0,0,0,0,0,0,0]
[null,null,null,null,"IRR"]
[null,null,{"$f":"C6","v":"Изменение цен на готовую продукцию"},{"$f":"'Эффективность (СПИК)'!$D$55","v":"%"},{"$f":"E41","v":0},{"$f":"F41","v":0},0,0,0,0,0,0,0]
[null,null,"Изменение объёма производства и реализации",{"$f":"'Эффективность (СПИК)'!$D$55","v":"%"},{"$f":"E49","v":0},{"$f":"F49","v":0},0,0,0,0,0,0,0]
[null,null,{"$f":"C8","v":"Изменение цен на сырье и материалы"},{"$f":"'Эффективность (СПИК)'!$D$55","v":"%"},{"$f":"E57","v":0},{"$f":"F57","v":0},0,0,0,0,0,0,0]
[null,null,{"$f":"C9","v":"Изменение курса валюты (при наличии в модели)"},{"$f":"'Эффективность (СПИК)'!$D$55","v":"%"},{"$f":"E65","v":0},{"$f":"F65","v":0},0,0,0,0,0,0,0]
[null,null,{"$f":"C10","v":"Изменение ставки дисконтирования"},{"$f":"'Эффективность (СПИК)'!$D$55","v":"%"},{"$f":"E73","v":0},{"$f":"F73","v":0},0,0,0,0,0,0,0]
[null,null,null,null,"PBP"]
[null,null,{"$f":"C12","v":"Изменение цен на готовую продукцию"},{"$f":"'Эффективность (СПИК)'!$D$56","v":"лет"},{"$f":"E42","v":15},{"$f":"F42","v":15},15,15,15,15,15,15,15]
[null,null,"Изменение объёма производства и реализации",{"$f":"'Эффективность (СПИК)'!$D$56","v":"лет"},{"$f":"E50","v":15},{"$f":"F50","v":15},15,15,15,15,15,15,15]
[null,null,{"$f":"C14","v":"Изменение цен на сырье и материалы"},{"$f":"'Эффективность (СПИК)'!$D$56","v":"лет"},{"$f":"E58","v":15},{"$f":"F58","v":15},15,15,15,15,15,15,15]
[null,null,{"$f":"C15","v":"Изменение курса валюты (при наличии в модели)"},{"$f":"'Эффективность (СПИК)'!$D$56","v":"лет"},{"$f":"E66","v":15},{"$f":"F66","v":15},15,15,15,15,15,15,15]
[null,null,{"$f":"C16","v":"Изменение ставки дисконтирования"},{"$f":"'Эффективность (СПИК)'!$D$56","v":"лет"},{"$f":"E74","v":15},{"$f":"F74","v":15},15,15,15,15,15,15,15]
[null,null,null,null,"DPBP"]
[null,null,{"$f":"C18","v":"Изменение цен на готовую продукцию"},{"$f":"'Эффективность (СПИК)'!$D$57","v":"лет"},{"$f":"E43","v":15},{"$f":"F43","v":15},15,15,15,15,15,15,15]
[null,null,"Изменение объёма производства и реализации",{"$f":"'Эффективность (СПИК)'!$D$57","v":"лет"},{"$f":"E51","v":15},{"$f":"F51","v":15},15,15,15,15,15,15,15]
[null,null,{"$f":"C20","v":"Изменение цен на сырье и материалы"},{"$f":"'Эффективность (СПИК)'!$D$57","v":"лет"},{"$f":"E59","v":15},{"$f":"F59","v":15},15,15,15,15,15,15,15]
[null,null,{"$f":"C21","v":"Изменение курса валюты (при наличии в модели)"},{"$f":"'Эффективность (СПИК)'!$D$57","v":"лет"},{"$f":"E67","v":15},{"$f":"F67","v":15},15,15,15,15,15,15,15]
[null,null,{"$f":"C22","v":"Изменение ставки дисконтирования"},{"$f":"'Эффективность (СПИК)'!$D$57","v":"лет"},{"$f":"E75","v":15},{"$f":"F75","v":15},15,15,15,15,15,15,15]
[null,null,null,null,"BNPV"]
[null,null,{"$f":"C24","v":"Изменение цен на готовую продукцию"},{"$f":"'Эффективность (СПИК)'!$D$72","v":"тыс. руб."},{"$f":"E44","v":0},{"$f":"F44","v":0},0,0,{"$f":"I44","v":0},0,0,0,0]
[null,null,"Изменение объёма производства и реализации",{"$f":"'Эффективность (СПИК)'!$D$72","v":"тыс. руб."},{"$f":"E52","v":0},{"$f":"F52","v":0},0,0,0,0,0,0,0]
[null,null,{"$f":"C26","v":"Изменение цен на сырье и материалы"},{"$f":"'Эффективность (СПИК)'!$D$72","v":"тыс. руб."},{"$f":"E60","v":0},{"$f":"F60","v":0},0,0,0,0,0,0,0]
[null,null,{"$f":"C27","v":"Изменение курса валюты (при наличии в модели)"},{"$f":"'Эффективность (СПИК)'!$D$72","v":"тыс. руб."},{"$f":"E68","v":0},{"$f":"F68","v":0},0,0,0,0,0,0,0]
[null,null,{"$f":"C28","v":"Изменение ставки дисконтирования"},{"$f":"'Эффективность (СПИК)'!$D$72","v":"тыс. руб."},{"$f":"E76","v":0},{"$f":"F76","v":0},0,0,0,0,0,0,0]
[]
[null,"Однофакторный анализ - расчеты"]
[]
[null,null,"Изменение цен на готовую продукцию"]
[null,null,null,0,{"$f":"E4","v":-0.15},-0.1,-0.05,-0.01,0,0.01,0.05,0.1,0.15]
[null,null,"NPV",{"$f":"IFERROR('Эффективность (СПИК)'!$F$54,)","v":0},0,0,0,0,0,0,0,0,0]
[null,null,"IRR",{"$f":"IFERROR('Эффективность (СПИК)'!$F$55,)","v":0},0,0,0,0,0,0,0,0,0]
[null,null,"PBP",{"$f":"IFERROR('Эффективность (СПИК)'!$F$56,)","v":15},15,15,15,15,15,15,15,15,15]
[null,null,"DPBP",{"$f":"IFERROR('Эффективность (СПИК)'!$F$57,)","v":15},15,15,15,15,15,15,15,15,15]
[null,null,"BNPV",{"$f":"'Эффективность (СПИК)'!$F$72","v":0},0,0,0,0,0,0,0,0,0]
[]
[null,null,"Изменение объёма производства и реализации"]
[null,null,null,0,{"$f":"E39","v":-0.15},-0.1,-0.05,-0.01,0,0.01,0.05,0.1,0.15]
[null,null,{"$f":"C40","v":"NPV"},0,0,0,0,0,0,0,0,0,0]
[null,null,"IRR",0,0,0,0,0,0,0,0,0,0]
[null,null,"PBP",15,15,15,15,15,15,15,15,15,15]
[null,null,"DPBP",15,15,15,15,15,15,15,15,15,15]
[null,null,"BNPV",0,0,0,0,0,0,0,0,0,0]
[]
[null,null,"Изменение цен на сырье и материалы"]
[null,null,null,0,{"$f":"E47","v":-0.15},{"$f":"F47","v":-0.1},-0.05,-0.01,0,0.01,0.05,0.1,0.15]
[null,null,{"$f":"C48","v":"NPV"},0,0,0,0,0,0,0,0,0,0]
[null,null,"IRR",0,0,0,0,0,0,0,0,0,0]
[null,null,"PBP",15,15,15,15,15,15,15,15,15,15]
[null,null,"DPBP",15,15,15,15,15,15,15,15,15,15]
[null,null,"BNPV",0,0,0,0,0,0,0,0,0,0]
[]
[null,null,"Изменение курса валюты"]
[null,null,null,0,{"$f":"E55","v":-0.15},-0.1,-0.05,-0.01,0,0.01,0.05,0.1,0.15]
[null,null,{"$f":"C56","v":"NPV"},0,0,0,0,0,0,0,0,0,0]
[null,null,"IRR",0,0,0,0,0,0,0,0,0,0]
[null,null,"PBP",15,15,15,15,15,15,15,15,15,15]
[null,null,"DPBP",15,15,15,15,15,15,15,15,15,15]
[null,null,"BNPV",0,0,0,0,0,0,0,0,0,0]
[]
[null,null,"Изменение ставки дисконтирования"]
[null,null,null,0,{"$f":"E63","v":-0.15},-0.1,-0.05,-0.01,0,0.01,0.05,0.1,0.15]
[null,null,{"$f":"C64","v":"NPV"},{"$f":"D64","v":0},0,0,0,0,0,0,0,0,0]
[null,null,{"$f":"C65","v":"IRR"},0,0,0,0,0,0,0,0,0,0]
[null,null,"PBP",15,15,15,15,15,15,15,15,15,15]
[null,null,"DPBP",15,15,15,15,15,15,15,15,15,15]
[null,null,"BNPV",0,0,0,0,0,0,0,0,0,0]
[]
[]
[]
[null,"Двухфакторный анализ"]

{"sheet":"Отчетность (Без СПИК)","index":20,"n_rows":136,"n_cols":28,"rows_kept":136,"cut":false,"hidden":false,"merged":[[0,9,0,10],[0,11,0,16],[1,2,2,2],[1,3,2,3],[1,4,2,4],[1,5,2,5]]}
[null,null,null,null,{"$f":"\"Лист:  \" & RIGHT(CELL(\"filename\",A1),LEN(CELL(\"filename\",A1))-SEARCH(\"]\",CELL(\"filename\",A1)))","v":"Лист:  Отчетность (Без СПИК)"},null,null,null,null,"Проверка:",null,{"$f":"IF(AND(F43=\"Верно\",F86=\"Верно\",F136=\"Верно\"), \"Верно\", \"Имеются некорректные данные\")","v":"Имеются некорректные данные"}]
[null,null,"Параметр","Ед. изм.","Источник","Текущее значение",null,{"$f":"Предпосылки!H2","v":2026},{"$f":"Предпосылки!I2","v":2027},{"$f":"Предпосылки!J2","v":2028},{"$f":"Предпосылки!K2","v":2029},{"$f":"Предпосылки!L2","v":2030},{"$f":"Предпосылки!M2","v":2031},{"$f":"Предпосылки!N2","v":2032},{"$f":"Предпосылки!O2","v":2033},{"$f":"Предпосылки!P2","v":2034},{"$f":"Предпосылки!Q2","v":2035},{"$f":"Предпосылки!R2","v":2036},{"$f":"Предпосылки!S2","v":2037},{"$f":"Предпосылки!T2","v":2038},{"$f":"Предпосылки!U2","v":2039},{"$f":"Предпосылки!V2","v":2040},{"$f":"Предпосылки!W2","v":2041},{"$f":"Предпосылки!X2","v":2042},{"$f":"Предпосылки!Y2","v":2043},{"$f":"Предпосылки!Z2","v":2044},{"$f":"Предпосылки!AA2","v":2045},{"$f":"Предпосылки!AB2","v":2046}]
[null,null,null,null,null,null,null,1,2,3,4,5,6,7,8,9,10,11,12,13,14,15,16,17,18,19,20,21]
[]
[null,"Бухгалтерский баланс"]
[]
[null,"АКТИВЫ"]
[null,"I. Внеоборотные активы",null,"тыс. руб.",null,null,null,{"$f":"SUM(H9:H10,H15)","v":0},{"$f":"SUM(I9:I10,I15)","v":0},0,0,0,0,0,0,0,0,0,0,0,0,0,0,0,0,0,0,{"$f":"SUM(AB9:AB10,AB15)","v":0}]
[null,null,"Нематериальные активы","тыс. руб.","Лист: Капитальные вложения",null,null,{"$f":"SUM('Капитальные вложения'!$H42:H42,'Капитальные вложения'!H177)","v":0},{"$f":"SUM('Капитальные вложения'!$H42:I42,'Капитальные вложения'!I177)","v":0},{"$f":"SUM('Капитальные вложения'!$H42:J42,'Капитальные вложения'!J177)","v":0},{"$f":"SUM('Капитальные вложения'!$H42:K42,'Капитальные вложения'!K177)","v":0},{"$f":"SUM('Капитальные вложения'!$H42:L42,'Капитальные вложения'!L177)","v":0},{"$f":"SUM('Капитальные вложения'!$H42:M42,'Капитальные вложения'!M177)","v":0},{"$f":"SUM('Капитальные вложения'!$H42:N42,'Капитальные вложения'!N177)","v":0},{"$f":"SUM('Капитальные вложения'!$H42:O42,'Капитальные вложения'!O177)","v":0},{"$f":"SUM('Капитальные вложения'!$H42:P42,'Капитальные вложения'!P177)","v":0},{"$f":"SUM('Капитальные вложения'!$H42:Q42,'Капитальные вложения'!Q177)","v":0},{"$f":"SUM('Капитальные вложения'!$H42:R42,'Капитальные вложения'!R177)","v":0},{"$f":"SUM('Капитальные вложения'!$H42:S42,'Капитальные вложения'!S177)","v":0},{"$f":"SUM('Капитальные вложения'!$H42:T42,'Капитальные вложения'!T177)","v":0},{"$f":"SUM('Капитальные вложения'!$H42:U42,'Капитальные вложения'!U177)","v":0},{"$f":"SUM('Капитальные вложения'!$H42:V42,'Капитальные вложения'!V177)","v":0},{"$f":"SUM('Капитальные вложения'!$H42:W42,'Капитальные вложения'!W177)","v":0},{"$f":"SUM('Капитальные вложения'!$H42:X42,'Капитальные вложения'!X177)","v":0},{"$f":"SUM('Капитальные вложения'!$H42:Y42,'Капитальные вложения'!Y177)","v":0},{"$f":"SUM('Капитальные вложения'!$H42:Z42,'Капитальные вложения'!Z177)","v":0},{"$f":"SUM('Капитальные вложения'!$H42:AA42,'Капитальные вложения'!AA177)","v":0},{"$f":"SUM('Капитальные вложения'!$H42:AB42,'Капитальные вложения'!AB177)","v":0}]
[null,null,"Основные средства:","тыс. руб.",null,null,null,{"$f":"SUM(H11:H14)","v":0},{"$f":"SUM(I11:I14)","v":0},0,0,0,0,0,0,0,0,0,0,0,0,0,0,0,0,0,0,{"$f":"SUM(AB11:AB14)","v":0}]
[null,null,"здания и сооружения","тыс. руб.","Лист: Капитальные вложения",null,null,{"$f":"'Капитальные вложения'!H84","v":0},{"$f":"'Капитальные вложения'!I84","v":0},{"$f":"'Капитальные вложения'!J84","v":0},{"$f":"'Капитальные вложения'!K84","v":0},{"$f":"'Капитальные вложения'!L84","v":0},{"$f":"'Капитальные вложения'!M84","v":0},{"$f":"'Капитальные вложения'!N84","v":0},{"$f":"'Капитальные вложения'!O84","v":0},{"$f":"'Капитальные вложения'!P84","v":0},{"$f":"'Капитальные вложения'!Q84","v":0},{"$f":"'Капитальные вложения'!R84","v":0},{"$f":"'Капитальные вложения'!S84","v":0},{"$f":"'Капитальные вложения'!T84","v":0},{"$f":"'Капитальные вложения'!U84","v":0},{"$f":"'Капитальные вложения'!V84","v":0},{"$f":"'Капитальные вложения'!W84","v":0},{"$f":"'Капитальные вложения'!X84","v":0},{"$f":"'Капитальные вложения'!Y84","v":0},{"$f":"'Капитальные вложения'!Z84","v":0},{"$f":"'Капитальные вложения'!AA84","v":0},{"$f":"'Капитальные вложения'!AB84","v":0}]
[null,null,"машины и оборудование","тыс. руб.","Лист: Капитальные вложения",null,null,{"$f":"'Капитальные вложения'!H115","v":0},{"$f":"'Капитальные вложения'!I115","v":0},{"$f":"'Капитальные вложения'!J115","v":0},{"$f":"'Капитальные вложения'!K115","v":0},{"$f":"'Капитальные вложения'!L115","v":0},{"$f":"'Капитальные вложения'!M115","v":0},{"$f":"'Капитальные вложения'!N115","v":0},{"$f":"'Капитальные вложения'!O115","v":0},{"$f":"'Капитальные вложения'!P115","v":0},{"$f":"'Капитальные вложения'!Q115","v":0},{"$f":"'Капитальные вложения'!R115","v":0},{"$f":"'Капитальные вложения'!S115","v":0},{"$f":"'Капитальные вложения'!T115","v":0},{"$f":"'Капитальные вложения'!U115","v":0},{"$f":"'Капитальные вложения'!V115","v":0},{"$f":"'Капитальные вложения'!W115","v":0},{"$f":"'Капитальные вложения'!X115","v":0},{"$f":"'Капитальные вложения'!Y115","v":0},{"$f":"'Капитальные вложения'!Z115","v":0},{"$f":"'Капитальные вложения'!AA115","v":0},{"$f":"'Капитальные вложения'!AB115","v":0}]
[null,null,"земля","тыс. руб.","Лист: Капитальные вложения",null,null,{"$f":"SUM('Капитальные вложения'!$H39:H39)","v":0},{"$f":"SUM('Капитальные вложения'!$H39:I39)","v":0},{"$f":"SUM('Капитальные вложения'!$H39:J39)","v":0},{"$f":"SUM('Капитальные вложения'!$H39:K39)","v":0},{"$f":"SUM('Капитальные вложения'!$H39:L39)","v":0},{"$f":"SUM('Капитальные вложения'!$H39:M39)","v":0},{"$f":"SUM('Капитальные вложения'!$H39:N39)","v":0},{"$f":"SUM('Капитальные вложения'!$H39:O39)","v":0},{"$f":"SUM('Капитальные вложения'!$H39:P39)","v":0},{"$f":"SUM('Капитальные вложения'!$H39:Q39)","v":0},{"$f":"SUM('Капитальные вложения'!$H39:R39)","v":0},{"$f":"SUM('Капитальные вложения'!$H39:S39)","v":0},{"$f":"SUM('Капитальные вложения'!$H39:T39)","v":0},{"$f":"SUM('Капитальные вложения'!$H39:U39)","v":0},{"$f":"SUM('Капитальные вложения'!$H39:V39)","v":0},{"$f":"SUM('Капитальные вложения'!$H39:W39)","v":0},{"$f":"SUM('Капитальные вложения'!$H39:X39)","v":0},{"$f":"SUM('Капитальные вложения'!$H39:Y39)","v":0},{"$f":"SUM('Капитальные вложения'!$H39:Z39)","v":0},{"$f":"SUM('Капитальные вложения'!$H39:AA39)","v":0},{"$f":"SUM('Капитальные вложения'!$H39:AB39)","v":0}]
[null,null,"транспортные средства","тыс. руб.","Лист: Капитальные вложения",null,null,{"$f":"'Капитальные вложения'!H146","v":0},{"$f":"'Капитальные вложения'!I146","v":0},{"$f":"'Капитальные вложения'!J146","v":0},{"$f":"'Капитальные вложения'!K146","v":0},{"$f":"'Капитальные вложения'!L146","v":0},{"$f":"'Капитальные вложения'!M146","v":0},{"$f":"'Капитальные вложения'!N146","v":0},{"$f":"'Капитальные вложения'!O146","v":0},{"$f":"'Капитальные вложения'!P146","v":0},{"$f":"'Капитальные вложения'!Q146","v":0},{"$f":"'Капитальные вложения'!R146","v":0},{"$f":"'Капитальные вложения'!S146","v":0},{"$f":"'Капитальные вложения'!T146","v":0},{"$f":"'Капитальные вложения'!U146","v":0},{"$f":"'Капитальные вложения'!V146","v":0},{"$f":"'Капитальные вложения'!W146","v":0},{"$f":"'Капитальные вложения'!X146","v":0},{"$f":"'Капитальные вложения'!Y146","v":0},{"$f":"'Капитальные вложения'!Z146","v":0},{"$f":"'Капитальные вложения'!AA146","v":0},{"$f":"'Капитальные вложения'!AB146","v":0}]
[null,null,"Прочие внеоборотные активы:","тыс. руб.",null,null,null,{"$f":"H16","v":0},{"$f":"I16","v":0},0,0,0,0,0,0,0,0,0,0,0,0,0,0,0,0,0,0,0]
[null,null,"незавершенное строительство","тыс. руб.","Лист: Капитальные вложения",null,null,{"$f":"'Капитальные вложения'!H49","v":0},{"$f":"'Капитальные вложения'!I49","v":0},{"$f":"'Капитальные вложения'!J49","v":0},{"$f":"'Капитальные вложения'!K49","v":0},{"$f":"'Капитальные вложения'!L49","v":0},{"$f":"'Капитальные вложения'!M49","v":0},{"$f":"'Капитальные вложения'!N49","v":0},{"$f":"'Капитальные вложения'!O49","v":0},{"$f":"'Капитальные вложения'!P49","v":0},{"$f":"'Капитальные вложения'!Q49","v":0},{"$f":"'Капитальные вложения'!R49","v":0},{"$f":"'Капитальные вложения'!S49","v":0},{"$f":"'Капитальные вложения'!T49","v":0},{"$f":"'Капитальные вложения'!U49","v":0},{"$f":"'Капитальные вложения'!V49","v":0},{"$f":"'Капитальные вложения'!W49","v":0},{"$f":"'Капитальные вложения'!X49","v":0},{"$f":"'Капитальные вложения'!Y49","v":0},{"$f":"'Капитальные вложения'!Z49","v":0},{"$f":"'Капитальные вложения'!AA49","v":0},{"$f":"'Капитальные вложения'!AB49","v":0}]
[]
[null,"II. Оборотные активы",null,"тыс. руб.",null,null,null,{"$f":"SUM(H19:H22)","v":0},{"$f":"SUM(I19:I22)","v":0},0,0,0,0,0,0,0,0,0,0,0,0,0,0,0,0,0,0,{"$f":"SUM(AB19:AB22)","v":0}]
[null,null,"Запасы","тыс. руб.","Лист: Оборотный капитал",null,null,{"$f":"'Оборотный капитал'!H45","v":0},{"$f":"'Оборотный капитал'!I45","v":0},{"$f":"'Оборотный капитал'!J45","v":0},{"$f":"'Оборотный капитал'!K45","v":0},{"$f":"'Оборотный капитал'!L45","v":0},{"$f":"'Оборотный капитал'!M45","v":0},{"$f":"'Оборотный капитал'!N45","v":0},{"$f":"'Оборотный капитал'!O45","v":0},{"$f":"'Оборотный капитал'!P45","v":0},{"$f":"'Оборотный капитал'!Q45","v":0},{"$f":"'Оборотный капитал'!R45","v":0},{"$f":"'Оборотный капитал'!S45","v":0},{"$f":"'Оборотный капитал'!T45","v":0},{"$f":"'Оборотный капитал'!U45","v":0},{"$f":"'Оборотный капитал'!V45","v":0},{"$f":"'Оборотный капитал'!W45","v":0},{"$f":"'Оборотный капитал'!X45","v":0},{"$f":"'Оборотный капитал'!Y45","v":0},{"$f":"'Оборотный капитал'!Z45","v":0},{"$f":"'Оборотный капитал'!AA45","v":0},{"$f":"'Оборотный капитал'!AB45","v":0}]
[null,null,"Налог на добавленную стоимость по приобретенным ценностям","тыс. руб.","Лист: Налоги",null,null,{"$f":"Налоги!H23","v":0},{"$f":"Налоги!I23","v":0},{"$f":"Налоги!J23","v":0},{"$f":"Налоги!K23","v":0},{"$f":"Налоги!L23","v":0},{"$f":"Налоги!M23","v":0},{"$f":"Налоги!N23","v":0},{"$f":"Налоги!O23","v":0},{"$f":"Налоги!P23","v":0},{"$f":"Налоги!Q23","v":0},{"$f":"Налоги!R23","v":0},{"$f":"Налоги!S23","v":0},{"$f":"Налоги!T23","v":0},{"$f":"Налоги!U23","v":0},{"$f":"Налоги!V23","v":0},{"$f":"Налоги!W23","v":0},{"$f":"Налоги!X23","v":0},{"$f":"Налоги!Y23","v":0},{"$f":"Налоги!Z23","v":0},{"$f":"Налоги!AA23","v":0},{"$f":"Налоги!AB23","v":0}]
[null,null,"Дебиторская задолженность","тыс. руб.","Лист: Оборотный капитал",null,null,{"$f":"'Оборотный капитал'!H103","v":0},{"$f":"'Оборотный капитал'!I103","v":0},{"$f":"'Оборотный капитал'!J103","v":0},{"$f":"'Оборотный капитал'!K103","v":0},{"$f":"'Оборотный капитал'!L103","v":0},{"$f":"'Оборотный капитал'!M103","v":0},{"$f":"'Оборотный капитал'!N103","v":0},{"$f":"'Оборотный капитал'!O103","v":0},{"$f":"'Оборотный капитал'!P103","v":0},{"$f":"'Оборотный капитал'!Q103","v":0},{"$f":"'Оборотный капитал'!R103","v":0},{"$f":"'Оборотный капитал'!S103","v":0},{"$f":"'Оборотный капитал'!T103","v":0},{"$f":"'Оборотный капитал'!U103","v":0},{"$f":"'Оборотный капитал'!V103","v":0},{"$f":"'Оборотный капитал'!W103","v":0},{"$f":"'Оборотный капитал'!X103","v":0},{"$f":"'Оборотный капитал'!Y103","v":0},{"$f":"'Оборотный капитал'!Z103","v":0},{"$f":"'Оборотный капитал'!AA103","v":0},{"$f":"'Оборотный капитал'!AB103","v":0}]
[null,null,"Денежные средства и их эквиваленты","тыс. руб.","Расчет",null,null,{"$f":"H134","v":0},{"$f":"I134","v":0},0,0,0,0,0,0,0,0,0,0,0,0,0,0,0,0,0,0,{"$f":"AB134","v":0}]
[null,"ИТОГО АКТИВЫ",null,"тыс. руб.",null,null,null,{"$f":"SUM(H8,H18)","v":0},{"$f":"SUM(I8,I18)","v":0},0,0,0,0,0,0,0,0,0,0,0,0,0,0,0,0,0,0,{"$f":"SUM(AB8,AB18)","v":0}]
[]
[null,"ПАССИВЫ"]
[null,"III. Капитал и резервы",null,"тыс. руб.",null,null,null,{"$f":"SUM(H27:H29)","v":0},{"$f":"SUM(I27:I29)","v":0},0,0,0,0,0,0,0,0,0,0,0,0,0,0,0,0,0,0,{"$f":"SUM(AB27:AB29)","v":0}]
[null,null,"Уставный капитал","тыс. руб.","Лист: Предпосылки",null,null,{"$f":"SUM(Предпосылки!$H254:H254)","v":0},{"$f":"SUM(Предпосылки!$H254:I254)","v":0},{"$f":"SUM(Предпосылки!$H254:J254)","v":0},{"$f":"SUM(Предпосылки!$H254:K254)","v":0},{"$f":"SUM(Предпосылки!$H254:L254)","v":0},{"$f":"SUM(Предпосылки!$H254:M254)","v":0},{"$f":"SUM(Предпосылки!$H254:N254)","v":0},{"$f":"SUM(Предпосылки!$H254:O254)","v":0},{"$f":"SUM(Предпосылки!$H254:P254)","v":0},{"$f":"SUM(Предпосылки!$H254:Q254)","v":0},{"$f":"SUM(Предпосылки!$H254:R254)","v":0},{"$f":"SUM(Предпосылки!$H254:S254)","v":0},{"$f":"SUM(Предпосылки!$H254:T254)","v":0},{"$f":"SUM(Предпосылки!$H254:U254)","v":0},{"$f":"SUM(Предпосылки!$H254:V254)","v":0},{"$f":"SUM(Предпосылки!$H254:W254)","v":0},{"$f":"SUM(Предпосылки!$H254:X254)","v":0},{"$f":"SUM(Предпосылки!$H254:Y254)","v":0},{"$f":"SUM(Предпосылки!$H254:Z254)","v":0},{"$f":"SUM(Предпосылки!$H254:AA254)","v":0},{"$f":"SUM(Предпосылки!$H254:AB254)","v":0}]
[null,null,"Добавочный капитал","тыс. руб.","Лист: Предпосылки",null,null,{"$f":"SUM(Предпосылки!$H255:H255)","v":0},{"$f":"SUM(Предпосылки!$H255:I255)","v":0},{"$f":"SUM(Предпосылки!$H255:J255)","v":0},{"$f":"SUM(Предпосылки!$H255:K255)","v":0},{"$f":"SUM(Предпосылки!$H255:L255)","v":0},{"$f":"SUM(Предпосылки!$H255:M255)","v":0},{"$f":"SUM(Предпосылки!$H255:N255)","v":0},{"$f":"SUM(Предпосылки!$H255:O255)","v":0},{"$f":"SUM(Предпосылки!$H255:P255)","v":0},{"$f":"SUM(Предпосылки!$H255:Q255)","v":0},{"$f":"SUM(Предпосылки!$H255:R255)","v":0},{"$f":"SUM(Предпосылки!$H255:S255)","v":0},{"$f":"SUM(Предпосылки!$H255:T255)","v":0},{"$f":"SUM(Предпосылки!$H255:U255)","v":0},{"$f":"SUM(Предпосылки!$H255:V255)","v":0},{"$f":"SUM(Предпосылки!$H255:W255)","v":0},{"$f":"SUM(Предпосылки!$H255:X255)","v":0},{"$f":"SUM(Предпосылки!$H255:Y255)","v":0},{"$f":"SUM(Предпосылки!$H255:Z255)","v":0},{"$f":"SUM(Предпосылки!$H255:AA255)","v":0},{"$f":"SUM(Предпосылки!$H255:AB255)","v":0}]
[null,null,"Нераспределенная прибыль","тыс. руб.","Расчет",null,null,{"$f":"G29+H71","v":0},0,0,0,0,0,0,0,0,0,0,0,0,0,0,0,0,0,0,0,0]
[]
[null,"IV. Долгосрочные обязательства",null,"тыс. руб.",null,null,null,{"$f":"H32","v":0},{"$f":"I32","v":0},0,0,0,0,0,0,0,0,0,0,0,0,0,0,0,0,0,0,0]
[null,null,"Кредиты и займы","тыс. руб.","Лист: Финансирование",null,null,{"$f":"Финансирование!H48","v":0},{"$f":"Финансирование!I48","v":0},{"$f":"Финансирование!J48","v":0},{"$f":"Финансирование!K48","v":0},{"$f":"Финансирование!L48","v":0},{"$f":"Финансирование!M48","v":0},{"$f":"Финансирование!N48","v":0},{"$f":"Финансирование!O48","v":0},{"$f":"Финансирование!P48","v":0},{"$f":"Финансирование!Q48","v":0},{"$f":"Финансирование!R48","v":0},{"$f":"Финансирование!S48","v":0},{"$f":"Финансирование!T48","v":0},{"$f":"Финансирование!U48","v":0},{"$f":"Финансирование!V48","v":0},{"$f":"Финансирование!W48","v":0},{"$f":"Финансирование!X48","v":0},{"$f":"Финансирование!Y48","v":0},{"$f":"Финансирование!Z48","v":0},{"$f":"Финансирование!AA48","v":0},{"$f":"Финансирование!AB48","v":0}]
[]
[null,"V. Краткосрочные обязательства",null,"тыс. руб.",null,null,null,{"$f":"SUM(H35:H36)","v":0},{"$f":"SUM(I35:I36)","v":0},0,0,0,0,0,0,0,0,0,0,0,0,0,0,0,0,0,0,{"$f":"SUM(AB35:AB36)","v":0}]
[null,null,"Кредиты и займы","тыс. руб.","Лист: Финансирование",null,null,{"$f":"Финансирование!H100","v":0},{"$f":"Финансирование!I100","v":0},{"$f":"Финансирование!J100","v":0},{"$f":"Финансирование!K100","v":0},{"$f":"Финансирование!L100","v":0},{"$f":"Финансирование!M100","v":0},{"$f":"Финансирование!N100","v":0},{"$f":"Финансирование!O100","v":0},{"$f":"Финансирование!P100","v":0},{"$f":"Финансирование!Q100","v":0},{"$f":"Финансирование!R100","v":0},{"$f":"Финансирование!S100","v":0},{"$f":"Финансирование!T100","v":0},{"$f":"Финансирование!U100","v":0},{"$f":"Финансирование!V100","v":0},{"$f":"Финансирование!W100","v":0},{"$f":"Финансирование!X100","v":0},{"$f":"Финансирование!Y100","v":0},{"$f":"Финансирование!Z100","v":0},{"$f":"Финансирование!AA100","v":0},{"$f":"Финансирование!AB100","v":0}]
[null,null,"Кредиторская задолженность","тыс. руб.",null,null,null,{"$f":"SUM(H37:H40)","v":0},{"$f":"SUM(I37:I40)","v":0},{"$f":"SUM(J37:J40)","v":0},0,0,0,0,0,0,0,0,0,0,0,0,0,0,0,0,0,{"$f":"SUM(AB37:AB40)","v":0}]
[null,null,"Задолженность перед покупателями, поставщиками и подрядчиками","тыс. руб.","Лист: Оборотный капитал",null,null,{"$f":"'Оборотный капитал'!H112","v":0},{"$f":"'Оборотный капитал'!I112","v":0},{"$f":"'Оборотный капитал'!J112","v":0},{"$f":"'Оборотный капитал'!K112","v":0},{"$f":"'Оборотный капитал'!L112","v":0},{"$f":"'Оборотный капитал'!M112","v":0},{"$f":"'Оборотный капитал'!N112","v":0},{"$f":"'Оборотный капитал'!O112","v":0},{"$f":"'Оборотный капитал'!P112","v":0},{"$f":"'Оборотный капитал'!Q112","v":0},{"$f":"'Оборотный капитал'!R112","v":0},{"$f":"'Оборотный капитал'!S112","v":0},{"$f":"'Оборотный капитал'!T112","v":0},{"$f":"'Оборотный капитал'!U112","v":0},{"$f":"'Оборотный капитал'!V112","v":0},{"$f":"'Оборотный капитал'!W112","v":0},{"$f":"'Оборотный капитал'!X112","v":0},{"$f":"'Оборотный капитал'!Y112","v":0},{"$f":"'Оборотный капитал'!Z112","v":0},{"$f":"'Оборотный капитал'!AA112","v":0},{"$f":"'Оборотный капитал'!AB112","v":0}]
[null,null,"Задолженность по налогам и сборам","тыс. руб.","Лист: Оборотный капитал",null,null,{"$f":"'Оборотный капитал'!H139","v":0},{"$f":"'Оборотный капитал'!I139","v":0},{"$f":"'Оборотный капитал'!J139","v":0},{"$f":"'Оборотный капитал'!K139","v":0},{"$f":"'Оборотный капитал'!L139","v":0},{"$f":"'Оборотный капитал'!M139","v":0},{"$f":"'Оборотный капитал'!N139","v":0},{"$f":"'Оборотный капитал'!O139","v":0},{"$f":"'Оборотный капитал'!P139","v":0},{"$f":"'Оборотный капитал'!Q139","v":0},{"$f":"'Оборотный капитал'!R139","v":0},{"$f":"'Оборотный капитал'!S139","v":0},{"$f":"'Оборотный капитал'!T139","v":0},{"$f":"'Оборотный капитал'!U139","v":0},{"$f":"'Оборотный капитал'!V139","v":0},{"$f":"'Оборотный капитал'!W139","v":0},{"$f":"'Оборотный капитал'!X139","v":0},{"$f":"'Оборотный капитал'!Y139","v":0},{"$f":"'Оборотный капитал'!Z139","v":0},{"$f":"'Оборотный капитал'!AA139","v":0},{"$f":"'Оборотный капитал'!AB139","v":0}]
[null,null,"Задолженность по оплате труда","тыс. руб.","Лист: Оборотный капитал",null,null,{"$f":"'Оборотный капитал'!H115","v":0},{"$f":"'Оборотный капитал'!I115","v":0},{"$f":"'Оборотный капитал'!J115","v":0},{"$f":"'Оборотный капитал'!K115","v":0},{"$f":"'Оборотный капитал'!L115","v":0},{"$f":"'Оборотный капитал'!M115","v":0},{"$f":"'Оборотный капитал'!N115","v":0},{"$f":"'Оборотный капитал'!O115","v":0},{"$f":"'Оборотный капитал'!P115","v":0},{"$f":"'Оборотный капитал'!Q115","v":0},{"$f":"'Оборотный капитал'!R115","v":0},{"$f":"'Оборотный капитал'!S115","v":0},{"$f":"'Оборотный капитал'!T115","v":0},{"$f":"'Оборотный капитал'!U115","v":0},{"$f":"'Оборотный капитал'!V115","v":0},{"$f":"'Оборотный капитал'!W115","v":0},{"$f":"'Оборотный капитал'!X115","v":0},{"$f":"'Оборотный капитал'!Y115","v":0},{"$f":"'Оборотный капитал'!Z115","v":0},{"$f":"'Оборотный капитал'!AA115","v":0},{"$f":"'Оборотный капитал'!AB115","v":0}]
[null,null,"Задолженность по оплате процентов","тыс. руб.","Лист: Оборотный капитал",null,null,{"$f":"'Оборотный капитал'!H143","v":0},{"$f":"'Оборотный капитал'!I143","v":0},{"$f":"'Оборотный капитал'!J143","v":0},{"$f":"'Оборотный капитал'!K143","v":0},{"$f":"'Оборотный капитал'!L143","v":0},{"$f":"'Оборотный капитал'!M143","v":0},{"$f":"'Оборотный капитал'!N143","v":0},{"$f":"'Оборотный капитал'!O143","v":0},{"$f":"'Оборотный капитал'!P143","v":0},{"$f":"'Оборотный капитал'!Q143","v":0},{"$f":"'Оборотный капитал'!R143","v":0},{"$f":"'Оборотный капитал'!S143","v":0},{"$f":"'Оборотный капитал'!T143","v":0},{"$f":"'Оборотный капитал'!U143","v":0},{"$f":"'Оборотный капитал'!V143","v":0},{"$f":"'Оборотный капитал'!W143","v":0},{"$f":"'Оборотный капитал'!X143","v":0},{"$f":"'Оборотный капитал'!Y143","v":0},{"$f":"'Оборотный капитал'!Z143","v":0},{"$f":"'Оборотный капитал'!AA143","v":0},{"$f":"'Оборотный капитал'!AB143","v":0}]
[null,"ИТОГО ПАССИВЫ",null,"тыс. руб.",null,null,null,{"$f":"SUM(H26,H31,H34)","v":0},0,0,0,0,0,0,0,0,0,0,0,0,0,0,0,0,0,0,0,{"$f":"SUM(AB26,AB31,AB34)","v":0}]
[]
[null,null,"Проверка: равенство активов и пассивов",null,null,{"$f":"IF(COUNTIF(H43:AA43, \"Ошибка\") = 0, \"Верно\", \"Ошибка\")","v":"Верно"},null,{"$f":"IF(ROUND(H23-H41,2)=0, \"Верно\", \"Ошибка\")","v":"Верно"},"Верно","Верно","Верно","Верно","Верно","Верно","Верно","Верно","Верно","Верно","Верно","Верно","Верно","Верно","Верно","Верно","Верно","Верно","Верно",{"$f":"IF(ROUND(AB23-AB41,2)=0, \"Верно\", \"Ошибка\")","v":"Верно"}]
[null,null,null,null,null,null,null,{"$f":"H23-H41","v":0},0,0,0,0,0,0,0,0,0,0,0,0,0,0,0,0,0,0,0,{"$f":"AB23-AB41","v":0}]
[null,"Приложение к балансу"]
[]
[null,null,"Чистый оборотный капитал","тыс. руб.",null,null,null,{"$f":"H19+H21-H36","v":0},{"$f":"I19+I21-I36","v":0},0,0,0,0,0,0,0,0,0,0,0,0,0,0,0,0,0,0,{"$f":"AB19+AB21-AB36","v":0}]
[null,null,"Долг","тыс. руб.",null,null,null,{"$f":"H32+H35","v":0},0,0,0,0,0,0,0,0,0,0,0,0,0,0,0,0,0,0,0,{"$f":"AB32+AB35","v":0}]
[null,null,"Чистый долг","тыс. руб.",null,null,null,{"$f":"H48-H22","v":0},0,0,0,0,0,0,0,0,0,0,0,0,0,0,0,0,0,0,0,{"$f":"AB48-AB22","v":0}]
[]
[null,"Отчет о финансовых результатах"]
[]
[null,"Выручка",null,"тыс. руб.","Лист: Выручка и себестоимость",null,null,{"$f":"'Выручка и себестоимость'!H17","v":0},{"$f":"'Выручка и себестоимость'!I17","v":0},{"$f":"'Выручка и себестоимость'!J17","v":0},{"$f":"'Выручка и себестоимость'!K17","v":0},{"$f":"'Выручка и себестоимость'!L17","v":0},{"$f":"'Выручка и себестоимость'!M17","v":0},{"$f":"'Выручка и себестоимость'!N17","v":0},{"$f":"'Выручка и себестоимость'!O17","v":0},{"$f":"'Выручка и себестоимость'!P17","v":0},{"$f":"'Выручка и себестоимость'!Q17","v":0},{"$f":"'Выручка и себестоимость'!R17","v":0},{"$f":"'Выручка и себестоимость'!S17","v":0},{"$f":"'Выручка и себестоимость'!T17","v":0},{"$f":"'Выручка и себестоимость'!U17","v":0},{"$f":"'Выручка и себестоимость'!V17","v":0},{"$f":"'Выручка и себестоимость'!W17","v":0},{"$f":"'Выручка и себестоимость'!X17","v":0},{"$f":"'Выручка и себестоимость'!Y17","v":0},{"$f":"'Выручка и себестоимость'!Z17","v":0},{"$f":"'Выручка и себестоимость'!AA17","v":0},{"$f":"'Выручка и себестоимость'!AB17","v":0}]
[null,null,"Себестоимость продаж (-)","тыс. руб.","Лист: Выручка и себестоимость",null,null,{"$f":"-'Выручка и себестоимость'!H52","v":0},{"$f":"-'Выручка и себестоимость'!I52","v":0},{"$f":"-'Выручка и себестоимость'!J52","v":0},{"$f":"-'Выручка и себестоимость'!K52","v":0},{"$f":"-'Выручка и себестоимость'!L52","v":0},{"$f":"-'Выручка и себестоимость'!M52","v":0},{"$f":"-'Выручка и себестоимость'!N52","v":0},{"$f":"-'Выручка и себестоимость'!O52","v":0},{"$f":"-'Выручка и себестоимость'!P52","v":0},{"$f":"-'Выручка и себестоимость'!Q52","v":0},{"$f":"-'Выручка и себестоимость'!R52","v":0},{"$f":"-'Выручка и себестоимость'!S52","v":0},{"$f":"-'Выручка и себестоимость'!T52","v":0},{"$f":"-'Выручка и себестоимость'!U52","v":0},{"$f":"-'Выручка и себестоимость'!V52","v":0},{"$f":"-'Выручка и себестоимость'!W52","v":0},{"$f":"-'Выручка и себестоимость'!X52","v":0},{"$f":"-'Выручка и себестоимость'!Y52","v":0},{"$f":"-'Выручка и себестоимость'!Z52","v":0},{"$f":"-'Выручка и себестоимость'!AA52","v":0},{"$f":"-'Выручка и себестоимость'!AB52","v":0}]
[null,"Валовая прибыль (убыток)",null,"тыс. руб.",null,null,null,{"$f":"SUM(H53:H54)","v":0},{"$f":"SUM(I53:I54)","v":0},0,0,0,0,0,0,0,0,0,0,0,0,0,0,0,0,0,0,{"$f":"SUM(AB53:AB54)","v":0}]
[null,null,"Коммерческие расходы (-)","тыс. руб.","Лист: Операционные затраты",null,null,{"$f":"-Предпосылки!H99","v":0},{"$f":"-Предпосылки!I99","v":0},{"$f":"-Предпосылки!J99","v":0},{"$f":"-Предпосылки!K99","v":0},{"$f":"-Предпосылки!L99","v":0},{"$f":"-Предпосылки!M99","v":0},{"$f":"-Предпосылки!N99","v":0},{"$f":"-Предпосылки!O99","v":0},{"$f":"-Предпосылки!P99","v":0},{"$f":"-Предпосылки!Q99","v":0},{"$f":"-Предпосылки!R99","v":0},{"$f":"-Предпосылки!S99","v":0},{"$f":"-Предпосылки!T99","v":0},{"$f":"-Предпосылки!U99","v":0},{"$f":"-Предпосылки!V99","v":0},{"$f":"-Предпосылки!W99","v":0},{"$f":"-Предпосылки!X99","v":0},{"$f":"-Предпосылки!Y99","v":0},{"$f":"-Предпосылки!Z99","v":0},{"$f":"-Предпосылки!AA99","v":0},{"$f":"-Предпосылки!AB99","v":0}]
[null,null,"Управленческие расходы (-)","тыс. руб.","Лист: Операционные затраты",null,null,{"$f":"SUM(H58:H63)","v":0},{"$f":"SUM(I58:I63)","v":0},0,0,0,0,0,0,0,0,0,0,0,0,0,0,0,0,0,0,{"$f":"SUM(AB58:AB63)","v":0}]
[null,null,"Управленческие расходы (-)","тыс. руб.","Лист: Операционные затраты",null,null,{"$f":"-Предпосылки!H105","v":0},{"$f":"-Предпосылки!I105","v":0},{"$f":"-Предпосылки!J105","v":0},{"$f":"-Предпосылки!K105","v":0},{"$f":"-Предпосылки!L105","v":0},{"$f":"-Предпосылки!M105","v":0},{"$f":"-Предпосылки!N105","v":0},{"$f":"-Предпосылки!O105","v":0},{"$f":"-Предпосылки!P105","v":0},{"$f":"-Предпосылки!Q105","v":0},{"$f":"-Предпосылки!R105","v":0},{"$f":"-Предпосылки!S105","v":0},{"$f":"-Предпосылки!T105","v":0},{"$f":"-Предпосылки!U105","v":0},{"$f":"-Предпосылки!V105","v":0},{"$f":"-Предпосылки!W105","v":0},{"$f":"-Предпосылки!X105","v":0},{"$f":"-Предпосылки!Y105","v":0},{"$f":"-Предпосылки!Z105","v":0},{"$f":"-Предпосылки!AA105","v":0},{"$f":"-Предпосылки!AB105","v":0}]
[null,null,"Оплата труда административного персонала (-)","тыс. руб.","Лист: Операционные затраты",null,null,{"$f":"-'Операционные затраты'!H121","v":0},{"$f":"-'Операционные затраты'!I121","v":0},{"$f":"-'Операционные затраты'!J121","v":0},{"$f":"-'Операционные затраты'!K121","v":0},{"$f":"-'Операционные затраты'!L121","v":0},{"$f":"-'Операционные затраты'!M121","v":0},{"$f":"-'Операционные затраты'!N121","v":0},{"$f":"-'Операционные затраты'!O121","v":0},{"$f":"-'Операционные затраты'!P121","v":0},{"$f":"-'Операционные затраты'!Q121","v":0},{"$f":"-'Операционные затраты'!R121","v":0},{"$f":"-'Операционные затраты'!S121","v":0},{"$f":"-'Операционные затраты'!T121","v":0},{"$f":"-'Операционные затраты'!U121","v":0},{"$f":"-'Операционные затраты'!V121","v":0},{"$f":"-'Операционные затраты'!W121","v":0},{"$f":"-'Операционные затраты'!X121","v":0},{"$f":"-'Операционные затраты'!Y121","v":0},{"$f":"-'Операционные затраты'!Z121","v":0},{"$f":"-'Операционные затраты'!AA121","v":0},{"$f":"-'Операционные затраты'!AB121","v":0}]
[null,null,"Амортизация непроизводственных основных средств (-)","тыс. руб.","Лист: Капитальные вложения",null,null,{"$f":"-'Капитальные вложения'!H53","v":0},{"$f":"-'Капитальные вложения'!I53","v":0},{"$f":"-'Капитальные вложения'!J53","v":0},{"$f":"-'Капитальные вложения'!K53","v":0},{"$f":"-'Капитальные вложения'!L53","v":0},{"$f":"-'Капитальные вложения'!M53","v":0},{"$f":"-'Капитальные вложения'!N53","v":0},{"$f":"-'Капитальные вложения'!O53","v":0},{"$f":"-'Капитальные вложения'!P53","v":0},{"$f":"-'Капитальные вложения'!Q53","v":0},{"$f":"-'Капитальные вложения'!R53","v":0},{"$f":"-'Капитальные вложения'!S53","v":0},{"$f":"-'Капитальные вложения'!T53","v":0},{"$f":"-'Капитальные вложения'!U53","v":0},{"$f":"-'Капитальные вложения'!V53","v":0},{"$f":"-'Капитальные вложения'!W53","v":0},{"$f":"-'Капитальные вложения'!X53","v":0},{"$f":"-'Капитальные вложения'!Y53","v":0},{"$f":"-'Капитальные вложения'!Z53","v":0},{"$f":"-'Капитальные вложения'!AA53","v":0},{"$f":"-'Капитальные вложения'!AB53","v":0}]
[null,null,"Налог на имущество организаций (-)","тыс. руб.","Лист: Налоги",null,null,{"$f":"-Налоги!H194","v":0},{"$f":"-Налоги!I194","v":0},{"$f":"-Налоги!J194","v":0},{"$f":"-Налоги!K194","v":0},{"$f":"-Налоги!L194","v":0},{"$f":"-Налоги!M194","v":0},{"$f":"-Налоги!N194","v":0},{"$f":"-Налоги!O194","v":0},{"$f":"-Налоги!P194","v":0},{"$f":"-Налоги!Q194","v":0},{"$f":"-Налоги!R194","v":0},{"$f":"-Налоги!S194","v":0},{"$f":"-Налоги!T194","v":0},{"$f":"-Налоги!U194","v":0},{"$f":"-Налоги!V194","v":0},{"$f":"-Налоги!W194","v":0},{"$f":"-Налоги!X194","v":0},{"$f":"-Налоги!Y194","v":0},{"$f":"-Налоги!Z194","v":0},{"$f":"-Налоги!AA194","v":0},{"$f":"-Налоги!AB194","v":0}]
[null,null,"Транспортный налог (-)","тыс. руб.","Лист: Налоги",null,null,{"$f":"-Налоги!H208","v":0},{"$f":"-Налоги!I208","v":0},{"$f":"-Налоги!J208","v":0},{"$f":"-Налоги!K208","v":0},{"$f":"-Налоги!L208","v":0},{"$f":"-Налоги!M208","v":0},{"$f":"-Налоги!N208","v":0},{"$f":"-Налоги!O208","v":0},{"$f":"-Налоги!P208","v":0},{"$f":"-Налоги!Q208","v":0},{"$f":"-Налоги!R208","v":0},{"$f":"-Налоги!S208","v":0},{"$f":"-Налоги!T208","v":0},{"$f":"-Налоги!U208","v":0},{"$f":"-Налоги!V208","v":0},{"$f":"-Налоги!W208","v":0},{"$f":"-Налоги!X208","v":0},{"$f":"-Налоги!Y208","v":0},{"$f":"-Налоги!Z208","v":0},{"$f":"-Налоги!AA208","v":0},{"$f":"-Налоги!AB208","v":0}]
[null,null,"Земельный налог (-)","тыс. руб.","Лист: Налоги",null,null,{"$f":"-Налоги!H222","v":0},{"$f":"-Налоги!I222","v":0},{"$f":"-Налоги!J222","v":0},{"$f":"-Налоги!K222","v":0},{"$f":"-Налоги!L222","v":0},{"$f":"-Налоги!M222","v":0},{"$f":"-Налоги!N222","v":0},{"$f":"-Налоги!O222","v":0},{"$f":"-Налоги!P222","v":0},{"$f":"-Налоги!Q222","v":0},{"$f":"-Налоги!R222","v":0},{"$f":"-Налоги!S222","v":0},{"$f":"-Налоги!T222","v":0},{"$f":"-Налоги!U222","v":0},{"$f":"-Налоги!V222","v":0},{"$f":"-Налоги!W222","v":0},{"$f":"-Налоги!X222","v":0},{"$f":"-Налоги!Y222","v":0},{"$f":"-Налоги!Z222","v":0},{"$f":"-Налоги!AA222","v":0},{"$f":"-Налоги!AB222","v":0}]
[null,"Прибыль (убыток) от продаж",null,"тыс. руб.",null,null,null,{"$f":"SUM(H55:H57)","v":0},0,0,0,0,0,0,0,0,0,0,0,0,0,0,0,0,0,0,0,{"$f":"SUM(AB55:AB57)","v":0}]
[null,null,"Проценты к получению","тыс. руб."]
[null,null,"Проценты к уплате (-)","тыс. руб.","Лист: Финансирование",null,null,{"$f":"Финансирование!H47+Финансирование!H103","v":0},{"$f":"Финансирование!I47+Финансирование!I103","v":0},{"$f":"Финансирование!J47+Финансирование!J103","v":0},{"$f":"Финансирование!K47+Финансирование!K103","v":0},{"$f":"Финансирование!L47+Финансирование!L103","v":0},{"$f":"Финансирование!M47+Финансирование!M103","v":0},{"$f":"Финансирование!N47+Финансирование!N103","v":0},{"$f":"Финансирование!O47+Финансирование!O103","v":0},{"$f":"Финансирование!P47+Финансирование!P103","v":0},{"$f":"Финансирование!Q47+Финансирование!Q103","v":0},{"$f":"Финансирование!R47+Финансирование!R103","v":0},{"$f":"Финансирование!S47+Финансирование!S103","v":0},{"$f":"Финансирование!T47+Финансирование!T103","v":0},{"$f":"Финансирование!U47+Финансирование!U103","v":0},{"$f":"Финансирование!V47+Финансирование!V103","v":0},{"$f":"Финансирование!W47+Финансирование!W103","v":0},{"$f":"Финансирование!X47+Финансирование!X103","v":0},{"$f":"Финансирование!Y47+Финансирование!Y103","v":0},{"$f":"Финансирование!Z47+Финансирование!Z103","v":0},{"$f":"Финансирование!AA47+Финансирование!AA103","v":0},{"$f":"Финансирование!AB47+Финансирование!AB103","v":0}]
[null,null,"Прочие доходы (в т.ч. получение государственных субсидий)","тыс. руб.","Лист: Предпосылки",null,null,{"$f":"SUM(Предпосылки!H281:H282)","v":0},{"$f":"SUM(Предпосылки!I281:I282)","v":0},{"$f":"SUM(Предпосылки!J281:J282)","v":0},{"$f":"SUM(Предпосылки!K281:K282)","v":0},{"$f":"SUM(Предпосылки!L281:L282)","v":0},{"$f":"SUM(Предпосылки!M281:M282)","v":0},{"$f":"SUM(Предпосылки!N281:N282)","v":0},{"$f":"SUM(Предпосылки!O281:O282)","v":0},{"$f":"SUM(Предпосылки!P281:P282)","v":0},{"$f":"SUM(Предпосылки!Q281:Q282)","v":0},{"$f":"SUM(Предпосылки!R281:R282)","v":0},{"$f":"SUM(Предпосылки!S281:S282)","v":0},{"$f":"SUM(Предпосылки!T281:T282)","v":0},{"$f":"SUM(Предпосылки!U281:U282)","v":0},{"$f":"SUM(Предпосылки!V281:V282)","v":0},{"$f":"SUM(Предпосылки!W281:W282)","v":0},{"$f":"SUM(Предпосылки!X281:X282)","v":0},{"$f":"SUM(Предпосылки!Y281:Y282)","v":0},{"$f":"SUM(Предпосылки!Z281:Z282)","v":0},{"$f":"SUM(Предпосылки!AA281:AA282)","v":0},{"$f":"SUM(Предпосылки!AB281:AB282)","v":0}]
[null,null,"Прочие расходы (-)","тыс. руб.","Лист: Операционные затраты",null,null,{"$f":"-Предпосылки!H114","v":0},{"$f":"-Предпосылки!I114","v":0},{"$f":"-Предпосылки!J114","v":0},{"$f":"-Предпосылки!K114","v":0},{"$f":"-Предпосылки!L114","v":0},{"$f":"-Предпосылки!M114","v":0},{"$f":"-Предпосылки!N114","v":0},{"$f":"-Предпосылки!O114","v":0},{"$f":"-Предпосылки!P114","v":0},{"$f":"-Предпосылки!Q114","v":0},{"$f":"-Предпосылки!R114","v":0},{"$f":"-Предпосылки!S114","v":0},{"$f":"-Предпосылки!T114","v":0},{"$f":"-Предпосылки!U114","v":0},{"$f":"-Предпосылки!V114","v":0},{"$f":"-Предпосылки!W114","v":0},{"$f":"-Предпосылки!X114","v":0},{"$f":"-Предпосылки!Y114","v":0},{"$f":"-Предпосылки!Z114","v":0},{"$f":"-Предпосылки!AA114","v":0},{"$f":"-Предпосылки!AB114","v":0}]
[null,"Прибыль  (убыток) до налогообложения",null,"тыс. руб.",null,null,null,{"$f":"SUM(H64:H68)","v":0},0,0,0,0,0,0,0,0,0,0,0,0,0,0,0,0,0,0,0,{"$f":"SUM(AB64:AB68)","v":0}]
[null,null,"Налог на прибыль (-)","тыс. руб.","Лист: Налоги",null,null,{"$f":"-Налоги!H178","v":0},{"$f":"-Налоги!I178","v":0},{"$f":"-Налоги!J178","v":0},{"$f":"-Налоги!K178","v":0},{"$f":"-Налоги!L178","v":0},{"$f":"-Налоги!M178","v":0},{"$f":"-Налоги!N178","v":0},{"$f":"-Налоги!O178","v":0},{"$f":"-Налоги!P178","v":0},{"$f":"-Налоги!Q178","v":0},{"$f":"-Налоги!R178","v":0},{"$f":"-Налоги!S178","v":0},{"$f":"-Налоги!T178","v":0},{"$f":"-Налоги!U178","v":0},{"$f":"-Налоги!V178","v":0},{"$f":"-Налоги!W178","v":0},{"$f":"-Налоги!X178","v":0},{"$f":"-Налоги!Y178","v":0},{"$f":"-Налоги!Z178","v":0},{"$f":"-Налоги!AA178","v":0},{"$f":"-Налоги!AB178","v":0}]
[null,"Чистая прибыль (убыток)",null,"тыс. руб.",null,null,null,{"$f":"SUM(H69:H70)","v":0},{"$f":"SUM(I69:I70)","v":0},0,0,0,0,0,0,0,0,0,0,0,0,0,0,0,0,0,0,{"$f":"SUM(AB69:AB70)","v":0}]
[]
[null,"Приложение к отчету о финансовых результатах"]
[]
[null,"Проектная операционная прибыль",null,"тыс. руб.",null,null,null,{"$f":"SUM(H76)-SUM(H77:H78,H80:H83)","v":0},{"$f":"SUM(I76)-SUM(I77:I78,I80:I83)","v":0},{"$f":"SUM(J76)-SUM(J77:J78,J80:J83)","v":0},{"$f":"SUM(K76)-SUM(K77:K78,K80:K83)","v":0},0,0,0,0,0,0,0,0,0,0,0,0,0,0,0,0,{"$f":"SUM(AB76)-SUM(AB77:AB78,AB80:AB83)","v":0}]
[null,null,"Прибыль (убыток) до налогообложения","тыс. руб.",null,null,null,{"$f":"H69","v":0},{"$f":"I69","v":0},0,0,0,0,0,0,0,0,0,0,0,0,0,0,0,0,0,0,{"$f":"AB69","v":0}]
[null,null,"Проценты к уплате по долговым обязательствам, связанным с реализацией Проекта (-)","тыс. руб.",null,null,null,{"$f":"H66","v":0},{"$f":"I66","v":0},0,0,0,0,0,0,0,0,0,0,0,0,0,0,0,0,0,0,{"$f":"AB66","v":0}]
[null,null,"Проценты к получению по долговым обязательствам, связанным с реализацией Проекта","тыс. руб.",null,null,null,{"$f":"H65","v":0},0,0,0,0,0,0,0,0,0,0,0,0,0,0,0,0,0,0,0,{"$f":"AB65","v":0}]
[null,null,"Корректировка на составляющие строк ОФР \"Прочие доходы\" и \"Прочие расходы\", исключаемые из расчета проектной операционной прибыли (требуют заполнения в случае, если данные статьи отражены в  ОФР данной финансовой модели):"]
[null,null,"Положительные (отрицательные) курсовые разницы","тыс. руб."]
[null,null,"Отчисления в резервы (восстановление резервов)","тыс. руб."]
[null,null,"Доходы (расходы), связанные с обстоятельствами чрезвычайного характера","тыс. руб."]
[null,null,"Иные доходы (расходы) не связанные с реализацией инвестиционного проекта","тыс. руб."]
[]
[]
[null,null,"Проверка: выход на проектную операционную прибыль в течение срока СПИК",null,null,{"$f":"IF(COUNTIF(H86:AA86, 1) > 0, \"Верно\", \"Ошибка\")","v":"Ошибка"},null,{"$f":"IF(H75>0,1,0)","v":0},0,0,0,0,0,0,0,0,0,0,0,0,0,0,0,0,0,0,0,{"$f":"IF(AB75>0,1,0)","v":0}]
[]
[null,"EBIT",null,"тыс. руб.",null,null,null,{"$f":"H69- SUM(H65:H66)","v":0},0,0,0,0,0,0,0,0,0,0,0,0,0,0,0,0,0,0,0,{"$f":"AB69- SUM(AB65:AB66)","v":0}]
[null,"Амортизация за период",null,"тыс. руб.","Лист: Капитальные вложения",null,null,{"$f":"'Капитальные вложения'!H51","v":0},{"$f":"'Капитальные вложения'!I51","v":0},{"$f":"'Капитальные вложения'!J51","v":0},{"$f":"'Капитальные вложения'!K51","v":0},{"$f":"'Капитальные вложения'!L51","v":0},{"$f":"'Капитальные вложения'!M51","v":0},{"$f":"'Капитальные вложения'!N51","v":0},{"$f":"'Капитальные вложения'!O51","v":0},{"$f":"'Капитальные вложения'!P51","v":0},{"$f":"'Капитальные вложения'!Q51","v":0},{"$f":"'Капитальные вложения'!R51","v":0},{"$f":"'Капитальные вложения'!S51","v":0},{"$f":"'Капитальные вложения'!T51","v":0},{"$f":"'Капитальные вложения'!U51","v":0},{"$f":"'Капитальные вложения'!V51","v":0},{"$f":"'Капитальные вложения'!W51","v":0},{"$f":"'Капитальные вложения'!X51","v":0},{"$f":"'Капитальные вложения'!Y51","v":0},{"$f":"'Капитальные вложения'!Z51","v":0},{"$f":"'Капитальные вложения'!AA51","v":0},{"$f":"'Капитальные вложения'!AB51","v":0}]
[null,"EBITDA",null,"тыс. руб.",null,null,null,{"$f":"H88+H89","v":0},{"$f":"I88+I89","v":0},0,0,0,0,0,0,0,0,0,0,0,0,0,0,0,0,0,0,{"$f":"AB88+AB89","v":0}]
[]
[null,"Отчет о движении денежных средств"]
[]
[null,"Денежный поток от операционной деятельности:"]
[]
[null,"Поступления - всего:",null,"тыс. руб.",null,null,null,{"$f":"SUM(H97:H99)","v":0},{"$f":"SUM(I97:I99)","v":0},0,0,0,0,0,0,0,0,0,0,0,0,0,0,0,0,0,0,{"$f":"SUM(AB97:AB99)","v":0}]
[null,null,"От продажи продукции, товаров, работ и услуг","тыс. руб.","Лист: Оборотный капитал",null,null,{"$f":"'Оборотный капитал'!H58","v":0},{"$f":"'Оборотный капитал'!I58","v":0},{"$f":"'Оборотный капитал'!J58","v":0},{"$f":"'Оборотный капитал'!K58","v":0},{"$f":"'Оборотный капитал'!L58","v":0},{"$f":"'Оборотный капитал'!M58","v":0},{"$f":"'Оборотный капитал'!N58","v":0},{"$f":"'Оборотный капитал'!O58","v":0},{"$f":"'Оборотный капитал'!P58","v":0},{"$f":"'Оборотный капитал'!Q58","v":0},{"$f":"'Оборотный капитал'!R58","v":0},{"$f":"'Оборотный капитал'!S58","v":0},{"$f":"'Оборотный капитал'!T58","v":0},{"$f":"'Оборотный капитал'!U58","v":0},{"$f":"'Оборотный капитал'!V58","v":0},{"$f":"'Оборотный капитал'!W58","v":0},{"$f":"'Оборотный капитал'!X58","v":0},{"$f":"'Оборотный капитал'!Y58","v":0},{"$f":"'Оборотный капитал'!Z58","v":0},{"$f":"'Оборотный капитал'!AA58","v":0},{"$f":"'Оборотный капитал'!AB58","v":0}]
[null,null,"Возмещение НДС","тыс. руб.","Лист: Налоги",null,null,{"$f":"Налоги!H22","v":0},{"$f":"Налоги!I22","v":0},{"$f":"Налоги!J22","v":0},{"$f":"Налоги!K22","v":0},{"$f":"Налоги!L22","v":0},{"$f":"Налоги!M22","v":0},{"$f":"Налоги!N22","v":0},{"$f":"Налоги!O22","v":0},{"$f":"Налоги!P22","v":0},{"$f":"Налоги!Q22","v":0},{"$f":"Налоги!R22","v":0},{"$f":"Налоги!S22","v":0},{"$f":"Налоги!T22","v":0},{"$f":"Налоги!U22","v":0},{"$f":"Налоги!V22","v":0},{"$f":"Налоги!W22","v":0},{"$f":"Налоги!X22","v":0},{"$f":"Налоги!Y22","v":0},{"$f":"Налоги!Z22","v":0},{"$f":"Налоги!AA22","v":0},{"$f":"Налоги!AB22","v":0}]
[null,null,"Получение государственных субсидий (на покрытие операционных расходов)","тыс. руб.","Лист: Предпосылки",null,null,{"$f":"Предпосылки!H281","v":0},{"$f":"Предпосылки!I281","v":0},{"$f":"Предпосылки!J281","v":0},{"$f":"Предпосылки!K281","v":0},{"$f":"Предпосылки!L281","v":0},{"$f":"Предпосылки!M281","v":0},{"$f":"Предпосылки!N281","v":0},{"$f":"Предпосылки!O281","v":0},{"$f":"Предпосылки!P281","v":0},{"$f":"Предпосылки!Q281","v":0},{"$f":"Предпосылки!R281","v":0},{"$f":"Предпосылки!S281","v":0},{"$f":"Предпосылки!T281","v":0},{"$f":"Предпосылки!U281","v":0},{"$f":"Предпосылки!V281","v":0},{"$f":"Предпосылки!W281","v":0},{"$f":"Предпосылки!X281","v":0},{"$f":"Предпосылки!Y281","v":0},{"$f":"Предпосылки!Z281","v":0},{"$f":"Предпосылки!AA281","v":0},{"$f":"Предпосылки!AB281","v":0}]
[]
[null,"Платежи - всего:",null,"тыс. руб.",null,null,null,{"$f":"SUM(H102:H110)","v":0},0,0,0,0,0,0,0,0,0,0,0,0,0,0,0,0,0,0,0,{"$f":"SUM(AB102:AB110)","v":0}]
[null,null,"Платежи поставщикам (подрядчикам) за сырье, материалы, работы, услуги  (-)","тыс. руб.","Лист: Оборотный капитал",null,null,{"$f":"-('Оборотный капитал'!H74+'Оборотный капитал'!H88+'Оборотный капитал'!H95)","v":0},{"$f":"-('Оборотный капитал'!I74+'Оборотный капитал'!I88+'Оборотный капитал'!I95)","v":0},{"$f":"-('Оборотный капитал'!J74+'Оборотный капитал'!J88+'Оборотный капитал'!J95)","v":0},{"$f":"-('Оборотный капитал'!K74+'Оборотный капитал'!K88+'Оборотный капитал'!K95)","v":0},{"$f":"-('Оборотный капитал'!L74+'Оборотный капитал'!L88+'Оборотный капитал'!L95)","v":0},{"$f":"-('Оборотный капитал'!M74+'Оборотный капитал'!M88+'Оборотный капитал'!M95)","v":0},{"$f":"-('Оборотный капитал'!N74+'Оборотный капитал'!N88+'Оборотный капитал'!N95)","v":0},{"$f":"-('Оборотный капитал'!O74+'Оборотный капитал'!O88+'Оборотный капитал'!O95)","v":0},{"$f":"-('Оборотный капитал'!P74+'Оборотный капитал'!P88+'Оборотный капитал'!P95)","v":0},{"$f":"-('Оборотный капитал'!Q74+'Оборотный капитал'!Q88+'Оборотный капитал'!Q95)","v":0},{"$f":"-('Оборотный капитал'!R74+'Оборотный капитал'!R88+'Оборотный капитал'!R95)","v":0},{"$f":"-('Оборотный капитал'!S74+'Оборотный капитал'!S88+'Оборотный капитал'!S95)","v":0},{"$f":"-('Оборотный капитал'!T74+'Оборотный капитал'!T88+'Оборотный капитал'!T95)","v":0},{"$f":"-('Оборотный капитал'!U74+'Оборотный капитал'!U88+'Оборотный капитал'!U95)","v":0},{"$f":"-('Оборотный капитал'!V74+'Оборотный капитал'!V88+'Оборотный капитал'!V95)","v":0},{"$f":"-('Оборотный капитал'!W74+'Оборотный капитал'!W88+'Оборотный капитал'!W95)","v":0},{"$f":"-('Оборотный капитал'!X74+'Оборотный капитал'!X88+'Оборотный капитал'!X95)","v":0},{"$f":"-('Оборотный капитал'!Y74+'Оборотный капитал'!Y88+'Оборотный капитал'!Y95)","v":0},{"$f":"-('Оборотный капитал'!Z74+'Оборотный капитал'!Z88+'Оборотный капитал'!Z95)","v":0},{"$f":"-('Оборотный капитал'!AA74+'Оборотный капитал'!AA88+'Оборотный капитал'!AA95)","v":0},{"$f":"-('Оборотный капитал'!AB74+'Оборотный капитал'!AB88+'Оборотный капитал'!AB95)","v":0}]
[null,null,"Оплата труда работников в том числе НДФЛ (-)","тыс. руб.","Лист: Операционные затраты",null,null,{"$f":"'Операционные затраты'!H128","v":0},{"$f":"'Операционные затраты'!I128","v":0},{"$f":"'Операционные затраты'!J128","v":0},{"$f":"'Операционные затраты'!K128","v":0},{"$f":"'Операционные затраты'!L128","v":0},{"$f":"'Операционные затраты'!M128","v":0},{"$f":"'Операционные затраты'!N128","v":0},{"$f":"'Операционные затраты'!O128","v":0},{"$f":"'Операционные затраты'!P128","v":0},{"$f":"'Операционные затраты'!Q128","v":0},{"$f":"'Операционные затраты'!R128","v":0},{"$f":"'Операционные затраты'!S128","v":0},{"$f":"'Операционные затраты'!T128","v":0},{"$f":"'Операционные затраты'!U128","v":0},{"$f":"'Операционные затраты'!V128","v":0},{"$f":"'Операционные затраты'!W128","v":0},{"$f":"'Операционные затраты'!X128","v":0},{"$f":"'Операционные затраты'!Y128","v":0},{"$f":"'Операционные затраты'!Z128","v":0},{"$f":"'Операционные затраты'!AA128","v":0},{"$f":"'Операционные затраты'!AB128","v":0}]
[null,null,"Погашение процентов по долговым обязательствам  (-)","тыс. руб.","Лист: Финансирование",null,null,{"$f":"Финансирование!H121","v":0},{"$f":"Финансирование!I121","v":0},{"$f":"Финансирование!J121","v":0},{"$f":"Финансирование!K121","v":0},{"$f":"Финансирование!L121","v":0},{"$f":"Финансирование!M121","v":0},{"$f":"Финансирование!N121","v":0},{"$f":"Финансирование!O121","v":0},{"$f":"Финансирование!P121","v":0},{"$f":"Финансирование!Q121","v":0},{"$f":"Финансирование!R121","v":0},{"$f":"Финансирование!S121","v":0},{"$f":"Финансирование!T121","v":0},{"$f":"Финансирование!U121","v":0},{"$f":"Финансирование!V121","v":0},{"$f":"Финансирование!W121","v":0},{"$f":"Финансирование!X121","v":0},{"$f":"Финансирование!Y121","v":0},{"$f":"Финансирование!Z121","v":0},{"$f":"Финансирование!AA121","v":0},{"$f":"Финансирование!AB121","v":0}]
[null,null,"Уплата НДС  (-)","тыс. руб.","Лист: Налоги",null,null,{"$f":"Налоги!H27","v":0},{"$f":"Налоги!I27","v":0},{"$f":"Налоги!J27","v":0},{"$f":"Налоги!K27","v":0},{"$f":"Налоги!L27","v":0},{"$f":"Налоги!M27","v":0},{"$f":"Налоги!N27","v":0},{"$f":"Налоги!O27","v":0},{"$f":"Налоги!P27","v":0},{"$f":"Налоги!Q27","v":0},{"$f":"Налоги!R27","v":0},{"$f":"Налоги!S27","v":0},{"$f":"Налоги!T27","v":0},{"$f":"Налоги!U27","v":0},{"$f":"Налоги!V27","v":0},{"$f":"Налоги!W27","v":0},{"$f":"Налоги!X27","v":0},{"$f":"Налоги!Y27","v":0},{"$f":"Налоги!Z27","v":0},{"$f":"Налоги!AA27","v":0},{"$f":"Налоги!AB27","v":0}]
[null,null,"Уплата налога на имущество  (-)","тыс. руб.","Лист: Налоги",null,null,{"$f":"Налоги!H255","v":0},{"$f":"Налоги!I255","v":0},{"$f":"Налоги!J255","v":0},{"$f":"Налоги!K255","v":0},{"$f":"Налоги!L255","v":0},{"$f":"Налоги!M255","v":0},{"$f":"Налоги!N255","v":0},{"$f":"Налоги!O255","v":0},{"$f":"Налоги!P255","v":0},{"$f":"Налоги!Q255","v":0},{"$f":"Налоги!R255","v":0},{"$f":"Налоги!S255","v":0},{"$f":"Налоги!T255","v":0},{"$f":"Налоги!U255","v":0},{"$f":"Налоги!V255","v":0},{"$f":"Налоги!W255","v":0},{"$f":"Налоги!X255","v":0},{"$f":"Налоги!Y255","v":0},{"$f":"Налоги!Z255","v":0},{"$f":"Налоги!AA255","v":0},{"$f":"Налоги!AB255","v":0}]
[null,null,"Уплата налога на прибыль  (-)","тыс. руб.","Лист: Налоги",null,null,{"$f":"Налоги!H250+Налоги!H254","v":0},{"$f":"Налоги!I250+Налоги!I254","v":0},{"$f":"Налоги!J250+Налоги!J254","v":0},{"$f":"Налоги!K250+Налоги!K254","v":0},{"$f":"Налоги!L250+Налоги!L254","v":0},{"$f":"Налоги!M250+Налоги!M254","v":0},{"$f":"Налоги!N250+Налоги!N254","v":0},{"$f":"Налоги!O250+Налоги!O254","v":0},{"$f":"Налоги!P250+Налоги!P254","v":0},{"$f":"Налоги!Q250+Налоги!Q254","v":0},{"$f":"Налоги!R250+Налоги!R254","v":0},{"$f":"Налоги!S250+Налоги!S254","v":0},{"$f":"Налоги!T250+Налоги!T254","v":0},{"$f":"Налоги!U250+Налоги!U254","v":0},{"$f":"Налоги!V250+Налоги!V254","v":0},{"$f":"Налоги!W250+Налоги!W254","v":0},{"$f":"Налоги!X250+Налоги!X254","v":0},{"$f":"Налоги!Y250+Налоги!Y254","v":0},{"$f":"Налоги!Z250+Налоги!Z254","v":0},{"$f":"Налоги!AA250+Налоги!AA254","v":0},{"$f":"Налоги!AB250+Налоги!AB254","v":0}]
[null,null,"Уплата транспортного налога (-)","тыс. руб.","Лист: Налоги",null,null,{"$f":"Налоги!H257","v":0},{"$f":"Налоги!I257","v":0},{"$f":"Налоги!J257","v":0},{"$f":"Налоги!K257","v":0},{"$f":"Налоги!L257","v":0},{"$f":"Налоги!M257","v":0},{"$f":"Налоги!N257","v":0},{"$f":"Налоги!O257","v":0},{"$f":"Налоги!P257","v":0},{"$f":"Налоги!Q257","v":0},{"$f":"Налоги!R257","v":0},{"$f":"Налоги!S257","v":0},{"$f":"Налоги!T257","v":0},{"$f":"Налоги!U257","v":0},{"$f":"Налоги!V257","v":0},{"$f":"Налоги!W257","v":0},{"$f":"Налоги!X257","v":0},{"$f":"Налоги!Y257","v":0},{"$f":"Налоги!Z257","v":0},{"$f":"Налоги!AA257","v":0},{"$f":"Налоги!AB257","v":0}]
[null,null,"Уплата земельного налога (-)","тыс. руб.","Лист: Налоги",null,null,{"$f":"Налоги!H260","v":0},{"$f":"Налоги!I260","v":0},{"$f":"Налоги!J260","v":0},{"$f":"Налоги!K260","v":0},{"$f":"Налоги!L260","v":0},{"$f":"Налоги!M260","v":0},{"$f":"Налоги!N260","v":0},{"$f":"Налоги!O260","v":0},{"$f":"Налоги!P260","v":0},{"$f":"Налоги!Q260","v":0},{"$f":"Налоги!R260","v":0},{"$f":"Налоги!S260","v":0},{"$f":"Налоги!T260","v":0},{"$f":"Налоги!U260","v":0},{"$f":"Налоги!V260","v":0},{"$f":"Налоги!W260","v":0},{"$f":"Налоги!X260","v":0},{"$f":"Налоги!Y260","v":0},{"$f":"Налоги!Z260","v":0},{"$f":"Налоги!AA260","v":0},{"$f":"Налоги!AB260","v":0}]
[null,null,"Уплата страховых взносов  (-)","тыс. руб.","Лист: Операционные затраты",null,null,{"$f":"'Операционные затраты'!H164","v":0},{"$f":"'Операционные затраты'!I164","v":0},{"$f":"'Операционные затраты'!J164","v":0},{"$f":"'Операционные затраты'!K164","v":0},{"$f":"'Операционные затраты'!L164","v":0},{"$f":"'Операционные затраты'!M164","v":0},{"$f":"'Операционные затраты'!N164","v":0},{"$f":"'Операционные затраты'!O164","v":0},{"$f":"'Операционные затраты'!P164","v":0},{"$f":"'Операционные затраты'!Q164","v":0},{"$f":"'Операционные затраты'!R164","v":0},{"$f":"'Операционные затраты'!S164","v":0},{"$f":"'Операционные затраты'!T164","v":0},{"$f":"'Операционные затраты'!U164","v":0},{"$f":"'Операционные затраты'!V164","v":0},{"$f":"'Операционные затраты'!W164","v":0},{"$f":"'Операционные затраты'!X164","v":0},{"$f":"'Операционные затраты'!Y164","v":0},{"$f":"'Операционные затраты'!Z164","v":0},{"$f":"'Операционные затраты'!AA164","v":0},{"$f":"'Операционные затраты'!AB164","v":0}]
[null,"Итого операционный денежный поток",null,"тыс. руб.",null,null,null,{"$f":"H96+H101","v":0},0,0,0,0,0,0,0,0,0,0,0,0,0,0,0,0,0,0,0,{"$f":"AB96+AB101","v":0}]
[]
[null,"Денежный поток от инвестиционной деятельности:"]
[]
[null,"Поступления  -всего:",null,"тыс. руб.",null,null,null,{"$f":"H116","v":0},{"$f":"I116","v":0},0,0,0,0,0,0,0,0,0,0,0,0,0,0,0,0,0,0,0]
[null,null,"Получение государственных субсидий (на покрытие инвестиционных расходов)","тыс. руб.","Лист: Предпосылки",null,null,{"$f":"Предпосылки!H282","v":0},{"$f":"Предпосылки!I282","v":0},{"$f":"Предпосылки!J282","v":0},{"$f":"Предпосылки!K282","v":0},{"$f":"Предпосылки!L282","v":0},{"$f":"Предпосылки!M282","v":0},{"$f":"Предпосылки!N282","v":0},{"$f":"Предпосылки!O282","v":0},{"$f":"Предпосылки!P282","v":0},{"$f":"Предпосылки!Q282","v":0},{"$f":"Предпосылки!R282","v":0},{"$f":"Предпосылки!S282","v":0},{"$f":"Предпосылки!T282","v":0},{"$f":"Предпосылки!U282","v":0},{"$f":"Предпосылки!V282","v":0},{"$f":"Предпосылки!W282","v":0},{"$f":"Предпосылки!X282","v":0},{"$f":"Предпосылки!Y282","v":0},{"$f":"Предпосылки!Z282","v":0},{"$f":"Предпосылки!AA282","v":0},{"$f":"Предпосылки!AB282","v":0}]
[]
[null,"Платежи - всего:",null,"тыс. руб.",null,null,null,{"$f":"H119","v":0},{"$f":"I119","v":0},0,0,0,0,0,0,0,0,0,0,0,0,0,0,0,0,0,0,0]
[null,null,"Платежи в связи с приобретением, созданием, модернизацией, реконструкцией и подготовкой к использованию внеоборотных активов   (-)","тыс. руб.","Лист: Оборотный капитал",null,null,{"$f":"-'Капитальные вложения'!H27","v":0},{"$f":"-'Капитальные вложения'!I27","v":0},{"$f":"-'Капитальные вложения'!J27","v":0},{"$f":"-'Капитальные вложения'!K27","v":0},{"$f":"-'Капитальные вложения'!L27","v":0},{"$f":"-'Капитальные вложения'!M27","v":0},{"$f":"-'Капитальные вложения'!N27","v":0},{"$f":"-'Капитальные вложения'!O27","v":0},{"$f":"-'Капитальные вложения'!P27","v":0},{"$f":"-'Капитальные вложения'!Q27","v":0},{"$f":"-'Капитальные вложения'!R27","v":0},{"$f":"-'Капитальные вложения'!S27","v":0},{"$f":"-'Капитальные вложения'!T27","v":0},{"$f":"-'Капитальные вложения'!U27","v":0},{"$f":"-'Капитальные вложения'!V27","v":0},{"$f":"-'Капитальные вложения'!W27","v":0},{"$f":"-'Капитальные вложения'!X27","v":0},{"$f":"-'Капитальные вложения'!Y27","v":0},{"$f":"-'Капитальные вложения'!Z27","v":0},{"$f":"-'Капитальные вложения'!AA27","v":0},{"$f":"-'Капитальные вложения'!AB27","v":0}]
[null,"Итого инвестиционный денежный поток",null,"тыс. руб.",null,null,null,{"$f":"SUM(H115,H118)","v":0},{"$f":"SUM(I115,I118)","v":0},0,0,0,0,0,0,0,0,0,0,0,0,0,0,0,0,0,0,{"$f":"SUM(AB115,AB118)","v":0}]
[]
[null,"Денежный поток от финансовой деятельности"]
[]
[null,"Поступления - всего:",null,"тыс. руб.",null,null,null,{"$f":"SUM(H125:H126)","v":0},{"$f":"SUM(I125:I126)","v":0},0,0,0,0,0,0,0,0,0,0,0,0,0,0,0,0,0,0,{"$f":"SUM(AB125:AB126)","v":0}]
[null,null,"Получение кредитов и займов","тыс. руб.","Лист: Финансирование",null,null,{"$f":"Финансирование!H45+Финансирование!H98","v":0},{"$f":"Финансирование!I45+Финансирование!I98","v":0},{"$f":"Финансирование!J45+Финансирование!J98","v":0},{"$f":"Финансирование!K45+Финансирование!K98","v":0},{"$f":"Финансирование!L45+Финансирование!L98","v":0},{"$f":"Финансирование!M45+Финансирование!M98","v":0},{"$f":"Финансирование!N45+Финансирование!N98","v":0},{"$f":"Финансирование!O45+Финансирование!O98","v":0},{"$f":"Финансирование!P45+Финансирование!P98","v":0},{"$f":"Финансирование!Q45+Финансирование!Q98","v":0},{"$f":"Финансирование!R45+Финансирование!R98","v":0},{"$f":"Финансирование!S45+Финансирование!S98","v":0},{"$f":"Финансирование!T45+Финансирование!T98","v":0},{"$f":"Финансирование!U45+Финансирование!U98","v":0},{"$f":"Финансирование!V45+Финансирование!V98","v":0},{"$f":"Финансирование!W45+Финансирование!W98","v":0},{"$f":"Финансирование!X45+Финансирование!X98","v":0},{"$f":"Финансирование!Y45+Финансирование!Y98","v":0},{"$f":"Финансирование!Z45+Финансирование!Z98","v":0},{"$f":"Финансирование!AA45+Финансирование!AA98","v":0},{"$f":"Финансирование!AB45+Финансирование!AB98","v":0}]
[null,null,"Получение денежных вкладов от собственников (участников)","тыс. руб.","Лист: Предпосылки",null,null,{"$f":"SUM(Предпосылки!H254:H255)","v":0},{"$f":"SUM(Предпосылки!I254:I255)","v":0},{"$f":"SUM(Предпосылки!J254:J255)","v":0},{"$f":"SUM(Предпосылки!K254:K255)","v":0},{"$f":"SUM(Предпосылки!L254:L255)","v":0},{"$f":"SUM(Предпосылки!M254:M255)","v":0},{"$f":"SUM(Предпосылки!N254:N255)","v":0},{"$f":"SUM(Предпосылки!O254:O255)","v":0},{"$f":"SUM(Предпосылки!P254:P255)","v":0},{"$f":"SUM(Предпосылки!Q254:Q255)","v":0},{"$f":"SUM(Предпосылки!R254:R255)","v":0},{"$f":"SUM(Предпосылки!S254:S255)","v":0},{"$f":"SUM(Предпосылки!T254:T255)","v":0},{"$f":"SUM(Предпосылки!U254:U255)","v":0},{"$f":"SUM(Предпосылки!V254:V255)","v":0},{"$f":"SUM(Предпосылки!W254:W255)","v":0},{"$f":"SUM(Предпосылки!X254:X255)","v":0},{"$f":"SUM(Предпосылки!Y254:Y255)","v":0},{"$f":"SUM(Предпосылки!Z254:Z255)","v":0},{"$f":"SUM(Предпосылки!AA254:AA255)","v":0},{"$f":"SUM(Предпосылки!AB254:AB255)","v":0}]
[]
[null,"Платежи - всего:",null,"тыс. руб.",null,null,null,{"$f":"H129","v":0},{"$f":"I129","v":0},0,0,0,0,0,0,0,0,0,0,0,0,0,0,0,0,0,0,0]
[null,null,"Погашение кредитов и займов  (-)","тыс. руб.","Лист: Финансирование",null,null,{"$f":"Финансирование!H46+Финансирование!H99","v":0},{"$f":"Финансирование!I46+Финансирование!I99","v":0},{"$f":"Финансирование!J46+Финансирование!J99","v":0},{"$f":"Финансирование!K46+Финансирование!K99","v":0},{"$f":"Финансирование!L46+Финансирование!L99","v":0},{"$f":"Финансирование!M46+Финансирование!M99","v":0},{"$f":"Финансирование!N46+Финансирование!N99","v":0},{"$f":"Финансирование!O46+Финансирование!O99","v":0},{"$f":"Финансирование!P46+Финансирование!P99","v":0},{"$f":"Финансирование!Q46+Финансирование!Q99","v":0},{"$f":"Финансирование!R46+Финансирование!R99","v":0},{"$f":"Финансирование!S46+Финансирование!S99","v":0},{"$f":"Финансирование!T46+Финансирование!T99","v":0},{"$f":"Финансирование!U46+Финансирование!U99","v":0},{"$f":"Финансирование!V46+Финансирование!V99","v":0},{"$f":"Финансирование!W46+Финансирование!W99","v":0},{"$f":"Финансирование!X46+Финансирование!X99","v":0},{"$f":"Финансирование!Y46+Финансирование!Y99","v":0},{"$f":"Финансирование!Z46+Финансирование!Z99","v":0},{"$f":"Финансирование!AA46+Финансирование!AA99","v":0},{"$f":"Финансирование!AB46+Финансирование!AB99","v":0}]
[null,"Итого финансовый денежный поток",null,"тыс. руб.",null,null,null,{"$f":"SUM(H124,H128)","v":0},{"$f":"SUM(I124,I128)","v":0},0,0,0,0,0,0,0,0,0,0,0,0,0,0,0,0,0,0,{"$f":"SUM(AB124,AB128)","v":0}]
[]
[null,null,"Остаток денежных средств на начало периода","тыс. руб.",null,null,null,0,{"$f":"H134","v":0},{"$f":"I134","v":0},{"$f":"J134","v":0},0,0,0,0,0,0,0,0,0,0,0,0,0,0,0,0,0]
[null,null,"Изменение денежных средств за период","тыс. руб.",null,null,null,{"$f":"ROUND(SUM(H111,H120,H130),3)","v":0},{"$f":"ROUND(SUM(I111,I120,I130),3)","v":0},0,0,0,0,0,0,0,0,0,0,0,0,0,0,0,0,0,0,{"$f":"ROUND(SUM(AB111,AB120,AB130),3)","v":0}]
[null,null,"Остаток денежных средств на конец периода","тыс. руб.",null,null,null,{"$f":"SUM(H132:H133)","v":0},{"$f":"SUM(I132:I133)","v":0},0,0,0,0,0,0,0,0,0,0,0,0,0,0,0,0,0,0,{"$f":"SUM(AB132:AB133)","v":0}]
[]
[null,null,"Проверка: положительные остатки денежных средств",null,null,{"$f":"IF(COUNTIF(H136:AA136, \"Ошибка\") = 0, \"Верно\", \"Ошибка\")","v":"Верно"},null,{"$f":"IF(H134<0,\"Ошибка\", \"Верно\")","v":"Верно"},{"$f":"IF(I134<0,\"Ошибка\", \"Верно\")","v":"Верно"},"Верно","Верно","Верно","Верно","Верно","Верно","Верно","Верно","Верно","Верно","Верно","Верно","Верно","Верно","Верно","Верно","Верно","Верно",{"$f":"IF(AB134<0,\"Ошибка\", \"Верно\")","v":"Верно"}]

{"sheet":"Эффективность (Без СПИК)","index":21,"n_rows":113,"n_cols":28,"rows_kept":113,"cut":false,"hidden":false,"merged":[[1,2,2,2],[1,3,2,3],[1,4,2,4],[1,5,2,5]]}
[null,null,null,null,{"$f":"\"Лист:  \" & RIGHT(CELL(\"filename\",A1),LEN(CELL(\"filename\",A1))-SEARCH(\"]\",CELL(\"filename\",A1)))","v":"Лист:  Эффективность (Без СПИК)"}]
[null,null,"Параметр","Ед. изм.","Источник","Итоговое значение",null,{"$f":"Предпосылки!H2","v":2026},{"$f":"Предпосылки!I2","v":2027},{"$f":"Предпосылки!J2","v":2028},{"$f":"Предпосылки!K2","v":2029},{"$f":"Предпосылки!L2","v":2030},{"$f":"Предпосылки!M2","v":2031},{"$f":"Предпосылки!N2","v":2032},{"$f":"Предпосылки!O2","v":2033},{"$f":"Предпосылки!P2","v":2034},{"$f":"Предпосылки!Q2","v":2035},{"$f":"Предпосылки!R2","v":2036},{"$f":"Предпосылки!S2","v":2037},{"$f":"Предпосылки!T2","v":2038},{"$f":"Предпосылки!U2","v":2039},{"$f":"Предпосылки!V2","v":2040},{"$f":"Предпосылки!W2","v":2041},{"$f":"Предпосылки!X2","v":2042},{"$f":"Предпосылки!Y2","v":2043},{"$f":"Предпосылки!Z2","v":2044},{"$f":"Предпосылки!AA2","v":2045},{"$f":"Предпосылки!AB2","v":2046}]
[null,null,null,null,null,null,null,1,2,3,4,5,6,7,8,9,10,11,12,13,14,15,16,17,18,19,20,21]
[]
[null,null,"Дата оценки",null,"Лист: Предпосылки",{"$f":"Предпосылки!F7","v":"2026-01-01"}]
[]
[null,"Дисконтирование"]
[]
[null,null,"Ставка дисконтирования для проекта","%","Лист: WACC",{"$f":"WACC!D20","v":0.22999359887060991}]
[null,null,"Корректировка с учетом даты оценки","х",null,null,null,{"$f":"IF(H2>YEAR($F$5),One, (DATE(H2,12,31)-F5)/Предпосылки!H12)","v":0.99726027397260275},{"$f":"IF(I2>YEAR($F$5),One, (DATE(I2,12,31)-G5)/Предпосылки!I12)","v":1},{"$f":"IF(J2>YEAR($F$5),One, (DATE(J2,12,31)-H5)/Предпосылки!J12)","v":1},{"$f":"IF(K2>YEAR($F$5),One, (DATE(K2,12,31)-I5)/Предпосылки!K12)","v":1},{"$f":"IF(L2>YEAR($F$5),One, (DATE(L2,12,31)-J5)/Предпосылки!L12)","v":1},{"$f":"IF(M2>YEAR($F$5),One, (DATE(M2,12,31)-K5)/Предпосылки!M12)","v":1},{"$f":"IF(N2>YEAR($F$5),One, (DATE(N2,12,31)-L5)/Предпосылки!N12)","v":1},{"$f":"IF(O2>YEAR($F$5),One, (DATE(O2,12,31)-M5)/Предпосылки!O12)","v":1},{"$f":"IF(P2>YEAR($F$5),One, (DATE(P2,12,31)-N5)/Предпосылки!P12)","v":1},{"$f":"IF(Q2>YEAR($F$5),One, (DATE(Q2,12,31)-O5)/Предпосылки!Q12)","v":1},{"$f":"IF(R2>YEAR($F$5),One, (DATE(R2,12,31)-P5)/Предпосылки!R12)","v":1},{"$f":"IF(S2>YEAR($F$5),One, (DATE(S2,12,31)-Q5)/Предпосылки!S12)","v":1},{"$f":"IF(T2>YEAR($F$5),One, (DATE(T2,12,31)-R5)/Предпосылки!T12)","v":1},{"$f":"IF(U2>YEAR($F$5),One, (DATE(U2,12,31)-S5)/Предпосылки!U12)","v":1},{"$f":"IF(V2>YEAR($F$5),One, (DATE(V2,12,31)-T5)/Предпосылки!V12)","v":1},{"$f":"IF(W2>YEAR($F$5),One, (DATE(W2,12,31)-U5)/Предпосылки!W12)","v":1},{"$f":"IF(X2>YEAR($F$5),One, (DATE(X2,12,31)-V5)/Предпосылки!X12)","v":1},{"$f":"IF(Y2>YEAR($F$5),One, (DATE(Y2,12,31)-W5)/Предпосылки!Y12)","v":1},{"$f":"IF(Z2>YEAR($F$5),One, (DATE(Z2,12,31)-X5)/Предпосылки!Z12)","v":1},{"$f":"IF(AA2>YEAR($F$5),One, (DATE(AA2,12,31)-Y5)/Предпосылки!AA12)","v":1},{"$f":"IF(AB2>YEAR($F$5),One, (DATE(AB2,12,31)-Z5)/Предпосылки!AB12)","v":1}]
[null,null,"Ставка дисконтирования с учетом корректировки","%",null,null,null,{"$f":"$F$9*H10","v":0.22936347942164934},{"$f":"$F$9*I10","v":0.22999359887060991},0.22999359887060991,0.22999359887060991,0.22999359887060991,0.22999359887060991,0.22999359887060991,0.22999359887060991,0.22999359887060991,0.22999359887060991,0.22999359887060991,0.22999359887060991,0.22999359887060991,0.22999359887060991,0.22999359887060991,0.22999359887060991,0.22999359887060991,0.22999359887060991,0.22999359887060991,0.22999359887060991,{"$f":"$F$9*AB10","v":0.22999359887060991}]
[]
[null,null,"Дисконт-фактор за период","х",null,null,null,{"$f":"One/ (One+H11)","v":0.8134290767043505},0.81301236113603204,0.81301236113603204,0.81301236113603204,0.81301236113603204,0.81301236113603204,0.81301236113603204,0.81301236113603204,0.81301236113603204,0.81301236113603204,0.81301236113603204,0.81301236113603204,0.81301236113603204,0.81301236113603204,0.81301236113603204,0.81301236113603204,0.81301236113603204,0.81301236113603204,0.81301236113603204,0.81301236113603204,{"$f":"One/ (One+AB11)","v":0.81301236113603204}]
[null,null,"Дисконт-фактор накопленный","х",null,null,null,{"$f":"H13^($H3-0.5)","v":0.90190303065482069},{"$f":"PRODUCT($H$13:H$13)*I13^($H3-0.5)","v":0.73344620691182127},{"$f":"PRODUCT($H$13:I$13)*J13^($H3-0.5)","v":0.59630083244764653},{"$f":"PRODUCT($H$13:J$13)*K13^($H3-0.5)","v":0.4847999477356425},{"$f":"PRODUCT($H$13:K$13)*L13^($H3-0.5)","v":0.39414835018717959},{"$f":"PRODUCT($H$13:L$13)*M13^($H3-0.5)","v":0.32044748082355046},{"$f":"PRODUCT($H$13:M$13)*N13^($H3-0.5)","v":0.26052776300444813},{"$f":"PRODUCT($H$13:N$13)*O13^($H3-0.5)","v":0.21181229174173494},{"$f":"PRODUCT($H$13:O$13)*P13^($H3-0.5)","v":0.17220601142658198},{"$f":"PRODUCT($H$13:P$13)*Q13^($H3-0.5)","v":0.14000561595174391},{"$f":"PRODUCT($H$13:Q$13)*R13^($H3-0.5)","v":0.11382629639723182},{"$f":"PRODUCT($H$13:R$13)*S13^($H3-0.5)","v":9.2542185993283274E-2},{"$f":"PRODUCT($H$13:S$13)*T13^($H3-0.5)","v":7.5237941139089062E-2},{"$f":"PRODUCT($H$13:T$13)*U13^($H3-0.5)","v":6.1169376172504598E-2},{"$f":"PRODUCT($H$13:U$13)*V13^($H3-0.5)","v":4.9731458951226104E-2},{"$f":"PRODUCT($H$13:V$13)*W13^($H3-0.5)","v":4.0432290864675993E-2},{"$f":"PRODUCT($H$13:W$13)*X13^($H3-0.5)","v":3.2871952262029047E-2},{"$f":"PRODUCT($H$13:X$13)*Y13^($H3-0.5)","v":2.6725303523703167E-2},{"$f":"PRODUCT($H$13:Y$13)*Z13^($H3-0.5)","v":2.172800211988303E-2},{"$f":"PRODUCT($H$13:Z$13)*AA13^($H3-0.5)","v":1.7665134306254812E-2},{"$f":"PRODUCT($H$13:AA$13)*AB13^($H3-0.5)","v":1.4361972552113347E-2}]
[]
[null,null,"Справочно: расчет дисконт-фактора при фиксированной ставке дисконтирования"]
[null,null,"Дисконт-фактор ","х",null,null,null,{"$f":"One/(One+H11)^(H$3-0.5)","v":0.90190303065482069},0.7330704661598646,0.59599535057172326,0.48455158719441382,0.3939464299971423,0.32028331721308728,0.26039429595989277,0.21170378138470719,0.17211779116500714,0.13993389178858093,0.11376798376598816,9.2494777103271808E-2,7.5199397125482001E-2,6.1138039412994269E-2,4.9705981778386255E-2,4.0411577608230401E-2,3.2855112128499391E-2,2.6711612286980369E-2,2.1716870975188159E-2,1.7656084548024295E-2,{"$f":"One/(One+AB11)^(AB$3-0.5)","v":1.4354614986806638E-2}]
[]
[null,null,"Ставка дисконтирования для расчета LLCR (средневзвешенная стоимость долга)",null,"Лист: WACC",{"$f":"WACC!D18","v":0}]
[]
[null,null,"Ставка дисконтирования для расчета бюджетной эффективности","%","Лист: Предпосылки",{"$f":"Предпосылки!F15","v":0.14499999999999999}]
[null,null,"Ставка дисконтирования с учетом корректировки на дату оценки","%",null,null,null,{"$f":"$F$21*H10","v":0.14460273972602739},0.14499999999999999,0.14499999999999999,0.14499999999999999,0.14499999999999999,0.14499999999999999,0.14499999999999999,0.14499999999999999,0.14499999999999999,0.14499999999999999,0.14499999999999999,0.14499999999999999,0.14499999999999999,0.14499999999999999,0.14499999999999999,0.14499999999999999,0.14499999999999999,0.14499999999999999,0.14499999999999999,0.14499999999999999,{"$f":"$F$21*AB10","v":0.14499999999999999}]
[]
[null,null,"Дисконт-фактор за период","х",null,null,null,{"$f":"One/ (One+H22)","v":0.87366556560869357},0.8733624454148472,0.8733624454148472,0.8733624454148472,0.8733624454148472,0.8733624454148472,0.8733624454148472,0.8733624454148472,0.8733624454148472,0.8733624454148472,0.8733624454148472,0.8733624454148472,0.8733624454148472,0.8733624454148472,0.8733624454148472,0.8733624454148472,0.8733624454148472,0.8733624454148472,0.8733624454148472,0.8733624454148472,{"$f":"One/ (One+AB22)","v":0.8733624454148472}]
[null,null,"Дисконт-фактор накопленный","х",null,null,null,{"$f":"H24^($H3-0.5)","v":0.93470078934849177},{"$f":"PRODUCT($H$24:H$24)*I24^($H3-0.5)","v":0.81647421816908028},{"$f":"PRODUCT($H$24:I$24)*J24^($H3-0.5)","v":0.71307791979832347},{"$f":"PRODUCT($H$24:J$24)*K24^($H3-0.5)","v":0.62277547580639603},{"$f":"PRODUCT($H$24:K$24)*L24^($H3-0.5)","v":0.54390871249466899},{"$f":"PRODUCT($H$24:L$24)*M24^($H3-0.5)","v":0.47502944322678525},{"$f":"PRODUCT($H$24:M$24)*N24^($H3-0.5)","v":0.41487287618059848},{"$f":"PRODUCT($H$24:N$24)*O24^($H3-0.5)","v":0.36233438967737858},{"$f":"PRODUCT($H$24:O$24)*P24^($H3-0.5)","v":0.31644924862653157},{"$f":"PRODUCT($H$24:P$24)*Q24^($H3-0.5)","v":0.27637488963015855},{"$f":"PRODUCT($H$24:Q$24)*R24^($H3-0.5)","v":0.24137544945865377},{"$f":"PRODUCT($H$24:R$24)*S24^($H3-0.5)","v":0.21080825280231771},{"$f":"PRODUCT($H$24:S$24)*T24^($H3-0.5)","v":0.18411201118106352},{"$f":"PRODUCT($H$24:T$24)*U24^($H3-0.5)","v":0.16079651631533934},{"$f":"PRODUCT($H$24:U$24)*V24^($H3-0.5)","v":0.14043363870335315},{"$f":"PRODUCT($H$24:V$24)*W24^($H3-0.5)","v":0.12264946611646564},{"$f":"PRODUCT($H$24:W$24)*X24^($H3-0.5)","v":0.10711743765630187},{"$f":"PRODUCT($H$24:X$24)*Y24^($H3-0.5)","v":9.3552347298080249E-2},{"$f":"PRODUCT($H$24:Y$24)*Z24^($H3-0.5)","v":8.1705106810550432E-2},{"$f":"PRODUCT($H$24:Z$24)*AA24^($H3-0.5)","v":7.13581718869436E-2},{"$f":"PRODUCT($H$24:AA$24)*AB24^($H3-0.5)","v":6.2321547499514074E-2}]
[]
[null,null,"Справочно: расчет дисконт-фактора при фиксированной ставке дисконтирования"]
[null,null,"Дисконт-фактор","х",null,null,null,{"$f":"One/(One+H22)^(H$3-0.5)","v":0.93470078934849166},0.81619094063929742,0.71283051584218116,0.62255940248225417,0.54372000216790761,0.47486463071432983,0.4147289351216854,0.36220867696217063,0.31633945586215784,0.27627900075297618,0.24129170371438971,0.21073511241431414,0.18404813311293816,0.16074072760955294,0.14038491494284103,0.12260691261383491,0.10708027302518336,9.3519889104963602E-2,8.1676759043636374E-2,7.1333414011909471E-2,{"$f":"One/(One+AB22)^(AB$3-0.5)","v":6.2299924901230992E-2}]
[]
[null,"Расчет свободного денежного потока"]
[]
[null,null,"Эффективная ставка налога на прибыль","%",null,null,null,{"$f":"-IFERROR('Отчетность (Без СПИК)'!H70/'Отчетность (Без СПИК)'!H69,0)","v":0},{"$f":"-IFERROR('Отчетность (Без СПИК)'!I70/'Отчетность (Без СПИК)'!I69,0)","v":0},{"$f":"-IFERROR('Отчетность (Без СПИК)'!J70/'Отчетность (Без СПИК)'!J69,0)","v":0},{"$f":"-IFERROR('Отчетность (Без СПИК)'!K70/'Отчетность (Без СПИК)'!K69,0)","v":0},{"$f":"-IFERROR('Отчетность (Без СПИК)'!L70/'Отчетность (Без СПИК)'!L69,0)","v":0},{"$f":"-IFERROR('Отчетность (Без СПИК)'!M70/'Отчетность (Без СПИК)'!M69,0)","v":0},{"$f":"-IFERROR('Отчетность (Без СПИК)'!N70/'Отчетность (Без СПИК)'!N69,0)","v":0},{"$f":"-IFERROR('Отчетность (Без СПИК)'!O70/'Отчетность (Без СПИК)'!O69,0)","v":0},{"$f":"-IFERROR('Отчетность (Без СПИК)'!P70/'Отчетность (Без СПИК)'!P69,0)","v":0},{"$f":"-IFERROR('Отчетность (Без СПИК)'!Q70/'Отчетность (Без СПИК)'!Q69,0)","v":0},{"$f":"-IFERROR('Отчетность (Без СПИК)'!R70/'Отчетность (Без СПИК)'!R69,0)","v":0},{"$f":"-IFERROR('Отчетность (Без СПИК)'!S70/'Отчетность (Без СПИК)'!S69,0)","v":0},{"$f":"-IFERROR('Отчетность (Без СПИК)'!T70/'Отчетность (Без СПИК)'!T69,0)","v":0},{"$f":"-IFERROR('Отчетность (Без СПИК)'!U70/'Отчетность (Без СПИК)'!U69,0)","v":0},{"$f":"-IFERROR('Отчетность (Без СПИК)'!V70/'Отчетность (Без СПИК)'!V69,0)","v":0},{"$f":"-IFERROR('Отчетность (Без СПИК)'!W70/'Отчетность (Без СПИК)'!W69,0)","v":0},{"$f":"-IFERROR('Отчетность (Без СПИК)'!X70/'Отчетность (Без СПИК)'!X69,0)","v":0},{"$f":"-IFERROR('Отчетность (Без СПИК)'!Y70/'Отчетность (Без СПИК)'!Y69,0)","v":0},{"$f":"-IFERROR('Отчетность (Без СПИК)'!Z70/'Отчетность (Без СПИК)'!Z69,0)","v":0},{"$f":"-IFERROR('Отчетность (Без СПИК)'!AA70/'Отчетность (Без СПИК)'!AA69,0)","v":0},{"$f":"-IFERROR('Отчетность (Без СПИК)'!AB70/'Отчетность (Без СПИК)'!AB69,0)","v":0}]
[]
[null,null,"EBIT","тыс. руб.","Лист: Отчетность (Без СПИК)",null,null,{"$f":"'Отчетность (Без СПИК)'!H88","v":0},{"$f":"'Отчетность (Без СПИК)'!I88","v":0},{"$f":"'Отчетность (Без СПИК)'!J88","v":0},{"$f":"'Отчетность (Без СПИК)'!K88","v":0},{"$f":"'Отчетность (Без СПИК)'!L88","v":0},{"$f":"'Отчетность (Без СПИК)'!M88","v":0},{"$f":"'Отчетность (Без СПИК)'!N88","v":0},{"$f":"'Отчетность (Без СПИК)'!O88","v":0},{"$f":"'Отчетность (Без СПИК)'!P88","v":0},{"$f":"'Отчетность (Без СПИК)'!Q88","v":0},{"$f":"'Отчетность (Без СПИК)'!R88","v":0},{"$f":"'Отчетность (Без СПИК)'!S88","v":0},{"$f":"'Отчетность (Без СПИК)'!T88","v":0},{"$f":"'Отчетность (Без СПИК)'!U88","v":0},{"$f":"'Отчетность (Без СПИК)'!V88","v":0},{"$f":"'Отчетность (Без СПИК)'!W88","v":0},{"$f":"'Отчетность (Без СПИК)'!X88","v":0},{"$f":"'Отчетность (Без СПИК)'!Y88","v":0},{"$f":"'Отчетность (Без СПИК)'!Z88","v":0},{"$f":"'Отчетность (Без СПИК)'!AA88","v":0},{"$f":"'Отчетность (Без СПИК)'!AB88","v":0}]
[null,null,"Амортизация","тыс. руб.","Лист: Отчетность (Без СПИК)",null,null,{"$f":"'Отчетность (Без СПИК)'!H89","v":0},{"$f":"'Отчетность (Без СПИК)'!I89","v":0},{"$f":"'Отчетность (Без СПИК)'!J89","v":0},{"$f":"'Отчетность (Без СПИК)'!K89","v":0},{"$f":"'Отчетность (Без СПИК)'!L89","v":0},{"$f":"'Отчетность (Без СПИК)'!M89","v":0},{"$f":"'Отчетность (Без СПИК)'!N89","v":0},{"$f":"'Отчетность (Без СПИК)'!O89","v":0},{"$f":"'Отчетность (Без СПИК)'!P89","v":0},{"$f":"'Отчетность (Без СПИК)'!Q89","v":0},{"$f":"'Отчетность (Без СПИК)'!R89","v":0},{"$f":"'Отчетность (Без СПИК)'!S89","v":0},{"$f":"'Отчетность (Без СПИК)'!T89","v":0},{"$f":"'Отчетность (Без СПИК)'!U89","v":0},{"$f":"'Отчетность (Без СПИК)'!V89","v":0},{"$f":"'Отчетность (Без СПИК)'!W89","v":0},{"$f":"'Отчетность (Без СПИК)'!X89","v":0},{"$f":"'Отчетность (Без СПИК)'!Y89","v":0},{"$f":"'Отчетность (Без СПИК)'!Z89","v":0},{"$f":"'Отчетность (Без СПИК)'!AA89","v":0},{"$f":"'Отчетность (Без СПИК)'!AB89","v":0}]
[null,null,"Капитальные вложения (-)","тыс. руб.","Лист: Отчетность (Без СПИК)",null,null,{"$f":"'Отчетность (Без СПИК)'!H119","v":0},{"$f":"'Отчетность (Без СПИК)'!I119","v":0},{"$f":"'Отчетность (Без СПИК)'!J119","v":0},{"$f":"'Отчетность (Без СПИК)'!K119","v":0},{"$f":"'Отчетность (Без СПИК)'!L119","v":0},{"$f":"'Отчетность (Без СПИК)'!M119","v":0},{"$f":"'Отчетность (Без СПИК)'!N119","v":0},{"$f":"'Отчетность (Без СПИК)'!O119","v":0},{"$f":"'Отчетность (Без СПИК)'!P119","v":0},{"$f":"'Отчетность (Без СПИК)'!Q119","v":0},{"$f":"'Отчетность (Без СПИК)'!R119","v":0},{"$f":"'Отчетность (Без СПИК)'!S119","v":0},{"$f":"'Отчетность (Без СПИК)'!T119","v":0},{"$f":"'Отчетность (Без СПИК)'!U119","v":0},{"$f":"'Отчетность (Без СПИК)'!V119","v":0},{"$f":"'Отчетность (Без СПИК)'!W119","v":0},{"$f":"'Отчетность (Без СПИК)'!X119","v":0},{"$f":"'Отчетность (Без СПИК)'!Y119","v":0},{"$f":"'Отчетность (Без СПИК)'!Z119","v":0},{"$f":"'Отчетность (Без СПИК)'!AA119","v":0},{"$f":"'Отчетность (Без СПИК)'!AB119","v":0}]
[null,null,"Изменение в чистом оборотном капитале (-)","тыс. руб.","Лист: Отчетность (Без СПИК)",null,null,{"$f":"-('Отчетность (Без СПИК)'!H47-'Отчетность (Без СПИК)'!G47)","v":0},{"$f":"-('Отчетность (Без СПИК)'!I47-'Отчетность (Без СПИК)'!H47)","v":0},{"$f":"-('Отчетность (Без СПИК)'!J47-'Отчетность (Без СПИК)'!I47)","v":0},{"$f":"-('Отчетность (Без СПИК)'!K47-'Отчетность (Без СПИК)'!J47)","v":0},{"$f":"-('Отчетность (Без СПИК)'!L47-'Отчетность (Без СПИК)'!K47)","v":0},{"$f":"-('Отчетность (Без СПИК)'!M47-'Отчетность (Без СПИК)'!L47)","v":0},{"$f":"-('Отчетность (Без СПИК)'!N47-'Отчетность (Без СПИК)'!M47)","v":0},{"$f":"-('Отчетность (Без СПИК)'!O47-'Отчетность (Без СПИК)'!N47)","v":0},{"$f":"-('Отчетность (Без СПИК)'!P47-'Отчетность (Без СПИК)'!O47)","v":0},{"$f":"-('Отчетность (Без СПИК)'!Q47-'Отчетность (Без СПИК)'!P47)","v":0},{"$f":"-('Отчетность (Без СПИК)'!R47-'Отчетность (Без СПИК)'!Q47)","v":0},{"$f":"-('Отчетность (Без СПИК)'!S47-'Отчетность (Без СПИК)'!R47)","v":0},{"$f":"-('Отчетность (Без СПИК)'!T47-'Отчетность (Без СПИК)'!S47)","v":0},{"$f":"-('Отчетность (Без СПИК)'!U47-'Отчетность (Без СПИК)'!T47)","v":0},{"$f":"-('Отчетность (Без СПИК)'!V47-'Отчетность (Без СПИК)'!U47)","v":0},{"$f":"-('Отчетность (Без СПИК)'!W47-'Отчетность (Без СПИК)'!V47)","v":0},{"$f":"-('Отчетность (Без СПИК)'!X47-'Отчетность (Без СПИК)'!W47)","v":0},{"$f":"-('Отчетность (Без СПИК)'!Y47-'Отчетность (Без СПИК)'!X47)","v":0},{"$f":"-('Отчетность (Без СПИК)'!Z47-'Отчетность (Без СПИК)'!Y47)","v":0},{"$f":"-('Отчетность (Без СПИК)'!AA47-'Отчетность (Без СПИК)'!Z47)","v":0},{"$f":"-('Отчетность (Без СПИК)'!AB47-'Отчетность (Без СПИК)'!AA47)","v":0}]
[]
[null,null,"FCFF","тыс. руб.",null,null,null,{"$f":"H34*(One-H32)+SUM(H35:H37)","v":0},0,0,0,0,0,0,0,0,0,0,0,0,0,0,0,0,0,0,0,{"$f":"AB34*(One-AB32)+SUM(AB35:AB37)","v":0}]
[null,null,"FCFF накопительным итогом","тыс. руб.",null,null,null,{"$f":"SUM($H39:H39)","v":0},{"$f":"SUM($H39:I39)","v":0},{"$f":"SUM($H39:J39)","v":0},{"$f":"SUM($H39:K39)","v":0},{"$f":"SUM($H39:L39)","v":0},{"$f":"SUM($H39:M39)","v":0},{"$f":"SUM($H39:N39)","v":0},{"$f":"SUM($H39:O39)","v":0},{"$f":"SUM($H39:P39)","v":0},{"$f":"SUM($H39:Q39)","v":0},{"$f":"SUM($H39:R39)","v":0},{"$f":"SUM($H39:S39)","v":0},{"$f":"SUM($H39:T39)","v":0},{"$f":"SUM($H39:U39)","v":0},{"$f":"SUM($H39:V39)","v":0},{"$f":"SUM($H39:W39)","v":0},{"$f":"SUM($H39:X39)","v":0},{"$f":"SUM($H39:Y39)","v":0},{"$f":"SUM($H39:Z39)","v":0},{"$f":"SUM($H39:AA39)","v":0},{"$f":"SUM($H39:AB39)","v":0}]
[]
[null,null,"FCFF за период действия СПИК",null,null,null,null,{"$f":"H39*Предпосылки!H8","v":0},{"$f":"I39*Предпосылки!I8","v":0},{"$f":"J39*Предпосылки!J8","v":0},{"$f":"K39*Предпосылки!K8","v":0},{"$f":"L39*Предпосылки!L8","v":0},{"$f":"M39*Предпосылки!M8","v":0},{"$f":"N39*Предпосылки!N8","v":0},{"$f":"O39*Предпосылки!O8","v":0},{"$f":"P39*Предпосылки!P8","v":0},{"$f":"Q39*Предпосылки!Q8","v":0},{"$f":"R39*Предпосылки!R8","v":0},{"$f":"S39*Предпосылки!S8","v":0},{"$f":"T39*Предпосылки!T8","v":0},{"$f":"U39*Предпосылки!U8","v":0},{"$f":"V39*Предпосылки!V8","v":0},{"$f":"W39*Предпосылки!W8","v":0},{"$f":"X39*Предпосылки!X8","v":0},{"$f":"Y39*Предпосылки!Y8","v":0},{"$f":"Z39*Предпосылки!Z8","v":0},{"$f":"AA39*Предпосылки!AA8","v":0},{"$f":"AB39*Предпосылки!AB8","v":0}]
[null,null,"FCFF накопительным итогом за период действия СПИК",null,null,null,null,{"$f":"SUM($H$42:H42)","v":0},{"$f":"SUM($H$42:I42)","v":0},{"$f":"SUM($H$42:J42)","v":0},{"$f":"SUM($H$42:K42)","v":0},{"$f":"SUM($H$42:L42)","v":0},{"$f":"SUM($H$42:M42)","v":0},{"$f":"SUM($H$42:N42)","v":0},{"$f":"SUM($H$42:O42)","v":0},{"$f":"SUM($H$42:P42)","v":0},{"$f":"SUM($H$42:Q42)","v":0},{"$f":"SUM($H$42:R42)","v":0},{"$f":"SUM($H$42:S42)","v":0},{"$f":"SUM($H$42:T42)","v":0},{"$f":"SUM($H$42:U42)","v":0},{"$f":"SUM($H$42:V42)","v":0},{"$f":"SUM($H$42:W42)","v":0},{"$f":"SUM($H$42:X42)","v":0},{"$f":"SUM($H$42:Y42)","v":0},{"$f":"SUM($H$42:Z42)","v":0},{"$f":"SUM($H$42:AA42)","v":0},{"$f":"SUM($H$42:AB42)","v":0}]
[]
[null,"Показатели эффективности инвестиционного проекта"]
[]
[null,null,"Дисконтированные потоки проекта","тыс. руб.",null,null,null,{"$f":"H39*H14","v":0},{"$f":"I39*I14","v":0},0,0,0,0,0,0,0,0,0,0,0,0,0,0,0,0,0,0,{"$f":"AB39*AB14","v":0}]
[null,null,"Дисконтированные потоки прогнозного периода (в течение срока действия СПИК)","тыс. руб.",null,null,null,{"$f":"H47*Предпосылки!H8","v":0},{"$f":"I47*Предпосылки!I8","v":0},{"$f":"J47*Предпосылки!J8","v":0},{"$f":"K47*Предпосылки!K8","v":0},{"$f":"L47*Предпосылки!L8","v":0},{"$f":"M47*Предпосылки!M8","v":0},{"$f":"N47*Предпосылки!N8","v":0},{"$f":"O47*Предпосылки!O8","v":0},{"$f":"P47*Предпосылки!P8","v":0},{"$f":"Q47*Предпосылки!Q8","v":0},{"$f":"R47*Предпосылки!R8","v":0},{"$f":"S47*Предпосылки!S8","v":0},{"$f":"T47*Предпосылки!T8","v":0},{"$f":"U47*Предпосылки!U8","v":0},{"$f":"V47*Предпосылки!V8","v":0},{"$f":"W47*Предпосылки!W8","v":0},{"$f":"X47*Предпосылки!X8","v":0},{"$f":"Y47*Предпосылки!Y8","v":0},{"$f":"Z47*Предпосылки!Z8","v":0},{"$f":"AA47*Предпосылки!AA8","v":0},{"$f":"AB47*Предпосылки!AB8","v":0}]
[]
[null,null,"Терминальная стоимость","тыс. руб.",null,{"$f":"INDEX(H39:AA39,,MATCH(Предпосылки!F8,H3:AA3,0))*(One+Предпосылки!F16)/(Предпосылки!F14-Предпосылки!F16)","v":0}]
[null,null,"Дисконтированная терминальная стоимость","тыс. руб.",null,{"$f":"F50*INDEX(H14:AA14,,MATCH(Предпосылки!F8,H3:AA3,0))","v":0}]
[]
[null,null,"NPV (чистая приведенная стоимость)","тыс. руб.",null,{"$f":"SUM(H48:AA48,F51)","v":0}]
[null,null,"NPV (чистая приведенная стоимость) за срок действия СПИК","тыс. руб.",null,{"$f":"SUM(H48:AA48)","v":0}]
[null,null,"IRR (внутренняя норма доходности) за срок действия СПИК","%",null,{"$f":"IRR(H42:AA42,F9)","v":{"$error":"#NUM!"}}]
[null,null,"PBP (простой период окупаемости)","лет",null,{"$f":" SUM(H56:V56)","v":15},null,{"$f":"IF(H43>0,0,1)","v":1},{"$f":"IF(I43>0,0,1)","v":1},1,1,{"$f":"IF(L43>0,0,1)","v":1},1,1,1,1,1,1,1,1,1,1,1,1,1,1,1,{"$f":"IF(AB43>0,0,1)","v":1}]
[null,null,"DPBP (дисконтированный период окупаемости)","лет",null,{"$f":" SUM(H57:V57)","v":15},null,{"$f":"IF(SUM($H48:H48)>0,0,1)","v":1},{"$f":"IF(SUM($H48:I48)>0,0,1)","v":1},{"$f":"IF(SUM($H48:J48)>0,0,1)","v":1},{"$f":"IF(SUM($H48:K48)>0,0,1)","v":1},{"$f":"IF(SUM($H48:L48)>0,0,1)","v":1},{"$f":"IF(SUM($H48:M48)>0,0,1)","v":1},{"$f":"IF(SUM($H48:N48)>0,0,1)","v":1},{"$f":"IF(SUM($H48:O48)>0,0,1)","v":1},{"$f":"IF(SUM($H48:P48)>0,0,1)","v":1},{"$f":"IF(SUM($H48:Q48)>0,0,1)","v":1},{"$f":"IF(SUM($H48:R48)>0,0,1)","v":1},{"$f":"IF(SUM($H48:S48)>0,0,1)","v":1},{"$f":"IF(SUM($H48:T48)>0,0,1)","v":1},{"$f":"IF(SUM($H48:U48)>0,0,1)","v":1},{"$f":"IF(SUM($H48:V48)>0,0,1)","v":1},{"$f":"IF(SUM($H48:W48)>0,0,1)","v":1},{"$f":"IF(SUM($H48:X48)>0,0,1)","v":1},{"$f":"IF(SUM($H48:Y48)>0,0,1)","v":1},{"$f":"IF(SUM($H48:Z48)>0,0,1)","v":1},{"$f":"IF(SUM($H48:AA48)>0,0,1)","v":1},{"$f":"IF(SUM($H48:AB48)>0,0,1)","v":1}]
[]
[]
[null,null,"Инвестиции по проекту","тыс. руб.","Лист: Отчетность (Без СПИК)",null,null,{"$f":"'Отчетность (Без СПИК)'!H119","v":0},{"$f":"'Отчетность (Без СПИК)'!I119","v":0},{"$f":"'Отчетность (Без СПИК)'!J119","v":0},{"$f":"'Отчетность (Без СПИК)'!K119","v":0},{"$f":"'Отчетность (Без СПИК)'!L119","v":0},{"$f":"'Отчетность (Без СПИК)'!M119","v":0},{"$f":"'Отчетность (Без СПИК)'!N119","v":0},{"$f":"'Отчетность (Без СПИК)'!O119","v":0},{"$f":"'Отчетность (Без СПИК)'!P119","v":0},{"$f":"'Отчетность (Без СПИК)'!Q119","v":0},{"$f":"'Отчетность (Без СПИК)'!R119","v":0},{"$f":"'Отчетность (Без СПИК)'!S119","v":0},{"$f":"'Отчетность (Без СПИК)'!T119","v":0},{"$f":"'Отчетность (Без СПИК)'!U119","v":0},{"$f":"'Отчетность (Без СПИК)'!V119","v":0},{"$f":"'Отчетность (Без СПИК)'!W119","v":0},{"$f":"'Отчетность (Без СПИК)'!X119","v":0},{"$f":"'Отчетность (Без СПИК)'!Y119","v":0},{"$f":"'Отчетность (Без СПИК)'!Z119","v":0},{"$f":"'Отчетность (Без СПИК)'!AA119","v":0},{"$f":"'Отчетность (Без СПИК)'!AB119","v":0}]
[null,null,"Дисконтированные инвестиции по проекту","тыс. руб.",null,null,null,{"$f":"H60*H14","v":0},{"$f":"I60*I14","v":0},0,0,0,0,0,0,0,0,0,0,0,0,0,0,0,0,0,0,{"$f":"AB60*AB14","v":0}]
[null,null,"PI (индекс прибыльности)","х",null,{"$f":"One+F54/-SUM(H61:AA61)","v":{"$error":"#DIV/0!"}}]
[]
[null,"Показатели бюджетной эффективности инвестиционного проекта"]
[]
[null,null,"Денежный поток бюджета","тыс. руб.","Лист: Налоги",{"$f":"SUM(H66:AA66)","v":0},null,{"$f":"-Налоги!H262-Налоги!H267","v":0},{"$f":"-Налоги!I262-Налоги!I267","v":0},{"$f":"-Налоги!J262-Налоги!J267","v":0},{"$f":"-Налоги!K262-Налоги!K267","v":0},{"$f":"-Налоги!L262-Налоги!L267","v":0},{"$f":"-Налоги!M262-Налоги!M267","v":0},{"$f":"-Налоги!N262-Налоги!N267","v":0},{"$f":"-Налоги!O262-Налоги!O267","v":0},{"$f":"-Налоги!P262-Налоги!P267","v":0},{"$f":"-Налоги!Q262-Налоги!Q267","v":0},{"$f":"-Налоги!R262-Налоги!R267","v":0},{"$f":"-Налоги!S262-Налоги!S267","v":0},{"$f":"-Налоги!T262-Налоги!T267","v":0},{"$f":"-Налоги!U262-Налоги!U267","v":0},{"$f":"-Налоги!V262-Налоги!V267","v":0},{"$f":"-Налоги!W262-Налоги!W267","v":0},{"$f":"-Налоги!X262-Налоги!X267","v":0},{"$f":"-Налоги!Y262-Налоги!Y267","v":0},{"$f":"-Налоги!Z262-Налоги!Z267","v":0},{"$f":"-Налоги!AA262-Налоги!AA267","v":0},{"$f":"-Налоги!AB262-Налоги!AB267","v":0}]
[null,null,"Денежный поток бюджета за период действия СПИК",null,null,{"$f":"SUM(H67:AA67)","v":0},null,{"$f":"(-Налоги!H262-Налоги!H267)*Предпосылки!H8","v":0},{"$f":"(-Налоги!I262-Налоги!I267)*Предпосылки!I8","v":0},{"$f":"(-Налоги!J262-Налоги!J267)*Предпосылки!J8","v":0},{"$f":"(-Налоги!K262-Налоги!K267)*Предпосылки!K8","v":0},{"$f":"(-Налоги!L262-Налоги!L267)*Предпосылки!L8","v":0},{"$f":"(-Налоги!M262-Налоги!M267)*Предпосылки!M8","v":0},{"$f":"(-Налоги!N262-Налоги!N267)*Предпосылки!N8","v":0},{"$f":"(-Налоги!O262-Налоги!O267)*Предпосылки!O8","v":0},{"$f":"(-Налоги!P262-Налоги!P267)*Предпосылки!P8","v":0},{"$f":"(-Налоги!Q262-Налоги!Q267)*Предпосылки!Q8","v":0},{"$f":"(-Налоги!R262-Налоги!R267)*Предпосылки!R8","v":0},{"$f":"(-Налоги!S262-Налоги!S267)*Предпосылки!S8","v":0},{"$f":"(-Налоги!T262-Налоги!T267)*Предпосылки!T8","v":0},{"$f":"(-Налоги!U262-Налоги!U267)*Предпосылки!U8","v":0},{"$f":"(-Налоги!V262-Налоги!V267)*Предпосылки!V8","v":0},{"$f":"(-Налоги!W262-Налоги!W267)*Предпосылки!W8","v":0},{"$f":"(-Налоги!X262-Налоги!X267)*Предпосылки!X8","v":0},{"$f":"(-Налоги!Y262-Налоги!Y267)*Предпосылки!Y8","v":0},{"$f":"(-Налоги!Z262-Налоги!Z267)*Предпосылки!Z8","v":0},{"$f":"(-Налоги!AA262-Налоги!AA267)*Предпосылки!AA8","v":0},{"$f":"(-Налоги!AB262-Налоги!AB267)*Предпосылки!AB8","v":0}]
[]
[null,null,"Дисконтированный денежный поток бюджета","тыс. руб.",null,null,null,{"$f":"H66*H25","v":0},{"$f":"I66*I25","v":0},0,0,0,0,0,0,0,0,0,0,0,0,0,0,0,0,0,0,{"$f":"AB66*AB25","v":0}]
[null,null,"Дисконтированные потоки прогнозного периода (в течение срока действия СПИК)","тыс. руб.",null,null,null,{"$f":"H69*Предпосылки!H8","v":0},{"$f":"I69*Предпосылки!I8","v":0},{"$f":"J69*Предпосылки!J8","v":0},{"$f":"K69*Предпосылки!K8","v":0},{"$f":"L69*Предпосылки!L8","v":0},{"$f":"M69*Предпосылки!M8","v":0},{"$f":"N69*Предпосылки!N8","v":0},{"$f":"O69*Предпосылки!O8","v":0},{"$f":"P69*Предпосылки!P8","v":0},{"$f":"Q69*Предпосылки!Q8","v":0},{"$f":"R69*Предпосылки!R8","v":0},{"$f":"S69*Предпосылки!S8","v":0},{"$f":"T69*Предпосылки!T8","v":0},{"$f":"U69*Предпосылки!U8","v":0},{"$f":"V69*Предпосылки!V8","v":0},{"$f":"W69*Предпосылки!W8","v":0},{"$f":"X69*Предпосылки!X8","v":0},{"$f":"Y69*Предпосылки!Y8","v":0},{"$f":"Z69*Предпосылки!Z8","v":0},{"$f":"AA69*Предпосылки!AA8","v":0},{"$f":"AB69*Предпосылки!AB8","v":0}]
[]
[null,null,"BNPV (чистая приведенная стоимость) за срок действия СПИК","тыс. руб.",null,{"$f":"SUM(H70:AA70)","v":0}]
[null,null,"Расходы бюджета","тыс. руб.","Лист: Налоги",null,null,{"$f":"Налоги!H267","v":0},{"$f":"Налоги!I267","v":0},{"$f":"Налоги!J267","v":0},{"$f":"Налоги!K267","v":0},{"$f":"Налоги!L267","v":0},{"$f":"Налоги!M267","v":0},{"$f":"Налоги!N267","v":0},{"$f":"Налоги!O267","v":0},{"$f":"Налоги!P267","v":0},{"$f":"Налоги!Q267","v":0},{"$f":"Налоги!R267","v":0},{"$f":"Налоги!S267","v":0},{"$f":"Налоги!T267","v":0},{"$f":"Налоги!U267","v":0},{"$f":"Налоги!V267","v":0},{"$f":"Налоги!W267","v":0},{"$f":"Налоги!X267","v":0},{"$f":"Налоги!Y267","v":0},{"$f":"Налоги!Z267","v":0},{"$f":"Налоги!AA267","v":0},{"$f":"Налоги!AB267","v":0}]
[null,null,"Дисконтированные расходы бюджета","тыс. руб.",null,null,null,{"$f":"H73*H25","v":0},{"$f":"I73*I25","v":0},0,0,0,0,0,0,0,0,0,0,0,0,0,0,0,0,0,0,{"$f":"AB73*AB25","v":0}]
[null,null,"Дисконтированные расходы бюджета ( в течение срока действия СПИК)","тыс. руб.",null,{"$f":"SUM(H75:AA75)","v":0},null,{"$f":"H74*Предпосылки!H8","v":0},{"$f":"I74*Предпосылки!I8","v":0},{"$f":"J74*Предпосылки!J8","v":0},{"$f":"K74*Предпосылки!K8","v":0},{"$f":"L74*Предпосылки!L8","v":0},{"$f":"M74*Предпосылки!M8","v":0},{"$f":"N74*Предпосылки!N8","v":0},{"$f":"O74*Предпосылки!O8","v":0},{"$f":"P74*Предпосылки!P8","v":0},{"$f":"Q74*Предпосылки!Q8","v":0},{"$f":"R74*Предпосылки!R8","v":0},{"$f":"S74*Предпосылки!S8","v":0},{"$f":"T74*Предпосылки!T8","v":0},{"$f":"U74*Предпосылки!U8","v":0},{"$f":"V74*Предпосылки!V8","v":0},{"$f":"W74*Предпосылки!W8","v":0},{"$f":"X74*Предпосылки!X8","v":0},{"$f":"Y74*Предпосылки!Y8","v":0},{"$f":"Z74*Предпосылки!Z8","v":0},{"$f":"AA74*Предпосылки!AA8","v":0},{"$f":"AB74*Предпосылки!AB8","v":0}]
[null,null,"BPI (индекс  бюджетной прибыльности)","тыс. руб.",null,{"$f":"IF(F75=0, \"-\",F72/F75)","v":"-"}]
[]
[null,"Показатели финансовой устойчивости"]
[]
[null,null,"ICR (коэффициент покрытия процентных выплат)","х",null,null,null,{"$f":"IFERROR(-'Отчетность (Без СПИК)'!H88/'Отчетность (Без СПИК)'!H104,)","v":0},{"$f":"IFERROR(-'Отчетность (Без СПИК)'!I88/'Отчетность (Без СПИК)'!I104,)","v":0},{"$f":"IFERROR(-'Отчетность (Без СПИК)'!J88/'Отчетность (Без СПИК)'!J104,)","v":0},{"$f":"IFERROR(-'Отчетность (Без СПИК)'!K88/'Отчетность (Без СПИК)'!K104,)","v":0},{"$f":"IFERROR(-'Отчетность (Без СПИК)'!L88/'Отчетность (Без СПИК)'!L104,)","v":0},{"$f":"IFERROR(-'Отчетность (Без СПИК)'!M88/'Отчетность (Без СПИК)'!M104,)","v":0},{"$f":"IFERROR(-'Отчетность (Без СПИК)'!N88/'Отчетность (Без СПИК)'!N104,)","v":0},{"$f":"IFERROR(-'Отчетность (Без СПИК)'!O88/'Отчетность (Без СПИК)'!O104,)","v":0},{"$f":"IFERROR(-'Отчетность (Без СПИК)'!P88/'Отчетность (Без СПИК)'!P104,)","v":0},{"$f":"IFERROR(-'Отчетность (Без СПИК)'!Q88/'Отчетность (Без СПИК)'!Q104,)","v":0},{"$f":"IFERROR(-'Отчетность (Без СПИК)'!R88/'Отчетность (Без СПИК)'!R104,)","v":0},{"$f":"IFERROR(-'Отчетность (Без СПИК)'!S88/'Отчетность (Без СПИК)'!S104,)","v":0},{"$f":"IFERROR(-'Отчетность (Без СПИК)'!T88/'Отчетность (Без СПИК)'!T104,)","v":0},{"$f":"IFERROR(-'Отчетность (Без СПИК)'!U88/'Отчетность (Без СПИК)'!U104,)","v":0},{"$f":"IFERROR(-'Отчетность (Без СПИК)'!V88/'Отчетность (Без СПИК)'!V104,)","v":0},{"$f":"IFERROR(-'Отчетность (Без СПИК)'!W88/'Отчетность (Без СПИК)'!W104,)","v":0},{"$f":"IFERROR(-'Отчетность (Без СПИК)'!X88/'Отчетность (Без СПИК)'!X104,)","v":0},{"$f":"IFERROR(-'Отчетность (Без СПИК)'!Y88/'Отчетность (Без СПИК)'!Y104,)","v":0},{"$f":"IFERROR(-'Отчетность (Без СПИК)'!Z88/'Отчетность (Без СПИК)'!Z104,)","v":0},{"$f":"IFERROR(-'Отчетность (Без СПИК)'!AA88/'Отчетность (Без СПИК)'!AA104,)","v":0},{"$f":"IFERROR(-'Отчетность (Без СПИК)'!AB88/'Отчетность (Без СПИК)'!AB104,)","v":0}]
[]
[null,null,"CFADS (с дофинансированием)","тыс. руб.",null,null,null,{"$f":"H39+H32*'Отчетность (Без СПИК)'!H66+'Отчетность (Без СПИК)'!H115+'Отчетность (Без СПИК)'!H125+'Отчетность (Без СПИК)'!H126","v":0},{"$f":"I39+I32*'Отчетность (Без СПИК)'!I66+'Отчетность (Без СПИК)'!I115+'Отчетность (Без СПИК)'!I125+'Отчетность (Без СПИК)'!I126","v":0},{"$f":"J39+J32*'Отчетность (Без СПИК)'!J66+'Отчетность (Без СПИК)'!J115+'Отчетность (Без СПИК)'!J125+'Отчетность (Без СПИК)'!J126","v":0},{"$f":"K39+K32*'Отчетность (Без СПИК)'!K66+'Отчетность (Без СПИК)'!K115+'Отчетность (Без СПИК)'!K125+'Отчетность (Без СПИК)'!K126","v":0},{"$f":"L39+L32*'Отчетность (Без СПИК)'!L66+'Отчетность (Без СПИК)'!L115+'Отчетность (Без СПИК)'!L125+'Отчетность (Без СПИК)'!L126","v":0},{"$f":"M39+M32*'Отчетность (Без СПИК)'!M66+'Отчетность (Без СПИК)'!M115+'Отчетность (Без СПИК)'!M125+'Отчетность (Без СПИК)'!M126","v":0},{"$f":"N39+N32*'Отчетность (Без СПИК)'!N66+'Отчетность (Без СПИК)'!N115+'Отчетность (Без СПИК)'!N125+'Отчетность (Без СПИК)'!N126","v":0},{"$f":"O39+O32*'Отчетность (Без СПИК)'!O66+'Отчетность (Без СПИК)'!O115+'Отчетность (Без СПИК)'!O125+'Отчетность (Без СПИК)'!O126","v":0},{"$f":"P39+P32*'Отчетность (Без СПИК)'!P66+'Отчетность (Без СПИК)'!P115+'Отчетность (Без СПИК)'!P125+'Отчетность (Без СПИК)'!P126","v":0},{"$f":"Q39+Q32*'Отчетность (Без СПИК)'!Q66+'Отчетность (Без СПИК)'!Q115+'Отчетность (Без СПИК)'!Q125+'Отчетность (Без СПИК)'!Q126","v":0},{"$f":"R39+R32*'Отчетность (Без СПИК)'!R66+'Отчетность (Без СПИК)'!R115+'Отчетность (Без СПИК)'!R125+'Отчетность (Без СПИК)'!R126","v":0},{"$f":"S39+S32*'Отчетность (Без СПИК)'!S66+'Отчетность (Без СПИК)'!S115+'Отчетность (Без СПИК)'!S125+'Отчетность (Без СПИК)'!S126","v":0},{"$f":"T39+T32*'Отчетность (Без СПИК)'!T66+'Отчетность (Без СПИК)'!T115+'Отчетность (Без СПИК)'!T125+'Отчетность (Без СПИК)'!T126","v":0},{"$f":"U39+U32*'Отчетность (Без СПИК)'!U66+'Отчетность (Без СПИК)'!U115+'Отчетность (Без СПИК)'!U125+'Отчетность (Без СПИК)'!U126","v":0},{"$f":"V39+V32*'Отчетность (Без СПИК)'!V66+'Отчетность (Без СПИК)'!V115+'Отчетность (Без СПИК)'!V125+'Отчетность (Без СПИК)'!V126","v":0},{"$f":"W39+W32*'Отчетность (Без СПИК)'!W66+'Отчетность (Без СПИК)'!W115+'Отчетность (Без СПИК)'!W125+'Отчетность (Без СПИК)'!W126","v":0},{"$f":"X39+X32*'Отчетность (Без СПИК)'!X66+'Отчетность (Без СПИК)'!X115+'Отчетность (Без СПИК)'!X125+'Отчетность (Без СПИК)'!X126","v":0},{"$f":"Y39+Y32*'Отчетность (Без СПИК)'!Y66+'Отчетность (Без СПИК)'!Y115+'Отчетность (Без СПИК)'!Y125+'Отчетность (Без СПИК)'!Y126","v":0},{"$f":"Z39+Z32*'Отчетность (Без СПИК)'!Z66+'Отчетность (Без СПИК)'!Z115+'Отчетность (Без СПИК)'!Z125+'Отчетность (Без СПИК)'!Z126","v":0},{"$f":"AA39+AA32*'Отчетность (Без СПИК)'!AA66+'Отчетность (Без СПИК)'!AA115+'Отчетность (Без СПИК)'!AA125+'Отчетность (Без СПИК)'!AA126","v":0},{"$f":"AB39+AB32*'Отчетность (Без СПИК)'!AB66+'Отчетность (Без СПИК)'!AB115+'Отчетность (Без СПИК)'!AB125+'Отчетность (Без СПИК)'!AB126","v":0}]
[null,null,"NPV(CFADS) упрощенно","тыс. руб.",null,null,null,{"$f":"NPV($F$19,H82:$AA82)","v":0},{"$f":"NPV($F$19,I82:$AA82)","v":0},{"$f":"NPV($F$19,J82:$AA82)","v":0},{"$f":"NPV($F$19,K82:$AA82)","v":0},{"$f":"NPV($F$19,L82:$AA82)","v":0},{"$f":"NPV($F$19,M82:$AA82)","v":0},{"$f":"NPV($F$19,N82:$AA82)","v":0},{"$f":"NPV($F$19,O82:$AA82)","v":0},{"$f":"NPV($F$19,P82:$AA82)","v":0},{"$f":"NPV($F$19,Q82:$AA82)","v":0},{"$f":"NPV($F$19,R82:$AA82)","v":0},{"$f":"NPV($F$19,S82:$AA82)","v":0},{"$f":"NPV($F$19,T82:$AA82)","v":0},{"$f":"NPV($F$19,U82:$AA82)","v":0},{"$f":"NPV($F$19,V82:$AA82)","v":0},{"$f":"NPV($F$19,W82:$AA82)","v":0},{"$f":"NPV($F$19,X82:$AA82)","v":0},{"$f":"NPV($F$19,Y82:$AA82)","v":0},{"$f":"NPV($F$19,Z82:$AA82)","v":0},{"$f":"NPV($F$19,AA82:$AA82)","v":0},{"$f":"NPV($F$19,$AA82:AB82)","v":0}]
[]
[null,null,"DSCR (коэффициент покрытия выплат по обслуживанию долга)","х",null,null,null,{"$f":"IFERROR(-H82/('Отчетность (Без СПИК)'!H104+'Отчетность (Без СПИК)'!H129),)","v":0},{"$f":"IFERROR(-I82/('Отчетность (Без СПИК)'!I104+'Отчетность (Без СПИК)'!I129),)","v":0},{"$f":"IFERROR(-J82/('Отчетность (Без СПИК)'!J104+'Отчетность (Без СПИК)'!J129),)","v":0},{"$f":"IFERROR(-K82/('Отчетность (Без СПИК)'!K104+'Отчетность (Без СПИК)'!K129),)","v":0},{"$f":"IFERROR(-L82/('Отчетность (Без СПИК)'!L104+'Отчетность (Без СПИК)'!L129),)","v":0},{"$f":"IFERROR(-M82/('Отчетность (Без СПИК)'!M104+'Отчетность (Без СПИК)'!M129),)","v":0},{"$f":"IFERROR(-N82/('Отчетность (Без СПИК)'!N104+'Отчетность (Без СПИК)'!N129),)","v":0},{"$f":"IFERROR(-O82/('Отчетность (Без СПИК)'!O104+'Отчетность (Без СПИК)'!O129),)","v":0},{"$f":"IFERROR(-P82/('Отчетность (Без СПИК)'!P104+'Отчетность (Без СПИК)'!P129),)","v":0},{"$f":"IFERROR(-Q82/('Отчетность (Без СПИК)'!Q104+'Отчетность (Без СПИК)'!Q129),)","v":0},{"$f":"IFERROR(-R82/('Отчетность (Без СПИК)'!R104+'Отчетность (Без СПИК)'!R129),)","v":0},{"$f":"IFERROR(-S82/('Отчетность (Без СПИК)'!S104+'Отчетность (Без СПИК)'!S129),)","v":0},{"$f":"IFERROR(-T82/('Отчетность (Без СПИК)'!T104+'Отчетность (Без СПИК)'!T129),)","v":0},{"$f":"IFERROR(-U82/('Отчетность (Без СПИК)'!U104+'Отчетность (Без СПИК)'!U129),)","v":0},{"$f":"IFERROR(-V82/('Отчетность (Без СПИК)'!V104+'Отчетность (Без СПИК)'!V129),)","v":0},{"$f":"IFERROR(-W82/('Отчетность (Без СПИК)'!W104+'Отчетность (Без СПИК)'!W129),)","v":0},{"$f":"IFERROR(-X82/('Отчетность (Без СПИК)'!X104+'Отчетность (Без СПИК)'!X129),)","v":0},{"$f":"IFERROR(-Y82/('Отчетность (Без СПИК)'!Y104+'Отчетность (Без СПИК)'!Y129),)","v":0},{"$f":"IFERROR(-Z82/('Отчетность (Без СПИК)'!Z104+'Отчетность (Без СПИК)'!Z129),)","v":0},{"$f":"IFERROR(-AA82/('Отчетность (Без СПИК)'!AA104+'Отчетность (Без СПИК)'!AA129),)","v":0},{"$f":"IFERROR(-AB82/('Отчетность (Без СПИК)'!AB104+'Отчетность (Без СПИК)'!AB129),)","v":0}]
[null,null,"LLCR (Коэффициент покрытия долга денежными потоками, доступными для обслуживания долга)","х",null,null,null,{"$f":"IFERROR(H83/('Отчетность (Без СПИК)'!G48),)","v":0},{"$f":"IFERROR(I83/('Отчетность (Без СПИК)'!H48),)","v":0},{"$f":"IFERROR(J83/('Отчетность (Без СПИК)'!I48),)","v":0},{"$f":"IFERROR(K83/('Отчетность (Без СПИК)'!J48),)","v":0},{"$f":"IFERROR(L83/('Отчетность (Без СПИК)'!K48),)","v":0},{"$f":"IFERROR(M83/('Отчетность (Без СПИК)'!L48),)","v":0},{"$f":"IFERROR(N83/('Отчетность (Без СПИК)'!M48),)","v":0},{"$f":"IFERROR(O83/('Отчетность (Без СПИК)'!N48),)","v":0},{"$f":"IFERROR(P83/('Отчетность (Без СПИК)'!O48),)","v":0},{"$f":"IFERROR(Q83/('Отчетность (Без СПИК)'!P48),)","v":0},{"$f":"IFERROR(R83/('Отчетность (Без СПИК)'!Q48),)","v":0},{"$f":"IFERROR(S83/('Отчетность (Без СПИК)'!R48),)","v":0},{"$f":"IFERROR(T83/('Отчетность (Без СПИК)'!S48),)","v":0},{"$f":"IFERROR(U83/('Отчетность (Без СПИК)'!T48),)","v":0},{"$f":"IFERROR(V83/('Отчетность (Без СПИК)'!U48),)","v":0},{"$f":"IFERROR(W83/('Отчетность (Без СПИК)'!V48),)","v":0},{"$f":"IFERROR(X83/('Отчетность (Без СПИК)'!W48),)","v":0},{"$f":"IFERROR(Y83/('Отчетность (Без СПИК)'!X48),)","v":0},{"$f":"IFERROR(Z83/('Отчетность (Без СПИК)'!Y48),)","v":0},{"$f":"IFERROR(AA83/('Отчетность (Без СПИК)'!Z48),)","v":0},{"$f":"IFERROR(AB83/('Отчетность (Без СПИК)'!AA48),)","v":0}]
[]
[null," ","Долг / Собственный капитал","х",null,null,null,{"$f":"'Отчетность (Без СПИК)'!H48/'Отчетность (Без СПИК)'!H26","v":{"$error":"#DIV/0!"}},{"$f":"'Отчетность (Без СПИК)'!I48/'Отчетность (Без СПИК)'!I26","v":{"$error":"#DIV/0!"}},{"$f":"'Отчетность (Без СПИК)'!J48/'Отчетность (Без СПИК)'!J26","v":{"$error":"#DIV/0!"}},{"$f":"'Отчетность (Без СПИК)'!K48/'Отчетность (Без СПИК)'!K26","v":{"$error":"#DIV/0!"}},{"$f":"'Отчетность (Без СПИК)'!L48/'Отчетность (Без СПИК)'!L26","v":{"$error":"#DIV/0!"}},{"$f":"'Отчетность (Без СПИК)'!M48/'Отчетность (Без СПИК)'!M26","v":{"$error":"#DIV/0!"}},{"$f":"'Отчетность (Без СПИК)'!N48/'Отчетность (Без СПИК)'!N26","v":{"$error":"#DIV/0!"}},{"$f":"'Отчетность (Без СПИК)'!O48/'Отчетность (Без СПИК)'!O26","v":{"$error":"#DIV/0!"}},{"$f":"'Отчетность (Без СПИК)'!P48/'Отчетность (Без СПИК)'!P26","v":{"$error":"#DIV/0!"}},{"$f":"'Отчетность (Без СПИК)'!Q48/'Отчетность (Без СПИК)'!Q26","v":{"$error":"#DIV/0!"}},{"$f":"'Отчетность (Без СПИК)'!R48/'Отчетность (Без СПИК)'!R26","v":{"$error":"#DIV/0!"}},{"$f":"'Отчетность (Без СПИК)'!S48/'Отчетность (Без СПИК)'!S26","v":{"$error":"#DIV/0!"}},{"$f":"'Отчетность (Без СПИК)'!T48/'Отчетность (Без СПИК)'!T26","v":{"$error":"#DIV/0!"}},{"$f":"'Отчетность (Без СПИК)'!U48/'Отчетность (Без СПИК)'!U26","v":{"$error":"#DIV/0!"}},{"$f":"'Отчетность (Без СПИК)'!V48/'Отчетность (Без СПИК)'!V26","v":{"$error":"#DIV/0!"}},{"$f":"'Отчетность (Без СПИК)'!W48/'Отчетность (Без СПИК)'!W26","v":{"$error":"#DIV/0!"}},{"$f":"'Отчетность (Без СПИК)'!X48/'Отчетность (Без СПИК)'!X26","v":{"$error":"#DIV/0!"}},{"$f":"'Отчетность (Без СПИК)'!Y48/'Отчетность (Без СПИК)'!Y26","v":{"$error":"#DIV/0!"}},{"$f":"'Отчетность (Без СПИК)'!Z48/'Отчетность (Без СПИК)'!Z26","v":{"$error":"#DIV/0!"}},{"$f":"'Отчетность (Без СПИК)'!AA48/'Отчетность (Без СПИК)'!AA26","v":{"$error":"#DIV/0!"}},{"$f":"'Отчетность (Без СПИК)'!AB48/'Отчетность (Без СПИК)'!AB26","v":{"$error":"#DIV/0!"}}]
[null,null,"Долг / EBIT","х",null,null,null,{"$f":"AVERAGE('Отчетность (Без СПИК)'!G48:H48)/'Отчетность (Без СПИК)'!H88","v":{"$error":"#DIV/0!"}},{"$f":"AVERAGE('Отчетность (Без СПИК)'!H48:I48)/'Отчетность (Без СПИК)'!I88","v":{"$error":"#DIV/0!"}},{"$f":"AVERAGE('Отчетность (Без СПИК)'!I48:J48)/'Отчетность (Без СПИК)'!J88","v":{"$error":"#DIV/0!"}},{"$f":"AVERAGE('Отчетность (Без СПИК)'!J48:K48)/'Отчетность (Без СПИК)'!K88","v":{"$error":"#DIV/0!"}},{"$f":"AVERAGE('Отчетность (Без СПИК)'!K48:L48)/'Отчетность (Без СПИК)'!L88","v":{"$error":"#DIV/0!"}},{"$f":"AVERAGE('Отчетность (Без СПИК)'!L48:M48)/'Отчетность (Без СПИК)'!M88","v":{"$error":"#DIV/0!"}},{"$f":"AVERAGE('Отчетность (Без СПИК)'!M48:N48)/'Отчетность (Без СПИК)'!N88","v":{"$error":"#DIV/0!"}},{"$f":"AVERAGE('Отчетность (Без СПИК)'!N48:O48)/'Отчетность (Без СПИК)'!O88","v":{"$error":"#DIV/0!"}},{"$f":"AVERAGE('Отчетность (Без СПИК)'!O48:P48)/'Отчетность (Без СПИК)'!P88","v":{"$error":"#DIV/0!"}},{"$f":"AVERAGE('Отчетность (Без СПИК)'!P48:Q48)/'Отчетность (Без СПИК)'!Q88","v":{"$error":"#DIV/0!"}},{"$f":"AVERAGE('Отчетность (Без СПИК)'!Q48:R48)/'Отчетность (Без СПИК)'!R88","v":{"$error":"#DIV/0!"}},{"$f":"AVERAGE('Отчетность (Без СПИК)'!R48:S48)/'Отчетность (Без СПИК)'!S88","v":{"$error":"#DIV/0!"}},{"$f":"AVERAGE('Отчетность (Без СПИК)'!S48:T48)/'Отчетность (Без СПИК)'!T88","v":{"$error":"#DIV/0!"}},{"$f":"AVERAGE('Отчетность (Без СПИК)'!T48:U48)/'Отчетность (Без СПИК)'!U88","v":{"$error":"#DIV/0!"}},{"$f":"AVERAGE('Отчетность (Без СПИК)'!U48:V48)/'Отчетность (Без СПИК)'!V88","v":{"$error":"#DIV/0!"}},{"$f":"AVERAGE('Отчетность (Без СПИК)'!V48:W48)/'Отчетность (Без СПИК)'!W88","v":{"$error":"#DIV/0!"}},{"$f":"AVERAGE('Отчетность (Без СПИК)'!W48:X48)/'Отчетность (Без СПИК)'!X88","v":{"$error":"#DIV/0!"}},{"$f":"AVERAGE('Отчетность (Без СПИК)'!X48:Y48)/'Отчетность (Без СПИК)'!Y88","v":{"$error":"#DIV/0!"}},{"$f":"AVERAGE('Отчетность (Без СПИК)'!Y48:Z48)/'Отчетность (Без СПИК)'!Z88","v":{"$error":"#DIV/0!"}},{"$f":"AVERAGE('Отчетность (Без СПИК)'!Z48:AA48)/'Отчетность (Без СПИК)'!AA88","v":{"$error":"#DIV/0!"}},{"$f":"AVERAGE('Отчетность (Без СПИК)'!AA48:AB48)/'Отчетность (Без СПИК)'!AB88","v":{"$error":"#DIV/0!"}}]
[null,null,"Чистый долг / EBITDA","х",null,null,null,{"$f":"AVERAGE('Отчетность (Без СПИК)'!G49:H49)/'Отчетность (Без СПИК)'!H90","v":{"$error":"#DIV/0!"}},{"$f":"AVERAGE('Отчетность (Без СПИК)'!H49:I49)/'Отчетность (Без СПИК)'!I90","v":{"$error":"#DIV/0!"}},{"$f":"AVERAGE('Отчетность (Без СПИК)'!I49:J49)/'Отчетность (Без СПИК)'!J90","v":{"$error":"#DIV/0!"}},{"$f":"AVERAGE('Отчетность (Без СПИК)'!J49:K49)/'Отчетность (Без СПИК)'!K90","v":{"$error":"#DIV/0!"}},{"$f":"AVERAGE('Отчетность (Без СПИК)'!K49:L49)/'Отчетность (Без СПИК)'!L90","v":{"$error":"#DIV/0!"}},{"$f":"AVERAGE('Отчетность (Без СПИК)'!L49:M49)/'Отчетность (Без СПИК)'!M90","v":{"$error":"#DIV/0!"}},{"$f":"AVERAGE('Отчетность (Без СПИК)'!M49:N49)/'Отчетность (Без СПИК)'!N90","v":{"$error":"#DIV/0!"}},{"$f":"AVERAGE('Отчетность (Без СПИК)'!N49:O49)/'Отчетность (Без СПИК)'!O90","v":{"$error":"#DIV/0!"}},{"$f":"AVERAGE('Отчетность (Без СПИК)'!O49:P49)/'Отчетность (Без СПИК)'!P90","v":{"$error":"#DIV/0!"}},{"$f":"AVERAGE('Отчетность (Без СПИК)'!P49:Q49)/'Отчетность (Без СПИК)'!Q90","v":{"$error":"#DIV/0!"}},{"$f":"AVERAGE('Отчетность (Без СПИК)'!Q49:R49)/'Отчетность (Без СПИК)'!R90","v":{"$error":"#DIV/0!"}},{"$f":"AVERAGE('Отчетность (Без СПИК)'!R49:S49)/'Отчетность (Без СПИК)'!S90","v":{"$error":"#DIV/0!"}},{"$f":"AVERAGE('Отчетность (Без СПИК)'!S49:T49)/'Отчетность (Без СПИК)'!T90","v":{"$error":"#DIV/0!"}},{"$f":"AVERAGE('Отчетность (Без СПИК)'!T49:U49)/'Отчетность (Без СПИК)'!U90","v":{"$error":"#DIV/0!"}},{"$f":"AVERAGE('Отчетность (Без СПИК)'!U49:V49)/'Отчетность (Без СПИК)'!V90","v":{"$error":"#DIV/0!"}},{"$f":"AVERAGE('Отчетность (Без СПИК)'!V49:W49)/'Отчетность (Без СПИК)'!W90","v":{"$error":"#DIV/0!"}},{"$f":"AVERAGE('Отчетность (Без СПИК)'!W49:X49)/'Отчетность (Без СПИК)'!X90","v":{"$error":"#DIV/0!"}},{"$f":"AVERAGE('Отчетность (Без СПИК)'!X49:Y49)/'Отчетность (Без СПИК)'!Y90","v":{"$error":"#DIV/0!"}},{"$f":"AVERAGE('Отчетность (Без СПИК)'!Y49:Z49)/'Отчетность (Без СПИК)'!Z90","v":{"$error":"#DIV/0!"}},{"$f":"AVERAGE('Отчетность (Без СПИК)'!Z49:AA49)/'Отчетность (Без СПИК)'!AA90","v":{"$error":"#DIV/0!"}},{"$f":"AVERAGE('Отчетность (Без СПИК)'!AA49:AB49)/'Отчетность (Без СПИК)'!AB90","v":{"$error":"#DIV/0!"}}]
[]
[null,"Показатели ликвидности (платежеспособности)"]
[]
[null,null,"Коэффициент  текущей ликвидности","х",null,null,null,{"$f":"'Отчетность (Без СПИК)'!H18/'Отчетность (Без СПИК)'!H34","v":{"$error":"#DIV/0!"}},{"$f":"'Отчетность (Без СПИК)'!I18/'Отчетность (Без СПИК)'!I34","v":{"$error":"#DIV/0!"}},{"$f":"'Отчетность (Без СПИК)'!J18/'Отчетность (Без СПИК)'!J34","v":{"$error":"#DIV/0!"}},{"$f":"'Отчетность (Без СПИК)'!K18/'Отчетность (Без СПИК)'!K34","v":{"$error":"#DIV/0!"}},{"$f":"'Отчетность (Без СПИК)'!L18/'Отчетность (Без СПИК)'!L34","v":{"$error":"#DIV/0!"}},{"$f":"'Отчетность (Без СПИК)'!M18/'Отчетность (Без СПИК)'!M34","v":{"$error":"#DIV/0!"}},{"$f":"'Отчетность (Без СПИК)'!N18/'Отчетность (Без СПИК)'!N34","v":{"$error":"#DIV/0!"}},{"$f":"'Отчетность (Без СПИК)'!O18/'Отчетность (Без СПИК)'!O34","v":{"$error":"#DIV/0!"}},{"$f":"'Отчетность (Без СПИК)'!P18/'Отчетность (Без СПИК)'!P34","v":{"$error":"#DIV/0!"}},{"$f":"'Отчетность (Без СПИК)'!Q18/'Отчетность (Без СПИК)'!Q34","v":{"$error":"#DIV/0!"}},{"$f":"'Отчетность (Без СПИК)'!R18/'Отчетность (Без СПИК)'!R34","v":{"$error":"#DIV/0!"}},{"$f":"'Отчетность (Без СПИК)'!S18/'Отчетность (Без СПИК)'!S34","v":{"$error":"#DIV/0!"}},{"$f":"'Отчетность (Без СПИК)'!T18/'Отчетность (Без СПИК)'!T34","v":{"$error":"#DIV/0!"}},{"$f":"'Отчетность (Без СПИК)'!U18/'Отчетность (Без СПИК)'!U34","v":{"$error":"#DIV/0!"}},{"$f":"'Отчетность (Без СПИК)'!V18/'Отчетность (Без СПИК)'!V34","v":{"$error":"#DIV/0!"}},{"$f":"'Отчетность (Без СПИК)'!W18/'Отчетность (Без СПИК)'!W34","v":{"$error":"#DIV/0!"}},{"$f":"'Отчетность (Без СПИК)'!X18/'Отчетность (Без СПИК)'!X34","v":{"$error":"#DIV/0!"}},{"$f":"'Отчетность (Без СПИК)'!Y18/'Отчетность (Без СПИК)'!Y34","v":{"$error":"#DIV/0!"}},{"$f":"'Отчетность (Без СПИК)'!Z18/'Отчетность (Без СПИК)'!Z34","v":{"$error":"#DIV/0!"}},{"$f":"'Отчетность (Без СПИК)'!AA18/'Отчетность (Без СПИК)'!AA34","v":{"$error":"#DIV/0!"}},{"$f":"'Отчетность (Без СПИК)'!AB18/'Отчетность (Без СПИК)'!AB34","v":{"$error":"#DIV/0!"}}]
[null,null,"Коэффициент быстрой ликвидности","х",null,null,null,{"$f":"('Отчетность (Без СПИК)'!H18-'Отчетность (Без СПИК)'!H19)/'Отчетность (Без СПИК)'!H34","v":{"$error":"#DIV/0!"}},{"$f":"('Отчетность (Без СПИК)'!I18-'Отчетность (Без СПИК)'!I19)/'Отчетность (Без СПИК)'!I34","v":{"$error":"#DIV/0!"}},{"$f":"('Отчетность (Без СПИК)'!J18-'Отчетность (Без СПИК)'!J19)/'Отчетность (Без СПИК)'!J34","v":{"$error":"#DIV/0!"}},{"$f":"('Отчетность (Без СПИК)'!K18-'Отчетность (Без СПИК)'!K19)/'Отчетность (Без СПИК)'!K34","v":{"$error":"#DIV/0!"}},{"$f":"('Отчетность (Без СПИК)'!L18-'Отчетность (Без СПИК)'!L19)/'Отчетность (Без СПИК)'!L34","v":{"$error":"#DIV/0!"}},{"$f":"('Отчетность (Без СПИК)'!M18-'Отчетность (Без СПИК)'!M19)/'Отчетность (Без СПИК)'!M34","v":{"$error":"#DIV/0!"}},{"$f":"('Отчетность (Без СПИК)'!N18-'Отчетность (Без СПИК)'!N19)/'Отчетность (Без СПИК)'!N34","v":{"$error":"#DIV/0!"}},{"$f":"('Отчетность (Без СПИК)'!O18-'Отчетность (Без СПИК)'!O19)/'Отчетность (Без СПИК)'!O34","v":{"$error":"#DIV/0!"}},{"$f":"('Отчетность (Без СПИК)'!P18-'Отчетность (Без СПИК)'!P19)/'Отчетность (Без СПИК)'!P34","v":{"$error":"#DIV/0!"}},{"$f":"('Отчетность (Без СПИК)'!Q18-'Отчетность (Без СПИК)'!Q19)/'Отчетность (Без СПИК)'!Q34","v":{"$error":"#DIV/0!"}},{"$f":"('Отчетность (Без СПИК)'!R18-'Отчетность (Без СПИК)'!R19)/'Отчетность (Без СПИК)'!R34","v":{"$error":"#DIV/0!"}},{"$f":"('Отчетность (Без СПИК)'!S18-'Отчетность (Без СПИК)'!S19)/'Отчетность (Без СПИК)'!S34","v":{"$error":"#DIV/0!"}},{"$f":"('Отчетность (Без СПИК)'!T18-'Отчетность (Без СПИК)'!T19)/'Отчетность (Без СПИК)'!T34","v":{"$error":"#DIV/0!"}},{"$f":"('Отчетность (Без СПИК)'!U18-'Отчетность (Без СПИК)'!U19)/'Отчетность (Без СПИК)'!U34","v":{"$error":"#DIV/0!"}},{"$f":"('Отчетность (Без СПИК)'!V18-'Отчетность (Без СПИК)'!V19)/'Отчетность (Без СПИК)'!V34","v":{"$error":"#DIV/0!"}},{"$f":"('Отчетность (Без СПИК)'!W18-'Отчетность (Без СПИК)'!W19)/'Отчетность (Без СПИК)'!W34","v":{"$error":"#DIV/0!"}},{"$f":"('Отчетность (Без СПИК)'!X18-'Отчетность (Без СПИК)'!X19)/'Отчетность (Без СПИК)'!X34","v":{"$error":"#DIV/0!"}},{"$f":"('Отчетность (Без СПИК)'!Y18-'Отчетность (Без СПИК)'!Y19)/'Отчетность (Без СПИК)'!Y34","v":{"$error":"#DIV/0!"}},{"$f":"('Отчетность (Без СПИК)'!Z18-'Отчетность (Без СПИК)'!Z19)/'Отчетность (Без СПИК)'!Z34","v":{"$error":"#DIV/0!"}},{"$f":"('Отчетность (Без СПИК)'!AA18-'Отчетность (Без СПИК)'!AA19)/'Отчетность (Без СПИК)'!AA34","v":{"$error":"#DIV/0!"}},{"$f":"('Отчетность (Без СПИК)'!AB18-'Отчетность (Без СПИК)'!AB19)/'Отчетность (Без СПИК)'!AB34","v":{"$error":"#DIV/0!"}}]
[]
[null,"Показатели рентабельности"]
[]
[null,null,"ROA (рентабельность активов)","%",null,null,null,{"$f":"'Отчетность (Без СПИК)'!H71/AVERAGE('Отчетность (Без СПИК)'!G23:H23)","v":{"$error":"#DIV/0!"}},{"$f":"'Отчетность (Без СПИК)'!I71/AVERAGE('Отчетность (Без СПИК)'!H23:I23)","v":{"$error":"#DIV/0!"}},{"$f":"'Отчетность (Без СПИК)'!J71/AVERAGE('Отчетность (Без СПИК)'!I23:J23)","v":{"$error":"#DIV/0!"}},{"$f":"'Отчетность (Без СПИК)'!K71/AVERAGE('Отчетность (Без СПИК)'!J23:K23)","v":{"$error":"#DIV/0!"}},{"$f":"'Отчетность (Без СПИК)'!L71/AVERAGE('Отчетность (Без СПИК)'!K23:L23)","v":{"$error":"#DIV/0!"}},{"$f":"'Отчетность (Без СПИК)'!M71/AVERAGE('Отчетность (Без СПИК)'!L23:M23)","v":{"$error":"#DIV/0!"}},{"$f":"'Отчетность (Без СПИК)'!N71/AVERAGE('Отчетность (Без СПИК)'!M23:N23)","v":{"$error":"#DIV/0!"}},{"$f":"'Отчетность (Без СПИК)'!O71/AVERAGE('Отчетность (Без СПИК)'!N23:O23)","v":{"$error":"#DIV/0!"}},{"$f":"'Отчетность (Без СПИК)'!P71/AVERAGE('Отчетность (Без СПИК)'!O23:P23)","v":{"$error":"#DIV/0!"}},{"$f":"'Отчетность (Без СПИК)'!Q71/AVERAGE('Отчетность (Без СПИК)'!P23:Q23)","v":{"$error":"#DIV/0!"}},{"$f":"'Отчетность (Без СПИК)'!R71/AVERAGE('Отчетность (Без СПИК)'!Q23:R23)","v":{"$error":"#DIV/0!"}},{"$f":"'Отчетность (Без СПИК)'!S71/AVERAGE('Отчетность (Без СПИК)'!R23:S23)","v":{"$error":"#DIV/0!"}},{"$f":"'Отчетность (Без СПИК)'!T71/AVERAGE('Отчетность (Без СПИК)'!S23:T23)","v":{"$error":"#DIV/0!"}},{"$f":"'Отчетность (Без СПИК)'!U71/AVERAGE('Отчетность (Без СПИК)'!T23:U23)","v":{"$error":"#DIV/0!"}},{"$f":"'Отчетность (Без СПИК)'!V71/AVERAGE('Отчетность (Без СПИК)'!U23:V23)","v":{"$error":"#DIV/0!"}},{"$f":"'Отчетность (Без СПИК)'!W71/AVERAGE('Отчетность (Без СПИК)'!V23:W23)","v":{"$error":"#DIV/0!"}},{"$f":"'Отчетность (Без СПИК)'!X71/AVERAGE('Отчетность (Без СПИК)'!W23:X23)","v":{"$error":"#DIV/0!"}},{"$f":"'Отчетность (Без СПИК)'!Y71/AVERAGE('Отчетность (Без СПИК)'!X23:Y23)","v":{"$error":"#DIV/0!"}},{"$f":"'Отчетность (Без СПИК)'!Z71/AVERAGE('Отчетность (Без СПИК)'!Y23:Z23)","v":{"$error":"#DIV/0!"}},{"$f":"'Отчетность (Без СПИК)'!AA71/AVERAGE('Отчетность (Без СПИК)'!Z23:AA23)","v":{"$error":"#DIV/0!"}},{"$f":"'Отчетность (Без СПИК)'!AB71/AVERAGE('Отчетность (Без СПИК)'!AA23:AB23)","v":{"$error":"#DIV/0!"}}]
[null,null,"ROE (рентабельность собственного капитала)","%",null,null,null,{"$f":"'Отчетность (Без СПИК)'!H71/AVERAGE('Отчетность (Без СПИК)'!G26:H26)","v":{"$error":"#DIV/0!"}},{"$f":"'Отчетность (Без СПИК)'!I71/AVERAGE('Отчетность (Без СПИК)'!H26:I26)","v":{"$error":"#DIV/0!"}},{"$f":"'Отчетность (Без СПИК)'!J71/AVERAGE('Отчетность (Без СПИК)'!I26:J26)","v":{"$error":"#DIV/0!"}},{"$f":"'Отчетность (Без СПИК)'!K71/AVERAGE('Отчетность (Без СПИК)'!J26:K26)","v":{"$error":"#DIV/0!"}},{"$f":"'Отчетность (Без СПИК)'!L71/AVERAGE('Отчетность (Без СПИК)'!K26:L26)","v":{"$error":"#DIV/0!"}},{"$f":"'Отчетность (Без СПИК)'!M71/AVERAGE('Отчетность (Без СПИК)'!L26:M26)","v":{"$error":"#DIV/0!"}},{"$f":"'Отчетность (Без СПИК)'!N71/AVERAGE('Отчетность (Без СПИК)'!M26:N26)","v":{"$error":"#DIV/0!"}},{"$f":"'Отчетность (Без СПИК)'!O71/AVERAGE('Отчетность (Без СПИК)'!N26:O26)","v":{"$error":"#DIV/0!"}},{"$f":"'Отчетность (Без СПИК)'!P71/AVERAGE('Отчетность (Без СПИК)'!O26:P26)","v":{"$error":"#DIV/0!"}},{"$f":"'Отчетность (Без СПИК)'!Q71/AVERAGE('Отчетность (Без СПИК)'!P26:Q26)","v":{"$error":"#DIV/0!"}},{"$f":"'Отчетность (Без СПИК)'!R71/AVERAGE('Отчетность (Без СПИК)'!Q26:R26)","v":{"$error":"#DIV/0!"}},{"$f":"'Отчетность (Без СПИК)'!S71/AVERAGE('Отчетность (Без СПИК)'!R26:S26)","v":{"$error":"#DIV/0!"}},{"$f":"'Отчетность (Без СПИК)'!T71/AVERAGE('Отчетность (Без СПИК)'!S26:T26)","v":{"$error":"#DIV/0!"}},{"$f":"'Отчетность (Без СПИК)'!U71/AVERAGE('Отчетность (Без СПИК)'!T26:U26)","v":{"$error":"#DIV/0!"}},{"$f":"'Отчетность (Без СПИК)'!V71/AVERAGE('Отчетность (Без СПИК)'!U26:V26)","v":{"$error":"#DIV/0!"}},{"$f":"'Отчетность (Без СПИК)'!W71/AVERAGE('Отчетность (Без СПИК)'!V26:W26)","v":{"$error":"#DIV/0!"}},{"$f":"'Отчетность (Без СПИК)'!X71/AVERAGE('Отчетность (Без СПИК)'!W26:X26)","v":{"$error":"#DIV/0!"}},{"$f":"'Отчетность (Без СПИК)'!Y71/AVERAGE('Отчетность (Без СПИК)'!X26:Y26)","v":{"$error":"#DIV/0!"}},{"$f":"'Отчетность (Без СПИК)'!Z71/AVERAGE('Отчетность (Без СПИК)'!Y26:Z26)","v":{"$error":"#DIV/0!"}},{"$f":"'Отчетность (Без СПИК)'!AA71/AVERAGE('Отчетность (Без СПИК)'!Z26:AA26)","v":{"$error":"#DIV/0!"}},{"$f":"'Отчетность (Без СПИК)'!AB71/AVERAGE('Отчетность (Без СПИК)'!AA26:AB26)","v":{"$error":"#DIV/0!"}}]
[null,null,"ROIC (Рентабельность инвестированного капитала)","%",null,null,null,{"$f":"'Отчетность (Без СПИК)'!H71/(AVERAGE('Отчетность (Без СПИК)'!G26:H26)+AVERAGE('Отчетность (Без СПИК)'!G31:H31))","v":{"$error":"#DIV/0!"}},{"$f":"'Отчетность (Без СПИК)'!I71/(AVERAGE('Отчетность (Без СПИК)'!H26:I26)+AVERAGE('Отчетность (Без СПИК)'!H31:I31))","v":{"$error":"#DIV/0!"}},{"$f":"'Отчетность (Без СПИК)'!J71/(AVERAGE('Отчетность (Без СПИК)'!I26:J26)+AVERAGE('Отчетность (Без СПИК)'!I31:J31))","v":{"$error":"#DIV/0!"}},{"$f":"'Отчетность (Без СПИК)'!K71/(AVERAGE('Отчетность (Без СПИК)'!J26:K26)+AVERAGE('Отчетность (Без СПИК)'!J31:K31))","v":{"$error":"#DIV/0!"}},{"$f":"'Отчетность (Без СПИК)'!L71/(AVERAGE('Отчетность (Без СПИК)'!K26:L26)+AVERAGE('Отчетность (Без СПИК)'!K31:L31))","v":{"$error":"#DIV/0!"}},{"$f":"'Отчетность (Без СПИК)'!M71/(AVERAGE('Отчетность (Без СПИК)'!L26:M26)+AVERAGE('Отчетность (Без СПИК)'!L31:M31))","v":{"$error":"#DIV/0!"}},{"$f":"'Отчетность (Без СПИК)'!N71/(AVERAGE('Отчетность (Без СПИК)'!M26:N26)+AVERAGE('Отчетность (Без СПИК)'!M31:N31))","v":{"$error":"#DIV/0!"}},{"$f":"'Отчетность (Без СПИК)'!O71/(AVERAGE('Отчетность (Без СПИК)'!N26:O26)+AVERAGE('Отчетность (Без СПИК)'!N31:O31))","v":{"$error":"#DIV/0!"}},{"$f":"'Отчетность (Без СПИК)'!P71/(AVERAGE('Отчетность (Без СПИК)'!O26:P26)+AVERAGE('Отчетность (Без СПИК)'!O31:P31))","v":{"$error":"#DIV/0!"}},{"$f":"'Отчетность (Без СПИК)'!Q71/(AVERAGE('Отчетность (Без СПИК)'!P26:Q26)+AVERAGE('Отчетность (Без СПИК)'!P31:Q31))","v":{"$error":"#DIV/0!"}},{"$f":"'Отчетность (Без СПИК)'!R71/(AVERAGE('Отчетность (Без СПИК)'!Q26:R26)+AVERAGE('Отчетность (Без СПИК)'!Q31:R31))","v":{"$error":"#DIV/0!"}},{"$f":"'Отчетность (Без СПИК)'!S71/(AVERAGE('Отчетность (Без СПИК)'!R26:S26)+AVERAGE('Отчетность (Без СПИК)'!R31:S31))","v":{"$error":"#DIV/0!"}},{"$f":"'Отчетность (Без СПИК)'!T71/(AVERAGE('Отчетность (Без СПИК)'!S26:T26)+AVERAGE('Отчетность (Без СПИК)'!S31:T31))","v":{"$error":"#DIV/0!"}},{"$f":"'Отчетность (Без СПИК)'!U71/(AVERAGE('Отчетность (Без СПИК)'!T26:U26)+AVERAGE('Отчетность (Без СПИК)'!T31:U31))","v":{"$error":"#DIV/0!"}},{"$f":"'Отчетность (Без СПИК)'!V71/(AVERAGE('Отчетность (Без СПИК)'!U26:V26)+AVERAGE('Отчетность (Без СПИК)'!U31:V31))","v":{"$error":"#DIV/0!"}},{"$f":"'Отчетность (Без СПИК)'!W71/(AVERAGE('Отчетность (Без СПИК)'!V26:W26)+AVERAGE('Отчетность (Без СПИК)'!V31:W31))","v":{"$error":"#DIV/0!"}},{"$f":"'Отчетность (Без СПИК)'!X71/(AVERAGE('Отчетность (Без СПИК)'!W26:X26)+AVERAGE('Отчетность (Без СПИК)'!W31:X31))","v":{"$error":"#DIV/0!"}},{"$f":"'Отчетность (Без СПИК)'!Y71/(AVERAGE('Отчетность (Без СПИК)'!X26:Y26)+AVERAGE('Отчетность (Без СПИК)'!X31:Y31))","v":{"$error":"#DIV/0!"}},{"$f":"'Отчетность (Без СПИК)'!Z71/(AVERAGE('Отчетность (Без СПИК)'!Y26:Z26)+AVERAGE('Отчетность (Без СПИК)'!Y31:Z31))","v":{"$error":"#DIV/0!"}},{"$f":"'Отчетность (Без СПИК)'!AA71/(AVERAGE('Отчетность (Без СПИК)'!Z26:AA26)+AVERAGE('Отчетность (Без СПИК)'!Z31:AA31))","v":{"$error":"#DIV/0!"}},{"$f":"'Отчетность (Без СПИК)'!AB71/(AVERAGE('Отчетность (Без СПИК)'!AA26:AB26)+AVERAGE('Отчетность (Без СПИК)'!AA31:AB31))","v":{"$error":"#DIV/0!"}}]
[]
[null,null,"Рентабельность по валовой прибыли","%",null,null,null,{"$f":"IFERROR('Отчетность (Без СПИК)'!H55/'Отчетность (Без СПИК)'!H$53,\"-\")","v":"-"},{"$f":"IFERROR('Отчетность (Без СПИК)'!I55/'Отчетность (Без СПИК)'!I$53,\"-\")","v":"-"},{"$f":"IFERROR('Отчетность (Без СПИК)'!J55/'Отчетность (Без СПИК)'!J$53,\"-\")","v":"-"},{"$f":"IFERROR('Отчетность (Без СПИК)'!K55/'Отчетность (Без СПИК)'!K$53,\"-\")","v":"-"},{"$f":"IFERROR('Отчетность (Без СПИК)'!L55/'Отчетность (Без СПИК)'!L$53,\"-\")","v":"-"},{"$f":"IFERROR('Отчетность (Без СПИК)'!M55/'Отчетность (Без СПИК)'!M$53,\"-\")","v":"-"},{"$f":"IFERROR('Отчетность (Без СПИК)'!N55/'Отчетность (Без СПИК)'!N$53,\"-\")","v":"-"},{"$f":"IFERROR('Отчетность (Без СПИК)'!O55/'Отчетность (Без СПИК)'!O$53,\"-\")","v":"-"},{"$f":"IFERROR('Отчетность (Без СПИК)'!P55/'Отчетность (Без СПИК)'!P$53,\"-\")","v":"-"},{"$f":"IFERROR('Отчетность (Без СПИК)'!Q55/'Отчетность (Без СПИК)'!Q$53,\"-\")","v":"-"},{"$f":"IFERROR('Отчетность (Без СПИК)'!R55/'Отчетность (Без СПИК)'!R$53,\"-\")","v":"-"},{"$f":"IFERROR('Отчетность (Без СПИК)'!S55/'Отчетность (Без СПИК)'!S$53,\"-\")","v":"-"},{"$f":"IFERROR('Отчетность (Без СПИК)'!T55/'Отчетность (Без СПИК)'!T$53,\"-\")","v":"-"},{"$f":"IFERROR('Отчетность (Без СПИК)'!U55/'Отчетность (Без СПИК)'!U$53,\"-\")","v":"-"},{"$f":"IFERROR('Отчетность (Без СПИК)'!V55/'Отчетность (Без СПИК)'!V$53,\"-\")","v":"-"},{"$f":"IFERROR('Отчетность (Без СПИК)'!W55/'Отчетность (Без СПИК)'!W$53,\"-\")","v":"-"},{"$f":"IFERROR('Отчетность (Без СПИК)'!X55/'Отчетность (Без СПИК)'!X$53,\"-\")","v":"-"},{"$f":"IFERROR('Отчетность (Без СПИК)'!Y55/'Отчетность (Без СПИК)'!Y$53,\"-\")","v":"-"},{"$f":"IFERROR('Отчетность (Без СПИК)'!Z55/'Отчетность (Без СПИК)'!Z$53,\"-\")","v":"-"},{"$f":"IFERROR('Отчетность (Без СПИК)'!AA55/'Отчетность (Без СПИК)'!AA$53,\"-\")","v":"-"},{"$f":"IFERROR('Отчетность (Без СПИК)'!AB55/'Отчетность (Без СПИК)'!AB$53,\"-\")","v":"-"}]
[null,null,"ROS (рентабельность продаж)","%",null,null,null,{"$f":"IFERROR('Отчетность (Без СПИК)'!H64/'Отчетность (Без СПИК)'!H$53,\"-\")","v":"-"},{"$f":"IFERROR('Отчетность (Без СПИК)'!I64/'Отчетность (Без СПИК)'!I$53,\"-\")","v":"-"},{"$f":"IFERROR('Отчетность (Без СПИК)'!J64/'Отчетность (Без СПИК)'!J$53,\"-\")","v":"-"},{"$f":"IFERROR('Отчетность (Без СПИК)'!K64/'Отчетность (Без СПИК)'!K$53,\"-\")","v":"-"},{"$f":"IFERROR('Отчетность (Без СПИК)'!L64/'Отчетность (Без СПИК)'!L$53,\"-\")","v":"-"},{"$f":"IFERROR('Отчетность (Без СПИК)'!M64/'Отчетность (Без СПИК)'!M$53,\"-\")","v":"-"},{"$f":"IFERROR('Отчетность (Без СПИК)'!N64/'Отчетность (Без СПИК)'!N$53,\"-\")","v":"-"},{"$f":"IFERROR('Отчетность (Без СПИК)'!O64/'Отчетность (Без СПИК)'!O$53,\"-\")","v":"-"},{"$f":"IFERROR('Отчетность (Без СПИК)'!P64/'Отчетность (Без СПИК)'!P$53,\"-\")","v":"-"},{"$f":"IFERROR('Отчетность (Без СПИК)'!Q64/'Отчетность (Без СПИК)'!Q$53,\"-\")","v":"-"},{"$f":"IFERROR('Отчетность (Без СПИК)'!R64/'Отчетность (Без СПИК)'!R$53,\"-\")","v":"-"},{"$f":"IFERROR('Отчетность (Без СПИК)'!S64/'Отчетность (Без СПИК)'!S$53,\"-\")","v":"-"},{"$f":"IFERROR('Отчетность (Без СПИК)'!T64/'Отчетность (Без СПИК)'!T$53,\"-\")","v":"-"},{"$f":"IFERROR('Отчетность (Без СПИК)'!U64/'Отчетность (Без СПИК)'!U$53,\"-\")","v":"-"},{"$f":"IFERROR('Отчетность (Без СПИК)'!V64/'Отчетность (Без СПИК)'!V$53,\"-\")","v":"-"},{"$f":"IFERROR('Отчетность (Без СПИК)'!W64/'Отчетность (Без СПИК)'!W$53,\"-\")","v":"-"},{"$f":"IFERROR('Отчетность (Без СПИК)'!X64/'Отчетность (Без СПИК)'!X$53,\"-\")","v":"-"},{"$f":"IFERROR('Отчетность (Без СПИК)'!Y64/'Отчетность (Без СПИК)'!Y$53,\"-\")","v":"-"},{"$f":"IFERROR('Отчетность (Без СПИК)'!Z64/'Отчетность (Без СПИК)'!Z$53,\"-\")","v":"-"},{"$f":"IFERROR('Отчетность (Без СПИК)'!AA64/'Отчетность (Без СПИК)'!AA$53,\"-\")","v":"-"},{"$f":"IFERROR('Отчетность (Без СПИК)'!AB64/'Отчетность (Без СПИК)'!AB$53,\"-\")","v":"-"}]
[null,null,"Рентабельность по EBIT","%",null,null,null,{"$f":"IFERROR('Отчетность (Без СПИК)'!H88/'Отчетность (Без СПИК)'!H$53,\"-\")","v":"-"},{"$f":"IFERROR('Отчетность (Без СПИК)'!I88/'Отчетность (Без СПИК)'!I$53,\"-\")","v":"-"},{"$f":"IFERROR('Отчетность (Без СПИК)'!J88/'Отчетность (Без СПИК)'!J$53,\"-\")","v":"-"},{"$f":"IFERROR('Отчетность (Без СПИК)'!K88/'Отчетность (Без СПИК)'!K$53,\"-\")","v":"-"},{"$f":"IFERROR('Отчетность (Без СПИК)'!L88/'Отчетность (Без СПИК)'!L$53,\"-\")","v":"-"},{"$f":"IFERROR('Отчетность (Без СПИК)'!M88/'Отчетность (Без СПИК)'!M$53,\"-\")","v":"-"},{"$f":"IFERROR('Отчетность (Без СПИК)'!N88/'Отчетность (Без СПИК)'!N$53,\"-\")","v":"-"},{"$f":"IFERROR('Отчетность (Без СПИК)'!O88/'Отчетность (Без СПИК)'!O$53,\"-\")","v":"-"},{"$f":"IFERROR('Отчетность (Без СПИК)'!P88/'Отчетность (Без СПИК)'!P$53,\"-\")","v":"-"},{"$f":"IFERROR('Отчетность (Без СПИК)'!Q88/'Отчетность (Без СПИК)'!Q$53,\"-\")","v":"-"},{"$f":"IFERROR('Отчетность (Без СПИК)'!R88/'Отчетность (Без СПИК)'!R$53,\"-\")","v":"-"},{"$f":"IFERROR('Отчетность (Без СПИК)'!S88/'Отчетность (Без СПИК)'!S$53,\"-\")","v":"-"},{"$f":"IFERROR('Отчетность (Без СПИК)'!T88/'Отчетность (Без СПИК)'!T$53,\"-\")","v":"-"},{"$f":"IFERROR('Отчетность (Без СПИК)'!U88/'Отчетность (Без СПИК)'!U$53,\"-\")","v":"-"},{"$f":"IFERROR('Отчетность (Без СПИК)'!V88/'Отчетность (Без СПИК)'!V$53,\"-\")","v":"-"},{"$f":"IFERROR('Отчетность (Без СПИК)'!W88/'Отчетность (Без СПИК)'!W$53,\"-\")","v":"-"},{"$f":"IFERROR('Отчетность (Без СПИК)'!X88/'Отчетность (Без СПИК)'!X$53,\"-\")","v":"-"},{"$f":"IFERROR('Отчетность (Без СПИК)'!Y88/'Отчетность (Без СПИК)'!Y$53,\"-\")","v":"-"},{"$f":"IFERROR('Отчетность (Без СПИК)'!Z88/'Отчетность (Без СПИК)'!Z$53,\"-\")","v":"-"},{"$f":"IFERROR('Отчетность (Без СПИК)'!AA88/'Отчетность (Без СПИК)'!AA$53,\"-\")","v":"-"},{"$f":"IFERROR('Отчетность (Без СПИК)'!AB88/'Отчетность (Без СПИК)'!AB$53,\"-\")","v":"-"}]
[null,null,"Рентабельность по EBITDA","%",null,null,null,{"$f":"IFERROR('Отчетность (Без СПИК)'!H90/'Отчетность (Без СПИК)'!H$53,\"-\")","v":"-"},{"$f":"IFERROR('Отчетность (Без СПИК)'!I90/'Отчетность (Без СПИК)'!I$53,\"-\")","v":"-"},{"$f":"IFERROR('Отчетность (Без СПИК)'!J90/'Отчетность (Без СПИК)'!J$53,\"-\")","v":"-"},{"$f":"IFERROR('Отчетность (Без СПИК)'!K90/'Отчетность (Без СПИК)'!K$53,\"-\")","v":"-"},{"$f":"IFERROR('Отчетность (Без СПИК)'!L90/'Отчетность (Без СПИК)'!L$53,\"-\")","v":"-"},{"$f":"IFERROR('Отчетность (Без СПИК)'!M90/'Отчетность (Без СПИК)'!M$53,\"-\")","v":"-"},{"$f":"IFERROR('Отчетность (Без СПИК)'!N90/'Отчетность (Без СПИК)'!N$53,\"-\")","v":"-"},{"$f":"IFERROR('Отчетность (Без СПИК)'!O90/'Отчетность (Без СПИК)'!O$53,\"-\")","v":"-"},{"$f":"IFERROR('Отчетность (Без СПИК)'!P90/'Отчетность (Без СПИК)'!P$53,\"-\")","v":"-"},{"$f":"IFERROR('Отчетность (Без СПИК)'!Q90/'Отчетность (Без СПИК)'!Q$53,\"-\")","v":"-"},{"$f":"IFERROR('Отчетность (Без СПИК)'!R90/'Отчетность (Без СПИК)'!R$53,\"-\")","v":"-"},{"$f":"IFERROR('Отчетность (Без СПИК)'!S90/'Отчетность (Без СПИК)'!S$53,\"-\")","v":"-"},{"$f":"IFERROR('Отчетность (Без СПИК)'!T90/'Отчетность (Без СПИК)'!T$53,\"-\")","v":"-"},{"$f":"IFERROR('Отчетность (Без СПИК)'!U90/'Отчетность (Без СПИК)'!U$53,\"-\")","v":"-"},{"$f":"IFERROR('Отчетность (Без СПИК)'!V90/'Отчетность (Без СПИК)'!V$53,\"-\")","v":"-"},{"$f":"IFERROR('Отчетность (Без СПИК)'!W90/'Отчетность (Без СПИК)'!W$53,\"-\")","v":"-"},{"$f":"IFERROR('Отчетность (Без СПИК)'!X90/'Отчетность (Без СПИК)'!X$53,\"-\")","v":"-"},{"$f":"IFERROR('Отчетность (Без СПИК)'!Y90/'Отчетность (Без СПИК)'!Y$53,\"-\")","v":"-"},{"$f":"IFERROR('Отчетность (Без СПИК)'!Z90/'Отчетность (Без СПИК)'!Z$53,\"-\")","v":"-"},{"$f":"IFERROR('Отчетность (Без СПИК)'!AA90/'Отчетность (Без СПИК)'!AA$53,\"-\")","v":"-"},{"$f":"IFERROR('Отчетность (Без СПИК)'!AB90/'Отчетность (Без СПИК)'!AB$53,\"-\")","v":"-"}]
[null,null,"Рентабельность по чистой прибыли","%",null,null,null,{"$f":"IFERROR('Отчетность (Без СПИК)'!H71/'Отчетность (Без СПИК)'!H$53,\"-\")","v":"-"},{"$f":"IFERROR('Отчетность (Без СПИК)'!I71/'Отчетность (Без СПИК)'!I$53,\"-\")","v":"-"},{"$f":"IFERROR('Отчетность (Без СПИК)'!J71/'Отчетность (Без СПИК)'!J$53,\"-\")","v":"-"},{"$f":"IFERROR('Отчетность (Без СПИК)'!K71/'Отчетность (Без СПИК)'!K$53,\"-\")","v":"-"},{"$f":"IFERROR('Отчетность (Без СПИК)'!L71/'Отчетность (Без СПИК)'!L$53,\"-\")","v":"-"},{"$f":"IFERROR('Отчетность (Без СПИК)'!M71/'Отчетность (Без СПИК)'!M$53,\"-\")","v":"-"},{"$f":"IFERROR('Отчетность (Без СПИК)'!N71/'Отчетность (Без СПИК)'!N$53,\"-\")","v":"-"},{"$f":"IFERROR('Отчетность (Без СПИК)'!O71/'Отчетность (Без СПИК)'!O$53,\"-\")","v":"-"},{"$f":"IFERROR('Отчетность (Без СПИК)'!P71/'Отчетность (Без СПИК)'!P$53,\"-\")","v":"-"},{"$f":"IFERROR('Отчетность (Без СПИК)'!Q71/'Отчетность (Без СПИК)'!Q$53,\"-\")","v":"-"},{"$f":"IFERROR('Отчетность (Без СПИК)'!R71/'Отчетность (Без СПИК)'!R$53,\"-\")","v":"-"},{"$f":"IFERROR('Отчетность (Без СПИК)'!S71/'Отчетность (Без СПИК)'!S$53,\"-\")","v":"-"},{"$f":"IFERROR('Отчетность (Без СПИК)'!T71/'Отчетность (Без СПИК)'!T$53,\"-\")","v":"-"},{"$f":"IFERROR('Отчетность (Без СПИК)'!U71/'Отчетность (Без СПИК)'!U$53,\"-\")","v":"-"},{"$f":"IFERROR('Отчетность (Без СПИК)'!V71/'Отчетность (Без СПИК)'!V$53,\"-\")","v":"-"},{"$f":"IFERROR('Отчетность (Без СПИК)'!W71/'Отчетность (Без СПИК)'!W$53,\"-\")","v":"-"},{"$f":"IFERROR('Отчетность (Без СПИК)'!X71/'Отчетность (Без СПИК)'!X$53,\"-\")","v":"-"},{"$f":"IFERROR('Отчетность (Без СПИК)'!Y71/'Отчетность (Без СПИК)'!Y$53,\"-\")","v":"-"},{"$f":"IFERROR('Отчетность (Без СПИК)'!Z71/'Отчетность (Без СПИК)'!Z$53,\"-\")","v":"-"},{"$f":"IFERROR('Отчетность (Без СПИК)'!AA71/'Отчетность (Без СПИК)'!AA$53,\"-\")","v":"-"},{"$f":"IFERROR('Отчетность (Без СПИК)'!AB71/'Отчетность (Без СПИК)'!AB$53,\"-\")","v":"-"}]
[]
[null,"Показатели оборачиваемости"]
[]
[null,null,"Оборачиваемость дебиторской задолженности","х",null,null,null,{"$f":"IFERROR('Отчетность (Без СПИК)'!H53/AVERAGE('Отчетность (Без СПИК)'!G21:H21),\"-\")","v":"-"},{"$f":"IFERROR('Отчетность (Без СПИК)'!I53/AVERAGE('Отчетность (Без СПИК)'!H21:I21),\"-\")","v":"-"},{"$f":"IFERROR('Отчетность (Без СПИК)'!J53/AVERAGE('Отчетность (Без СПИК)'!I21:J21),\"-\")","v":"-"},{"$f":"IFERROR('Отчетность (Без СПИК)'!K53/AVERAGE('Отчетность (Без СПИК)'!J21:K21),\"-\")","v":"-"},{"$f":"IFERROR('Отчетность (Без СПИК)'!L53/AVERAGE('Отчетность (Без СПИК)'!K21:L21),\"-\")","v":"-"},{"$f":"IFERROR('Отчетность (Без СПИК)'!M53/AVERAGE('Отчетность (Без СПИК)'!L21:M21),\"-\")","v":"-"},{"$f":"IFERROR('Отчетность (Без СПИК)'!N53/AVERAGE('Отчетность (Без СПИК)'!M21:N21),\"-\")","v":"-"},{"$f":"IFERROR('Отчетность (Без СПИК)'!O53/AVERAGE('Отчетность (Без СПИК)'!N21:O21),\"-\")","v":"-"},{"$f":"IFERROR('Отчетность (Без СПИК)'!P53/AVERAGE('Отчетность (Без СПИК)'!O21:P21),\"-\")","v":"-"},{"$f":"IFERROR('Отчетность (Без СПИК)'!Q53/AVERAGE('Отчетность (Без СПИК)'!P21:Q21),\"-\")","v":"-"},{"$f":"IFERROR('Отчетность (Без СПИК)'!R53/AVERAGE('Отчетность (Без СПИК)'!Q21:R21),\"-\")","v":"-"},{"$f":"IFERROR('Отчетность (Без СПИК)'!S53/AVERAGE('Отчетность (Без СПИК)'!R21:S21),\"-\")","v":"-"},{"$f":"IFERROR('Отчетность (Без СПИК)'!T53/AVERAGE('Отчетность (Без СПИК)'!S21:T21),\"-\")","v":"-"},{"$f":"IFERROR('Отчетность (Без СПИК)'!U53/AVERAGE('Отчетность (Без СПИК)'!T21:U21),\"-\")","v":"-"},{"$f":"IFERROR('Отчетность (Без СПИК)'!V53/AVERAGE('Отчетность (Без СПИК)'!U21:V21),\"-\")","v":"-"},{"$f":"IFERROR('Отчетность (Без СПИК)'!W53/AVERAGE('Отчетность (Без СПИК)'!V21:W21),\"-\")","v":"-"},{"$f":"IFERROR('Отчетность (Без СПИК)'!X53/AVERAGE('Отчетность (Без СПИК)'!W21:X21),\"-\")","v":"-"},{"$f":"IFERROR('Отчетность (Без СПИК)'!Y53/AVERAGE('Отчетность (Без СПИК)'!X21:Y21),\"-\")","v":"-"},{"$f":"IFERROR('Отчетность (Без СПИК)'!Z53/AVERAGE('Отчетность (Без СПИК)'!Y21:Z21),\"-\")","v":"-"},{"$f":"IFERROR('Отчетность (Без СПИК)'!AA53/AVERAGE('Отчетность (Без СПИК)'!Z21:AA21),\"-\")","v":"-"},{"$f":"IFERROR('Отчетность (Без СПИК)'!AB53/AVERAGE('Отчетность (Без СПИК)'!AA21:AB21),\"-\")","v":"-"}]
[null,null,"Оборачиваемость кредиторской задолженности","х",null,null,null,{"$f":"IFERROR(-'Отчетность (Без СПИК)'!H54/AVERAGE('Отчетность (Без СПИК)'!G36:H36),\"-\")","v":"-"},{"$f":"IFERROR(-'Отчетность (Без СПИК)'!I54/AVERAGE('Отчетность (Без СПИК)'!H36:I36),\"-\")","v":"-"},{"$f":"IFERROR(-'Отчетность (Без СПИК)'!J54/AVERAGE('Отчетность (Без СПИК)'!I36:J36),\"-\")","v":"-"},{"$f":"IFERROR(-'Отчетность (Без СПИК)'!K54/AVERAGE('Отчетность (Без СПИК)'!J36:K36),\"-\")","v":"-"},{"$f":"IFERROR(-'Отчетность (Без СПИК)'!L54/AVERAGE('Отчетность (Без СПИК)'!K36:L36),\"-\")","v":"-"},{"$f":"IFERROR(-'Отчетность (Без СПИК)'!M54/AVERAGE('Отчетность (Без СПИК)'!L36:M36),\"-\")","v":"-"},{"$f":"IFERROR(-'Отчетность (Без СПИК)'!N54/AVERAGE('Отчетность (Без СПИК)'!M36:N36),\"-\")","v":"-"},{"$f":"IFERROR(-'Отчетность (Без СПИК)'!O54/AVERAGE('Отчетность (Без СПИК)'!N36:O36),\"-\")","v":"-"},{"$f":"IFERROR(-'Отчетность (Без СПИК)'!P54/AVERAGE('Отчетность (Без СПИК)'!O36:P36),\"-\")","v":"-"},{"$f":"IFERROR(-'Отчетность (Без СПИК)'!Q54/AVERAGE('Отчетность (Без СПИК)'!P36:Q36),\"-\")","v":"-"},{"$f":"IFERROR(-'Отчетность (Без СПИК)'!R54/AVERAGE('Отчетность (Без СПИК)'!Q36:R36),\"-\")","v":"-"},{"$f":"IFERROR(-'Отчетность (Без СПИК)'!S54/AVERAGE('Отчетность (Без СПИК)'!R36:S36),\"-\")","v":"-"},{"$f":"IFERROR(-'Отчетность (Без СПИК)'!T54/AVERAGE('Отчетность (Без СПИК)'!S36:T36),\"-\")","v":"-"},{"$f":"IFERROR(-'Отчетность (Без СПИК)'!U54/AVERAGE('Отчетность (Без СПИК)'!T36:U36),\"-\")","v":"-"},{"$f":"IFERROR(-'Отчетность (Без СПИК)'!V54/AVERAGE('Отчетность (Без СПИК)'!U36:V36),\"-\")","v":"-"},{"$f":"IFERROR(-'Отчетность (Без СПИК)'!W54/AVERAGE('Отчетность (Без СПИК)'!V36:W36),\"-\")","v":"-"},{"$f":"IFERROR(-'Отчетность (Без СПИК)'!X54/AVERAGE('Отчетность (Без СПИК)'!W36:X36),\"-\")","v":"-"},{"$f":"IFERROR(-'Отчетность (Без СПИК)'!Y54/AVERAGE('Отчетность (Без СПИК)'!X36:Y36),\"-\")","v":"-"},{"$f":"IFERROR(-'Отчетность (Без СПИК)'!Z54/AVERAGE('Отчетность (Без СПИК)'!Y36:Z36),\"-\")","v":"-"},{"$f":"IFERROR(-'Отчетность (Без СПИК)'!AA54/AVERAGE('Отчетность (Без СПИК)'!Z36:AA36),\"-\")","v":"-"},{"$f":"IFERROR(-'Отчетность (Без СПИК)'!AB54/AVERAGE('Отчетность (Без СПИК)'!AA36:AB36),\"-\")","v":"-"}]
[null,null,"Оборачиваемость запасов","х",null,null,null,{"$f":"IFERROR(-'Отчетность (Без СПИК)'!H54/AVERAGE('Отчетность (Без СПИК)'!G19:H19),\"-\")","v":"-"},{"$f":"IFERROR(-'Отчетность (Без СПИК)'!I54/AVERAGE('Отчетность (Без СПИК)'!H19:I19),\"-\")","v":"-"},{"$f":"IFERROR(-'Отчетность (Без СПИК)'!J54/AVERAGE('Отчетность (Без СПИК)'!I19:J19),\"-\")","v":"-"},{"$f":"IFERROR(-'Отчетность (Без СПИК)'!K54/AVERAGE('Отчетность (Без СПИК)'!J19:K19),\"-\")","v":"-"},{"$f":"IFERROR(-'Отчетность (Без СПИК)'!L54/AVERAGE('Отчетность (Без СПИК)'!K19:L19),\"-\")","v":"-"},{"$f":"IFERROR(-'Отчетность (Без СПИК)'!M54/AVERAGE('Отчетность (Без СПИК)'!L19:M19),\"-\")","v":"-"},{"$f":"IFERROR(-'Отчетность (Без СПИК)'!N54/AVERAGE('Отчетность (Без СПИК)'!M19:N19),\"-\")","v":"-"},{"$f":"IFERROR(-'Отчетность (Без СПИК)'!O54/AVERAGE('Отчетность (Без СПИК)'!N19:O19),\"-\")","v":"-"},{"$f":"IFERROR(-'Отчетность (Без СПИК)'!P54/AVERAGE('Отчетность (Без СПИК)'!O19:P19),\"-\")","v":"-"},{"$f":"IFERROR(-'Отчетность (Без СПИК)'!Q54/AVERAGE('Отчетность (Без СПИК)'!P19:Q19),\"-\")","v":"-"},{"$f":"IFERROR(-'Отчетность (Без СПИК)'!R54/AVERAGE('Отчетность (Без СПИК)'!Q19:R19),\"-\")","v":"-"},{"$f":"IFERROR(-'Отчетность (Без СПИК)'!S54/AVERAGE('Отчетность (Без СПИК)'!R19:S19),\"-\")","v":"-"},{"$f":"IFERROR(-'Отчетность (Без СПИК)'!T54/AVERAGE('Отчетность (Без СПИК)'!S19:T19),\"-\")","v":"-"},{"$f":"IFERROR(-'Отчетность (Без СПИК)'!U54/AVERAGE('Отчетность (Без СПИК)'!T19:U19),\"-\")","v":"-"},{"$f":"IFERROR(-'Отчетность (Без СПИК)'!V54/AVERAGE('Отчетность (Без СПИК)'!U19:V19),\"-\")","v":"-"},{"$f":"IFERROR(-'Отчетность (Без СПИК)'!W54/AVERAGE('Отчетность (Без СПИК)'!V19:W19),\"-\")","v":"-"},{"$f":"IFERROR(-'Отчетность (Без СПИК)'!X54/AVERAGE('Отчетность (Без СПИК)'!W19:X19),\"-\")","v":"-"},{"$f":"IFERROR(-'Отчетность (Без СПИК)'!Y54/AVERAGE('Отчетность (Без СПИК)'!X19:Y19),\"-\")","v":"-"},{"$f":"IFERROR(-'Отчетность (Без СПИК)'!Z54/AVERAGE('Отчетность (Без СПИК)'!Y19:Z19),\"-\")","v":"-"},{"$f":"IFERROR(-'Отчетность (Без СПИК)'!AA54/AVERAGE('Отчетность (Без СПИК)'!Z19:AA19),\"-\")","v":"-"},{"$f":"IFERROR(-'Отчетность (Без СПИК)'!AB54/AVERAGE('Отчетность (Без СПИК)'!AA19:AB19),\"-\")","v":"-"}]