{"text_format":"1","workbook":"xlsx","n_sheets":16,"sheets":["Титул","Результаты","Предпосылки","График инвестирования","WACC","Капитальные вложения","Выручка и себестоимость","Операционные затраты","Оборотный капитал","Налоги","Финансирование","Отчетность (СПИК)","Эффективность (СПИК)","Анализ чувствительности (СПИК)","Отчетность (Без СПИК)","Эффективность (Без СПИК)"],"not_rendered":{"charts":0,"images":1,"macros":1,"external_links":0,"defined_names":10,"comments":7,"pivot_tables":0},"unopened":[],"bounds":{"document_bytes":16777216,"sheet_cells":100000,"rows_first":2000,"rows_last":500,"rows_between":2000,"halvings":0,"cell_chars":16384,"cell_head_chars":4096},"cells_cut":0,"cells_raw":0,"read":"whole","date_system":"1900"}

{"sheet":"Титул","index":0,"n_rows":27,"n_cols":25,"rows_kept":27,"cut":false,"hidden":false,"merged":[[5,0,6,14],[2,0,3,14],[21,16,21,18],[22,16,22,18],[19,16,19,18],[20,16,20,18],[7,0,7,14],[25,0,25,13],[12,0,12,14],[13,0,13,14],[14,0,14,14],[15,0,15,14],[16,0,16,14]]}
[]
["Наименование заявителя",null,null,null,null,null,null,null,null,null,null,null,null,null,null,null,"Содержание",null,null,null,null,"Данные для диспетчера имен"]
[null,null,null,null,null,null,null,null,null,null,null,null,null,null,null,null,1,"Результаты ",null,null,null,"One",null,null,1]
[null,null,null,null,null,null,null,null,null,null,null,null,null,null,null,null,2,"Предпосылки",null,null,null,"Thousand",null,null,1000]
["Полное наименование инвестиционного проекта",null,null,null,null,null,null,null,null,null,null,null,null,null,null,null,3,"График инвестирования",null,null,null,"Количество кварталов",null,null,4]
[null,null,null,null,null,null,null,null,null,null,null,null,null,null,null,null,4,"WACC",null,null,null,"НДС_общая",null,null,0.2]
[null,null,null,null,null,null,null,null,null,null,null,null,null,null,null,null,5,"Капитальные вложения"]
["Данная финансово-экономическая модель подготовлена в рамках пакета документов в целях заключения специального инвестиционного контракта (СПИК) и является неотъемлемым приложением к бизнес-плану инвестиционного проекта",null,null,null,null,null,null,null,null,null,null,null,null,null,null,null,6,"Выручка и себестоимость"]
[null,null,null,null,null,null,null,null,null,null,null,null,null,null,null,null,7,"Операционные затраты"]
[null,null,null,null,null,null,null,null,null,null,null,null,null,null,null,null,8,"Оборотный капитал"]
[null,null,null,null,null,null,null,null,null,null,null,null,null,null,null,null,9,"Налоги"]
["Примечание:",null,null,null,null,null,null,null,null,null,null,null,null,null,null,null,10,"Финансирование"]
["1) Данный шаблон финансовой модели является одним из возможных вариантов оформления финансовой модели и содержит полный набор расчетных и итоговых листов, показателей в соответствии с методическими рекомендациями ФРП, ПП РФ №708 от 16.07.2015, ПП РФ №1048 от 16.07.2020;",null,null,null,null,null,null,null,null,null,null,null,null,null,null,null,11,"Отчетность (СПИК)"]
["2) Отдельные блоки данной финансовой модели и формулы к ним могут быть модифицированы с учетом специфики конкретного инвестиционного проекта. Допускается добавление дополнительных и удаление незадействованных в расчете блоков;",null,null,null,null,null,null,null,null,null,null,null,null,null,null,null,12,"Эффективность (СПИК)"]
["3) Ячейки для ввода исходных данных проекта выделены серым цветом в соответствии с условными обозначениями. Такие ячейки предусмотрены на листах \"Предпосылки\", \"График инвестирования\", \"Операционные затраты\" и \"Финансирование\"",null,null,null,null,null,null,null,null,null,null,null,null,null,null,null,13,"Анализ чувтсвительности (СПИК)"]
["4) Дополнительно к расчету отдельных показателей финансовой модели приведены пояснения в примечаниях к соответствующим ячейкам;",null,null,null,null,null,null,null,null,null,null,null,null,null,null,null,14,"Отчетность (Без СПИК)"]
["5) На листе Финансирование реализована возможность разрыва циклических ссылок при помощи макроса. Макрос рекомендуется запускать исключительно в случае дополнительной потребности в краткосрочном финансировании операционной деятельности. Запуск макроса осуществляется нажатием на кнопку напротив соответствующего расчета с столбце Е. Привлечение долгосрочного кредита заносится в финансовую модель вручную, исходя из предпосылок",null,null,null,null,null,null,null,null,null,null,null,null,null,null,null,15,"Эффективность (Без СПИК)"]
[]
[null,null,null,null,null,null,null,null,null,null,null,null,null,null,null,null,"Условные обозначения"]
[null,null,null,null,null,null,null,null,null,null,null,null,null,null,null,null,"Вводимые значения",null,null,1]
["Полезные ссылки:",null,null,null,null,null,null,null,null,null,null,null,null,null,null,null,"Расчетные показатели",null,null,1]
["Методические рекомендации СПИК 2.0 по подготовке и оформлению финансовой модели (раздел 11)",null,null,null,null,null,null,null,null,null,null,null,null,null,null,null,"Итоговые показатели",null,null,1]
["Методические рекомендации СПИК 1.0 по подготовке и оформлению финансовой модели (раздел 8)",null,null,null,null,null,null,null,null,null,null,null,null,null,null,null,"Смена формулы в ячейке",null,null,1]
["Раздел СПИК официального сайта Фонда развития промышленности"]
[]
["Контактное лицо по вопросам  работы с шаблоном финансовой модели: Дихтярь Анна Андреевна (e-mail:  dikhtyar@frprf.ru )"]
["Версия №4, дата обновления: 30.06.2023"]

{"sheet":"Результаты","index":1,"n_rows":75,"n_cols":28,"rows_kept":75,"cut":false,"hidden":false,"merged":[[0,9,0,10],[0,11,0,16],[74,2,74,3],[66,4,66,5],[1,5,2,5],[6,3,6,21],[7,3,7,21],[8,3,8,21],[51,2,51,3],[50,2,50,3],[64,2,64,3],[52,2,52,3],[1,2,2,2],[1,3,2,3],[1,4,2,4],[53,2,53,3],[73,2,73,3],[72,2,72,3],[65,2,65,3],[54,2,54,3],[58,2,58,3],[59,2,59,3],[60,2,60,3],[71,2,71,3],[70,2,70,3]]}
[null,null,null,null,{"$f":"\"Лист:  \" & RIGHT(CELL(\"filename\",A1),LEN(CELL(\"filename\",A1))-SEARCH(\"]\",CELL(\"filename\",A1)))","v":"Лист:  Результаты"},null,null,null,null,"Проверка:",null,{"$f":"IF(AND(E72=\"Верно\",E73=\"Верно\",E74=\"Верно\",E75=\"Верно\"), \"Верно\", \"Имеются некорректные данные\")","v":"Имеются некорректные данные"}]
[null,null,"Параметр","Ед. изм.","Источник","Итоговое значение",null,{"$f":"Предпосылки!H2","v":2023},{"$f":"Предпосылки!I2","v":2024},{"$f":"Предпосылки!J2","v":2025},{"$f":"Предпосылки!K2","v":2026},{"$f":"Предпосылки!L2","v":2027},{"$f":"Предпосылки!M2","v":2028},{"$f":"Предпосылки!N2","v":2029},{"$f":"Предпосылки!O2","v":2030},{"$f":"Предпосылки!P2","v":2031},{"$f":"Предпосылки!Q2","v":2032},{"$f":"Предпосылки!R2","v":2033},{"$f":"Предпосылки!S2","v":2034},{"$f":"Предпосылки!T2","v":2035},{"$f":"Предпосылки!U2","v":2036},{"$f":"Предпосылки!V2","v":2037},{"$f":"Предпосылки!W2","v":2038},{"$f":"Предпосылки!X2","v":2039},{"$f":"Предпосылки!Y2","v":2040},{"$f":"Предпосылки!Z2","v":2041},{"$f":"Предпосылки!AA2","v":2042},{"$f":"Предпосылки!AB2","v":2043}]
[null,null,null,null,null,null,null,1,2,3,4,5,6,7,8,9,10,11,12,13,14,15,16,17,18,19,20,21]
[]
[null,"Общая информация о проекте"]
[]
[null,null,"Наименование проекта",{"$f":"Титул!A6","v":0}]
[null,null,"Местонахождение производственной площадки"]
[null,null,"Заявитель","Наименование, ОГРН"]
[null,null,"Тип СПИК","СПИК2.0"]
[null,null,"Срок СПИК",{"$f":"Предпосылки!F8 & \" лет\"","v":"15 лет"}]
[null,null,"Срок выхода на проектную операционную прибыль",{"$f":"INDEX(H2:AB2,,MATCH(1,'Отчетность (СПИК)'!H87:AA87,0))&\" год\"","v":{"$error":"#N/A"}}]
[null,null,"Дата анализа",{"$f":"Предпосылки!F7","v":"2023-08-30"}]
[null,null,"Денежная единица","тыс. руб."]
[]
[null,"Итоговые показатели"]
[]
[null,"Объем произведенной промышленной продукции в денежном выражении:",null,null,null,{"$f":"SUM( H18:AA18)","v":0},null,{"$f":"SUM(H19:H20)","v":0},{"$f":"SUM(I19:I20)","v":0},0,0,0,0,0,0,0,0,0,0,0,0,0,0,0,0,0,0]
[null,null,"Продукция 1",{"$f":"'Выручка и себестоимость'!D7","v":"тыс. руб."},null,{"$f":"SUM( H19:AA19)","v":0},null,{"$f":"H23*Предпосылки!H36","v":0},{"$f":"I23*Предпосылки!I36","v":0},{"$f":"J23*Предпосылки!J36","v":0},{"$f":"K23*Предпосылки!K36","v":0},{"$f":"L23*Предпосылки!L36","v":0},{"$f":"M23*Предпосылки!M36","v":0},{"$f":"N23*Предпосылки!N36","v":0},{"$f":"O23*Предпосылки!O36","v":0},{"$f":"P23*Предпосылки!P36","v":0},{"$f":"Q23*Предпосылки!Q36","v":0},{"$f":"R23*Предпосылки!R36","v":0},{"$f":"S23*Предпосылки!S36","v":0},{"$f":"T23*Предпосылки!T36","v":0},{"$f":"U23*Предпосылки!U36","v":0},{"$f":"V23*Предпосылки!V36","v":0},{"$f":"W23*Предпосылки!W36","v":0},{"$f":"X23*Предпосылки!X36","v":0},{"$f":"Y23*Предпосылки!Y36","v":0},{"$f":"Z23*Предпосылки!Z36","v":0},{"$f":"AA23*Предпосылки!AA36","v":0}]
[null,null,"Продукция 2",{"$f":"'Выручка и себестоимость'!D8","v":"тыс. руб."},null,{"$f":"SUM( H20:AA20)","v":0},null,{"$f":"H24*Предпосылки!H37","v":0},{"$f":"I24*Предпосылки!I37","v":0},{"$f":"J24*Предпосылки!J37","v":0},{"$f":"K24*Предпосылки!K37","v":0},{"$f":"L24*Предпосылки!L37","v":0},{"$f":"M24*Предпосылки!M37","v":0},{"$f":"N24*Предпосылки!N37","v":0},{"$f":"O24*Предпосылки!O37","v":0},{"$f":"P24*Предпосылки!P37","v":0},{"$f":"Q24*Предпосылки!Q37","v":0},{"$f":"R24*Предпосылки!R37","v":0},{"$f":"S24*Предпосылки!S37","v":0},{"$f":"T24*Предпосылки!T37","v":0},{"$f":"U24*Предпосылки!U37","v":0},{"$f":"V24*Предпосылки!V37","v":0},{"$f":"W24*Предпосылки!W37","v":0},{"$f":"X24*Предпосылки!X37","v":0},{"$f":"Y24*Предпосылки!Y37","v":0},{"$f":"Z24*Предпосылки!Z37","v":0},{"$f":"AA24*Предпосылки!AA37","v":0}]
[]
[null,"Объем произведенной промышленной продукции в натуральном выражении:",null,null,null,{"$f":"SUM( H22:AA22)","v":0},null,{"$f":"SUM(H23:H24)","v":0},{"$f":"SUM(I23:I24)","v":0},0,0,0,0,0,0,0,0,0,0,0,0,0,0,0,0,0,0]
[null,null,"Продукция 1",{"$f":"Предпосылки!D42","v":" тыс. ед."},"Лист: Предпосылки",{"$f":"SUM( H23:AA23)","v":0},null,{"$f":"Предпосылки!H42","v":0},{"$f":"Предпосылки!I42","v":0},{"$f":"Предпосылки!J42","v":0},{"$f":"Предпосылки!K42","v":0},{"$f":"Предпосылки!L42","v":0},{"$f":"Предпосылки!M42","v":0},{"$f":"Предпосылки!N42","v":0},{"$f":"Предпосылки!O42","v":0},{"$f":"Предпосылки!P42","v":0},{"$f":"Предпосылки!Q42","v":0},{"$f":"Предпосылки!R42","v":0},{"$f":"Предпосылки!S42","v":0},{"$f":"Предпосылки!T42","v":0},{"$f":"Предпосылки!U42","v":0},{"$f":"Предпосылки!V42","v":0},{"$f":"Предпосылки!W42","v":0},{"$f":"Предпосылки!X42","v":0},{"$f":"Предпосылки!Y42","v":0},{"$f":"Предпосылки!Z42","v":0},{"$f":"Предпосылки!AA42","v":0}]
[null,null,"Продукция 2",{"$f":"Предпосылки!D43","v":" тыс. ед."},"Лист: Предпосылки",{"$f":"SUM( H24:AA24)","v":0},null,{"$f":"Предпосылки!H43","v":0},{"$f":"Предпосылки!I43","v":0},{"$f":"Предпосылки!J43","v":0},{"$f":"Предпосылки!K43","v":0},{"$f":"Предпосылки!L43","v":0},{"$f":"Предпосылки!M43","v":0},{"$f":"Предпосылки!N43","v":0},{"$f":"Предпосылки!O43","v":0},{"$f":"Предпосылки!P43","v":0},{"$f":"Предпосылки!Q43","v":0},{"$f":"Предпосылки!R43","v":0},{"$f":"Предпосылки!S43","v":0},{"$f":"Предпосылки!T43","v":0},{"$f":"Предпосылки!U43","v":0},{"$f":"Предпосылки!V43","v":0},{"$f":"Предпосылки!W43","v":0},{"$f":"Предпосылки!X43","v":0},{"$f":"Предпосылки!Y43","v":0},{"$f":"Предпосылки!Z43","v":0},{"$f":"Предпосылки!AA43","v":0}]
[]
[null,"Объем реализованной промышленной продукции в денежном выражении:",null,null,null,{"$f":"SUM( H26:AA26)","v":0},null,{"$f":"SUM(H27:H28)","v":0},{"$f":"SUM(I27:I28)","v":0},0,0,0,0,0,0,0,0,0,0,0,0,0,0,0,0,0,0]
[null,null,"Продукция 1",{"$f":"'Выручка и себестоимость'!D7","v":"тыс. руб."},"Лист: Выручка и себестоимость",{"$f":"SUM( H27:AA27)","v":0},null,{"$f":"'Выручка и себестоимость'!H7","v":0},{"$f":"'Выручка и себестоимость'!I7","v":0},{"$f":"'Выручка и себестоимость'!J7","v":0},{"$f":"'Выручка и себестоимость'!K7","v":0},{"$f":"'Выручка и себестоимость'!L7","v":0},{"$f":"'Выручка и себестоимость'!M7","v":0},{"$f":"'Выручка и себестоимость'!N7","v":0},{"$f":"'Выручка и себестоимость'!O7","v":0},{"$f":"'Выручка и себестоимость'!P7","v":0},{"$f":"'Выручка и себестоимость'!Q7","v":0},{"$f":"'Выручка и себестоимость'!R7","v":0},{"$f":"'Выручка и себестоимость'!S7","v":0},{"$f":"'Выручка и себестоимость'!T7","v":0},{"$f":"'Выручка и себестоимость'!U7","v":0},{"$f":"'Выручка и себестоимость'!V7","v":0},{"$f":"'Выручка и себестоимость'!W7","v":0},{"$f":"'Выручка и себестоимость'!X7","v":0},{"$f":"'Выручка и себестоимость'!Y7","v":0},{"$f":"'Выручка и себестоимость'!Z7","v":0},{"$f":"'Выручка и себестоимость'!AA7","v":0}]
[null,null,"Продукция 2",{"$f":"'Выручка и себестоимость'!D8","v":"тыс. руб."},"Лист: Выручка и себестоимость",{"$f":"SUM( H28:AA28)","v":0},null,{"$f":"'Выручка и себестоимость'!H8","v":0},{"$f":"'Выручка и себестоимость'!I8","v":0},{"$f":"'Выручка и себестоимость'!J8","v":0},{"$f":"'Выручка и себестоимость'!K8","v":0},{"$f":"'Выручка и себестоимость'!L8","v":0},{"$f":"'Выручка и себестоимость'!M8","v":0},{"$f":"'Выручка и себестоимость'!N8","v":0},{"$f":"'Выручка и себестоимость'!O8","v":0},{"$f":"'Выручка и себестоимость'!P8","v":0},{"$f":"'Выручка и себестоимость'!Q8","v":0},{"$f":"'Выручка и себестоимость'!R8","v":0},{"$f":"'Выручка и себестоимость'!S8","v":0},{"$f":"'Выручка и себестоимость'!T8","v":0},{"$f":"'Выручка и себестоимость'!U8","v":0},{"$f":"'Выручка и себестоимость'!V8","v":0},{"$f":"'Выручка и себестоимость'!W8","v":0},{"$f":"'Выручка и себестоимость'!X8","v":0},{"$f":"'Выручка и себестоимость'!Y8","v":0},{"$f":"'Выручка и себестоимость'!Z8","v":0},{"$f":"'Выручка и себестоимость'!AA8","v":0}]
[]
[null,"Объем реализованной промышленной продукции в натуральном выражении:",null,null,null,{"$f":"SUM( H30:AA30)","v":0},null,{"$f":"SUM(H31:H32)","v":0},{"$f":"SUM(I31:I32)","v":0},0,0,0,0,0,0,0,0,0,0,0,0,0,0,0,0,0,0]
[null,null,"Продукция 1",{"$f":"Предпосылки!D48","v":" тыс. ед."},"Лист: Предпосылки",{"$f":"SUM( H31:AA31)","v":0},null,{"$f":"Предпосылки!H48","v":0},{"$f":"Предпосылки!I48","v":0},{"$f":"Предпосылки!J48","v":0},{"$f":"Предпосылки!K48","v":0},{"$f":"Предпосылки!L48","v":0},{"$f":"Предпосылки!M48","v":0},{"$f":"Предпосылки!N48","v":0},{"$f":"Предпосылки!O48","v":0},{"$f":"Предпосылки!P48","v":0},{"$f":"Предпосылки!Q48","v":0},{"$f":"Предпосылки!R48","v":0},{"$f":"Предпосылки!S48","v":0},{"$f":"Предпосылки!T48","v":0},{"$f":"Предпосылки!U48","v":0},{"$f":"Предпосылки!V48","v":0},{"$f":"Предпосылки!W48","v":0},{"$f":"Предпосылки!X48","v":0},{"$f":"Предпосылки!Y48","v":0},{"$f":"Предпосылки!Z48","v":0},{"$f":"Предпосылки!AA48","v":0}]
[null,null,"Продукция 2",{"$f":"Предпосылки!D49","v":" тыс. ед."},"Лист: Предпосылки",{"$f":"SUM( H32:AA32)","v":0},null,{"$f":"Предпосылки!H49","v":0},{"$f":"Предпосылки!I49","v":0},{"$f":"Предпосылки!J49","v":0},{"$f":"Предпосылки!K49","v":0},{"$f":"Предпосылки!L49","v":0},{"$f":"Предпосылки!M49","v":0},{"$f":"Предпосылки!N49","v":0},{"$f":"Предпосылки!O49","v":0},{"$f":"Предпосылки!P49","v":0},{"$f":"Предпосылки!Q49","v":0},{"$f":"Предпосылки!R49","v":0},{"$f":"Предпосылки!S49","v":0},{"$f":"Предпосылки!T49","v":0},{"$f":"Предпосылки!U49","v":0},{"$f":"Предпосылки!V49","v":0},{"$f":"Предпосылки!W49","v":0},{"$f":"Предпосылки!X49","v":0},{"$f":"Предпосылки!Y49","v":0},{"$f":"Предпосылки!Z49","v":0},{"$f":"Предпосылки!AA49","v":0}]
[]
[null,"Минимальный объем налогов, сборов, страховых взносов к уплате:"]
[null,null,"С учетом применения мер стимулировани деятельности в сфере промышленности, предусмотренных СПИК:",null,null,{"$f":"SUM( H35:AA35)","v":0},null,{"$f":"SUM(H36:H39)","v":0},{"$f":"SUM(I36:I39)","v":0},0,0,0,0,0,0,0,0,0,0,0,0,0,0,0,0,0,0]
[null,null,"в федеральный бюджет",{"$f":"Налоги!D148","v":"тыс. руб."},"Лист: Налоги",{"$f":"SUM( H36:AA36)","v":0},null,{"$f":"-Налоги!H148","v":0},{"$f":"-Налоги!I148","v":0},{"$f":"-Налоги!J148","v":0},{"$f":"-Налоги!K148","v":0},{"$f":"-Налоги!L148","v":0},{"$f":"-Налоги!M148","v":0},{"$f":"-Налоги!N148","v":0},{"$f":"-Налоги!O148","v":0},{"$f":"-Налоги!P148","v":0},{"$f":"-Налоги!Q148","v":0},{"$f":"-Налоги!R148","v":0},{"$f":"-Налоги!S148","v":0},{"$f":"-Налоги!T148","v":0},{"$f":"-Налоги!U148","v":0},{"$f":"-Налоги!V148","v":0},{"$f":"-Налоги!W148","v":0},{"$f":"-Налоги!X148","v":0},{"$f":"-Налоги!Y148","v":0},{"$f":"-Налоги!Z148","v":0},{"$f":"-Налоги!AA148","v":0}]
[null,null,"в региональный бюджет",{"$f":"Налоги!D149","v":"тыс. руб."},"Лист: Налоги",{"$f":"SUM( H37:AA37)","v":0},null,{"$f":"-Налоги!H150","v":0},{"$f":"-Налоги!I150","v":0},{"$f":"-Налоги!J150","v":0},{"$f":"-Налоги!K150","v":0},{"$f":"-Налоги!L150","v":0},{"$f":"-Налоги!M150","v":0},{"$f":"-Налоги!N150","v":0},{"$f":"-Налоги!O150","v":0},{"$f":"-Налоги!P150","v":0},{"$f":"-Налоги!Q150","v":0},{"$f":"-Налоги!R150","v":0},{"$f":"-Налоги!S150","v":0},{"$f":"-Налоги!T150","v":0},{"$f":"-Налоги!U150","v":0},{"$f":"-Налоги!V150","v":0},{"$f":"-Налоги!W150","v":0},{"$f":"-Налоги!X150","v":0},{"$f":"-Налоги!Y150","v":0},{"$f":"-Налоги!Z150","v":0},{"$f":"-Налоги!AA150","v":0}]
[null,null,"в местный бюджет",{"$f":"Налоги!D150","v":"тыс. руб."},"Лист: Налоги",{"$f":"SUM( H38:AA38)","v":0},null,{"$f":"-Налоги!H155","v":0},{"$f":"-Налоги!I155","v":0},{"$f":"-Налоги!J155","v":0},{"$f":"-Налоги!K155","v":0},{"$f":"-Налоги!L155","v":0},{"$f":"-Налоги!M155","v":0},{"$f":"-Налоги!N155","v":0},{"$f":"-Налоги!O155","v":0},{"$f":"-Налоги!P155","v":0},{"$f":"-Налоги!Q155","v":0},{"$f":"-Налоги!R155","v":0},{"$f":"-Налоги!S155","v":0},{"$f":"-Налоги!T155","v":0},{"$f":"-Налоги!U155","v":0},{"$f":"-Налоги!V155","v":0},{"$f":"-Налоги!W155","v":0},{"$f":"-Налоги!X155","v":0},{"$f":"-Налоги!Y155","v":0},{"$f":"-Налоги!Z155","v":0},{"$f":"-Налоги!AA155","v":0}]
[null,null,"страховые взносы",{"$f":"Налоги!D151","v":"тыс. руб."},"Лист: Налоги",{"$f":"SUM( H39:AA39)","v":0},null,{"$f":"-Налоги!H158","v":0},{"$f":"-Налоги!I158","v":0},{"$f":"-Налоги!J158","v":0},{"$f":"-Налоги!K158","v":0},{"$f":"-Налоги!L158","v":0},{"$f":"-Налоги!M158","v":0},{"$f":"-Налоги!N158","v":0},{"$f":"-Налоги!O158","v":0},{"$f":"-Налоги!P158","v":0},{"$f":"-Налоги!Q158","v":0},{"$f":"-Налоги!R158","v":0},{"$f":"-Налоги!S158","v":0},{"$f":"-Налоги!T158","v":0},{"$f":"-Налоги!U158","v":0},{"$f":"-Налоги!V158","v":0},{"$f":"-Налоги!W158","v":0},{"$f":"-Налоги!X158","v":0},{"$f":"-Налоги!Y158","v":0},{"$f":"-Налоги!Z158","v":0},{"$f":"-Налоги!AA158","v":0}]
[]
[null,null,"Без учета применения мер стимулировани деятельности в сфере промышленности, предусмотренных СПИК:",null,null,{"$f":"SUM( H41:AA41)","v":0},null,{"$f":"SUM(H42:H45)","v":0},{"$f":"SUM(I42:I45)","v":0},0,0,0,0,0,0,0,0,0,0,0,0,0,0,0,0,0,0]
[null,null,"в федеральный бюджет",{"$f":"D36","v":"тыс. руб."},"Лист: Налоги",{"$f":"SUM( H42:AA42)","v":0},null,{"$f":"-Налоги!H164","v":0},{"$f":"-Налоги!I164","v":0},{"$f":"-Налоги!J164","v":0},{"$f":"-Налоги!K164","v":0},{"$f":"-Налоги!L164","v":0},{"$f":"-Налоги!M164","v":0},{"$f":"-Налоги!N164","v":0},{"$f":"-Налоги!O164","v":0},{"$f":"-Налоги!P164","v":0},{"$f":"-Налоги!Q164","v":0},{"$f":"-Налоги!R164","v":0},{"$f":"-Налоги!S164","v":0},{"$f":"-Налоги!T164","v":0},{"$f":"-Налоги!U164","v":0},{"$f":"-Налоги!V164","v":0},{"$f":"-Налоги!W164","v":0},{"$f":"-Налоги!X164","v":0},{"$f":"-Налоги!Y164","v":0},{"$f":"-Налоги!Z164","v":0},{"$f":"-Налоги!AA164","v":0}]
[null,null,"в региональный бюджет",{"$f":"D37","v":"тыс. руб."},"Лист: Налоги",{"$f":"SUM( H43:AA43)","v":0},null,{"$f":"-Налоги!H166","v":0},{"$f":"-Налоги!I166","v":0},{"$f":"-Налоги!J166","v":0},{"$f":"-Налоги!K166","v":0},{"$f":"-Налоги!L166","v":0},{"$f":"-Налоги!M166","v":0},{"$f":"-Налоги!N166","v":0},{"$f":"-Налоги!O166","v":0},{"$f":"-Налоги!P166","v":0},{"$f":"-Налоги!Q166","v":0},{"$f":"-Налоги!R166","v":0},{"$f":"-Налоги!S166","v":0},{"$f":"-Налоги!T166","v":0},{"$f":"-Налоги!U166","v":0},{"$f":"-Налоги!V166","v":0},{"$f":"-Налоги!W166","v":0},{"$f":"-Налоги!X166","v":0},{"$f":"-Налоги!Y166","v":0},{"$f":"-Налоги!Z166","v":0},{"$f":"-Налоги!AA166","v":0}]
[null,null,"в местный бюджет","тыс. руб.","Лист: Налоги",{"$f":"SUM( H44:AA44)","v":0},null,{"$f":"-Налоги!H171","v":0},{"$f":"-Налоги!I171","v":0},{"$f":"-Налоги!J171","v":0},{"$f":"-Налоги!K171","v":0},{"$f":"-Налоги!L171","v":0},{"$f":"-Налоги!M171","v":0},{"$f":"-Налоги!N171","v":0},{"$f":"-Налоги!O171","v":0},{"$f":"-Налоги!P171","v":0},{"$f":"-Налоги!Q171","v":0},{"$f":"-Налоги!R171","v":0},{"$f":"-Налоги!S171","v":0},{"$f":"-Налоги!T171","v":0},{"$f":"-Налоги!U171","v":0},{"$f":"-Налоги!V171","v":0},{"$f":"-Налоги!W171","v":0},{"$f":"-Налоги!X171","v":0},{"$f":"-Налоги!Y171","v":0},{"$f":"-Налоги!Z171","v":0},{"$f":"-Налоги!AA171","v":0}]
[null,null,"страховые взносы","тыс. руб.","Лист: Налоги",{"$f":"SUM( H45:AA45)","v":0},null,{"$f":"-Налоги!H174","v":0},{"$f":"-Налоги!I174","v":0},{"$f":"-Налоги!J174","v":0},{"$f":"-Налоги!K174","v":0},{"$f":"-Налоги!L174","v":0},{"$f":"-Налоги!M174","v":0},{"$f":"-Налоги!N174","v":0},{"$f":"-Налоги!O174","v":0},{"$f":"-Налоги!P174","v":0},{"$f":"-Налоги!Q174","v":0},{"$f":"-Налоги!R174","v":0},{"$f":"-Налоги!S174","v":0},{"$f":"-Налоги!T174","v":0},{"$f":"-Налоги!U174","v":0},{"$f":"-Налоги!V174","v":0},{"$f":"-Налоги!W174","v":0},{"$f":"-Налоги!X174","v":0},{"$f":"-Налоги!Y174","v":0},{"$f":"-Налоги!Z174","v":0},{"$f":"-Налоги!AA174","v":0}]
[]
[null,"Количество создаваемых рабочих мест",null,{"$f":"Предпосылки!D101","v":"чел."},"Лист: Предпосылки",{"$f":"SUM( H47:AA47)","v":0},null,{"$f":"Предпосылки!H98-Предпосылки!G98","v":0},{"$f":"Предпосылки!I98-Предпосылки!H98","v":0},{"$f":"Предпосылки!J98-Предпосылки!I98","v":0},{"$f":"Предпосылки!K98-Предпосылки!J98","v":0},{"$f":"Предпосылки!L98-Предпосылки!K98","v":0},{"$f":"Предпосылки!M98-Предпосылки!L98","v":0},{"$f":"Предпосылки!N98-Предпосылки!M98","v":0},{"$f":"Предпосылки!O98-Предпосылки!N98","v":0},{"$f":"Предпосылки!P98-Предпосылки!O98","v":0},{"$f":"Предпосылки!Q98-Предпосылки!P98","v":0},{"$f":"Предпосылки!R98-Предпосылки!Q98","v":0},{"$f":"Предпосылки!S98-Предпосылки!R98","v":0},{"$f":"Предпосылки!T98-Предпосылки!S98","v":0},{"$f":"Предпосылки!U98-Предпосылки!T98","v":0},{"$f":"Предпосылки!V98-Предпосылки!U98","v":0},{"$f":"Предпосылки!W98-Предпосылки!V98","v":0},{"$f":"Предпосылки!X98-Предпосылки!W98","v":0},{"$f":"Предпосылки!Y98-Предпосылки!X98","v":0},{"$f":"Предпосылки!Z98-Предпосылки!Y98","v":0},{"$f":"Предпосылки!AA98-Предпосылки!Z98","v":0}]
[]
[null,"Источники привлечения средств для финансирования инвестиционного проекта"]
[]
[null,null,null,null,"Доля, %","Сумма, тыс. руб"]
[null,null,"Собственные средства",null,{"$f":"IFERROR(F52/$F$55,)","v":0},{"$f":"Предпосылки!F212+SUM(Предпосылки!H217:AB218)","v":0}]
[null,null,"Заемные средства",null,{"$f":"IFERROR(F53/$F$55,0)","v":0},{"$f":"SUM(Финансирование!H44:AA44,Финансирование!H83:AA83)","v":0}]
[null,null,"Бюджетные инвестиции",null,{"$f":"IFERROR(F54/$F$55,0)","v":0},{"$f":"Предпосылки!F233+Предпосылки!F234","v":0}]
[null,null,"Итого",null,{"$f":"SUM(E52:E54)","v":0},{"$f":"SUM(F52:F54)","v":0}]
[]
[null,"Показатели эффективности проекта"]
[]
[null,null,null,null,"Со СПИК","Без СПИК"]
[null,null,"NPV (чистая приведенная стоимость), тыс. руб.",null,{"$f":"'Эффективность (СПИК)'!F51","v":{"$error":"#DIV/0!"}},{"$f":"'Эффективность (Без СПИК)'!F51","v":{"$error":"#DIV/0!"}}]
[null,null,"IRR (внутренняя норма доходности),%",null,{"$f":"'Эффективность (СПИК)'!F52","v":{"$error":"#VALUE!"}},{"$f":"'Эффективность (Без СПИК)'!F52","v":{"$error":"#VALUE!"}}]
[null,null,"PI (индекс рентабельности инвестиций)",null,{"$f":"'Эффективность (СПИК)'!F59","v":{"$error":"#DIV/0!"}},{"$f":"'Эффективность (Без СПИК)'!F59","v":{"$error":"#DIV/0!"}}]
[null,null,"PBP (простой период окупаемости), лет",null,{"$f":"'Эффективность (СПИК)'!F53","v":{"$error":"#DIV/0!"}},{"$f":"'Эффективность (Без СПИК)'!F53","v":{"$error":"#DIV/0!"}}]
[null,null,"DPBP (дисконтированный период окупаемости), лет",null,{"$f":"'Эффективность (СПИК)'!F54","v":{"$error":"#DIV/0!"}},{"$f":"'Эффективность (Без СПИК)'!F54","v":{"$error":"#DIV/0!"}}]
[null,null,"Объем налоговых отчислений (без НДС, акцизов), тыс. руб.",null,{"$f":"'Эффективность (СПИК)'!F63","v":0},{"$f":"'Эффективность (Без СПИК)'!F63","v":0}]
[null,null,"BNPV бюджетная эффективность, тыс. руб.",null,{"$f":"'Эффективность (СПИК)'!F67","v":0},{"$f":"'Эффективность (Без СПИК)'!F67","v":0}]
[null,null,"Ставка дисконтирования, %",null,{"$f":"WACC!D20","v":0.22129706066895843}]
[]
[null,"Проверка корректности финансовой модели"]
[]
[null,null,"Проверка",null,"Результат"]
[null,null,"Лист \"Капитальные вложения\"",null,{"$f":"'Капитальные вложения'!L1","v":"Верно"}]
[null,null,"Лист \"Финансирование\"",null,{"$f":"Финансирование!L1","v":"Верно"}]
[null,null,"Лист \"Отчетность\" (СПИК)",null,{"$f":"'Отчетность (СПИК)'!L1","v":"Имеются некорректные данные"}]
[null,null,"Лист \"Отчетность\" (Без СПИК)",null,{"$f":"'Отчетность (Без СПИК)'!L1","v":"Имеются некорректные данные"}]

{"sheet":"Предпосылки","index":2,"n_rows":368,"n_cols":29,"rows_kept":368,"cut":false,"hidden":false,"merged":[[1,5,2,5],[1,4,2,4],[1,3,2,3],[1,2,2,2]]}
[null,null,null,null,{"$f":"\"Лист:  \" & RIGHT(CELL(\"filename\",A1),LEN(CELL(\"filename\",A1))-SEARCH(\"]\",CELL(\"filename\",A1)))","v":"Лист:  Предпосылки"}]
[null,null,"Параметр","Ед. изм.","Источник","Текущее значение",null,{"$f":"YEAR(F7)","v":2023},{"$f":"$H$2+H3","v":2024},2025,2026,2027,2028,2029,2030,2031,2032,2033,2034,2035,2036,2037,{"$f":"$H$2+V3","v":2038},2039,2040,2041,2042,2043,2044]
[null,null,null,null,null,null,null,1,2,3,4,5,6,7,8,9,10,11,12,13,14,15,16,17,18,19,20,21]
[]
[null,"Общие допущения"]
[]
[null,null,"Дата оценки","х",null,"2023-08-30"]
[null,null,"Срок СПИК","лет",null,{"$f":"SUM(H8:AB8)","v":15},null,1,1,1,1,1,1,1,1,1,1,1,1,1,1,1,0,0,0,0,0,0]
[null,null,"Инвестиционная фаза проекта","х",null,null,null,1,1,1,1]
[null,null,"Эксплуатационная фаза проекта","х",null,null,null,null,null,null,null,1,1,1,1,1,1,1,1,1,1,1,0,0,0,0,0,0]
[null,null,"Действие налоговых льгот","лет","Лист: Налоги",{"$f":"Налоги!F191","v":15},null,{"$f":"Налоги!H191","v":1},{"$f":"Налоги!I191","v":1},{"$f":"Налоги!J191","v":1},{"$f":"Налоги!K191","v":1},{"$f":"Налоги!L191","v":1},{"$f":"Налоги!M191","v":1},{"$f":"Налоги!N191","v":1},{"$f":"Налоги!O191","v":1},{"$f":"Налоги!P191","v":1},{"$f":"Налоги!Q191","v":1},{"$f":"Налоги!R191","v":1},{"$f":"Налоги!S191","v":1},{"$f":"Налоги!T191","v":1},{"$f":"Налоги!U191","v":1},{"$f":"Налоги!V191","v":1},{"$f":"Налоги!W191","v":0},{"$f":"Налоги!X191","v":0},{"$f":"Налоги!Y191","v":0},{"$f":"Налоги!Z191","v":0},{"$f":"Налоги!AA191","v":0},0]
[null,null,"Дней в отчетном периоде","дн",null,null,null,{"$f":"DATE(I2,1,1)-DATE(H2,1,1)","v":365},{"$f":"DATE(J2,1,1)-DATE(I2,1,1)","v":366},365,365,365,366,365,365,365,366,365,365,365,366,365,{"$f":"DATE(X2,1,1)-DATE(W2,1,1)","v":365},365,366,365,365,365]
[]
[null,null,"Ставка дисконтирования (WACC)","%",null,{"$f":"WACC!D20","v":0.22129706066895843}]
[null,null,"Cтавка дисконтирования для расчета бюджетной эффективности ","%","Ключевая ставка ЦБ РФ",7.4999999999999997E-2]
[null,null,"Темп роста денежных потоков в постпрогнозном периоде (g)","%",null,{"$f":"INDEX(H20:AB20,,MATCH(0,H8:AB8,0)-1)","v":0.04}]
[]
[null,"Макроэкономические допущения"]
[]
[null,null,"Инфляция в России (ИПЦ)","%","МЭР или иные источники",null,null,5.5E-2,0.04,0.04,0.04,0.04,0.04,0.04,0.04,0.04,0.04,0.04,0.04,0.04,0.04,0.04,0.04,0.04,0.04,0.04,0.04,0.04]
[null,null,"Рост оплаты труда","%","МЭР или иные источники",null,null,2.5999999999999999E-2,2.9000000000000001E-2,2.8000000000000001E-2,2.8000000000000001E-2,2.8000000000000001E-2,2.8000000000000001E-2,2.8000000000000001E-2,2.8000000000000001E-2,2.8000000000000001E-2,2.8000000000000001E-2,2.8000000000000001E-2,2.8000000000000001E-2,2.8000000000000001E-2,2.8000000000000001E-2,2.8000000000000001E-2,2.8000000000000001E-2,2.8000000000000001E-2,2.8000000000000001E-2,2.8000000000000001E-2,2.8000000000000001E-2,2.8000000000000001E-2]
[null,null,"Индекс цен производителей (ИЦП) или темп прироста цен на каждый вид сырья отдельной строкой","%","МЭР или иные источники",null,null,4.4999999999999998E-2,4.2999999999999997E-2,3.9E-2,3.9E-2,3.9E-2,3.9E-2,3.9E-2,3.9E-2,3.9E-2,3.9E-2,3.9E-2,3.9E-2,3.9E-2,3.9E-2,3.9E-2,3.9E-2,3.9E-2,3.9E-2,3.9E-2,3.9E-2,3.9E-2]
[null,null,"Курс доллара США","руб./долл. США"]
[null,null,"Инфляция в США","%"]
[null,null,"…"]
[]
[null,"Индекс-дефлятор (цепной коэффициент):"]
[null,null,"ИПЦ РФ ","х",null,null,null,1,{"$f":"H28*(1+I20)","v":1.04},1.0816000000000001,1.1248640000000001,1.1698585600000002,1.2166529024000003,1.2653190184960004,1.3159317792358405,1.3685690504052741,1.4233118124214852,1.4802442849183446,1.5394540563150785,1.6010322185676817,1.6650735073103891,1.7316764476028046,{"$f":"V28*(1+W20)","v":1.8009435055069167},1.8729812457271935,1.9479004955562813,2.0258165153785326,2.1068491759936738,2.1911231430334208]
[null,null,"Заработная плата персонала","х",null,null,null,1,{"$f":"H29*(1+I21)","v":1.0289999999999999},{"$f":"I29*(1+J21)","v":1.057812},1.087430736,1.1178787966079999,1.149179402913024,1.1813564261945888,1.2144344061280372,1.2484385694996223,1.2833948494456118,1.3193299052300889,1.3562711425765315,1.3942467345686744,1.4332856431365975,1.4734176411444222,1.5146733350964661,1.5570841884791671,1.6006825457565839,1.6455016570377683,1.6915757034348258,1.7389398231310009]
[null,null,"ИЦП РФ","х",null,null,null,1,{"$f":"H30*(1+I22)","v":1.0429999999999999},{"$f":"I30*(1+J22)","v":1.0836769999999998},{"$f":"J30*(1+K22)","v":1.1259404029999998},1.1698520787169997,1.2154763097869625,1.2628798858686541,1.3121322014175314,1.3633053572728151,1.4164742662064549,1.4717167625885066,1.5291137163294581,1.5887491512663068,1.6507103681656927,1.7150880725241546,1.7819765073525966,1.8514735911393478,1.9236810611937822,1.9987046225803395,2.0766541028609726,2.1576436128725502]
[null,null,"…"]
[]
[null,"Предпосылки по расчету выручки"]
[]
[null,"Среднегодовые цены на реализуемую продукцию (без учета НДС)"]
[null,null,"Продукция 1","руб./ ед. ",null,null,null,{"$f":"$F36*H28","v":0},0,0,0,0,0,0,0,0,0,0,0,0,0,0,0,0,0,0,0,0]
[null,null,"Продукция 2","руб./ ед. ",null,null,null,{"$f":"$F37*H28","v":0},0,0,0,0,0,0,0,0,0,0,0,0,0,0,0,0,0,0,0,0]
[null,null,"…","руб./ ед. "]
[]
[]
[null,"Объем производства продукции"]
[null,null,"Продукция 1"," тыс. ед."]
[null,null,"Продукция 2"," тыс. ед."]
[null,null,"…"," тыс. ед."]
[null,null,"Итого"," тыс. ед.",null,null,null,{"$f":"SUM(H42:H44)","v":0},{"$f":"SUM(I42:I44)","v":0},0,0,0,0,0,0,0,0,0,0,0,0,0,0,0,0,0,0,0]
[]
[null,"Объем реализации продукции"]
[null,null,"Продукция 1"," тыс. ед.",null,null,null,{"$f":"H42","v":0},{"$f":"I42","v":0},0,0,0,0,0,0,0,0,0,0,0,0,0,0,0,0,0,0,0]
[null,null,"Продукция 2"," тыс. ед.",null,null,null,{"$f":"H43","v":0},0,0,0,0,0,0,0,0,0,0,0,0,0,0,0,0,0,0,0,0]
[null,null,"…"," тыс. ед.",null,null,null,0,0,0,0,0,0,0,0,0,0,0,0,0,0,0,0,0,0,0,0,0]
[null,null,"Итого"," тыс. ед.",null,null,null,{"$f":"SUM(H48:H50)","v":0},0,0,0,0,0,0,0,0,0,0,0,0,0,{"$f":"SUM(V48:V50)","v":0},0,0,0,0,0,0]
[]
[null,"Изменение объема реализации продукции"]
[null,null,"Продукция 1","%",null,null,null,{"$f":"IFERROR((H48-G48)/G48,\"-\")","v":"-"},"-","-","-","-","-","-","-","-","-","-",{"$f":"IFERROR((S48-R48)/R48,\"-\")","v":"-"},"-","-","-","-","-","-","-","-","-"]
[null,null,"Продукция 2","%",null,null,null,{"$f":"IFERROR((H49-G49)/G49,\"-\")","v":"-"},"-","-","-","-","-","-","-","-","-","-",{"$f":"IFERROR((S49-R49)/R49,\"-\")","v":"-"},"-","-","-","-","-","-","-","-","-"]
[null,null,"…","%"]
[]
[null,"Максимальная производственная мощность"]
[null,null,"Продукция 1"," тыс. ед."]
[null,null,"Продукция 2"," тыс. ед."]
[null,null,"…"," тыс. ед."]
[null,null,"Итого"," тыс. ед.",null,null,null,{"$f":"SUM(H59:H61)","v":0},0,0,0,0,0,0,0,0,0,0,0,0,0,{"$f":"SUM(V59:V61)","v":0},0,0,0,0,0,0]
[]
[null,"Загрузка производственных мощностей"]
[null,null,"Продукция 1","%",null,null,null,{"$f":"IFERROR(H42/H59,\"-\")","v":"-"},"-","-","-","-","-","-","-","-","-","-","-","-","-","-","-","-","-","-","-","-"]
[null,null,"Продукция 2","%",null,null,null,{"$f":"IFERROR(H43/H60,\"-\")","v":"-"},"-","-","-","-","-","-","-","-","-","-","-","-","-","-","-","-","-","-","-","-"]
[null,null,"…","%"]
[null,null,"Итого"," тыс. ед.",null,null,null,{"$f":"H45/H62","v":{"$error":"#DIV/0!"}},{"$f":"I45/I62","v":{"$error":"#DIV/0!"}},{"$error":"#DIV/0!"},{"$error":"#DIV/0!"},{"$error":"#DIV/0!"},{"$error":"#DIV/0!"},{"$error":"#DIV/0!"},{"$error":"#DIV/0!"},{"$error":"#DIV/0!"},{"$error":"#DIV/0!"},{"$error":"#DIV/0!"},{"$error":"#DIV/0!"},{"$error":"#DIV/0!"},{"$error":"#DIV/0!"},{"$error":"#DIV/0!"},{"$error":"#DIV/0!"},{"$error":"#DIV/0!"},{"$error":"#DIV/0!"},{"$error":"#DIV/0!"},{"$error":"#DIV/0!"},{"$error":"#DIV/0!"}]
[]
[null,"Предпосылки по расчету себестоимости"]
[]
[null,"Среднегодовые цены удельных расходов (без учета НДС)"]
[]
[null,"Продукция 1"]
[null,null,"Сырье/материалы 1","руб./ удел. ед. ",null,null,null,{"$f":"$F75*H30","v":0},0,0,0,0,0,0,0,0,0,0,0,0,0,0,0,0,0,0,0,0]
[null,null,"Сырье/материалы 2","руб./ удел. ед. ",null,null,null,{"$f":"$F76*H30","v":0},0,0,0,0,0,0,0,0,0,0,0,0,0,0,0,0,0,0,0,0]
[null,null,"…"]
[]
[null,"Продукция 2"]
[null,null,"Сырье/материалы 1","руб./ удел. ед. ",null,null,null,{"$f":"$F80*H30","v":0},0,0,0,0,0,0,0,0,0,0,0,0,0,0,0,0,0,0,0,0]
[null,null,"Сырье/материалы 3","руб./ удел. ед. ",null,null,null,{"$f":"$F81*H30","v":0},0,0,0,0,0,0,0,0,0,0,0,0,0,0,0,0,0,0,0,0]
[null,null,"…"]
[]
[null,"Удельные расходы в расчете на единицу продукции"]
[]
[null,"Продукция 1"]
[null,null,"Сырье/материалы 1","удел. ед. / ед. продукции",null,null,null,{"$f":"$F$87","v":0},{"$f":"$F$87","v":0},0,0,0,0,0,0,0,0,0,0,0,0,0,0,0,0,0,0,0]
[null,null,"Сырье/материалы 2","удел. ед. / ед. продукции",null,null,null,{"$f":"$F$88","v":0},{"$f":"$F$88","v":0},0,0,0,0,0,0,0,0,0,0,0,0,0,0,0,0,0,0,0]
[null,null,"…"]
[]
[null,"Продукция 2"]
[null,null,"Сырье/материалы 1","удел. ед. / ед. продукции",null,null,null,{"$f":"$F$92","v":0},{"$f":"$F$92","v":0},0,0,0,0,0,0,0,0,0,0,0,0,0,0,0,0,0,0,0]
[null,null,"Сырье/материалы 3","удел. ед. / ед. продукции",null,null,null,{"$f":"$F$93","v":0},{"$f":"$F$93","v":0},0,0,0,0,0,0,0,0,0,0,0,0,0,0,0,0,0,0,0]
[null,null,"…"]
[]
[null,"Расходы на персонал"]
[]
[null,"Численность рабочих мест в соответствии со штатным расписанием",null,null,null,null,null,{"$f":"SUM(H110,H122)","v":0},{"$f":"SUM(I110,I122)","v":0},0,0,0,0,0,0,0,0,0,0,0,0,0,0,0,0,0,0,0]
[]
[null,{"$f":" \"Сотрудники с ФОТ менее \" & F264  &\" тыс. рублей/год\"","v":"Сотрудники с ФОТ менее 1917 тыс. рублей/год"}]
[null,null,"Производственный персонал","чел.",null,null,null,{"$f":"SUBTOTAL(9,H102:H103)","v":0},{"$f":"SUBTOTAL(9,I102:I103)","v":0},0,0,0,0,0,0,0,0,0,0,0,0,0,0,0,0,0,0,0]
[null,null,"Категория 1","чел."]
[null,null,"…","чел."]
[null,null,"Вспомогательный персонал","чел.",null,null,null,{"$f":"SUBTOTAL(9,H105:H106)","v":0},{"$f":"SUBTOTAL(9,I105:I106)","v":0},0,0,0,0,0,0,0,0,0,0,0,0,0,0,0,0,0,0,0]
[null,null,"Категория 1","чел."]
[null,null,"…","чел."]
[null,null,"Административный персонал","чел.",null,null,null,{"$f":"SUBTOTAL(9,H108:H109)","v":0},{"$f":"SUBTOTAL(9,I108:I109)","v":0},0,0,0,0,0,0,0,0,0,0,0,0,0,0,0,0,0,0,0]
[null,null,"Категория 1","чел."]
[null,null,"…","чел."]
[null,null,"Итого","чел.",null,null,null,{"$f":"SUBTOTAL(9,H101:H109)","v":0},{"$f":"SUBTOTAL(9,I101:I109)","v":0},0,0,0,0,0,0,0,0,0,0,0,0,0,0,0,0,0,0,0]
[]
[null,{"$f":" \"Сотрудники с ФОТ более или равно \" & F264  &\" тыс. рублей/год (каждый указывается отдельно)\"","v":"Сотрудники с ФОТ более или равно 1917 тыс. рублей/год (каждый указывается отдельно)"}]
[null,null,"Производственный персонал","чел.",null,null,null,{"$f":"SUBTOTAL(9,H114:H115)","v":0},{"$f":"SUBTOTAL(9,I114:I115)","v":0},0,0,0,0,0,0,0,0,0,0,0,0,0,0,0,0,0,0,0]
[null,null,"Сотрудник 1 ","чел."]
[null,null,"…","чел."]
[null,null,"Вспомогательный персонал","чел.",null,null,null,{"$f":"SUBTOTAL(9,H117:H118)","v":0},{"$f":"SUBTOTAL(9,I117:I118)","v":0},0,0,0,0,0,0,0,0,0,0,0,0,0,0,0,0,0,0,0]
[null,null,"Сотрудник 1 ","чел."]
[null,null,"…","чел."]
[null,null,"Административный персонал","чел.",null,null,null,{"$f":"SUBTOTAL(9,H120:H121)","v":0},{"$f":"SUBTOTAL(9,I120:I121)","v":0},0,0,0,0,0,0,0,0,0,0,0,0,0,0,0,0,0,0,0]
[null,null,"Сотрудник 1 ","чел."]
[null,null,"…","чел."]
[null,null,"Итого","чел.",null,null,null,{"$f":"SUBTOTAL(9,H113:H121)","v":0},{"$f":"SUBTOTAL(9,I113:I121)","v":0},0,0,0,0,0,0,0,0,0,0,0,0,0,0,0,0,0,0,0]
[]
[null,"Фонд оплаты труда (на 1 сотрудника)"]
[]
[null,{"$f":"B100","v":"Сотрудники с ФОТ менее 1917 тыс. рублей/год"}]
[null,null,{"$f":"C101","v":"Производственный персонал"},"тыс. руб.",null,null,null,{"$f":"SUBTOTAL(9,H128:H129)","v":0},{"$f":"SUBTOTAL(9,I128:I129)","v":0},0,0,0,0,0,0,0,0,0,0,0,0,0,0,0,0,0,0,0]
[null,null,"Категория 1","тыс. руб."]
[null,null,"…","тыс. руб."]
[null,null,"Вспомогательный персонал","тыс. руб.",null,null,null,{"$f":"SUBTOTAL(9,H131:H132)","v":0},{"$f":"SUBTOTAL(9,I131:I132)","v":0},0,0,0,0,0,0,0,0,0,0,0,0,0,0,0,0,0,0,0]
[null,null,"Категория 1","тыс. руб."]
[null,null,"…","тыс. руб."]
[null,null,"Административный персонал","тыс. руб.",null,null,null,{"$f":"SUBTOTAL(9,H134:H135)","v":0},{"$f":"SUBTOTAL(9,I134:I135)","v":0},0,0,0,0,0,0,0,0,0,0,0,0,0,0,0,0,0,0,0]
[null,null,"Категория 1","тыс. руб."]
[null,null,"…","тыс. руб."]
[null,null,"Итого","тыс. руб.",null,null,null,{"$f":"SUBTOTAL(9,H127:H135)","v":0},{"$f":"SUBTOTAL(9,I127:I135)","v":0},0,0,0,0,0,0,0,0,0,0,0,0,0,0,0,0,0,0,0]
[]
[null,{"$f":"B112","v":"Сотрудники с ФОТ более или равно 1917 тыс. рублей/год (каждый указывается отдельно)"}]
[null,null,{"$f":"C113","v":"Производственный персонал"},"тыс. руб.",null,null,null,{"$f":"SUBTOTAL(9,H140:H141)","v":0},0,0,0,0,0,0,0,0,0,0,0,0,0,{"$f":"SUBTOTAL(9,V140:V141)","v":0},0,0,0,0,0,0]
[null,null,"Сотрудник 1 ","тыс. руб."]
[null,null,"…","тыс. руб."]
[null,null,"Вспомогательный персонал","тыс. руб.",null,null,null,{"$f":"SUBTOTAL(9,H143:H144)","v":0},0,0,0,0,0,0,0,0,0,0,0,0,0,{"$f":"SUBTOTAL(9,V143:V144)","v":0},0,0,0,0,0,0]
[null,null,"Сотрудник 1 ","тыс. руб."]
[null,null,"…","тыс. руб."]
[null,null,"Административный персонал","тыс. руб.",null,null,null,{"$f":"SUBTOTAL(9,H146:H147)","v":0},0,0,0,0,0,0,0,0,0,0,0,0,0,{"$f":"SUBTOTAL(9,V146:V147)","v":0},0,0,0,0,0,0]
[null,null,"Сотрудник 1 ","тыс. руб."]
[null,null,"…","тыс. руб."]
[null,null,"Итого","тыс. руб.",null,null,null,{"$f":"SUBTOTAL(9,H139:H147)","v":0},0,0,0,0,0,0,0,0,0,0,0,0,0,{"$f":"SUBTOTAL(9,V139:V147)","v":0},0,0,0,0,0,0]
[]
[null,"Иные расходы"]
[]
[null,null,"Ранее понесенные расходы на реализацию проекта (за 12 мес до объявления конкурса по СПИК 2.0 или в календарный год подачи заявки на заключение СПИК 1.0):","тыс. руб."]
[null,null,"из них капитальные вложения","тыс. руб."]
[]
[null,"Капитальные затраты и амортизация"]
[]
[null,"Затраты на создание/модернизацию (без НДС)"]
[null,null,"Здания и сооружения","тыс. руб."]
[null,null,"Машины и оборудование","тыс. руб."]
[null,null,"Земля ","тыс. руб."]
[null,null,"Транспортные средства","тыс. руб."]
[null,null,"Нематериальные активы с определенным СПИ","тыс. руб."]
[null,null,"Нематериальные активы с неопределенным СПИ (не амортизируются)","тыс. руб."]
[null,null,"Итого","тыс. руб.",null,null,null,{"$f":"SUM(H158:H163)","v":0},0,0,0,0,0,0,0,0,0,0,0,0,0,0,0,0,0,0,0,0]
[]
[null,"Затраты на поддержание (без НДС)"]
[null,null,"Здания и сооружения","тыс. руб."]
[null,null,"Машины и оборудование","тыс. руб."]
[null,null,"Земля","тыс. руб."]
[null,null,"Транспортные средства","тыс. руб."]
[null,null,"Нематериальные активы с определенным СПИ","тыс. руб."]
[null,null,"Нематериальные активы с неопределенным СПИ (не амортизируются)","тыс. руб."]
[null,null,"Итого","тыс. руб.",null,null,null,{"$f":"SUM(H167:H172)","v":0},0,0,0,0,0,0,0,0,0,0,0,0,0,0,0,0,0,0,0,0]
[]
[null,"Принятие к учету объектов капитальных вложений к учету (без НДС)"]
[null,null,"Здания и сооружения","тыс. руб."]
[null,null,"Машины и оборудование","тыс. руб."]
[null,null,"Земля","тыс. руб."]
[null,null,"Транспортные средства","тыс. руб."]
[null,null,"Нематериальные активы с определенным СПИ","тыс. руб."]
[null,null,"Нематериальные активы с неопределенным СПИ (не амортизируются)","тыс. руб."]
[null,null,"Итого","тыс. руб.",null,null,null,{"$f":"SUM(H176:H181)","v":0},0,0,0,0,0,0,0,0,0,0,0,0,0,0,0,0,0,0,0,0]
[]
[null,"Срок полезного использования:"]
[null,null,"Здания и сооружения","лет",null,20]
[null,null,"Машины и оборудование","лет",null,10]
[null,null,"Транспортные средства","лет",null,7]
[null,null,"Нематериальные активы с определенным СПИ","лет",null,20]
[]
[null,"Норма амортизации"]
[null,null,"Здания и сооружения","%",null,{"$f":"One/F185","v":0.05}]
[null,null,"Машины и оборудование","%",null,{"$f":"One/F186","v":0.1}]
[null,null,"Транспортные средства","%",null,{"$f":"One/F187","v":0.14285714285714285}]
[null,null,"Нематериальные активы с определенным СПИ","%",null,{"$f":"One/F188","v":0.05}]
[]
[null,"Оборотный капитал"]
[]
[null,"Период оборачиваемости:"]
[null,"Запасы"]
[null,"Продукция 1"]
[null,null,"Сырье/материалы 1","дн.",null,null,null,{"$f":"$F201","v":0},{"$f":"$F201","v":0},0,0,0,0,0,0,0,0,0,0,0,0,0,0,0,{"$f":"$F201","v":0},0,0,{"$f":"$F201","v":0}]
[null,null,"Сырье/материалы 2","дн.",null,null,null,{"$f":"$F202","v":0},0,0,0,0,0,0,0,0,0,0,0,0,0,0,0,0,0,0,0,0]
[null,null,"…"]
[null,"Продукция 2"]
[null,null,"Сырье/материалы 1","дн.",null,{"$f":"F201","v":0},null,{"$f":"$F$205","v":0},{"$f":"$F$205","v":0},0,0,0,0,0,0,0,0,0,0,0,0,0,0,0,{"$f":"$F$205","v":0},0,0,0]
[null,null,"Сырье/материалы 3","дн.",null,null,null,{"$f":"$F$205","v":0},0,0,0,0,0,0,0,0,0,0,0,0,0,0,0,0,0,0,0,0]
[null,null,"…"]
[]
[null,"Источники финансирования проекта"]
[]
[null,"Ранее привлечено в проект"]
[null,null,"Собственные средства","тыс. руб."]
[null,null,"Заемное финансирование","тыс. руб."]
[null,null,"Процентная ставка для ранее привлеченного финансирования","%"]
[]
[null,"Финансирование в течение срока действия СПИК"]
[null,null,"Вложение в уставный капитал","тыс. руб.",null,{"$f":"SUM(H217:AA217)","v":0}]
[null,null,"Вложение в добавочный капитал","тыс. руб.",null,{"$f":"SUM(H218:AA218)","v":0}]
[]
[null,null,"Привлечение долгосрочного заёмного финансирования","х"]
[null,null,"Привлечение краткосрочного заемного финансирования","х"]
[null,null,"Процентная ставка по займу 1","%",null,null,null,{"$f":"$F$222","v":0},{"$f":"$F$222","v":0},0,0,0,0,0,0,0,0,0,0,0,0,0,0,0,0,0,0,0]
[null,null,"Процентная ставка по займу 2","%",null,null,null,{"$f":"$F$223","v":0},{"$f":"$F$223","v":0},0,0,0,0,0,0,0,0,0,0,0,0,0,0,0,0,0,0,0]
[null,null,"…"]
[null,null,"Процентная ставка по краткосрочному займу","%",null,null,null,{"$f":"$F$225","v":0},{"$f":"$F$225","v":0},0,0,0,0,0,0,0,0,0,0,0,0,0,0,0,0,0,0,0]
[]
[null,null,"Общая сумма займа 1","тыс. руб.",null,{"$f":"Финансирование!F13","v":0}]
[null,null,"Общая сумма займа 2","тыс. руб.",null,{"$f":"Финансирование!F28","v":0}]
[null,null,"…"]
[]
[null,"Получение государственных субсидий"]
[]
[null,null,"Получение субсидий, включаемых в налогооблогаемую базу","тыс. руб.",null,{"$f":"SUM(H233:AB233)","v":0}]
[null,null,"Получение субсидий, не включаемых в налогооблагаемую базу","тыс. руб.",null,{"$f":"SUM(H234:AB234)","v":0}]
[]
[null,"Предпосылки по налогам и взносам в внебюджетные фонды"]
[]
[null,"Стандартные налоговые ставки"]
[null,null,"НДС (общая)","%","НК РФ",0.2]
[null,null,"НДС (льготная) - при наличии","%","НК РФ"]
[]
[null,null,"Налог на прибыль (общая ставка)","%","НК РФ",0.2]
[null,null,"Налог на прибыль в федеральный бюджет","%","НК РФ",null,null,{"$f":"IF(H2<=2030,3%,2%)","v":0.03},0.03,0.03,0.03,0.03,0.03,0.03,0.03,0.02,0.02,0.02,0.02,0.02,0.02,0.02,0.02,0.02,0.02,0.02,0.02,0.02]
[null,null,"Налог на прибыль в региональный бюджет","%","НК РФ",null,null,{"$f":"$F$242-H243","v":0.17},{"$f":"$F$242-I243","v":0.17},0.17,0.17,0.17,0.17,0.17,0.17,0.18000000000000002,0.18000000000000002,0.18000000000000002,0.18000000000000002,0.18000000000000002,0.18000000000000002,0.18000000000000002,0.18000000000000002,0.18000000000000002,0.18000000000000002,0.18000000000000002,0.18000000000000002,0.18000000000000002]
[null,null,"Налог на имущество организаций","%","НК РФ",2.1999999999999999E-2]
[null,null,"Транспортный налог","руб. / 1 л.с.","НК РФ"]
[null,null,"Земельный налог","%","НК РФ",1.4999999999999999E-2]
[null,null,"НДФЛ","%","НК РФ",0.13]
[]
[null,"Льготные налоговые ставки в сценарии Со СПИК"]
[null,null,"Налог на прибыль (общая)","%",null,null,null,{"$f":"SUM(H252:H253)","v":0},{"$f":"SUM(I252:I253)","v":0},0,0,0,0,0,0,0,0,0,0,0,0,0,0,0,0,0,0,0]
[null,null,"Налог на прибыль в федеральный бюджет","%","НК РФ ст. 284",null,null,{"$f":"IF(H253<H244,0,H243)","v":0},0,0,0,0,0,0,0,0,{"$f":"IF(Q253<Q244,0,Q243)","v":0},0,0,0,0,0,0,0,0,0,0,0]
[null,null,"Налог на прибыль в региональный бюджет","%","НПА субъекта"]
[null,null,"Налог на имущество организаций","%","НПА субъекта"]
[null,null,"Транспортный налог","руб. / 1 л.с.","НПА субъекта"]
[null,null,"Земельный налог","%","НПА МО"]
[]
[null,"Перенос убытков на будущее"]
[null,null,"Допустимое уменьшение налоговой базы для налогоплательщика - участника СПИК","%","НК РФ ст. 283",null,null,{"$f":"IF(H11=1,100%,H260)","v":1},1,1,1,1,1,1,1,1,1,1,1,1,1,1,0.5,0.5,0.5,0.5,0.5,0.5]
[null,null,"Допустимое уменьшение налоговой базы ","%","НК РФ ст. 283 + предпосылка о продлении действия п. 2.1 статьи 283",null,null,0.5,0.5,0.5,0.5,0.5,0.5,0.5,0.5,0.5,0.5,0.5,0.5,0.5,0.5,0.5,0.5,0.5,0.5,0.5,0.5,0.5]
[]
[null,"Отчисления с ФОТ во внебюджетные фонды"]
[]
[null,null,"Единая предельная величина базы для исчисления страховых взносов\n","тыс. руб.","ПП РФ от 25.11.2022 №2143",1917,null,{"$f":"$F264","v":1917},1917,1917,1917,1917,1917,1917,1917,1917,1917,1917,1917,1917,1917,1917,1917,1917,1917,1917,1917,1917]
[]
[null,"Тарифы страховых взносов "]
[]
[null,"ПФР"]
[null,null,"Общий тариф","%","НК РФ",0.22]
[null,null,"Пониженный тариф (свыше единой предельной величины базы)","%","НК РФ",0.1]
[null,"ФСС"]
[null,null,"Общий тариф","%","НК РФ",2.9000000000000001E-2]
[null,null,"Пониженный тариф (свыше единой предельной величины базы)","%","НК РФ",0]
[null,null,"Страховой взнос \"на травматизм\"","%","ФЗ от 21.12.2021 № 413-ФЗ",2E-3]
[null,"ФОМС"]
[null,null,"Общий тариф","%","НК РФ",5.0999999999999997E-2]
[]
[null,"Льготный тариф страховых взносов для участников СПИК1.0, являющихся участниками промышленных кластеров "]
[]
[null,null,"Данная мера запрашивается к включению в СПИК",null,null,0,null,"1- да, 0 - нет"]
[]
[null,null,"Единый пониженный тариф","%","п. 16 ст. 427 НК РФ",7.5999999999999998E-2]
[null,null,"Единый пониженный тариф (свыше единой предельной величины базы)","%","п. 16 ст. 427 НК РФ",0]
[]
[null,"Перечисление налогов по уровням бюджетов бюджетной системы РФ"]
[null,null,null,"Федеральный бюджет","Региональный бюджет","Местный бюджет"]
[null,null,"Налог на имущество организаций",null,1,null,null,"БК РФ"]
[null,null,"НДФЛ",null,0.85,0.15,null,"БК РФ"]
[null,null,"НДС",1,null,null,null,"БК РФ"]
[null,null,"Транспортны налог",null,1,null,null,"БК РФ"]
[null,null,"Земельный налог",null,null,1,null,"БК РФ"]
[]
[null,"Предпосылки по расчетам с контрагентами"]
[]
[null,"Сотрудники (заработная плата)"]
[null,null,"Уплата начисленной заработной платы в данном отченом периоде","%",null,0.96,null,"при оплате труда дважды в месяц"]
[]
[null,"Бюджетная система РФ"]
[null,null,"НДС"]
[null,null,"Срок возмещения НДС","дн","НК РФ",{"$f":"25+61+12","v":98}]
[null,null,"Возмещение НДС из бюджета в данном отчетном периоде","%",null,{"$f":"ROUND(One-F300/H12,4)","v":0.73150000000000004},null,"через 2 квартала"]
[null,null,"Уплата начисленного НДС в бюджет в данном отчетном периоде","%","НК РФ",{"$f":"ROUND(3/4,4)","v":0.75},null,"ежеквартально"]
[null,null,"Налог на прибыль"]
[null,null,"Порог для перехода с ежеквартального авансового платежа на ежемесячный","тыс. руб.","НК РФ ст. 286 п.3",15000]
[null,null,"Уплата начисленного налога на прибыль в бюджет в данном отченом периоде (ежеквартальная выручка не превышает 15 млн)","%","НК РФ",{"$f":"ROUND(3/4,4)","v":0.75},null,"ежеквартально"]
[null,null,"Уплата начисленного налога на прибыль в бюджет в данном отчетном периоде (ежеквартальная выручка более 15 млн)","%","НК РФ",{"$f":"ROUND(11/12,4)","v":0.91669999999999996},null,"ежемесячно"]
[null,null,"НДФЛ"]
[null,null,"Уплата начисленного НДФЛ в данном оттечном периоде","%",null,{"$f":"F296","v":0.96},null,"единовременно с оплатой труда "]
[null,null,"Внебюджетные фонды"]
[null,null,"Уплата начисленных взносов в данном отчетном периоде ","%","НК РФ",{"$f":"ROUND(11/12,4)","v":0.91669999999999996},null,"ежемесячно"]
[]
[null,"Расчеты с покупателями"]
[null,"Аванс"]
[null,null,"Доля авансового платежа","%","Предпосылка"]
[null,null,"Средний срок от перечисления авансового платежа до поставки продукции","дн","Предпосылка"]
[null,null,"Поступление авансовых платежей от операций, признанных в соответствующем отчетном периоде",null,null,null,null,{"$f":"One-$F$315/H$12","v":1},1,1,1,1,1,1,1,1,1,1,1,1,1,1,1,1,1,1,1,1]
[]
[null,"Последующая оплата"]
[null,null,"Доля за вычетом авансового платежа","%",null,{"$f":"One-F314","v":1}]
[null,null,"Период отсрочки ","дн","Предпосылка"]
[null,null,"Поступление выручки, признанной в соответствующем отчетном периоде, на расчетный счет","%",null,null,null,{"$f":"One-$F320/H$12","v":1},1,1,1,1,1,1,1,1,1,1,1,1,1,1,1,1,1,1,1,1]
[]
[null,"Расчеты по  кредитам и займам"]
[null,"Последующая оплата"]
[null,null,"Период отсрочки","дн","Предпосылка"]
[null,null,"Перечисление , признанных в соответствующем отчетном периоде","%",null,null,null,{"$f":"One-$F$325/H$12","v":1},1,1,1,1,1,1,1,1,1,1,1,1,1,1,1,1,1,1,1,1]
[]
[null,"Расчеты с поставщиками и подрядчиками"]
[]
[null,"По запасам"]
[null,"Аванс"]
[null,null,"Доля авансового платежа","%","Предпосылка"]
[null,null,"Средний срок от перечисления авансового платежа до поставки запасов","дн","Предпосылка"]
[null,null,"Перечисление авансовых платежей от операций, признанных в соответствующем отчетном периоде",null,null,null,null,{"$f":"One-$F$333/H$12","v":1},1,1,1,1,1,1,1,1,1,1,1,1,1,1,1,1,1,1,1,1]
[]
[null,"Последующая оплата"]
[null,null,"Доля за вычетом авансового платежа","%",null,{"$f":"One-F332","v":1}]
[null,null,"Период отсрочки","дн","Предпосылка"]
[null,null,"Перечисление платежа, признанного в соответствующем отчетном периоде, на расчетный счет","%",null,null,null,{"$f":"One-$F338/H$12","v":1},1,1,1,1,1,1,1,1,1,1,1,1,1,1,1,1,1,1,1,1]
[]
[null,"По электроэнергиии, топливу и иным прямым расходам"]
[null,"Аванс"]
[null,null,"Доля авансового платежа","%","Предпосылка"]
[null,null,"Средний срок от перечисления авансового платежа до поставки / оказания услуг","дн","Предпосылка"]
[null,null,"Перечисление авансовых платежей от операций, признанных в соответствующем отчетном периоде",null,null,null,null,{"$f":"One-$F$344/H$12","v":1},1,1,1,1,1,1,1,1,1,1,1,1,1,1,1,1,1,1,1,1]
[]
[null,"Последующая оплата"]
[null,null,"Доля за вычетом авансового платежа","%",null,{"$f":"One-F343","v":1}]
[null,null,"Период отсрочки","дн","Предпосылка"]
[null,null,"Перечисление платежа, признанного в соответствующем отчетном периоде, на расчетный счет","%",null,null,null,{"$f":"One-$F349/H$12","v":1},1,1,1,1,1,1,1,1,1,1,1,1,1,1,1,1,1,1,1,1]
[]
[null,"По общехозяйственным затратам (общепроизводственным, коммерческим и управленческим)"]
[]
[null,"Аванс"]
[null,null,"Доля авансового платежа","%","Предпосылка"]
[null,null,"Средний срок от перечисления авансового платежа до поставки / оказания услуг","дн","Предпосылка"]
[null,null,"Перечисление авансовых платежей от операций, признанных в соответствующем отчетном периоде",null,null,null,null,{"$f":"One-$F$356/H$12","v":1},1,1,1,1,1,1,1,1,1,1,1,1,1,1,1,1,1,1,1,1]
[]
[null,"Последующая оплата"]
[null,null,"Доля за вычетом авансового платежа","%",null,{"$f":"One-F355","v":1}]
[null,null,"Период отсрочки","дн","Предпосылка"]
[null,null,"Перечисление платежа, признанного в соответствующем отчетном периоде, на расчетный счет","%",null,null,null,{"$f":"One-$F361/H$12","v":1},1,1,1,1,1,1,1,1,1,1,1,1,1,1,1,1,1,1,1,1]
[]
[null,"По прочим расходам"]
[null,null,"Уплата начисленных прочих расходов","%",null,1,null,"оплачиваются в отчетном периоде, в котором происходит признание расходов"]
[]
[null,"По капитальным вложениям"]
[null,null,"Уплата начисленных расходов","%",null,1,null,"оплачиваются в отчетном периоде, в котором происходит признание расходов"]

{"sheet":"График инвестирования","index":3,"n_rows":39,"n_cols":30,"rows_kept":39,"cut":false,"hidden":false,"merged":[[1,29,2,29],[1,2,2,2],[1,3,2,3],[1,4,2,4],[1,5,2,5]]}
[null,null,null,null,{"$f":"\"Лист:  \" & RIGHT(CELL(\"filename\",A1),LEN(CELL(\"filename\",A1))-SEARCH(\"]\",CELL(\"filename\",A1)))","v":"Лист:  График инвестирования"}]
[null,null,"Наименование расхода","Ед. изм.","Источник","Итоговое значение",null,{"$f":"Предпосылки!H2","v":2023},{"$f":"Предпосылки!I2","v":2024},{"$f":"Предпосылки!J2","v":2025},{"$f":"Предпосылки!K2","v":2026},{"$f":"Предпосылки!L2","v":2027},{"$f":"Предпосылки!M2","v":2028},{"$f":"Предпосылки!N2","v":2029},{"$f":"Предпосылки!O2","v":2030},{"$f":"Предпосылки!P2","v":2031},{"$f":"Предпосылки!Q2","v":2032},{"$f":"Предпосылки!R2","v":2033},{"$f":"Предпосылки!S2","v":2034},{"$f":"Предпосылки!T2","v":2035},{"$f":"Предпосылки!U2","v":2036},{"$f":"Предпосылки!V2","v":2037},{"$f":"Предпосылки!W2","v":2038},{"$f":"Предпосылки!X2","v":2039},{"$f":"Предпосылки!Y2","v":2040},{"$f":"Предпосылки!Z2","v":2041},{"$f":"Предпосылки!AA2","v":2042},{"$f":"Предпосылки!AB2","v":2043},null,"Итоговое значение"]
[null,null,null,null,null,null,null,1,2,3,4,5,6,7,8,9,10,11,12,13,14,15,16,17,18,19,20,21]
[]
[null,"График инвестирования (расходования)"]
[]
[null,"1.","Приобретение и (или) долгосрочная аренда земельных участков, предназначенных для создания на них новых производственных мощностей, в том числе:","тыс. руб.",null,{"$f":"SUM(H7:AA7)","v":0},null,{"$f":"SUM(H8:H9)","v":0},{"$f":"SUM(I8:I9)","v":0},0,0,0,0,0,0,0,0,0,0,0,0,0,0,0,0,0,0]
[null,"1.1.",null,"тыс. руб.",null,{"$f":"SUM(H8:AA8)","v":0}]
[null,"…",null,"тыс. руб.",null,0]
[null,"2.","Строительство и (или) капитальный ремонт, и (или) реконструкция производственных здаий и сооружений, горных выработок, объектов электрической и тепловой энергии, в том числе:","тыс. руб.",null,0,null,{"$f":"SUM(H11,H14)","v":0},{"$f":"SUM(I11,I14)","v":0},0,0,0,0,0,0,0,0,0,0,0,0,0,0,0,0,0,0]
[null,"2.1.","Cтроительство, и (или) капитальный ремонт, и (или) реконструкция производственных зданий и сооружений горных выработок, объектов электрической и тепловой энергии, в том числе:","тыс. руб.",null,0,null,{"$f":"SUM(H12:H13)","v":0},{"$f":"SUM(I12:I13)","v":0},0,0,0,0,0,0,0,0,0,0,0,0,0,0,0,0,0,0]
[null,"2.1.1.",null,"тыс. руб.",null,0]
[null,"…",null,"тыс. руб.",null,0]
[null,"2.2","Проведение изыскательских работ и разработка проектной документации, в том числе:","тыс. руб.",null,0,null,{"$f":"SUM(H15:H16)","v":0},{"$f":"SUM(I15:I16)","v":0},0,0,0,0,0,0,0,0,0,0,0,0,0,0,0,0,0,0]
[null,"2.2.1.",null,"тыс. руб.",null,0]
[null,"…",null,"тыс. руб.",null,0]
[null,"3. ","Приобретение, сооружение, изготовление, доставка основных средств, в том числе:","тыс. руб.",null,0,null,{"$f":"SUM(H18,H21,H24)","v":0},{"$f":"SUM(I18,I21,I24)","v":0},0,0,0,0,0,0,0,0,0,0,0,0,0,0,0,0,0,0]
[null,"3.1.","Приобретение, сооружение, изготовление, доставка основных средств, в том числе:","тыс. руб.",null,0,null,{"$f":"SUM(H19:H20)","v":0},{"$f":"SUM(I19:I20)","v":0},0,0,0,0,0,0,0,0,0,0,0,0,0,0,0,0,0,0]
[null,"3.1.1.",null,"тыс. руб.",null,0]
[null,"…",null,"тыс. руб.",null,0]
[null,"3.2","Таможенные пошлины и таможенные сборы (при наличии), в том числе:","тыс. руб.",null,0,null,{"$f":"SUM(H22:H23)","v":0},{"$f":"SUM(I22:I23)","v":0},0,0,0,0,0,0,0,0,0,0,0,0,0,0,0,0,0,0]
[null,"3.2.1.",null,"тыс. руб.",null,0]
[null,"…",null,"тыс. руб.",null,0]
[null,"3.3","Строительно-монтажные и пусконаладочные работы, в том числе:","тыс. руб.",null,0,null,{"$f":"SUM(H25:H26)","v":0},{"$f":"SUM(I25:I26)","v":0},0,0,0,0,0,0,0,0,0,0,0,0,0,0,0,0,0,0]
[null,"3.3.1.",null,"тыс. руб.",null,0]
[null,"…",null,"тыс. руб.",null,0]
[null,"4.","Расконсервация и (или) модернизация основных средств, в том числе:","тыс. руб.",null,0,null,{"$f":"SUM(H28:H29)","v":0},{"$f":"SUM(I28:I29)","v":0},0,0,0,0,0,0,0,0,0,0,0,0,0,0,0,0,0,0]
[null,"4.1.",null,"тыс. руб.",null,0]
[null,"…",null,"тыс. руб.",null,0]
[null,"5.","Выполнение научноисследовательских, опытноконструкторских и технологических работ, проведение клинических испытаний либо приобретение исключительных прав на результаты интеллектуальной деятельности и (или) получение прав на использование результатов интеллектуальной деятельности, входящих в состав современной технологии, в том числе:","тыс. руб.",null,0,null,{"$f":"SUM(H31:H32)","v":0},{"$f":"SUM(I31:I32)","v":0},0,0,0,0,0,0,0,0,0,0,0,0,0,0,0,0,0,0]
[null,"5.1.",null,"тыс. руб.",null,0]
[null,"…",null,"тыс. руб.",null,0]
[null,"6.","Создание и (или) модернизация, реконструкция промышленной, транспортной, энергетической и социальной инфраструктуры, необходимой для реализации инвестиционного проекта, в том числе:","тыс. руб.",null,0,null,{"$f":"SUM(H34:H35)","v":0},{"$f":"SUM(I34:I35)","v":0},0,0,0,0,0,0,0,0,0,0,0,0,0,0,0,0,0,0]
[null,"6.1.",null,"тыс. руб.",null,0]
[null,"…",null,"тыс. руб.",null,0]
[null,"7.","Иные расходы на реализацию инвестиционного проекта, в том числе:","тыс. руб.",null,0,null,{"$f":"SUM(H37:H38)","v":0},{"$f":"SUM(I37:I38)","v":0},0,0,0,0,0,0,0,0,0,0,0,0,0,0,0,0,0,0]
[null,"7.1.",null,"тыс. руб.",null,0]
[null,"…",null,"тыс. руб.",null,0]
[null,null,"Итого","тыс. руб.",null,0,null,{"$f":"SUM(H7,H10,H17,H27,H30,H33,H36)","v":0},{"$f":"SUM(I7,I10,I17,I27,I30,I33,I36)","v":0},0,0,0,0,0,0,0,0,0,0,0,0,0,0,0,0,0,0]

{"sheet":"WACC","index":4,"n_rows":124,"n_cols":12,"rows_kept":124,"cut":false,"hidden":false,"merged":[[25,1,25,2],[25,4,25,5]]}
[]
["Расчет ставки дисконтирования"]
[]
[null,"Категория ","Сокращение ","Значение","Источник"]
[null,"Безрисковая ставка в рублях","Rf (RUB)",0.1154,"Кривая бескупонной доходности 15 лет (cbr.ru)"]
[null,"Коэффициент бета без учета структуры капитала","βunlev",{"$f":"C79","v":0.96},"Отрасль: Machinery / A. Damodaran: Levered and Unlevered Betas by Industry for Emerging market"]
[null,"Соотношение заемного и собственного капитала инвестиционного проекта","D/E",{"$f":"IFERROR(SUM(Предпосылки!F213,Предпосылки!F227:F228)/SUM(Предпосылки!F212,Предпосылки!F217:F218),0)","v":0},"Данные инвестиционного проекта"]
[null,"Доля заемного капитала","Wd",{"$f":"IFERROR(SUM(Предпосылки!F213,Предпосылки!F227:F228)/SUM(Предпосылки!F212,Предпосылки!F217:F218,Предпосылки!F213,Предпосылки!F227:F228),0)","v":0},"D/E / (1 + D/E)"]
[null,"Доля собственного капитала","We",{"$f":"1-D8","v":1},"1 - Wd"]
[null,"Коэффициент бета с учетом структуры капитала","βrelev",{"$f":"D6*(1+D7)","v":0.96},"βunlev * (1 + D/E)"]
[null,"Премия за риск инвестирования в акции (долларовая ставка)","ERP (USD)",5.9400000000000001E-2,"A. Damodaran: Risk Premiums for Other Markets"]
[null,"Премия за риск инвестирования в акции (рублевая ставка)","ERP (RUB)",{"$f":"(1+D11)*(1+D16)/(1+D17)-1","v":7.9059438196831699E-2},"(1+ERP)*(1+CPI(RUB))/(1+CPI(USD))-1"]
[null,"Премия за размер","SP",0.03,"Допущение"]
[null,"Премия за специфический риск компании (долларовая ставка)","SRP",0,"Допущение"]
[null,"Стоимость собственного капитала в долларах США","Ke (RUB)",{"$f":"D5+D10*D12+D13+D14","v":0.22129706066895843},"Rf + βrelev * ERP + SP + SRP"]
[null,"Индекс потребительских цен, Российская Федерация","CPI (RUB)",{"$f":"G42","v":3.7909729585210002E-2},"Прогноз ВЭБ.РФ"]
[null,"Индекс потребительских цен, США","CPI (USD)",{"$f":"F42","v":1.9E-2},"Прогноз ВЭБ.РФ"]
[null,"Доналоговая стоимость долга","Kd (RUB)",{"$f":"IFERROR(\n(SUMPRODUCT(Предпосылки!F222:F223,Предпосылки!F227:F228)+Предпосылки!F214*Предпосылки!F213)\n/SUM(Предпосылки!F227:F228,Предпосылки!F213),\n0)","v":0},"Долговое финансирование проекта, средневзвешенная ставка"]
[null,"Ставка налога на прибыль","t",0.2,"Налоговый кодекс РФ"]
[null,"Средневзвешенная стоимость капитала ","WACC (RUB)",{"$f":"D15*D9+(1-D19)*D18*D8","v":0.22129706066895843},"Ke (RUB) * We + (1 - t) * Kd (RUB) * Wd"]
[]
[]
["Справочная информация"]
[]
[null,"Коэффициент бета без учеты структуры капитала (unlevered beta)",null,null,"Премия за размер"]
[null,"Источник: А. Дамодаран: Итоговые беты для отраслей (развивающиеся рынки) - обновление: 05.01.2023",null,null,"Источник: Duff and Phelps, 2020 Valuation Handbook"]
[]
[null,"Industry Name","Unlevered beta",null,"Размер компании","Минимальная рыночная капитализация (млн. долл. США)","Максимальная рыночная капитализация (млн. долл. США)","Премия за размер"]
[null,"Advertising",1.1599999999999999,null,"Крупные",13100,1061355,0]
[null,"Aerospace/Defense",1.02,null,"Средние",2686,13100,8.0000000000000002E-3]
[null,"Air Transport",0.73,null,"Малые",516,2686,1.4200000000000001E-2]
[null,"Apparel",0.74,null,"Микро",2,516,3.1600000000000003E-2]
[null,"Auto & Truck",0.95]
[null,"Auto Parts",1.22]
[null,"Bank (Money Center)",0.32,null,"Индкес потребительских цен (CPI)"]
[null,"Banks (Regional)",0.17,null,"Источник: прогноз ВЭБ.РФ"]
[null,"Beverage (Alcoholic)",0.99,null,null,null,null,null,null,null,"млн. руб."]
[null,"Beverage (Soft)",0.5,null,null,"Индекс потребительских цен США, % дек. г/г","Индекс потребительских цен, % дек/дек"]
[null,"Broadcasting",0.93,null,2023,4.4999999999999998E-2,6.137113406954E-2,null,null,null,985725,79601625]
[null,"Brokerage & Investment Banking",0.36,null,2024,3.5000000000000003E-2,4.2284943749430003E-2,null,null,null,201675,982500]
[null,"Building Materials",0.97,null,2025,2.5000000000000001E-2,4.1559752566969997E-2,null,null,null,38700,201450]
[null,"Business & Consumer Services",0.89,null,2026,1.9E-2,3.7909729585210002E-2,null,null,null,150,38700]
[null,"Cable TV",0.87,null,2027,1.9E-2,3.7705920404399997E-2]
[null,"Chemical (Basic)",0.91,null,2028,1.9E-2,3.705058003167E-2]
[null,"Chemical (Diversified)",0.96,null,2029,1.9E-2,3.6036354749739999E-2]
[null,"Chemical (Specialty)",0.94,null,2030,1.9E-2,3.5080977111240003E-2]
[null,"Coal & Related Energy",0.72,null,2031,1.9E-2,3.4894514019760001E-2]
[null,"Computer Services",0.98,null,2032,1.9E-2,3.4252369184609999E-2]
[null,"Computers/Peripherals",1.1200000000000001,null,2033,1.9E-2,3.405176694986E-2]
[null,"Construction Supplies",0.81,null,2034,1.9E-2,3.3723235416629999E-2]
[null,"Diversified",0.49,null,2035,1.9E-2,3.3839286254589998E-2]
[null,"Drugs (Biotechnology)",1.39,null,"среднее значение",{"$f":"AVERAGE(F39:F51)","v":2.2692307692307692E-2},{"$f":"AVERAGE(G39:G51)","v":3.8443120314896155E-2}]
[null,"Drugs (Pharmaceutical)",0.86]
[null,"Education",0.7]
[null,"Electrical Equipment",0.9]
[null,"Electronics (Consumer & Office)",0.77]
[null,"Electronics (General)",1.1100000000000001]
[null,"Engineering/Construction",0.51]
[null,"Entertainment",1.1299999999999999]
[null,"Environmental & Waste Services",0.71]
[null,"Farming/Agriculture",0.57999999999999996]
[null,"Financial Svcs. (Non-bank & Insurance)",0.37]
[null,"Food Processing",0.68]
[null,"Food Wholesalers",0.46]
[null,"Furn/Home Furnishings",0.94]
[null,"Green & Renewable Energy",0.7]
[null,"Healthcare Products",1.0900000000000001]
[null,"Healthcare Support Services",0.74]
[null,"Heathcare Information and Technology",1.44]
[null,"Homebuilding",0.6]
[null,"Hospitals/Healthcare Facilities",0.59]
[null,"Hotel/Gaming",0.6]
[null,"Household Products",0.98]
[null,"Information Services",1.41]
[null,"Insurance (General)",0.4]
[null,"Insurance (Life)",0.56000000000000005]
[null,"Insurance (Prop/Cas.)",0.56999999999999995]
[null,"Investments & Asset Management",0.28000000000000003]
[null,"Machinery",0.96]
[null,"Metals & Mining",1.04]
[null,"Office Equipment & Services",0.88]
[null,"Oil/Gas (Integrated)",0.87]
[null,"Oil/Gas (Production and Exploration)",1.0900000000000001]
[null,"Oil/Gas Distribution",0.65]
[null,"Oilfield Svcs/Equip.",0.72]
[null,"Packaging & Container",0.67]
[null,"Paper/Forest Products",0.61]
[null,"Power",0.42]
[null,"Precious Metals",1.17]
[null,"Publishing & Newspapers",0.87]
[null,"R.E.I.T.",0.4]
[null,"Real Estate (Development)",0.4]
[null,"Real Estate (General/Diversified)",0.53]
[null,"Real Estate (Operations & Services)",0.62]
[null,"Recreation",0.75]
[null,"Reinsurance",0.81]
[null,"Restaurant/Dining",0.9]
[null,"Retail (Automotive)",0.57999999999999996]
[null,"Retail (Building Supply)",0.7]
[null,"Retail (Distributors)",0.44]
[null,"Retail (General)",0.59]
[null,"Retail (Grocery and Food)",0.56999999999999995]
[null,"Retail (Online)",1.71]
[null,"Retail (Special Lines)",0.86]
[null,"Rubber& Tires",0.88]
[null,"Semiconductor",1.57]
[null,"Semiconductor Equip",1.83]
[null,"Shipbuilding & Marine",0.81]
[null,"Shoe",0.81]
[null,"Software (Entertainment)",1.71]
[null,"Software (Internet)",0.98]
[null,"Software (System & Application)",1.34]
[null,"Steel",0.94]
[null,"Telecom (Wireless)",0.61]
[null,"Telecom. Equipment",1.1100000000000001]
[null,"Telecom. Services",0.57999999999999996]
[null,"Tobacco",0.56000000000000005]
[null,"Transportation",0.7]
[null,"Transportation (Railroads)",0.86]
[null,"Trucking",0.69]
[null,"Utility (General)",0.53]
[null,"Utility (Water)",0.37]
[null,"Total Market",0.71]
[null,"Total Market (without financials)",0.83]

{"sheet":"Капитальные вложения","index":5,"n_rows":177,"n_cols":30,"rows_kept":177,"cut":false,"hidden":false,"merged":[[1,29,2,29],[0,9,0,10],[0,11,0,16],[1,2,2,2],[1,3,2,3],[1,4,2,4],[1,5,2,5]]}
[null,null,null,null,{"$f":"\"Лист:  \" & RIGHT(CELL(\"filename\",A1),LEN(CELL(\"filename\",A1))-SEARCH(\"]\",CELL(\"filename\",A1)))","v":"Лист:  Капитальные вложения"},null,null,null,null,"Проверка:",null,{"$f":"IF(F13=AD43, \"Верно\", \"Имеются некорректные данные\")","v":"Верно"}]
[null,null,"Параметр","Ед. изм.","Источник","Итоговое значение",null,{"$f":"Предпосылки!H2","v":2023},{"$f":"Предпосылки!I2","v":2024},{"$f":"Предпосылки!J2","v":2025},{"$f":"Предпосылки!K2","v":2026},{"$f":"Предпосылки!L2","v":2027},{"$f":"Предпосылки!M2","v":2028},{"$f":"Предпосылки!N2","v":2029},{"$f":"Предпосылки!O2","v":2030},{"$f":"Предпосылки!P2","v":2031},{"$f":"Предпосылки!Q2","v":2032},{"$f":"Предпосылки!R2","v":2033},{"$f":"Предпосылки!S2","v":2034},{"$f":"Предпосылки!T2","v":2035},{"$f":"Предпосылки!U2","v":2036},{"$f":"Предпосылки!V2","v":2037},{"$f":"Предпосылки!W2","v":2038},{"$f":"Предпосылки!X2","v":2039},{"$f":"Предпосылки!Y2","v":2040},{"$f":"Предпосылки!Z2","v":2041},{"$f":"Предпосылки!AA2","v":2042},{"$f":"Предпосылки!AB2","v":2043}]
[null,null,null,null,null,null,null,1,2,3,4,5,6,7,8,9,10,11,12,13,14,15,16,17,18,19,20,21]
[]
[null,"Капитальные вложения (без НДС)"]
[]
[null,null,"Здания и сооружения","тыс. руб.",null,{"$f":"SUM(H7:AA7)","v":0},null,{"$f":"SUM(Предпосылки!H158,Предпосылки!H167)","v":0},{"$f":"SUM(Предпосылки!I158,Предпосылки!I167)","v":0},{"$f":"SUM(Предпосылки!J158,Предпосылки!J167)","v":0},{"$f":"SUM(Предпосылки!K158,Предпосылки!K167)","v":0},{"$f":"SUM(Предпосылки!L158,Предпосылки!L167)","v":0},{"$f":"SUM(Предпосылки!M158,Предпосылки!M167)","v":0},{"$f":"SUM(Предпосылки!N158,Предпосылки!N167)","v":0},{"$f":"SUM(Предпосылки!O158,Предпосылки!O167)","v":0},{"$f":"SUM(Предпосылки!P158,Предпосылки!P167)","v":0},{"$f":"SUM(Предпосылки!Q158,Предпосылки!Q167)","v":0},{"$f":"SUM(Предпосылки!R158,Предпосылки!R167)","v":0},{"$f":"SUM(Предпосылки!S158,Предпосылки!S167)","v":0},{"$f":"SUM(Предпосылки!T158,Предпосылки!T167)","v":0},{"$f":"SUM(Предпосылки!U158,Предпосылки!U167)","v":0},{"$f":"SUM(Предпосылки!V158,Предпосылки!V167)","v":0},{"$f":"SUM(Предпосылки!W158,Предпосылки!W167)","v":0},{"$f":"SUM(Предпосылки!X158,Предпосылки!X167)","v":0},{"$f":"SUM(Предпосылки!Y158,Предпосылки!Y167)","v":0},{"$f":"SUM(Предпосылки!Z158,Предпосылки!Z167)","v":0},{"$f":"SUM(Предпосылки!AA158,Предпосылки!AA167)","v":0},{"$f":"SUM(Предпосылки!AB158,Предпосылки!AB167)","v":0}]
[null,null,"Машины и оборудование","тыс. руб.",null,0,null,{"$f":"SUM(Предпосылки!H159,Предпосылки!H168)","v":0},{"$f":"SUM(Предпосылки!I159,Предпосылки!I168)","v":0},{"$f":"SUM(Предпосылки!J159,Предпосылки!J168)","v":0},{"$f":"SUM(Предпосылки!K159,Предпосылки!K168)","v":0},{"$f":"SUM(Предпосылки!L159,Предпосылки!L168)","v":0},{"$f":"SUM(Предпосылки!M159,Предпосылки!M168)","v":0},{"$f":"SUM(Предпосылки!N159,Предпосылки!N168)","v":0},{"$f":"SUM(Предпосылки!O159,Предпосылки!O168)","v":0},{"$f":"SUM(Предпосылки!P159,Предпосылки!P168)","v":0},{"$f":"SUM(Предпосылки!Q159,Предпосылки!Q168)","v":0},{"$f":"SUM(Предпосылки!R159,Предпосылки!R168)","v":0},{"$f":"SUM(Предпосылки!S159,Предпосылки!S168)","v":0},{"$f":"SUM(Предпосылки!T159,Предпосылки!T168)","v":0},{"$f":"SUM(Предпосылки!U159,Предпосылки!U168)","v":0},{"$f":"SUM(Предпосылки!V159,Предпосылки!V168)","v":0},{"$f":"SUM(Предпосылки!W159,Предпосылки!W168)","v":0},{"$f":"SUM(Предпосылки!X159,Предпосылки!X168)","v":0},{"$f":"SUM(Предпосылки!Y159,Предпосылки!Y168)","v":0},{"$f":"SUM(Предпосылки!Z159,Предпосылки!Z168)","v":0},{"$f":"SUM(Предпосылки!AA159,Предпосылки!AA168)","v":0},{"$f":"SUM(Предпосылки!AB159,Предпосылки!AB168)","v":0}]
[null,null,"Земля","тыс. руб.",null,0,null,{"$f":"SUM(Предпосылки!H160,Предпосылки!H169)","v":0},{"$f":"SUM(Предпосылки!I160,Предпосылки!I169)","v":0},{"$f":"SUM(Предпосылки!J160,Предпосылки!J169)","v":0},{"$f":"SUM(Предпосылки!K160,Предпосылки!K169)","v":0},{"$f":"SUM(Предпосылки!L160,Предпосылки!L169)","v":0},{"$f":"SUM(Предпосылки!M160,Предпосылки!M169)","v":0},{"$f":"SUM(Предпосылки!N160,Предпосылки!N169)","v":0},{"$f":"SUM(Предпосылки!O160,Предпосылки!O169)","v":0},{"$f":"SUM(Предпосылки!P160,Предпосылки!P169)","v":0},{"$f":"SUM(Предпосылки!Q160,Предпосылки!Q169)","v":0},{"$f":"SUM(Предпосылки!R160,Предпосылки!R169)","v":0},{"$f":"SUM(Предпосылки!S160,Предпосылки!S169)","v":0},{"$f":"SUM(Предпосылки!T160,Предпосылки!T169)","v":0},{"$f":"SUM(Предпосылки!U160,Предпосылки!U169)","v":0},{"$f":"SUM(Предпосылки!V160,Предпосылки!V169)","v":0},{"$f":"SUM(Предпосылки!W160,Предпосылки!W169)","v":0},{"$f":"SUM(Предпосылки!X160,Предпосылки!X169)","v":0},{"$f":"SUM(Предпосылки!Y160,Предпосылки!Y169)","v":0},{"$f":"SUM(Предпосылки!Z160,Предпосылки!Z169)","v":0},{"$f":"SUM(Предпосылки!AA160,Предпосылки!AA169)","v":0},{"$f":"SUM(Предпосылки!AB160,Предпосылки!AB169)","v":0}]
[null,null,"Транспортные средства","тыс. руб.",null,0,null,{"$f":"SUM(Предпосылки!H161,Предпосылки!H170)","v":0},{"$f":"SUM(Предпосылки!I161,Предпосылки!I170)","v":0},{"$f":"SUM(Предпосылки!J161,Предпосылки!J170)","v":0},{"$f":"SUM(Предпосылки!K161,Предпосылки!K170)","v":0},{"$f":"SUM(Предпосылки!L161,Предпосылки!L170)","v":0},{"$f":"SUM(Предпосылки!M161,Предпосылки!M170)","v":0},{"$f":"SUM(Предпосылки!N161,Предпосылки!N170)","v":0},{"$f":"SUM(Предпосылки!O161,Предпосылки!O170)","v":0},{"$f":"SUM(Предпосылки!P161,Предпосылки!P170)","v":0},{"$f":"SUM(Предпосылки!Q161,Предпосылки!Q170)","v":0},{"$f":"SUM(Предпосылки!R161,Предпосылки!R170)","v":0},{"$f":"SUM(Предпосылки!S161,Предпосылки!S170)","v":0},{"$f":"SUM(Предпосылки!T161,Предпосылки!T170)","v":0},{"$f":"SUM(Предпосылки!U161,Предпосылки!U170)","v":0},{"$f":"SUM(Предпосылки!V161,Предпосылки!V170)","v":0},{"$f":"SUM(Предпосылки!W161,Предпосылки!W170)","v":0},{"$f":"SUM(Предпосылки!X161,Предпосылки!X170)","v":0},{"$f":"SUM(Предпосылки!Y161,Предпосылки!Y170)","v":0},{"$f":"SUM(Предпосылки!Z161,Предпосылки!Z170)","v":0},{"$f":"SUM(Предпосылки!AA161,Предпосылки!AA170)","v":0},{"$f":"SUM(Предпосылки!AB161,Предпосылки!AB170)","v":0}]
[null,null,"Нематериальные активы с определенным СПИ","тыс. руб.",null,0,null,{"$f":"SUM(Предпосылки!H162,Предпосылки!H171)","v":0},{"$f":"SUM(Предпосылки!I162,Предпосылки!I171)","v":0},{"$f":"SUM(Предпосылки!J162,Предпосылки!J171)","v":0},{"$f":"SUM(Предпосылки!K162,Предпосылки!K171)","v":0},{"$f":"SUM(Предпосылки!L162,Предпосылки!L171)","v":0},{"$f":"SUM(Предпосылки!M162,Предпосылки!M171)","v":0},{"$f":"SUM(Предпосылки!N162,Предпосылки!N171)","v":0},{"$f":"SUM(Предпосылки!O162,Предпосылки!O171)","v":0},{"$f":"SUM(Предпосылки!P162,Предпосылки!P171)","v":0},{"$f":"SUM(Предпосылки!Q162,Предпосылки!Q171)","v":0},{"$f":"SUM(Предпосылки!R162,Предпосылки!R171)","v":0},{"$f":"SUM(Предпосылки!S162,Предпосылки!S171)","v":0},{"$f":"SUM(Предпосылки!T162,Предпосылки!T171)","v":0},{"$f":"SUM(Предпосылки!U162,Предпосылки!U171)","v":0},{"$f":"SUM(Предпосылки!V162,Предпосылки!V171)","v":0},{"$f":"SUM(Предпосылки!W162,Предпосылки!W171)","v":0},{"$f":"SUM(Предпосылки!X162,Предпосылки!X171)","v":0},{"$f":"SUM(Предпосылки!Y162,Предпосылки!Y171)","v":0},{"$f":"SUM(Предпосылки!Z162,Предпосылки!Z171)","v":0},{"$f":"SUM(Предпосылки!AA162,Предпосылки!AA171)","v":0},{"$f":"SUM(Предпосылки!AB162,Предпосылки!AB171)","v":0}]
[null,null,"Нематериальные активы с неопределенным СПИ (не амортизируются)","тыс. руб.",null,0,null,{"$f":"SUM(Предпосылки!H163,Предпосылки!H172)","v":0},{"$f":"SUM(Предпосылки!I163,Предпосылки!I172)","v":0},{"$f":"SUM(Предпосылки!J163,Предпосылки!J172)","v":0},{"$f":"SUM(Предпосылки!K163,Предпосылки!K172)","v":0},{"$f":"SUM(Предпосылки!L163,Предпосылки!L172)","v":0},{"$f":"SUM(Предпосылки!M163,Предпосылки!M172)","v":0},{"$f":"SUM(Предпосылки!N163,Предпосылки!N172)","v":0},{"$f":"SUM(Предпосылки!O163,Предпосылки!O172)","v":0},{"$f":"SUM(Предпосылки!P163,Предпосылки!P172)","v":0},{"$f":"SUM(Предпосылки!Q163,Предпосылки!Q172)","v":0},{"$f":"SUM(Предпосылки!R163,Предпосылки!R172)","v":0},{"$f":"SUM(Предпосылки!S163,Предпосылки!S172)","v":0},{"$f":"SUM(Предпосылки!T163,Предпосылки!T172)","v":0},{"$f":"SUM(Предпосылки!U163,Предпосылки!U172)","v":0},{"$f":"SUM(Предпосылки!V163,Предпосылки!V172)","v":0},{"$f":"SUM(Предпосылки!W163,Предпосылки!W172)","v":0},{"$f":"SUM(Предпосылки!X163,Предпосылки!X172)","v":0},{"$f":"SUM(Предпосылки!Y163,Предпосылки!Y172)","v":0},{"$f":"SUM(Предпосылки!Z163,Предпосылки!Z172)","v":0},{"$f":"SUM(Предпосылки!AA163,Предпосылки!AA172)","v":0},{"$f":"SUM(Предпосылки!AB163,Предпосылки!AB172)","v":0}]
[null,null,"Итого","тыс. руб.",null,{"$f":"SUM(F7:F12)","v":0},null,{"$f":"SUM(H7:H12)","v":0},0,0,0,0,0,0,0,0,0,0,0,0,0,0,0,0,0,0,0,0]
[]
[null,"Капитальные вложения (с НДС)"]
[]
[null,null,"Здания и сооружения","тыс. руб.",null,{"$f":"SUM(H17:AA17)","v":0},null,{"$f":"H7*(One+НДС_общая)","v":0},0,0,0,0,0,0,0,0,0,0,0,0,0,0,0,0,0,0,0,0]
[null,null,"Машины и оборудование","тыс. руб.",null,0,null,{"$f":"H8*(One+НДС_общая)","v":0},0,0,0,0,0,0,0,0,0,0,0,0,0,0,0,0,0,0,0,0]
[null,null,"Земля ","тыс. руб.",null,0,null,{"$f":"H9*(One+НДС_общая)","v":0},0,0,0,0,0,0,0,0,0,0,0,0,0,0,0,0,0,0,0,0]
[null,null,"Транспортные средства","тыс. руб.",null,0,null,{"$f":"H10*(One+НДС_общая)","v":0},0,0,0,0,0,0,0,0,0,0,0,0,0,0,0,0,0,0,0,0]
[null,null,"Нематериальные активы с определенным СПИ","тыс. руб.",null,0,null,{"$f":"H11*(One+НДС_общая)","v":0},0,0,0,0,0,0,0,0,0,0,0,0,0,0,0,0,0,0,0,0]
[null,null,"Нематериальные активы с неопределенным СПИ (не амортизируются)","тыс. руб.",null,0,null,{"$f":"H12","v":0},{"$f":"I12","v":0},0,0,0,0,0,0,0,0,0,0,0,0,0,0,0,0,0,0,0]
[null,null,"Итого","тыс. руб.",null,{"$f":"SUM(F17:F22)","v":0},null,{"$f":"SUM(H17:H22)","v":0},0,0,0,0,0,0,0,0,0,0,0,0,0,0,0,0,0,0,0,0]
[]
[null,"Расчеты по капитальным вложениям"]
[]
[null,null,"Оплата капитальных вложений","тыс. руб.",null,{"$f":"SUM(H27:AA27)","v":0},null,{"$f":"H23*Предпосылки!$F$368","v":0},{"$f":"I23*Предпосылки!$F$368","v":0},{"$f":"J23*Предпосылки!$F$368","v":0},{"$f":"K23*Предпосылки!$F$368","v":0},{"$f":"L23*Предпосылки!$F$368","v":0},{"$f":"M23*Предпосылки!$F$368","v":0},{"$f":"N23*Предпосылки!$F$368","v":0},{"$f":"O23*Предпосылки!$F$368","v":0},{"$f":"P23*Предпосылки!$F$368","v":0},{"$f":"Q23*Предпосылки!$F$368","v":0},{"$f":"R23*Предпосылки!$F$368","v":0},{"$f":"S23*Предпосылки!$F$368","v":0},{"$f":"T23*Предпосылки!$F$368","v":0},{"$f":"U23*Предпосылки!$F$368","v":0},{"$f":"V23*Предпосылки!$F$368","v":0},{"$f":"W23*Предпосылки!$F$368","v":0},{"$f":"X23*Предпосылки!$F$368","v":0},{"$f":"Y23*Предпосылки!$F$368","v":0},{"$f":"Z23*Предпосылки!$F$368","v":0},{"$f":"AA23*Предпосылки!$F$368","v":0},{"$f":"AB23*Предпосылки!$F$368","v":0}]
[]
[null,"Входящий НДС по капитальным вложениям"]
[]
[null,null,"Входящий НДС по капитальным вложениям","тыс. руб.",null,null,null,{"$f":"H23-H13","v":0},{"$f":"I23-I13","v":0},0,0,0,0,0,0,0,0,0,0,0,0,0,0,0,0,0,0,0]
[]
[null,"Расчет амортизации"]
[]
[null,"Принятие объектов капитальных вложений на баланс (без НДС)"]
[]
[null,null,"Здания и сооружения","тыс. руб.",null,null,null,{"$f":"Предпосылки!H176","v":0},{"$f":"Предпосылки!I176","v":0},{"$f":"Предпосылки!J176","v":0},{"$f":"Предпосылки!K176","v":0},{"$f":"Предпосылки!L176","v":0},{"$f":"Предпосылки!M176","v":0},{"$f":"Предпосылки!N176","v":0},{"$f":"Предпосылки!O176","v":0},{"$f":"Предпосылки!P176","v":0},{"$f":"Предпосылки!Q176","v":0},{"$f":"Предпосылки!R176","v":0},{"$f":"Предпосылки!S176","v":0},{"$f":"Предпосылки!T176","v":0},{"$f":"Предпосылки!U176","v":0},{"$f":"Предпосылки!V176","v":0},{"$f":"Предпосылки!W176","v":0},{"$f":"Предпосылки!X176","v":0},{"$f":"Предпосылки!Y176","v":0},{"$f":"Предпосылки!Z176","v":0},{"$f":"Предпосылки!AA176","v":0},{"$f":"Предпосылки!AB176","v":0},null,{"$f":"SUM(H37:AA37)","v":0}]
[null,null,"Машины и оборудование","тыс. руб.",null,null,null,{"$f":"Предпосылки!H177","v":0},{"$f":"Предпосылки!I177","v":0},{"$f":"Предпосылки!J177","v":0},{"$f":"Предпосылки!K177","v":0},{"$f":"Предпосылки!L177","v":0},{"$f":"Предпосылки!M177","v":0},{"$f":"Предпосылки!N177","v":0},{"$f":"Предпосылки!O177","v":0},{"$f":"Предпосылки!P177","v":0},{"$f":"Предпосылки!Q177","v":0},{"$f":"Предпосылки!R177","v":0},{"$f":"Предпосылки!S177","v":0},{"$f":"Предпосылки!T177","v":0},{"$f":"Предпосылки!U177","v":0},{"$f":"Предпосылки!V177","v":0},{"$f":"Предпосылки!W177","v":0},{"$f":"Предпосылки!X177","v":0},{"$f":"Предпосылки!Y177","v":0},{"$f":"Предпосылки!Z177","v":0},{"$f":"Предпосылки!AA177","v":0},{"$f":"Предпосылки!AB177","v":0},null,{"$f":"SUM(H38:AA38)","v":0}]
[null,null,"Земля ","тыс. руб.",null,null,null,{"$f":"Предпосылки!H178","v":0},{"$f":"Предпосылки!I178","v":0},{"$f":"Предпосылки!J178","v":0},{"$f":"Предпосылки!K178","v":0},{"$f":"Предпосылки!L178","v":0},{"$f":"Предпосылки!M178","v":0},{"$f":"Предпосылки!N178","v":0},{"$f":"Предпосылки!O178","v":0},{"$f":"Предпосылки!P178","v":0},{"$f":"Предпосылки!Q178","v":0},{"$f":"Предпосылки!R178","v":0},{"$f":"Предпосылки!S178","v":0},{"$f":"Предпосылки!T178","v":0},{"$f":"Предпосылки!U178","v":0},{"$f":"Предпосылки!V178","v":0},{"$f":"Предпосылки!W178","v":0},{"$f":"Предпосылки!X178","v":0},{"$f":"Предпосылки!Y178","v":0},{"$f":"Предпосылки!Z178","v":0},{"$f":"Предпосылки!AA178","v":0},{"$f":"Предпосылки!AB178","v":0},null,0]
[null,null,"Транспортные средства","тыс. руб.",null,null,null,{"$f":"Предпосылки!H179","v":0},{"$f":"Предпосылки!I179","v":0},{"$f":"Предпосылки!J179","v":0},{"$f":"Предпосылки!K179","v":0},{"$f":"Предпосылки!L179","v":0},{"$f":"Предпосылки!M179","v":0},{"$f":"Предпосылки!N179","v":0},{"$f":"Предпосылки!O179","v":0},{"$f":"Предпосылки!P179","v":0},{"$f":"Предпосылки!Q179","v":0},{"$f":"Предпосылки!R179","v":0},{"$f":"Предпосылки!S179","v":0},{"$f":"Предпосылки!T179","v":0},{"$f":"Предпосылки!U179","v":0},{"$f":"Предпосылки!V179","v":0},{"$f":"Предпосылки!W179","v":0},{"$f":"Предпосылки!X179","v":0},{"$f":"Предпосылки!Y179","v":0},{"$f":"Предпосылки!Z179","v":0},{"$f":"Предпосылки!AA179","v":0},{"$f":"Предпосылки!AB179","v":0},null,0]
[null,null,"Нематериальные активы с определенным СПИ","тыс. руб.",null,null,null,{"$f":"Предпосылки!H180","v":0},{"$f":"Предпосылки!I180","v":0},{"$f":"Предпосылки!J180","v":0},{"$f":"Предпосылки!K180","v":0},{"$f":"Предпосылки!L180","v":0},{"$f":"Предпосылки!M180","v":0},{"$f":"Предпосылки!N180","v":0},{"$f":"Предпосылки!O180","v":0},{"$f":"Предпосылки!P180","v":0},{"$f":"Предпосылки!Q180","v":0},{"$f":"Предпосылки!R180","v":0},{"$f":"Предпосылки!S180","v":0},{"$f":"Предпосылки!T180","v":0},{"$f":"Предпосылки!U180","v":0},{"$f":"Предпосылки!V180","v":0},{"$f":"Предпосылки!W180","v":0},{"$f":"Предпосылки!X180","v":0},{"$f":"Предпосылки!Y180","v":0},{"$f":"Предпосылки!Z180","v":0},{"$f":"Предпосылки!AA180","v":0},{"$f":"Предпосылки!AB180","v":0},null,0]
[null,null,"Нематериальные активы с неопределенным СПИ (не амортизируются)","тыс. руб.",null,null,null,{"$f":"Предпосылки!H181","v":0},{"$f":"Предпосылки!I181","v":0},{"$f":"Предпосылки!J181","v":0},{"$f":"Предпосылки!K181","v":0},{"$f":"Предпосылки!L181","v":0},{"$f":"Предпосылки!M181","v":0},{"$f":"Предпосылки!N181","v":0},{"$f":"Предпосылки!O181","v":0},{"$f":"Предпосылки!P181","v":0},{"$f":"Предпосылки!Q181","v":0},{"$f":"Предпосылки!R181","v":0},{"$f":"Предпосылки!S181","v":0},{"$f":"Предпосылки!T181","v":0},{"$f":"Предпосылки!U181","v":0},{"$f":"Предпосылки!V181","v":0},{"$f":"Предпосылки!W181","v":0},{"$f":"Предпосылки!X181","v":0},{"$f":"Предпосылки!Y181","v":0},{"$f":"Предпосылки!Z181","v":0},{"$f":"Предпосылки!AA181","v":0},{"$f":"Предпосылки!AB181","v":0},null,0]
[null,null,"Итого","тыс. руб.",null,null,null,{"$f":"SUM(H37:H42)","v":0},0,0,0,0,0,0,0,0,0,0,0,0,0,0,0,0,0,0,0,0,null,{"$f":"SUM(AD37:AD42)","v":0}]
[]
[null,"Расчет незавершенного производства"]
[null,null,"Незавершенное производство на начало периода","тыс. руб.",null,null,null,{"$f":"G49","v":0},{"$f":"H49","v":0},0,0,0,0,0,0,0,0,0,0,0,0,0,0,0,0,0,0,0]
[null,null,"Поступление","тыс. руб.",null,null,null,{"$f":"H13","v":0},{"$f":"I13","v":0},0,0,0,0,0,0,0,0,0,0,0,0,0,0,0,0,0,0,0]
[null,null,"Перевод в основные средства (-)","тыс. руб.",null,null,null,{"$f":"-Предпосылки!H182","v":0},{"$f":"-Предпосылки!I182","v":0},{"$f":"-Предпосылки!J182","v":0},{"$f":"-Предпосылки!K182","v":0},{"$f":"-Предпосылки!L182","v":0},{"$f":"-Предпосылки!M182","v":0},{"$f":"-Предпосылки!N182","v":0},{"$f":"-Предпосылки!O182","v":0},{"$f":"-Предпосылки!P182","v":0},{"$f":"-Предпосылки!Q182","v":0},{"$f":"-Предпосылки!R182","v":0},{"$f":"-Предпосылки!S182","v":0},{"$f":"-Предпосылки!T182","v":0},{"$f":"-Предпосылки!U182","v":0},{"$f":"-Предпосылки!V182","v":0},{"$f":"-Предпосылки!W182","v":0},{"$f":"-Предпосылки!X182","v":0},{"$f":"-Предпосылки!Y182","v":0},{"$f":"-Предпосылки!Z182","v":0},{"$f":"-Предпосылки!AA182","v":0},{"$f":"-Предпосылки!AB182","v":0}]
[null,null,"Незавершенное производство на конец периода","тыс. руб.",null,null,null,{"$f":"SUM(H46:H48)","v":0},0,0,0,0,0,0,0,0,0,0,0,0,0,0,0,0,0,0,0,0]
[]
[null,"Итоговая амортизация за период",null,"тыс. руб.",null,null,null,{"$f":"SUM(H59,H90,H121,H152)","v":0},{"$f":"SUM(I59,I90,I121,I152)","v":0},0,0,0,0,0,0,0,0,0,0,0,0,0,0,0,0,0,0,0]
[null,null,"Итоговая амортизация производственных активов","тыс. руб.",null,null,null,{"$f":"H51","v":0},{"$f":"I51","v":0},0,0,0,0,0,0,0,0,0,0,0,0,0,0,0,0,0,0,0]
[null,null,"Итоговая амортизация активов, напрямую не участвующих в производстве продукции (амортизация, относимая на сч. 26 \"Общехозяйственные расходы\")","тыс. руб.",null,null,null,{"$f":"H51-H52","v":0},{"$f":"I51-I52","v":0},0,0,0,0,0,0,0,0,0,0,0,0,{"$f":"V51-V52","v":0},{"$f":"W51-W52","v":0},0,0,0,0,0]
[]
[null,"Здания и сооружения"]
[]
[null,null,"Ставка амортизации","%",null,{"$f":"Предпосылки!F191","v":0.05}]
[]
[null,null,"Амортизация ","тыс. руб.",null,null,null,{"$f":"SUM(H60:H79)","v":0},{"$f":"SUM(I60:I79)","v":0},0,0,0,0,0,0,0,0,0,0,0,0,0,0,0,0,0,0,0]
[null,null,{"$f":"INDEX(H$2:AA$2,,$E60)","v":2023},"тыс. руб.",1,{"$f":"OFFSET($G$37,,E60)","v":0},null,{"$f":"IF($C60>H$2,0,IF($C60=H$2,0.5,1)*MIN($F60*$F$57,$F60-SUM($G60:G60)))","v":0},{"$f":"IF($C60>I$2,0,IF($C60=I$2,0.5,1)*MIN($F60*$F$57,$F60-SUM($G60:H60)))","v":0},{"$f":"IF($C60>J$2,0,IF($C60=J$2,0.5,1)*MIN($F60*$F$57,$F60-SUM($G60:I60)))","v":0},{"$f":"IF($C60>K$2,0,IF($C60=K$2,0.5,1)*MIN($F60*$F$57,$F60-SUM($G60:J60)))","v":0},{"$f":"IF($C60>L$2,0,IF($C60=L$2,0.5,1)*MIN($F60*$F$57,$F60-SUM($G60:K60)))","v":0},{"$f":"IF($C60>M$2,0,IF($C60=M$2,0.5,1)*MIN($F60*$F$57,$F60-SUM($G60:L60)))","v":0},{"$f":"IF($C60>N$2,0,IF($C60=N$2,0.5,1)*MIN($F60*$F$57,$F60-SUM($G60:M60)))","v":0},{"$f":"IF($C60>O$2,0,IF($C60=O$2,0.5,1)*MIN($F60*$F$57,$F60-SUM($G60:N60)))","v":0},{"$f":"IF($C60>P$2,0,IF($C60=P$2,0.5,1)*MIN($F60*$F$57,$F60-SUM($G60:O60)))","v":0},{"$f":"IF($C60>Q$2,0,IF($C60=Q$2,0.5,1)*MIN($F60*$F$57,$F60-SUM($G60:P60)))","v":0},{"$f":"IF($C60>R$2,0,IF($C60=R$2,0.5,1)*MIN($F60*$F$57,$F60-SUM($G60:Q60)))","v":0},{"$f":"IF($C60>S$2,0,IF($C60=S$2,0.5,1)*MIN($F60*$F$57,$F60-SUM($G60:R60)))","v":0},{"$f":"IF($C60>T$2,0,IF($C60=T$2,0.5,1)*MIN($F60*$F$57,$F60-SUM($G60:S60)))","v":0},{"$f":"IF($C60>U$2,0,IF($C60=U$2,0.5,1)*MIN($F60*$F$57,$F60-SUM($G60:T60)))","v":0},{"$f":"IF($C60>V$2,0,IF($C60=V$2,0.5,1)*MIN($F60*$F$57,$F60-SUM($G60:U60)))","v":0},{"$f":"IF($C60>W$2,0,IF($C60=W$2,0.5,1)*MIN($F60*$F$57,$F60-SUM($G60:V60)))","v":0},{"$f":"IF($C60>X$2,0,IF($C60=X$2,0.5,1)*MIN($F60*$F$57,$F60-SUM($G60:W60)))","v":0},{"$f":"IF($C60>Y$2,0,IF($C60=Y$2,0.5,1)*MIN($F60*$F$57,$F60-SUM($G60:X60)))","v":0},{"$f":"IF($C60>Z$2,0,IF($C60=Z$2,0.5,1)*MIN($F60*$F$57,$F60-SUM($G60:Y60)))","v":0},{"$f":"IF($C60>AA$2,0,IF($C60=AA$2,0.5,1)*MIN($F60*$F$57,$F60-SUM($G60:Z60)))","v":0},{"$f":"IF($C60>AB$2,0,IF($C60=AB$2,0.5,1)*MIN($F60*$F$57,$F60-SUM($G60:AA60)))","v":0}]
[null,null,{"$f":"INDEX(H$2:AA$2,,$E61)","v":2024},"тыс. руб.",2,{"$f":"OFFSET($G$37,,E61)","v":0},null,{"$f":"IF($C61>H$2,0,IF($C61=H$2,0.5,1)*MIN($F61*$F$57,$F61-SUM($G61:G61)))","v":0},{"$f":"IF($C61>I$2,0,IF($C61=I$2,0.5,1)*MIN($F61*$F$57,$F61-SUM($G61:H61)))","v":0},{"$f":"IF($C61>J$2,0,IF($C61=J$2,0.5,1)*MIN($F61*$F$57,$F61-SUM($G61:I61)))","v":0},{"$f":"IF($C61>K$2,0,IF($C61=K$2,0.5,1)*MIN($F61*$F$57,$F61-SUM($G61:J61)))","v":0},{"$f":"IF($C61>L$2,0,IF($C61=L$2,0.5,1)*MIN($F61*$F$57,$F61-SUM($G61:K61)))","v":0},{"$f":"IF($C61>M$2,0,IF($C61=M$2,0.5,1)*MIN($F61*$F$57,$F61-SUM($G61:L61)))","v":0},{"$f":"IF($C61>N$2,0,IF($C61=N$2,0.5,1)*MIN($F61*$F$57,$F61-SUM($G61:M61)))","v":0},{"$f":"IF($C61>O$2,0,IF($C61=O$2,0.5,1)*MIN($F61*$F$57,$F61-SUM($G61:N61)))","v":0},{"$f":"IF($C61>P$2,0,IF($C61=P$2,0.5,1)*MIN($F61*$F$57,$F61-SUM($G61:O61)))","v":0},{"$f":"IF($C61>Q$2,0,IF($C61=Q$2,0.5,1)*MIN($F61*$F$57,$F61-SUM($G61:P61)))","v":0},{"$f":"IF($C61>R$2,0,IF($C61=R$2,0.5,1)*MIN($F61*$F$57,$F61-SUM($G61:Q61)))","v":0},{"$f":"IF($C61>S$2,0,IF($C61=S$2,0.5,1)*MIN($F61*$F$57,$F61-SUM($G61:R61)))","v":0},{"$f":"IF($C61>T$2,0,IF($C61=T$2,0.5,1)*MIN($F61*$F$57,$F61-SUM($G61:S61)))","v":0},{"$f":"IF($C61>U$2,0,IF($C61=U$2,0.5,1)*MIN($F61*$F$57,$F61-SUM($G61:T61)))","v":0},{"$f":"IF($C61>V$2,0,IF($C61=V$2,0.5,1)*MIN($F61*$F$57,$F61-SUM($G61:U61)))","v":0},{"$f":"IF($C61>W$2,0,IF($C61=W$2,0.5,1)*MIN($F61*$F$57,$F61-SUM($G61:V61)))","v":0},{"$f":"IF($C61>X$2,0,IF($C61=X$2,0.5,1)*MIN($F61*$F$57,$F61-SUM($G61:W61)))","v":0},{"$f":"IF($C61>Y$2,0,IF($C61=Y$2,0.5,1)*MIN($F61*$F$57,$F61-SUM($G61:X61)))","v":0},{"$f":"IF($C61>Z$2,0,IF($C61=Z$2,0.5,1)*MIN($F61*$F$57,$F61-SUM($G61:Y61)))","v":0},{"$f":"IF($C61>AA$2,0,IF($C61=AA$2,0.5,1)*MIN($F61*$F$57,$F61-SUM($G61:Z61)))","v":0},{"$f":"IF($C61>AB$2,0,IF($C61=AB$2,0.5,1)*MIN($F61*$F$57,$F61-SUM($G61:AA61)))","v":0}]
[null,null,2025,"тыс. руб.",3,0,null,{"$f":"IF($C62>H$2,0,IF($C62=H$2,0.5,1)*MIN($F62*$F$57,$F62-SUM($G62:G62)))","v":0},{"$f":"IF($C62>I$2,0,IF($C62=I$2,0.5,1)*MIN($F62*$F$57,$F62-SUM($G62:H62)))","v":0},{"$f":"IF($C62>J$2,0,IF($C62=J$2,0.5,1)*MIN($F62*$F$57,$F62-SUM($G62:I62)))","v":0},{"$f":"IF($C62>K$2,0,IF($C62=K$2,0.5,1)*MIN($F62*$F$57,$F62-SUM($G62:J62)))","v":0},{"$f":"IF($C62>L$2,0,IF($C62=L$2,0.5,1)*MIN($F62*$F$57,$F62-SUM($G62:K62)))","v":0},{"$f":"IF($C62>M$2,0,IF($C62=M$2,0.5,1)*MIN($F62*$F$57,$F62-SUM($G62:L62)))","v":0},{"$f":"IF($C62>N$2,0,IF($C62=N$2,0.5,1)*MIN($F62*$F$57,$F62-SUM($G62:M62)))","v":0},{"$f":"IF($C62>O$2,0,IF($C62=O$2,0.5,1)*MIN($F62*$F$57,$F62-SUM($G62:N62)))","v":0},{"$f":"IF($C62>P$2,0,IF($C62=P$2,0.5,1)*MIN($F62*$F$57,$F62-SUM($G62:O62)))","v":0},{"$f":"IF($C62>Q$2,0,IF($C62=Q$2,0.5,1)*MIN($F62*$F$57,$F62-SUM($G62:P62)))","v":0},{"$f":"IF($C62>R$2,0,IF($C62=R$2,0.5,1)*MIN($F62*$F$57,$F62-SUM($G62:Q62)))","v":0},{"$f":"IF($C62>S$2,0,IF($C62=S$2,0.5,1)*MIN($F62*$F$57,$F62-SUM($G62:R62)))","v":0},{"$f":"IF($C62>T$2,0,IF($C62=T$2,0.5,1)*MIN($F62*$F$57,$F62-SUM($G62:S62)))","v":0},{"$f":"IF($C62>U$2,0,IF($C62=U$2,0.5,1)*MIN($F62*$F$57,$F62-SUM($G62:T62)))","v":0},{"$f":"IF($C62>V$2,0,IF($C62=V$2,0.5,1)*MIN($F62*$F$57,$F62-SUM($G62:U62)))","v":0},{"$f":"IF($C62>W$2,0,IF($C62=W$2,0.5,1)*MIN($F62*$F$57,$F62-SUM($G62:V62)))","v":0},{"$f":"IF($C62>X$2,0,IF($C62=X$2,0.5,1)*MIN($F62*$F$57,$F62-SUM($G62:W62)))","v":0},{"$f":"IF($C62>Y$2,0,IF($C62=Y$2,0.5,1)*MIN($F62*$F$57,$F62-SUM($G62:X62)))","v":0},{"$f":"IF($C62>Z$2,0,IF($C62=Z$2,0.5,1)*MIN($F62*$F$57,$F62-SUM($G62:Y62)))","v":0},{"$f":"IF($C62>AA$2,0,IF($C62=AA$2,0.5,1)*MIN($F62*$F$57,$F62-SUM($G62:Z62)))","v":0},{"$f":"IF($C62>AB$2,0,IF($C62=AB$2,0.5,1)*MIN($F62*$F$57,$F62-SUM($G62:AA62)))","v":0}]
[null,null,2026,"тыс. руб.",4,0,null,{"$f":"IF($C63>H$2,0,IF($C63=H$2,0.5,1)*MIN($F63*$F$57,$F63-SUM($G63:G63)))","v":0},{"$f":"IF($C63>I$2,0,IF($C63=I$2,0.5,1)*MIN($F63*$F$57,$F63-SUM($G63:H63)))","v":0},{"$f":"IF($C63>J$2,0,IF($C63=J$2,0.5,1)*MIN($F63*$F$57,$F63-SUM($G63:I63)))","v":0},{"$f":"IF($C63>K$2,0,IF($C63=K$2,0.5,1)*MIN($F63*$F$57,$F63-SUM($G63:J63)))","v":0},{"$f":"IF($C63>L$2,0,IF($C63=L$2,0.5,1)*MIN($F63*$F$57,$F63-SUM($G63:K63)))","v":0},{"$f":"IF($C63>M$2,0,IF($C63=M$2,0.5,1)*MIN($F63*$F$57,$F63-SUM($G63:L63)))","v":0},{"$f":"IF($C63>N$2,0,IF($C63=N$2,0.5,1)*MIN($F63*$F$57,$F63-SUM($G63:M63)))","v":0},{"$f":"IF($C63>O$2,0,IF($C63=O$2,0.5,1)*MIN($F63*$F$57,$F63-SUM($G63:N63)))","v":0},{"$f":"IF($C63>P$2,0,IF($C63=P$2,0.5,1)*MIN($F63*$F$57,$F63-SUM($G63:O63)))","v":0},{"$f":"IF($C63>Q$2,0,IF($C63=Q$2,0.5,1)*MIN($F63*$F$57,$F63-SUM($G63:P63)))","v":0},{"$f":"IF($C63>R$2,0,IF($C63=R$2,0.5,1)*MIN($F63*$F$57,$F63-SUM($G63:Q63)))","v":0},{"$f":"IF($C63>S$2,0,IF($C63=S$2,0.5,1)*MIN($F63*$F$57,$F63-SUM($G63:R63)))","v":0},{"$f":"IF($C63>T$2,0,IF($C63=T$2,0.5,1)*MIN($F63*$F$57,$F63-SUM($G63:S63)))","v":0},{"$f":"IF($C63>U$2,0,IF($C63=U$2,0.5,1)*MIN($F63*$F$57,$F63-SUM($G63:T63)))","v":0},{"$f":"IF($C63>V$2,0,IF($C63=V$2,0.5,1)*MIN($F63*$F$57,$F63-SUM($G63:U63)))","v":0},{"$f":"IF($C63>W$2,0,IF($C63=W$2,0.5,1)*MIN($F63*$F$57,$F63-SUM($G63:V63)))","v":0},{"$f":"IF($C63>X$2,0,IF($C63=X$2,0.5,1)*MIN($F63*$F$57,$F63-SUM($G63:W63)))","v":0},{"$f":"IF($C63>Y$2,0,IF($C63=Y$2,0.5,1)*MIN($F63*$F$57,$F63-SUM($G63:X63)))","v":0},{"$f":"IF($C63>Z$2,0,IF($C63=Z$2,0.5,1)*MIN($F63*$F$57,$F63-SUM($G63:Y63)))","v":0},{"$f":"IF($C63>AA$2,0,IF($C63=AA$2,0.5,1)*MIN($F63*$F$57,$F63-SUM($G63:Z63)))","v":0},{"$f":"IF($C63>AB$2,0,IF($C63=AB$2,0.5,1)*MIN($F63*$F$57,$F63-SUM($G63:AA63)))","v":0}]
[null,null,2027,"тыс. руб.",5,0,null,{"$f":"IF($C64>H$2,0,IF($C64=H$2,0.5,1)*MIN($F64*$F$57,$F64-SUM($G64:G64)))","v":0},{"$f":"IF($C64>I$2,0,IF($C64=I$2,0.5,1)*MIN($F64*$F$57,$F64-SUM($G64:H64)))","v":0},{"$f":"IF($C64>J$2,0,IF($C64=J$2,0.5,1)*MIN($F64*$F$57,$F64-SUM($G64:I64)))","v":0},{"$f":"IF($C64>K$2,0,IF($C64=K$2,0.5,1)*MIN($F64*$F$57,$F64-SUM($G64:J64)))","v":0},{"$f":"IF($C64>L$2,0,IF($C64=L$2,0.5,1)*MIN($F64*$F$57,$F64-SUM($G64:K64)))","v":0},{"$f":"IF($C64>M$2,0,IF($C64=M$2,0.5,1)*MIN($F64*$F$57,$F64-SUM($G64:L64)))","v":0},{"$f":"IF($C64>N$2,0,IF($C64=N$2,0.5,1)*MIN($F64*$F$57,$F64-SUM($G64:M64)))","v":0},{"$f":"IF($C64>O$2,0,IF($C64=O$2,0.5,1)*MIN($F64*$F$57,$F64-SUM($G64:N64)))","v":0},{"$f":"IF($C64>P$2,0,IF($C64=P$2,0.5,1)*MIN($F64*$F$57,$F64-SUM($G64:O64)))","v":0},{"$f":"IF($C64>Q$2,0,IF($C64=Q$2,0.5,1)*MIN($F64*$F$57,$F64-SUM($G64:P64)))","v":0},{"$f":"IF($C64>R$2,0,IF($C64=R$2,0.5,1)*MIN($F64*$F$57,$F64-SUM($G64:Q64)))","v":0},{"$f":"IF($C64>S$2,0,IF($C64=S$2,0.5,1)*MIN($F64*$F$57,$F64-SUM($G64:R64)))","v":0},{"$f":"IF($C64>T$2,0,IF($C64=T$2,0.5,1)*MIN($F64*$F$57,$F64-SUM($G64:S64)))","v":0},{"$f":"IF($C64>U$2,0,IF($C64=U$2,0.5,1)*MIN($F64*$F$57,$F64-SUM($G64:T64)))","v":0},{"$f":"IF($C64>V$2,0,IF($C64=V$2,0.5,1)*MIN($F64*$F$57,$F64-SUM($G64:U64)))","v":0},{"$f":"IF($C64>W$2,0,IF($C64=W$2,0.5,1)*MIN($F64*$F$57,$F64-SUM($G64:V64)))","v":0},{"$f":"IF($C64>X$2,0,IF($C64=X$2,0.5,1)*MIN($F64*$F$57,$F64-SUM($G64:W64)))","v":0},{"$f":"IF($C64>Y$2,0,IF($C64=Y$2,0.5,1)*MIN($F64*$F$57,$F64-SUM($G64:X64)))","v":0},{"$f":"IF($C64>Z$2,0,IF($C64=Z$2,0.5,1)*MIN($F64*$F$57,$F64-SUM($G64:Y64)))","v":0},{"$f":"IF($C64>AA$2,0,IF($C64=AA$2,0.5,1)*MIN($F64*$F$57,$F64-SUM($G64:Z64)))","v":0},{"$f":"IF($C64>AB$2,0,IF($C64=AB$2,0.5,1)*MIN($F64*$F$57,$F64-SUM($G64:AA64)))","v":0}]
[null,null,2028,"тыс. руб.",6,0,null,{"$f":"IF($C65>H$2,0,IF($C65=H$2,0.5,1)*MIN($F65*$F$57,$F65-SUM($G65:G65)))","v":0},{"$f":"IF($C65>I$2,0,IF($C65=I$2,0.5,1)*MIN($F65*$F$57,$F65-SUM($G65:H65)))","v":0},{"$f":"IF($C65>J$2,0,IF($C65=J$2,0.5,1)*MIN($F65*$F$57,$F65-SUM($G65:I65)))","v":0},{"$f":"IF($C65>K$2,0,IF($C65=K$2,0.5,1)*MIN($F65*$F$57,$F65-SUM($G65:J65)))","v":0},{"$f":"IF($C65>L$2,0,IF($C65=L$2,0.5,1)*MIN($F65*$F$57,$F65-SUM($G65:K65)))","v":0},{"$f":"IF($C65>M$2,0,IF($C65=M$2,0.5,1)*MIN($F65*$F$57,$F65-SUM($G65:L65)))","v":0},{"$f":"IF($C65>N$2,0,IF($C65=N$2,0.5,1)*MIN($F65*$F$57,$F65-SUM($G65:M65)))","v":0},{"$f":"IF($C65>O$2,0,IF($C65=O$2,0.5,1)*MIN($F65*$F$57,$F65-SUM($G65:N65)))","v":0},{"$f":"IF($C65>P$2,0,IF($C65=P$2,0.5,1)*MIN($F65*$F$57,$F65-SUM($G65:O65)))","v":0},{"$f":"IF($C65>Q$2,0,IF($C65=Q$2,0.5,1)*MIN($F65*$F$57,$F65-SUM($G65:P65)))","v":0},{"$f":"IF($C65>R$2,0,IF($C65=R$2,0.5,1)*MIN($F65*$F$57,$F65-SUM($G65:Q65)))","v":0},{"$f":"IF($C65>S$2,0,IF($C65=S$2,0.5,1)*MIN($F65*$F$57,$F65-SUM($G65:R65)))","v":0},{"$f":"IF($C65>T$2,0,IF($C65=T$2,0.5,1)*MIN($F65*$F$57,$F65-SUM($G65:S65)))","v":0},{"$f":"IF($C65>U$2,0,IF($C65=U$2,0.5,1)*MIN($F65*$F$57,$F65-SUM($G65:T65)))","v":0},{"$f":"IF($C65>V$2,0,IF($C65=V$2,0.5,1)*MIN($F65*$F$57,$F65-SUM($G65:U65)))","v":0},{"$f":"IF($C65>W$2,0,IF($C65=W$2,0.5,1)*MIN($F65*$F$57,$F65-SUM($G65:V65)))","v":0},{"$f":"IF($C65>X$2,0,IF($C65=X$2,0.5,1)*MIN($F65*$F$57,$F65-SUM($G65:W65)))","v":0},{"$f":"IF($C65>Y$2,0,IF($C65=Y$2,0.5,1)*MIN($F65*$F$57,$F65-SUM($G65:X65)))","v":0},{"$f":"IF($C65>Z$2,0,IF($C65=Z$2,0.5,1)*MIN($F65*$F$57,$F65-SUM($G65:Y65)))","v":0},{"$f":"IF($C65>AA$2,0,IF($C65=AA$2,0.5,1)*MIN($F65*$F$57,$F65-SUM($G65:Z65)))","v":0},{"$f":"IF($C65>AB$2,0,IF($C65=AB$2,0.5,1)*MIN($F65*$F$57,$F65-SUM($G65:AA65)))","v":0}]
[null,null,2029,"тыс. руб.",7,0,null,{"$f":"IF($C66>H$2,0,IF($C66=H$2,0.5,1)*MIN($F66*$F$57,$F66-SUM($G66:G66)))","v":0},{"$f":"IF($C66>I$2,0,IF($C66=I$2,0.5,1)*MIN($F66*$F$57,$F66-SUM($G66:H66)))","v":0},{"$f":"IF($C66>J$2,0,IF($C66=J$2,0.5,1)*MIN($F66*$F$57,$F66-SUM($G66:I66)))","v":0},{"$f":"IF($C66>K$2,0,IF($C66=K$2,0.5,1)*MIN($F66*$F$57,$F66-SUM($G66:J66)))","v":0},{"$f":"IF($C66>L$2,0,IF($C66=L$2,0.5,1)*MIN($F66*$F$57,$F66-SUM($G66:K66)))","v":0},{"$f":"IF($C66>M$2,0,IF($C66=M$2,0.5,1)*MIN($F66*$F$57,$F66-SUM($G66:L66)))","v":0},{"$f":"IF($C66>N$2,0,IF($C66=N$2,0.5,1)*MIN($F66*$F$57,$F66-SUM($G66:M66)))","v":0},{"$f":"IF($C66>O$2,0,IF($C66=O$2,0.5,1)*MIN($F66*$F$57,$F66-SUM($G66:N66)))","v":0},{"$f":"IF($C66>P$2,0,IF($C66=P$2,0.5,1)*MIN($F66*$F$57,$F66-SUM($G66:O66)))","v":0},{"$f":"IF($C66>Q$2,0,IF($C66=Q$2,0.5,1)*MIN($F66*$F$57,$F66-SUM($G66:P66)))","v":0},{"$f":"IF($C66>R$2,0,IF($C66=R$2,0.5,1)*MIN($F66*$F$57,$F66-SUM($G66:Q66)))","v":0},{"$f":"IF($C66>S$2,0,IF($C66=S$2,0.5,1)*MIN($F66*$F$57,$F66-SUM($G66:R66)))","v":0},{"$f":"IF($C66>T$2,0,IF($C66=T$2,0.5,1)*MIN($F66*$F$57,$F66-SUM($G66:S66)))","v":0},{"$f":"IF($C66>U$2,0,IF($C66=U$2,0.5,1)*MIN($F66*$F$57,$F66-SUM($G66:T66)))","v":0},{"$f":"IF($C66>V$2,0,IF($C66=V$2,0.5,1)*MIN($F66*$F$57,$F66-SUM($G66:U66)))","v":0},{"$f":"IF($C66>W$2,0,IF($C66=W$2,0.5,1)*MIN($F66*$F$57,$F66-SUM($G66:V66)))","v":0},{"$f":"IF($C66>X$2,0,IF($C66=X$2,0.5,1)*MIN($F66*$F$57,$F66-SUM($G66:W66)))","v":0},{"$f":"IF($C66>Y$2,0,IF($C66=Y$2,0.5,1)*MIN($F66*$F$57,$F66-SUM($G66:X66)))","v":0},{"$f":"IF($C66>Z$2,0,IF($C66=Z$2,0.5,1)*MIN($F66*$F$57,$F66-SUM($G66:Y66)))","v":0},{"$f":"IF($C66>AA$2,0,IF($C66=AA$2,0.5,1)*MIN($F66*$F$57,$F66-SUM($G66:Z66)))","v":0},{"$f":"IF($C66>AB$2,0,IF($C66=AB$2,0.5,1)*MIN($F66*$F$57,$F66-SUM($G66:AA66)))","v":0}]
[null,null,2030,"тыс. руб.",8,0,null,{"$f":"IF($C67>H$2,0,IF($C67=H$2,0.5,1)*MIN($F67*$F$57,$F67-SUM($G67:G67)))","v":0},{"$f":"IF($C67>I$2,0,IF($C67=I$2,0.5,1)*MIN($F67*$F$57,$F67-SUM($G67:H67)))","v":0},{"$f":"IF($C67>J$2,0,IF($C67=J$2,0.5,1)*MIN($F67*$F$57,$F67-SUM($G67:I67)))","v":0},{"$f":"IF($C67>K$2,0,IF($C67=K$2,0.5,1)*MIN($F67*$F$57,$F67-SUM($G67:J67)))","v":0},{"$f":"IF($C67>L$2,0,IF($C67=L$2,0.5,1)*MIN($F67*$F$57,$F67-SUM($G67:K67)))","v":0},{"$f":"IF($C67>M$2,0,IF($C67=M$2,0.5,1)*MIN($F67*$F$57,$F67-SUM($G67:L67)))","v":0},{"$f":"IF($C67>N$2,0,IF($C67=N$2,0.5,1)*MIN($F67*$F$57,$F67-SUM($G67:M67)))","v":0},{"$f":"IF($C67>O$2,0,IF($C67=O$2,0.5,1)*MIN($F67*$F$57,$F67-SUM($G67:N67)))","v":0},{"$f":"IF($C67>P$2,0,IF($C67=P$2,0.5,1)*MIN($F67*$F$57,$F67-SUM($G67:O67)))","v":0},{"$f":"IF($C67>Q$2,0,IF($C67=Q$2,0.5,1)*MIN($F67*$F$57,$F67-SUM($G67:P67)))","v":0},{"$f":"IF($C67>R$2,0,IF($C67=R$2,0.5,1)*MIN($F67*$F$57,$F67-SUM($G67:Q67)))","v":0},{"$f":"IF($C67>S$2,0,IF($C67=S$2,0.5,1)*MIN($F67*$F$57,$F67-SUM($G67:R67)))","v":0},{"$f":"IF($C67>T$2,0,IF($C67=T$2,0.5,1)*MIN($F67*$F$57,$F67-SUM($G67:S67)))","v":0},{"$f":"IF($C67>U$2,0,IF($C67=U$2,0.5,1)*MIN($F67*$F$57,$F67-SUM($G67:T67)))","v":0},{"$f":"IF($C67>V$2,0,IF($C67=V$2,0.5,1)*MIN($F67*$F$57,$F67-SUM($G67:U67)))","v":0},{"$f":"IF($C67>W$2,0,IF($C67=W$2,0.5,1)*MIN($F67*$F$57,$F67-SUM($G67:V67)))","v":0},{"$f":"IF($C67>X$2,0,IF($C67=X$2,0.5,1)*MIN($F67*$F$57,$F67-SUM($G67:W67)))","v":0},{"$f":"IF($C67>Y$2,0,IF($C67=Y$2,0.5,1)*MIN($F67*$F$57,$F67-SUM($G67:X67)))","v":0},{"$f":"IF($C67>Z$2,0,IF($C67=Z$2,0.5,1)*MIN($F67*$F$57,$F67-SUM($G67:Y67)))","v":0},{"$f":"IF($C67>AA$2,0,IF($C67=AA$2,0.5,1)*MIN($F67*$F$57,$F67-SUM($G67:Z67)))","v":0},{"$f":"IF($C67>AB$2,0,IF($C67=AB$2,0.5,1)*MIN($F67*$F$57,$F67-SUM($G67:AA67)))","v":0}]
[null,null,2031,"тыс. руб.",9,0,null,{"$f":"IF($C68>H$2,0,IF($C68=H$2,0.5,1)*MIN($F68*$F$57,$F68-SUM($G68:G68)))","v":0},{"$f":"IF($C68>I$2,0,IF($C68=I$2,0.5,1)*MIN($F68*$F$57,$F68-SUM($G68:H68)))","v":0},{"$f":"IF($C68>J$2,0,IF($C68=J$2,0.5,1)*MIN($F68*$F$57,$F68-SUM($G68:I68)))","v":0},{"$f":"IF($C68>K$2,0,IF($C68=K$2,0.5,1)*MIN($F68*$F$57,$F68-SUM($G68:J68)))","v":0},{"$f":"IF($C68>L$2,0,IF($C68=L$2,0.5,1)*MIN($F68*$F$57,$F68-SUM($G68:K68)))","v":0},{"$f":"IF($C68>M$2,0,IF($C68=M$2,0.5,1)*MIN($F68*$F$57,$F68-SUM($G68:L68)))","v":0},{"$f":"IF($C68>N$2,0,IF($C68=N$2,0.5,1)*MIN($F68*$F$57,$F68-SUM($G68:M68)))","v":0},{"$f":"IF($C68>O$2,0,IF($C68=O$2,0.5,1)*MIN($F68*$F$57,$F68-SUM($G68:N68)))","v":0},{"$f":"IF($C68>P$2,0,IF($C68=P$2,0.5,1)*MIN($F68*$F$57,$F68-SUM($G68:O68)))","v":0},{"$f":"IF($C68>Q$2,0,IF($C68=Q$2,0.5,1)*MIN($F68*$F$57,$F68-SUM($G68:P68)))","v":0},{"$f":"IF($C68>R$2,0,IF($C68=R$2,0.5,1)*MIN($F68*$F$57,$F68-SUM($G68:Q68)))","v":0},{"$f":"IF($C68>S$2,0,IF($C68=S$2,0.5,1)*MIN($F68*$F$57,$F68-SUM($G68:R68)))","v":0},{"$f":"IF($C68>T$2,0,IF($C68=T$2,0.5,1)*MIN($F68*$F$57,$F68-SUM($G68:S68)))","v":0},{"$f":"IF($C68>U$2,0,IF($C68=U$2,0.5,1)*MIN($F68*$F$57,$F68-SUM($G68:T68)))","v":0},{"$f":"IF($C68>V$2,0,IF($C68=V$2,0.5,1)*MIN($F68*$F$57,$F68-SUM($G68:U68)))","v":0},{"$f":"IF($C68>W$2,0,IF($C68=W$2,0.5,1)*MIN($F68*$F$57,$F68-SUM($G68:V68)))","v":0},{"$f":"IF($C68>X$2,0,IF($C68=X$2,0.5,1)*MIN($F68*$F$57,$F68-SUM($G68:W68)))","v":0},{"$f":"IF($C68>Y$2,0,IF($C68=Y$2,0.5,1)*MIN($F68*$F$57,$F68-SUM($G68:X68)))","v":0},{"$f":"IF($C68>Z$2,0,IF($C68=Z$2,0.5,1)*MIN($F68*$F$57,$F68-SUM($G68:Y68)))","v":0},{"$f":"IF($C68>AA$2,0,IF($C68=AA$2,0.5,1)*MIN($F68*$F$57,$F68-SUM($G68:Z68)))","v":0},{"$f":"IF($C68>AB$2,0,IF($C68=AB$2,0.5,1)*MIN($F68*$F$57,$F68-SUM($G68:AA68)))","v":0}]
[null,null,2032,"тыс. руб.",10,0,null,{"$f":"IF($C69>H$2,0,IF($C69=H$2,0.5,1)*MIN($F69*$F$57,$F69-SUM($G69:G69)))","v":0},{"$f":"IF($C69>I$2,0,IF($C69=I$2,0.5,1)*MIN($F69*$F$57,$F69-SUM($G69:H69)))","v":0},{"$f":"IF($C69>J$2,0,IF($C69=J$2,0.5,1)*MIN($F69*$F$57,$F69-SUM($G69:I69)))","v":0},{"$f":"IF($C69>K$2,0,IF($C69=K$2,0.5,1)*MIN($F69*$F$57,$F69-SUM($G69:J69)))","v":0},{"$f":"IF($C69>L$2,0,IF($C69=L$2,0.5,1)*MIN($F69*$F$57,$F69-SUM($G69:K69)))","v":0},{"$f":"IF($C69>M$2,0,IF($C69=M$2,0.5,1)*MIN($F69*$F$57,$F69-SUM($G69:L69)))","v":0},{"$f":"IF($C69>N$2,0,IF($C69=N$2,0.5,1)*MIN($F69*$F$57,$F69-SUM($G69:M69)))","v":0},{"$f":"IF($C69>O$2,0,IF($C69=O$2,0.5,1)*MIN($F69*$F$57,$F69-SUM($G69:N69)))","v":0},{"$f":"IF($C69>P$2,0,IF($C69=P$2,0.5,1)*MIN($F69*$F$57,$F69-SUM($G69:O69)))","v":0},{"$f":"IF($C69>Q$2,0,IF($C69=Q$2,0.5,1)*MIN($F69*$F$57,$F69-SUM($G69:P69)))","v":0},{"$f":"IF($C69>R$2,0,IF($C69=R$2,0.5,1)*MIN($F69*$F$57,$F69-SUM($G69:Q69)))","v":0},{"$f":"IF($C69>S$2,0,IF($C69=S$2,0.5,1)*MIN($F69*$F$57,$F69-SUM($G69:R69)))","v":0},{"$f":"IF($C69>T$2,0,IF($C69=T$2,0.5,1)*MIN($F69*$F$57,$F69-SUM($G69:S69)))","v":0},{"$f":"IF($C69>U$2,0,IF($C69=U$2,0.5,1)*MIN($F69*$F$57,$F69-SUM($G69:T69)))","v":0},{"$f":"IF($C69>V$2,0,IF($C69=V$2,0.5,1)*MIN($F69*$F$57,$F69-SUM($G69:U69)))","v":0},{"$f":"IF($C69>W$2,0,IF($C69=W$2,0.5,1)*MIN($F69*$F$57,$F69-SUM($G69:V69)))","v":0},{"$f":"IF($C69>X$2,0,IF($C69=X$2,0.5,1)*MIN($F69*$F$57,$F69-SUM($G69:W69)))","v":0},{"$f":"IF($C69>Y$2,0,IF($C69=Y$2,0.5,1)*MIN($F69*$F$57,$F69-SUM($G69:X69)))","v":0},{"$f":"IF($C69>Z$2,0,IF($C69=Z$2,0.5,1)*MIN($F69*$F$57,$F69-SUM($G69:Y69)))","v":0},{"$f":"IF($C69>AA$2,0,IF($C69=AA$2,0.5,1)*MIN($F69*$F$57,$F69-SUM($G69:Z69)))","v":0},{"$f":"IF($C69>AB$2,0,IF($C69=AB$2,0.5,1)*MIN($F69*$F$57,$F69-SUM($G69:AA69)))","v":0}]
[null,null,2033,"тыс. руб.",11,0,null,{"$f":"IF($C70>H$2,0,IF($C70=H$2,0.5,1)*MIN($F70*$F$57,$F70-SUM($G70:G70)))","v":0},{"$f":"IF($C70>I$2,0,IF($C70=I$2,0.5,1)*MIN($F70*$F$57,$F70-SUM($G70:H70)))","v":0},{"$f":"IF($C70>J$2,0,IF($C70=J$2,0.5,1)*MIN($F70*$F$57,$F70-SUM($G70:I70)))","v":0},{"$f":"IF($C70>K$2,0,IF($C70=K$2,0.5,1)*MIN($F70*$F$57,$F70-SUM($G70:J70)))","v":0},{"$f":"IF($C70>L$2,0,IF($C70=L$2,0.5,1)*MIN($F70*$F$57,$F70-SUM($G70:K70)))","v":0},{"$f":"IF($C70>M$2,0,IF($C70=M$2,0.5,1)*MIN($F70*$F$57,$F70-SUM($G70:L70)))","v":0},{"$f":"IF($C70>N$2,0,IF($C70=N$2,0.5,1)*MIN($F70*$F$57,$F70-SUM($G70:M70)))","v":0},{"$f":"IF($C70>O$2,0,IF($C70=O$2,0.5,1)*MIN($F70*$F$57,$F70-SUM($G70:N70)))","v":0},{"$f":"IF($C70>P$2,0,IF($C70=P$2,0.5,1)*MIN($F70*$F$57,$F70-SUM($G70:O70)))","v":0},{"$f":"IF($C70>Q$2,0,IF($C70=Q$2,0.5,1)*MIN($F70*$F$57,$F70-SUM($G70:P70)))","v":0},{"$f":"IF($C70>R$2,0,IF($C70=R$2,0.5,1)*MIN($F70*$F$57,$F70-SUM($G70:Q70)))","v":0},{"$f":"IF($C70>S$2,0,IF($C70=S$2,0.5,1)*MIN($F70*$F$57,$F70-SUM($G70:R70)))","v":0},{"$f":"IF($C70>T$2,0,IF($C70=T$2,0.5,1)*MIN($F70*$F$57,$F70-SUM($G70:S70)))","v":0},{"$f":"IF($C70>U$2,0,IF($C70=U$2,0.5,1)*MIN($F70*$F$57,$F70-SUM($G70:T70)))","v":0},{"$f":"IF($C70>V$2,0,IF($C70=V$2,0.5,1)*MIN($F70*$F$57,$F70-SUM($G70:U70)))","v":0},{"$f":"IF($C70>W$2,0,IF($C70=W$2,0.5,1)*MIN($F70*$F$57,$F70-SUM($G70:V70)))","v":0},{"$f":"IF($C70>X$2,0,IF($C70=X$2,0.5,1)*MIN($F70*$F$57,$F70-SUM($G70:W70)))","v":0},{"$f":"IF($C70>Y$2,0,IF($C70=Y$2,0.5,1)*MIN($F70*$F$57,$F70-SUM($G70:X70)))","v":0},{"$f":"IF($C70>Z$2,0,IF($C70=Z$2,0.5,1)*MIN($F70*$F$57,$F70-SUM($G70:Y70)))","v":0},{"$f":"IF($C70>AA$2,0,IF($C70=AA$2,0.5,1)*MIN($F70*$F$57,$F70-SUM($G70:Z70)))","v":0},{"$f":"IF($C70>AB$2,0,IF($C70=AB$2,0.5,1)*MIN($F70*$F$57,$F70-SUM($G70:AA70)))","v":0}]
[null,null,2034,"тыс. руб.",12,0,null,{"$f":"IF($C71>H$2,0,IF($C71=H$2,0.5,1)*MIN($F71*$F$57,$F71-SUM($G71:G71)))","v":0},{"$f":"IF($C71>I$2,0,IF($C71=I$2,0.5,1)*MIN($F71*$F$57,$F71-SUM($G71:H71)))","v":0},{"$f":"IF($C71>J$2,0,IF($C71=J$2,0.5,1)*MIN($F71*$F$57,$F71-SUM($G71:I71)))","v":0},{"$f":"IF($C71>K$2,0,IF($C71=K$2,0.5,1)*MIN($F71*$F$57,$F71-SUM($G71:J71)))","v":0},{"$f":"IF($C71>L$2,0,IF($C71=L$2,0.5,1)*MIN($F71*$F$57,$F71-SUM($G71:K71)))","v":0},{"$f":"IF($C71>M$2,0,IF($C71=M$2,0.5,1)*MIN($F71*$F$57,$F71-SUM($G71:L71)))","v":0},{"$f":"IF($C71>N$2,0,IF($C71=N$2,0.5,1)*MIN($F71*$F$57,$F71-SUM($G71:M71)))","v":0},{"$f":"IF($C71>O$2,0,IF($C71=O$2,0.5,1)*MIN($F71*$F$57,$F71-SUM($G71:N71)))","v":0},{"$f":"IF($C71>P$2,0,IF($C71=P$2,0.5,1)*MIN($F71*$F$57,$F71-SUM($G71:O71)))","v":0},{"$f":"IF($C71>Q$2,0,IF($C71=Q$2,0.5,1)*MIN($F71*$F$57,$F71-SUM($G71:P71)))","v":0},{"$f":"IF($C71>R$2,0,IF($C71=R$2,0.5,1)*MIN($F71*$F$57,$F71-SUM($G71:Q71)))","v":0},{"$f":"IF($C71>S$2,0,IF($C71=S$2,0.5,1)*MIN($F71*$F$57,$F71-SUM($G71:R71)))","v":0},{"$f":"IF($C71>T$2,0,IF($C71=T$2,0.5,1)*MIN($F71*$F$57,$F71-SUM($G71:S71)))","v":0},{"$f":"IF($C71>U$2,0,IF($C71=U$2,0.5,1)*MIN($F71*$F$57,$F71-SUM($G71:T71)))","v":0},{"$f":"IF($C71>V$2,0,IF($C71=V$2,0.5,1)*MIN($F71*$F$57,$F71-SUM($G71:U71)))","v":0},{"$f":"IF($C71>W$2,0,IF($C71=W$2,0.5,1)*MIN($F71*$F$57,$F71-SUM($G71:V71)))","v":0},{"$f":"IF($C71>X$2,0,IF($C71=X$2,0.5,1)*MIN($F71*$F$57,$F71-SUM($G71:W71)))","v":0},{"$f":"IF($C71>Y$2,0,IF($C71=Y$2,0.5,1)*MIN($F71*$F$57,$F71-SUM($G71:X71)))","v":0},{"$f":"IF($C71>Z$2,0,IF($C71=Z$2,0.5,1)*MIN($F71*$F$57,$F71-SUM($G71:Y71)))","v":0},{"$f":"IF($C71>AA$2,0,IF($C71=AA$2,0.5,1)*MIN($F71*$F$57,$F71-SUM($G71:Z71)))","v":0},{"$f":"IF($C71>AB$2,0,IF($C71=AB$2,0.5,1)*MIN($F71*$F$57,$F71-SUM($G71:AA71)))","v":0}]
[null,null,2035,"тыс. руб.",13,0,null,{"$f":"IF($C72>H$2,0,IF($C72=H$2,0.5,1)*MIN($F72*$F$57,$F72-SUM($G72:G72)))","v":0},{"$f":"IF($C72>I$2,0,IF($C72=I$2,0.5,1)*MIN($F72*$F$57,$F72-SUM($G72:H72)))","v":0},{"$f":"IF($C72>J$2,0,IF($C72=J$2,0.5,1)*MIN($F72*$F$57,$F72-SUM($G72:I72)))","v":0},{"$f":"IF($C72>K$2,0,IF($C72=K$2,0.5,1)*MIN($F72*$F$57,$F72-SUM($G72:J72)))","v":0},{"$f":"IF($C72>L$2,0,IF($C72=L$2,0.5,1)*MIN($F72*$F$57,$F72-SUM($G72:K72)))","v":0},{"$f":"IF($C72>M$2,0,IF($C72=M$2,0.5,1)*MIN($F72*$F$57,$F72-SUM($G72:L72)))","v":0},{"$f":"IF($C72>N$2,0,IF($C72=N$2,0.5,1)*MIN($F72*$F$57,$F72-SUM($G72:M72)))","v":0},{"$f":"IF($C72>O$2,0,IF($C72=O$2,0.5,1)*MIN($F72*$F$57,$F72-SUM($G72:N72)))","v":0},{"$f":"IF($C72>P$2,0,IF($C72=P$2,0.5,1)*MIN($F72*$F$57,$F72-SUM($G72:O72)))","v":0},{"$f":"IF($C72>Q$2,0,IF($C72=Q$2,0.5,1)*MIN($F72*$F$57,$F72-SUM($G72:P72)))","v":0},{"$f":"IF($C72>R$2,0,IF($C72=R$2,0.5,1)*MIN($F72*$F$57,$F72-SUM($G72:Q72)))","v":0},{"$f":"IF($C72>S$2,0,IF($C72=S$2,0.5,1)*MIN($F72*$F$57,$F72-SUM($G72:R72)))","v":0},{"$f":"IF($C72>T$2,0,IF($C72=T$2,0.5,1)*MIN($F72*$F$57,$F72-SUM($G72:S72)))","v":0},{"$f":"IF($C72>U$2,0,IF($C72=U$2,0.5,1)*MIN($F72*$F$57,$F72-SUM($G72:T72)))","v":0},{"$f":"IF($C72>V$2,0,IF($C72=V$2,0.5,1)*MIN($F72*$F$57,$F72-SUM($G72:U72)))","v":0},{"$f":"IF($C72>W$2,0,IF($C72=W$2,0.5,1)*MIN($F72*$F$57,$F72-SUM($G72:V72)))","v":0},{"$f":"IF($C72>X$2,0,IF($C72=X$2,0.5,1)*MIN($F72*$F$57,$F72-SUM($G72:W72)))","v":0},{"$f":"IF($C72>Y$2,0,IF($C72=Y$2,0.5,1)*MIN($F72*$F$57,$F72-SUM($G72:X72)))","v":0},{"$f":"IF($C72>Z$2,0,IF($C72=Z$2,0.5,1)*MIN($F72*$F$57,$F72-SUM($G72:Y72)))","v":0},{"$f":"IF($C72>AA$2,0,IF($C72=AA$2,0.5,1)*MIN($F72*$F$57,$F72-SUM($G72:Z72)))","v":0},{"$f":"IF($C72>AB$2,0,IF($C72=AB$2,0.5,1)*MIN($F72*$F$57,$F72-SUM($G72:AA72)))","v":0}]
[null,null,2036,"тыс. руб.",14,0,null,{"$f":"IF($C73>H$2,0,IF($C73=H$2,0.5,1)*MIN($F73*$F$57,$F73-SUM($G73:G73)))","v":0},{"$f":"IF($C73>I$2,0,IF($C73=I$2,0.5,1)*MIN($F73*$F$57,$F73-SUM($G73:H73)))","v":0},{"$f":"IF($C73>J$2,0,IF($C73=J$2,0.5,1)*MIN($F73*$F$57,$F73-SUM($G73:I73)))","v":0},{"$f":"IF($C73>K$2,0,IF($C73=K$2,0.5,1)*MIN($F73*$F$57,$F73-SUM($G73:J73)))","v":0},{"$f":"IF($C73>L$2,0,IF($C73=L$2,0.5,1)*MIN($F73*$F$57,$F73-SUM($G73:K73)))","v":0},{"$f":"IF($C73>M$2,0,IF($C73=M$2,0.5,1)*MIN($F73*$F$57,$F73-SUM($G73:L73)))","v":0},{"$f":"IF($C73>N$2,0,IF($C73=N$2,0.5,1)*MIN($F73*$F$57,$F73-SUM($G73:M73)))","v":0},{"$f":"IF($C73>O$2,0,IF($C73=O$2,0.5,1)*MIN($F73*$F$57,$F73-SUM($G73:N73)))","v":0},{"$f":"IF($C73>P$2,0,IF($C73=P$2,0.5,1)*MIN($F73*$F$57,$F73-SUM($G73:O73)))","v":0},{"$f":"IF($C73>Q$2,0,IF($C73=Q$2,0.5,1)*MIN($F73*$F$57,$F73-SUM($G73:P73)))","v":0},{"$f":"IF($C73>R$2,0,IF($C73=R$2,0.5,1)*MIN($F73*$F$57,$F73-SUM($G73:Q73)))","v":0},{"$f":"IF($C73>S$2,0,IF($C73=S$2,0.5,1)*MIN($F73*$F$57,$F73-SUM($G73:R73)))","v":0},{"$f":"IF($C73>T$2,0,IF($C73=T$2,0.5,1)*MIN($F73*$F$57,$F73-SUM($G73:S73)))","v":0},{"$f":"IF($C73>U$2,0,IF($C73=U$2,0.5,1)*MIN($F73*$F$57,$F73-SUM($G73:T73)))","v":0},{"$f":"IF($C73>V$2,0,IF($C73=V$2,0.5,1)*MIN($F73*$F$57,$F73-SUM($G73:U73)))","v":0},{"$f":"IF($C73>W$2,0,IF($C73=W$2,0.5,1)*MIN($F73*$F$57,$F73-SUM($G73:V73)))","v":0},{"$f":"IF($C73>X$2,0,IF($C73=X$2,0.5,1)*MIN($F73*$F$57,$F73-SUM($G73:W73)))","v":0},{"$f":"IF($C73>Y$2,0,IF($C73=Y$2,0.5,1)*MIN($F73*$F$57,$F73-SUM($G73:X73)))","v":0},{"$f":"IF($C73>Z$2,0,IF($C73=Z$2,0.5,1)*MIN($F73*$F$57,$F73-SUM($G73:Y73)))","v":0},{"$f":"IF($C73>AA$2,0,IF($C73=AA$2,0.5,1)*MIN($F73*$F$57,$F73-SUM($G73:Z73)))","v":0},{"$f":"IF($C73>AB$2,0,IF($C73=AB$2,0.5,1)*MIN($F73*$F$57,$F73-SUM($G73:AA73)))","v":0}]
[null,null,2037,"тыс. руб.",15,0,null,{"$f":"IF($C74>H$2,0,IF($C74=H$2,0.5,1)*MIN($F74*$F$57,$F74-SUM($G74:G74)))","v":0},{"$f":"IF($C74>I$2,0,IF($C74=I$2,0.5,1)*MIN($F74*$F$57,$F74-SUM($G74:H74)))","v":0},{"$f":"IF($C74>J$2,0,IF($C74=J$2,0.5,1)*MIN($F74*$F$57,$F74-SUM($G74:I74)))","v":0},{"$f":"IF($C74>K$2,0,IF($C74=K$2,0.5,1)*MIN($F74*$F$57,$F74-SUM($G74:J74)))","v":0},{"$f":"IF($C74>L$2,0,IF($C74=L$2,0.5,1)*MIN($F74*$F$57,$F74-SUM($G74:K74)))","v":0},{"$f":"IF($C74>M$2,0,IF($C74=M$2,0.5,1)*MIN($F74*$F$57,$F74-SUM($G74:L74)))","v":0},{"$f":"IF($C74>N$2,0,IF($C74=N$2,0.5,1)*MIN($F74*$F$57,$F74-SUM($G74:M74)))","v":0},{"$f":"IF($C74>O$2,0,IF($C74=O$2,0.5,1)*MIN($F74*$F$57,$F74-SUM($G74:N74)))","v":0},{"$f":"IF($C74>P$2,0,IF($C74=P$2,0.5,1)*MIN($F74*$F$57,$F74-SUM($G74:O74)))","v":0},{"$f":"IF($C74>Q$2,0,IF($C74=Q$2,0.5,1)*MIN($F74*$F$57,$F74-SUM($G74:P74)))","v":0},{"$f":"IF($C74>R$2,0,IF($C74=R$2,0.5,1)*MIN($F74*$F$57,$F74-SUM($G74:Q74)))","v":0},{"$f":"IF($C74>S$2,0,IF($C74=S$2,0.5,1)*MIN($F74*$F$57,$F74-SUM($G74:R74)))","v":0},{"$f":"IF($C74>T$2,0,IF($C74=T$2,0.5,1)*MIN($F74*$F$57,$F74-SUM($G74:S74)))","v":0},{"$f":"IF($C74>U$2,0,IF($C74=U$2,0.5,1)*MIN($F74*$F$57,$F74-SUM($G74:T74)))","v":0},{"$f":"IF($C74>V$2,0,IF($C74=V$2,0.5,1)*MIN($F74*$F$57,$F74-SUM($G74:U74)))","v":0},{"$f":"IF($C74>W$2,0,IF($C74=W$2,0.5,1)*MIN($F74*$F$57,$F74-SUM($G74:V74)))","v":0},{"$f":"IF($C74>X$2,0,IF($C74=X$2,0.5,1)*MIN($F74*$F$57,$F74-SUM($G74:W74)))","v":0},{"$f":"IF($C74>Y$2,0,IF($C74=Y$2,0.5,1)*MIN($F74*$F$57,$F74-SUM($G74:X74)))","v":0},{"$f":"IF($C74>Z$2,0,IF($C74=Z$2,0.5,1)*MIN($F74*$F$57,$F74-SUM($G74:Y74)))","v":0},{"$f":"IF($C74>AA$2,0,IF($C74=AA$2,0.5,1)*MIN($F74*$F$57,$F74-SUM($G74:Z74)))","v":0},{"$f":"IF($C74>AB$2,0,IF($C74=AB$2,0.5,1)*MIN($F74*$F$57,$F74-SUM($G74:AA74)))","v":0}]
[null,null,2038,"тыс. руб.",16,0,null,{"$f":"IF($C75>H$2,0,IF($C75=H$2,0.5,1)*MIN($F75*$F$57,$F75-SUM($G75:G75)))","v":0},{"$f":"IF($C75>I$2,0,IF($C75=I$2,0.5,1)*MIN($F75*$F$57,$F75-SUM($G75:H75)))","v":0},{"$f":"IF($C75>J$2,0,IF($C75=J$2,0.5,1)*MIN($F75*$F$57,$F75-SUM($G75:I75)))","v":0},{"$f":"IF($C75>K$2,0,IF($C75=K$2,0.5,1)*MIN($F75*$F$57,$F75-SUM($G75:J75)))","v":0},{"$f":"IF($C75>L$2,0,IF($C75=L$2,0.5,1)*MIN($F75*$F$57,$F75-SUM($G75:K75)))","v":0},{"$f":"IF($C75>M$2,0,IF($C75=M$2,0.5,1)*MIN($F75*$F$57,$F75-SUM($G75:L75)))","v":0},{"$f":"IF($C75>N$2,0,IF($C75=N$2,0.5,1)*MIN($F75*$F$57,$F75-SUM($G75:M75)))","v":0},{"$f":"IF($C75>O$2,0,IF($C75=O$2,0.5,1)*MIN($F75*$F$57,$F75-SUM($G75:N75)))","v":0},{"$f":"IF($C75>P$2,0,IF($C75=P$2,0.5,1)*MIN($F75*$F$57,$F75-SUM($G75:O75)))","v":0},{"$f":"IF($C75>Q$2,0,IF($C75=Q$2,0.5,1)*MIN($F75*$F$57,$F75-SUM($G75:P75)))","v":0},{"$f":"IF($C75>R$2,0,IF($C75=R$2,0.5,1)*MIN($F75*$F$57,$F75-SUM($G75:Q75)))","v":0},{"$f":"IF($C75>S$2,0,IF($C75=S$2,0.5,1)*MIN($F75*$F$57,$F75-SUM($G75:R75)))","v":0},{"$f":"IF($C75>T$2,0,IF($C75=T$2,0.5,1)*MIN($F75*$F$57,$F75-SUM($G75:S75)))","v":0},{"$f":"IF($C75>U$2,0,IF($C75=U$2,0.5,1)*MIN($F75*$F$57,$F75-SUM($G75:T75)))","v":0},{"$f":"IF($C75>V$2,0,IF($C75=V$2,0.5,1)*MIN($F75*$F$57,$F75-SUM($G75:U75)))","v":0},{"$f":"IF($C75>W$2,0,IF($C75=W$2,0.5,1)*MIN($F75*$F$57,$F75-SUM($G75:V75)))","v":0},{"$f":"IF($C75>X$2,0,IF($C75=X$2,0.5,1)*MIN($F75*$F$57,$F75-SUM($G75:W75)))","v":0},{"$f":"IF($C75>Y$2,0,IF($C75=Y$2,0.5,1)*MIN($F75*$F$57,$F75-SUM($G75:X75)))","v":0},{"$f":"IF($C75>Z$2,0,IF($C75=Z$2,0.5,1)*MIN($F75*$F$57,$F75-SUM($G75:Y75)))","v":0},{"$f":"IF($C75>AA$2,0,IF($C75=AA$2,0.5,1)*MIN($F75*$F$57,$F75-SUM($G75:Z75)))","v":0},{"$f":"IF($C75>AB$2,0,IF($C75=AB$2,0.5,1)*MIN($F75*$F$57,$F75-SUM($G75:AA75)))","v":0}]
[null,null,2039,"тыс. руб.",17,0,null,{"$f":"IF($C76>H$2,0,IF($C76=H$2,0.5,1)*MIN($F76*$F$57,$F76-SUM($G76:G76)))","v":0},{"$f":"IF($C76>I$2,0,IF($C76=I$2,0.5,1)*MIN($F76*$F$57,$F76-SUM($G76:H76)))","v":0},{"$f":"IF($C76>J$2,0,IF($C76=J$2,0.5,1)*MIN($F76*$F$57,$F76-SUM($G76:I76)))","v":0},{"$f":"IF($C76>K$2,0,IF($C76=K$2,0.5,1)*MIN($F76*$F$57,$F76-SUM($G76:J76)))","v":0},{"$f":"IF($C76>L$2,0,IF($C76=L$2,0.5,1)*MIN($F76*$F$57,$F76-SUM($G76:K76)))","v":0},{"$f":"IF($C76>M$2,0,IF($C76=M$2,0.5,1)*MIN($F76*$F$57,$F76-SUM($G76:L76)))","v":0},{"$f":"IF($C76>N$2,0,IF($C76=N$2,0.5,1)*MIN($F76*$F$57,$F76-SUM($G76:M76)))","v":0},{"$f":"IF($C76>O$2,0,IF($C76=O$2,0.5,1)*MIN($F76*$F$57,$F76-SUM($G76:N76)))","v":0},{"$f":"IF($C76>P$2,0,IF($C76=P$2,0.5,1)*MIN($F76*$F$57,$F76-SUM($G76:O76)))","v":0},{"$f":"IF($C76>Q$2,0,IF($C76=Q$2,0.5,1)*MIN($F76*$F$57,$F76-SUM($G76:P76)))","v":0},{"$f":"IF($C76>R$2,0,IF($C76=R$2,0.5,1)*MIN($F76*$F$57,$F76-SUM($G76:Q76)))","v":0},{"$f":"IF($C76>S$2,0,IF($C76=S$2,0.5,1)*MIN($F76*$F$57,$F76-SUM($G76:R76)))","v":0},{"$f":"IF($C76>T$2,0,IF($C76=T$2,0.5,1)*MIN($F76*$F$57,$F76-SUM($G76:S76)))","v":0},{"$f":"IF($C76>U$2,0,IF($C76=U$2,0.5,1)*MIN($F76*$F$57,$F76-SUM($G76:T76)))","v":0},{"$f":"IF($C76>V$2,0,IF($C76=V$2,0.5,1)*MIN($F76*$F$57,$F76-SUM($G76:U76)))","v":0},{"$f":"IF($C76>W$2,0,IF($C76=W$2,0.5,1)*MIN($F76*$F$57,$F76-SUM($G76:V76)))","v":0},{"$f":"IF($C76>X$2,0,IF($C76=X$2,0.5,1)*MIN($F76*$F$57,$F76-SUM($G76:W76)))","v":0},{"$f":"IF($C76>Y$2,0,IF($C76=Y$2,0.5,1)*MIN($F76*$F$57,$F76-SUM($G76:X76)))","v":0},{"$f":"IF($C76>Z$2,0,IF($C76=Z$2,0.5,1)*MIN($F76*$F$57,$F76-SUM($G76:Y76)))","v":0},{"$f":"IF($C76>AA$2,0,IF($C76=AA$2,0.5,1)*MIN($F76*$F$57,$F76-SUM($G76:Z76)))","v":0},{"$f":"IF($C76>AB$2,0,IF($C76=AB$2,0.5,1)*MIN($F76*$F$57,$F76-SUM($G76:AA76)))","v":0}]
[null,null,2040,"тыс. руб.",18,0,null,{"$f":"IF($C77>H$2,0,IF($C77=H$2,0.5,1)*MIN($F77*$F$57,$F77-SUM($G77:G77)))","v":0},{"$f":"IF($C77>I$2,0,IF($C77=I$2,0.5,1)*MIN($F77*$F$57,$F77-SUM($G77:H77)))","v":0},{"$f":"IF($C77>J$2,0,IF($C77=J$2,0.5,1)*MIN($F77*$F$57,$F77-SUM($G77:I77)))","v":0},{"$f":"IF($C77>K$2,0,IF($C77=K$2,0.5,1)*MIN($F77*$F$57,$F77-SUM($G77:J77)))","v":0},{"$f":"IF($C77>L$2,0,IF($C77=L$2,0.5,1)*MIN($F77*$F$57,$F77-SUM($G77:K77)))","v":0},{"$f":"IF($C77>M$2,0,IF($C77=M$2,0.5,1)*MIN($F77*$F$57,$F77-SUM($G77:L77)))","v":0},{"$f":"IF($C77>N$2,0,IF($C77=N$2,0.5,1)*MIN($F77*$F$57,$F77-SUM($G77:M77)))","v":0},{"$f":"IF($C77>O$2,0,IF($C77=O$2,0.5,1)*MIN($F77*$F$57,$F77-SUM($G77:N77)))","v":0},{"$f":"IF($C77>P$2,0,IF($C77=P$2,0.5,1)*MIN($F77*$F$57,$F77-SUM($G77:O77)))","v":0},{"$f":"IF($C77>Q$2,0,IF($C77=Q$2,0.5,1)*MIN($F77*$F$57,$F77-SUM($G77:P77)))","v":0},{"$f":"IF($C77>R$2,0,IF($C77=R$2,0.5,1)*MIN($F77*$F$57,$F77-SUM($G77:Q77)))","v":0},{"$f":"IF($C77>S$2,0,IF($C77=S$2,0.5,1)*MIN($F77*$F$57,$F77-SUM($G77:R77)))","v":0},{"$f":"IF($C77>T$2,0,IF($C77=T$2,0.5,1)*MIN($F77*$F$57,$F77-SUM($G77:S77)))","v":0},{"$f":"IF($C77>U$2,0,IF($C77=U$2,0.5,1)*MIN($F77*$F$57,$F77-SUM($G77:T77)))","v":0},{"$f":"IF($C77>V$2,0,IF($C77=V$2,0.5,1)*MIN($F77*$F$57,$F77-SUM($G77:U77)))","v":0},{"$f":"IF($C77>W$2,0,IF($C77=W$2,0.5,1)*MIN($F77*$F$57,$F77-SUM($G77:V77)))","v":0},{"$f":"IF($C77>X$2,0,IF($C77=X$2,0.5,1)*MIN($F77*$F$57,$F77-SUM($G77:W77)))","v":0},{"$f":"IF($C77>Y$2,0,IF($C77=Y$2,0.5,1)*MIN($F77*$F$57,$F77-SUM($G77:X77)))","v":0},{"$f":"IF($C77>Z$2,0,IF($C77=Z$2,0.5,1)*MIN($F77*$F$57,$F77-SUM($G77:Y77)))","v":0},{"$f":"IF($C77>AA$2,0,IF($C77=AA$2,0.5,1)*MIN($F77*$F$57,$F77-SUM($G77:Z77)))","v":0},{"$f":"IF($C77>AB$2,0,IF($C77=AB$2,0.5,1)*MIN($F77*$F$57,$F77-SUM($G77:AA77)))","v":0}]
[null,null,2041,"тыс. руб.",19,0,null,{"$f":"IF($C78>H$2,0,IF($C78=H$2,0.5,1)*MIN($F78*$F$57,$F78-SUM($G78:G78)))","v":0},{"$f":"IF($C78>I$2,0,IF($C78=I$2,0.5,1)*MIN($F78*$F$57,$F78-SUM($G78:H78)))","v":0},{"$f":"IF($C78>J$2,0,IF($C78=J$2,0.5,1)*MIN($F78*$F$57,$F78-SUM($G78:I78)))","v":0},{"$f":"IF($C78>K$2,0,IF($C78=K$2,0.5,1)*MIN($F78*$F$57,$F78-SUM($G78:J78)))","v":0},{"$f":"IF($C78>L$2,0,IF($C78=L$2,0.5,1)*MIN($F78*$F$57,$F78-SUM($G78:K78)))","v":0},{"$f":"IF($C78>M$2,0,IF($C78=M$2,0.5,1)*MIN($F78*$F$57,$F78-SUM($G78:L78)))","v":0},{"$f":"IF($C78>N$2,0,IF($C78=N$2,0.5,1)*MIN($F78*$F$57,$F78-SUM($G78:M78)))","v":0},{"$f":"IF($C78>O$2,0,IF($C78=O$2,0.5,1)*MIN($F78*$F$57,$F78-SUM($G78:N78)))","v":0},{"$f":"IF($C78>P$2,0,IF($C78=P$2,0.5,1)*MIN($F78*$F$57,$F78-SUM($G78:O78)))","v":0},{"$f":"IF($C78>Q$2,0,IF($C78=Q$2,0.5,1)*MIN($F78*$F$57,$F78-SUM($G78:P78)))","v":0},{"$f":"IF($C78>R$2,0,IF($C78=R$2,0.5,1)*MIN($F78*$F$57,$F78-SUM($G78:Q78)))","v":0},{"$f":"IF($C78>S$2,0,IF($C78=S$2,0.5,1)*MIN($F78*$F$57,$F78-SUM($G78:R78)))","v":0},{"$f":"IF($C78>T$2,0,IF($C78=T$2,0.5,1)*MIN($F78*$F$57,$F78-SUM($G78:S78)))","v":0},{"$f":"IF($C78>U$2,0,IF($C78=U$2,0.5,1)*MIN($F78*$F$57,$F78-SUM($G78:T78)))","v":0},{"$f":"IF($C78>V$2,0,IF($C78=V$2,0.5,1)*MIN($F78*$F$57,$F78-SUM($G78:U78)))","v":0},{"$f":"IF($C78>W$2,0,IF($C78=W$2,0.5,1)*MIN($F78*$F$57,$F78-SUM($G78:V78)))","v":0},{"$f":"IF($C78>X$2,0,IF($C78=X$2,0.5,1)*MIN($F78*$F$57,$F78-SUM($G78:W78)))","v":0},{"$f":"IF($C78>Y$2,0,IF($C78=Y$2,0.5,1)*MIN($F78*$F$57,$F78-SUM($G78:X78)))","v":0},{"$f":"IF($C78>Z$2,0,IF($C78=Z$2,0.5,1)*MIN($F78*$F$57,$F78-SUM($G78:Y78)))","v":0},{"$f":"IF($C78>AA$2,0,IF($C78=AA$2,0.5,1)*MIN($F78*$F$57,$F78-SUM($G78:Z78)))","v":0},{"$f":"IF($C78>AB$2,0,IF($C78=AB$2,0.5,1)*MIN($F78*$F$57,$F78-SUM($G78:AA78)))","v":0}]
[null,null,2042,"тыс. руб.",20,0,null,{"$f":"IF($C79>H$2,0,IF($C79=H$2,0.5,1)*MIN($F79*$F$57,$F79-SUM($G79:G79)))","v":0},{"$f":"IF($C79>I$2,0,IF($C79=I$2,0.5,1)*MIN($F79*$F$57,$F79-SUM($G79:H79)))","v":0},{"$f":"IF($C79>J$2,0,IF($C79=J$2,0.5,1)*MIN($F79*$F$57,$F79-SUM($G79:I79)))","v":0},{"$f":"IF($C79>K$2,0,IF($C79=K$2,0.5,1)*MIN($F79*$F$57,$F79-SUM($G79:J79)))","v":0},{"$f":"IF($C79>L$2,0,IF($C79=L$2,0.5,1)*MIN($F79*$F$57,$F79-SUM($G79:K79)))","v":0},{"$f":"IF($C79>M$2,0,IF($C79=M$2,0.5,1)*MIN($F79*$F$57,$F79-SUM($G79:L79)))","v":0},{"$f":"IF($C79>N$2,0,IF($C79=N$2,0.5,1)*MIN($F79*$F$57,$F79-SUM($G79:M79)))","v":0},{"$f":"IF($C79>O$2,0,IF($C79=O$2,0.5,1)*MIN($F79*$F$57,$F79-SUM($G79:N79)))","v":0},{"$f":"IF($C79>P$2,0,IF($C79=P$2,0.5,1)*MIN($F79*$F$57,$F79-SUM($G79:O79)))","v":0},{"$f":"IF($C79>Q$2,0,IF($C79=Q$2,0.5,1)*MIN($F79*$F$57,$F79-SUM($G79:P79)))","v":0},{"$f":"IF($C79>R$2,0,IF($C79=R$2,0.5,1)*MIN($F79*$F$57,$F79-SUM($G79:Q79)))","v":0},{"$f":"IF($C79>S$2,0,IF($C79=S$2,0.5,1)*MIN($F79*$F$57,$F79-SUM($G79:R79)))","v":0},{"$f":"IF($C79>T$2,0,IF($C79=T$2,0.5,1)*MIN($F79*$F$57,$F79-SUM($G79:S79)))","v":0},{"$f":"IF($C79>U$2,0,IF($C79=U$2,0.5,1)*MIN($F79*$F$57,$F79-SUM($G79:T79)))","v":0},{"$f":"IF($C79>V$2,0,IF($C79=V$2,0.5,1)*MIN($F79*$F$57,$F79-SUM($G79:U79)))","v":0},{"$f":"IF($C79>W$2,0,IF($C79=W$2,0.5,1)*MIN($F79*$F$57,$F79-SUM($G79:V79)))","v":0},{"$f":"IF($C79>X$2,0,IF($C79=X$2,0.5,1)*MIN($F79*$F$57,$F79-SUM($G79:W79)))","v":0},{"$f":"IF($C79>Y$2,0,IF($C79=Y$2,0.5,1)*MIN($F79*$F$57,$F79-SUM($G79:X79)))","v":0},{"$f":"IF($C79>Z$2,0,IF($C79=Z$2,0.5,1)*MIN($F79*$F$57,$F79-SUM($G79:Y79)))","v":0},{"$f":"IF($C79>AA$2,0,IF($C79=AA$2,0.5,1)*MIN($F79*$F$57,$F79-SUM($G79:Z79)))","v":0},{"$f":"IF($C79>AB$2,0,IF($C79=AB$2,0.5,1)*MIN($F79*$F$57,$F79-SUM($G79:AA79)))","v":0}]
[]
[null,null,"Первоначальная стоимость активов","тыс. руб.",null,null,null,{"$f":"G81+H37","v":0},0,0,0,0,0,0,0,0,0,0,0,0,0,0,0,0,0,0,0,0]
[null,null,"Амортизация за период","тыс. руб.",null,null,null,{"$f":"H59","v":0},{"$f":"I59","v":0},0,0,0,0,0,0,0,0,0,0,0,0,0,0,0,0,0,0,0]
[null,null,"Накопленная амортизация","тыс. руб.",null,null,null,{"$f":"G83+H82","v":0},{"$f":"H83+I82","v":0},0,0,0,0,0,0,0,0,0,0,0,0,0,{"$f":"V83+W82","v":0},0,0,0,0,0]
[null,null,"Остаточная стоимость активов","тыс. руб.",null,null,null,{"$f":"H81-H83","v":0},{"$f":"I81-I83","v":0},0,0,0,0,0,0,0,0,0,0,0,0,0,0,0,0,0,0,0]
[]
[null,"Машины и оборудование"]
[]
[null,null,"Ставка амортизации","%",null,{"$f":"Предпосылки!F192","v":0.1}]
[]
[null,null,"Амортизация ","тыс. руб.",null,null,null,{"$f":"SUM(H91:H110)","v":0},{"$f":"SUM(I91:I110)","v":0},0,0,0,0,0,0,0,0,0,0,0,0,0,0,0,0,0,0,0]
[null,null,{"$f":"INDEX(H$2:AA$2,,$E91)","v":2023},"тыс. руб.",1,{"$f":"OFFSET($G$38,,E91)","v":0},null,{"$f":"IF($C91>H$2,0,IF($C91=H$2,0.5,1)*MIN($F91*$F$88,$F91-SUM($G91:G91)))","v":0},{"$f":"IF($C91>I$2,0,IF($C91=I$2,0.5,1)*MIN($F91*$F$88,$F91-SUM($G91:H91)))","v":0},{"$f":"IF($C91>J$2,0,IF($C91=J$2,0.5,1)*MIN($F91*$F$88,$F91-SUM($G91:I91)))","v":0},{"$f":"IF($C91>K$2,0,IF($C91=K$2,0.5,1)*MIN($F91*$F$88,$F91-SUM($G91:J91)))","v":0},{"$f":"IF($C91>L$2,0,IF($C91=L$2,0.5,1)*MIN($F91*$F$88,$F91-SUM($G91:K91)))","v":0},{"$f":"IF($C91>M$2,0,IF($C91=M$2,0.5,1)*MIN($F91*$F$88,$F91-SUM($G91:L91)))","v":0},{"$f":"IF($C91>N$2,0,IF($C91=N$2,0.5,1)*MIN($F91*$F$88,$F91-SUM($G91:M91)))","v":0},{"$f":"IF($C91>O$2,0,IF($C91=O$2,0.5,1)*MIN($F91*$F$88,$F91-SUM($G91:N91)))","v":0},{"$f":"IF($C91>P$2,0,IF($C91=P$2,0.5,1)*MIN($F91*$F$88,$F91-SUM($G91:O91)))","v":0},{"$f":"IF($C91>Q$2,0,IF($C91=Q$2,0.5,1)*MIN($F91*$F$88,$F91-SUM($G91:P91)))","v":0},{"$f":"IF($C91>R$2,0,IF($C91=R$2,0.5,1)*MIN($F91*$F$88,$F91-SUM($G91:Q91)))","v":0},{"$f":"IF($C91>S$2,0,IF($C91=S$2,0.5,1)*MIN($F91*$F$88,$F91-SUM($G91:R91)))","v":0},{"$f":"IF($C91>T$2,0,IF($C91=T$2,0.5,1)*MIN($F91*$F$88,$F91-SUM($G91:S91)))","v":0},{"$f":"IF($C91>U$2,0,IF($C91=U$2,0.5,1)*MIN($F91*$F$88,$F91-SUM($G91:T91)))","v":0},{"$f":"IF($C91>V$2,0,IF($C91=V$2,0.5,1)*MIN($F91*$F$88,$F91-SUM($G91:U91)))","v":0},{"$f":"IF($C91>W$2,0,IF($C91=W$2,0.5,1)*MIN($F91*$F$88,$F91-SUM($G91:V91)))","v":0},{"$f":"IF($C91>X$2,0,IF($C91=X$2,0.5,1)*MIN($F91*$F$88,$F91-SUM($G91:W91)))","v":0},{"$f":"IF($C91>Y$2,0,IF($C91=Y$2,0.5,1)*MIN($F91*$F$88,$F91-SUM($G91:X91)))","v":0},{"$f":"IF($C91>Z$2,0,IF($C91=Z$2,0.5,1)*MIN($F91*$F$88,$F91-SUM($G91:Y91)))","v":0},{"$f":"IF($C91>AA$2,0,IF($C91=AA$2,0.5,1)*MIN($F91*$F$88,$F91-SUM($G91:Z91)))","v":0},{"$f":"IF($C91>AB$2,0,IF($C91=AB$2,0.5,1)*MIN($F91*$F$88,$F91-SUM($G91:AA91)))","v":0}]
[null,null,{"$f":"INDEX(H$2:AA$2,,$E92)","v":2024},"тыс. руб.",2,{"$f":"OFFSET($G$38,,E92)","v":0},null,{"$f":"IF($C92>H$2,0,IF($C92=H$2,0.5,1)*MIN($F92*$F$88,$F92-SUM($G92:G92)))","v":0},{"$f":"IF($C92>I$2,0,IF($C92=I$2,0.5,1)*MIN($F92*$F$88,$F92-SUM($G92:H92)))","v":0},{"$f":"IF($C92>J$2,0,IF($C92=J$2,0.5,1)*MIN($F92*$F$88,$F92-SUM($G92:I92)))","v":0},{"$f":"IF($C92>K$2,0,IF($C92=K$2,0.5,1)*MIN($F92*$F$88,$F92-SUM($G92:J92)))","v":0},{"$f":"IF($C92>L$2,0,IF($C92=L$2,0.5,1)*MIN($F92*$F$88,$F92-SUM($G92:K92)))","v":0},{"$f":"IF($C92>M$2,0,IF($C92=M$2,0.5,1)*MIN($F92*$F$88,$F92-SUM($G92:L92)))","v":0},{"$f":"IF($C92>N$2,0,IF($C92=N$2,0.5,1)*MIN($F92*$F$88,$F92-SUM($G92:M92)))","v":0},{"$f":"IF($C92>O$2,0,IF($C92=O$2,0.5,1)*MIN($F92*$F$88,$F92-SUM($G92:N92)))","v":0},{"$f":"IF($C92>P$2,0,IF($C92=P$2,0.5,1)*MIN($F92*$F$88,$F92-SUM($G92:O92)))","v":0},{"$f":"IF($C92>Q$2,0,IF($C92=Q$2,0.5,1)*MIN($F92*$F$88,$F92-SUM($G92:P92)))","v":0},{"$f":"IF($C92>R$2,0,IF($C92=R$2,0.5,1)*MIN($F92*$F$88,$F92-SUM($G92:Q92)))","v":0},{"$f":"IF($C92>S$2,0,IF($C92=S$2,0.5,1)*MIN($F92*$F$88,$F92-SUM($G92:R92)))","v":0},{"$f":"IF($C92>T$2,0,IF($C92=T$2,0.5,1)*MIN($F92*$F$88,$F92-SUM($G92:S92)))","v":0},{"$f":"IF($C92>U$2,0,IF($C92=U$2,0.5,1)*MIN($F92*$F$88,$F92-SUM($G92:T92)))","v":0},{"$f":"IF($C92>V$2,0,IF($C92=V$2,0.5,1)*MIN($F92*$F$88,$F92-SUM($G92:U92)))","v":0},{"$f":"IF($C92>W$2,0,IF($C92=W$2,0.5,1)*MIN($F92*$F$88,$F92-SUM($G92:V92)))","v":0},{"$f":"IF($C92>X$2,0,IF($C92=X$2,0.5,1)*MIN($F92*$F$88,$F92-SUM($G92:W92)))","v":0},{"$f":"IF($C92>Y$2,0,IF($C92=Y$2,0.5,1)*MIN($F92*$F$88,$F92-SUM($G92:X92)))","v":0},{"$f":"IF($C92>Z$2,0,IF($C92=Z$2,0.5,1)*MIN($F92*$F$88,$F92-SUM($G92:Y92)))","v":0},{"$f":"IF($C92>AA$2,0,IF($C92=AA$2,0.5,1)*MIN($F92*$F$88,$F92-SUM($G92:Z92)))","v":0},{"$f":"IF($C92>AB$2,0,IF($C92=AB$2,0.5,1)*MIN($F92*$F$88,$F92-SUM($G92:AA92)))","v":0}]
[null,null,2025,"тыс. руб.",3,0,null,{"$f":"IF($C93>H$2,0,IF($C93=H$2,0.5,1)*MIN($F93*$F$88,$F93-SUM($G93:G93)))","v":0},{"$f":"IF($C93>I$2,0,IF($C93=I$2,0.5,1)*MIN($F93*$F$88,$F93-SUM($G93:H93)))","v":0},{"$f":"IF($C93>J$2,0,IF($C93=J$2,0.5,1)*MIN($F93*$F$88,$F93-SUM($G93:I93)))","v":0},{"$f":"IF($C93>K$2,0,IF($C93=K$2,0.5,1)*MIN($F93*$F$88,$F93-SUM($G93:J93)))","v":0},{"$f":"IF($C93>L$2,0,IF($C93=L$2,0.5,1)*MIN($F93*$F$88,$F93-SUM($G93:K93)))","v":0},{"$f":"IF($C93>M$2,0,IF($C93=M$2,0.5,1)*MIN($F93*$F$88,$F93-SUM($G93:L93)))","v":0},{"$f":"IF($C93>N$2,0,IF($C93=N$2,0.5,1)*MIN($F93*$F$88,$F93-SUM($G93:M93)))","v":0},{"$f":"IF($C93>O$2,0,IF($C93=O$2,0.5,1)*MIN($F93*$F$88,$F93-SUM($G93:N93)))","v":0},{"$f":"IF($C93>P$2,0,IF($C93=P$2,0.5,1)*MIN($F93*$F$88,$F93-SUM($G93:O93)))","v":0},{"$f":"IF($C93>Q$2,0,IF($C93=Q$2,0.5,1)*MIN($F93*$F$88,$F93-SUM($G93:P93)))","v":0},{"$f":"IF($C93>R$2,0,IF($C93=R$2,0.5,1)*MIN($F93*$F$88,$F93-SUM($G93:Q93)))","v":0},{"$f":"IF($C93>S$2,0,IF($C93=S$2,0.5,1)*MIN($F93*$F$88,$F93-SUM($G93:R93)))","v":0},{"$f":"IF($C93>T$2,0,IF($C93=T$2,0.5,1)*MIN($F93*$F$88,$F93-SUM($G93:S93)))","v":0},{"$f":"IF($C93>U$2,0,IF($C93=U$2,0.5,1)*MIN($F93*$F$88,$F93-SUM($G93:T93)))","v":0},{"$f":"IF($C93>V$2,0,IF($C93=V$2,0.5,1)*MIN($F93*$F$88,$F93-SUM($G93:U93)))","v":0},{"$f":"IF($C93>W$2,0,IF($C93=W$2,0.5,1)*MIN($F93*$F$88,$F93-SUM($G93:V93)))","v":0},{"$f":"IF($C93>X$2,0,IF($C93=X$2,0.5,1)*MIN($F93*$F$88,$F93-SUM($G93:W93)))","v":0},{"$f":"IF($C93>Y$2,0,IF($C93=Y$2,0.5,1)*MIN($F93*$F$88,$F93-SUM($G93:X93)))","v":0},{"$f":"IF($C93>Z$2,0,IF($C93=Z$2,0.5,1)*MIN($F93*$F$88,$F93-SUM($G93:Y93)))","v":0},{"$f":"IF($C93>AA$2,0,IF($C93=AA$2,0.5,1)*MIN($F93*$F$88,$F93-SUM($G93:Z93)))","v":0},{"$f":"IF($C93>AB$2,0,IF($C93=AB$2,0.5,1)*MIN($F93*$F$88,$F93-SUM($G93:AA93)))","v":0}]
[null,null,2026,"тыс. руб.",4,0,null,{"$f":"IF($C94>H$2,0,IF($C94=H$2,0.5,1)*MIN($F94*$F$88,$F94-SUM($G94:G94)))","v":0},{"$f":"IF($C94>I$2,0,IF($C94=I$2,0.5,1)*MIN($F94*$F$88,$F94-SUM($G94:H94)))","v":0},{"$f":"IF($C94>J$2,0,IF($C94=J$2,0.5,1)*MIN($F94*$F$88,$F94-SUM($G94:I94)))","v":0},{"$f":"IF($C94>K$2,0,IF($C94=K$2,0.5,1)*MIN($F94*$F$88,$F94-SUM($G94:J94)))","v":0},{"$f":"IF($C94>L$2,0,IF($C94=L$2,0.5,1)*MIN($F94*$F$88,$F94-SUM($G94:K94)))","v":0},{"$f":"IF($C94>M$2,0,IF($C94=M$2,0.5,1)*MIN($F94*$F$88,$F94-SUM($G94:L94)))","v":0},{"$f":"IF($C94>N$2,0,IF($C94=N$2,0.5,1)*MIN($F94*$F$88,$F94-SUM($G94:M94)))","v":0},{"$f":"IF($C94>O$2,0,IF($C94=O$2,0.5,1)*MIN($F94*$F$88,$F94-SUM($G94:N94)))","v":0},{"$f":"IF($C94>P$2,0,IF($C94=P$2,0.5,1)*MIN($F94*$F$88,$F94-SUM($G94:O94)))","v":0},{"$f":"IF($C94>Q$2,0,IF($C94=Q$2,0.5,1)*MIN($F94*$F$88,$F94-SUM($G94:P94)))","v":0},{"$f":"IF($C94>R$2,0,IF($C94=R$2,0.5,1)*MIN($F94*$F$88,$F94-SUM($G94:Q94)))","v":0},{"$f":"IF($C94>S$2,0,IF($C94=S$2,0.5,1)*MIN($F94*$F$88,$F94-SUM($G94:R94)))","v":0},{"$f":"IF($C94>T$2,0,IF($C94=T$2,0.5,1)*MIN($F94*$F$88,$F94-SUM($G94:S94)))","v":0},{"$f":"IF($C94>U$2,0,IF($C94=U$2,0.5,1)*MIN($F94*$F$88,$F94-SUM($G94:T94)))","v":0},{"$f":"IF($C94>V$2,0,IF($C94=V$2,0.5,1)*MIN($F94*$F$88,$F94-SUM($G94:U94)))","v":0},{"$f":"IF($C94>W$2,0,IF($C94=W$2,0.5,1)*MIN($F94*$F$88,$F94-SUM($G94:V94)))","v":0},{"$f":"IF($C94>X$2,0,IF($C94=X$2,0.5,1)*MIN($F94*$F$88,$F94-SUM($G94:W94)))","v":0},{"$f":"IF($C94>Y$2,0,IF($C94=Y$2,0.5,1)*MIN($F94*$F$88,$F94-SUM($G94:X94)))","v":0},{"$f":"IF($C94>Z$2,0,IF($C94=Z$2,0.5,1)*MIN($F94*$F$88,$F94-SUM($G94:Y94)))","v":0},{"$f":"IF($C94>AA$2,0,IF($C94=AA$2,0.5,1)*MIN($F94*$F$88,$F94-SUM($G94:Z94)))","v":0},{"$f":"IF($C94>AB$2,0,IF($C94=AB$2,0.5,1)*MIN($F94*$F$88,$F94-SUM($G94:AA94)))","v":0}]
[null,null,2027,"тыс. руб.",5,0,null,{"$f":"IF($C95>H$2,0,IF($C95=H$2,0.5,1)*MIN($F95*$F$88,$F95-SUM($G95:G95)))","v":0},{"$f":"IF($C95>I$2,0,IF($C95=I$2,0.5,1)*MIN($F95*$F$88,$F95-SUM($G95:H95)))","v":0},{"$f":"IF($C95>J$2,0,IF($C95=J$2,0.5,1)*MIN($F95*$F$88,$F95-SUM($G95:I95)))","v":0},{"$f":"IF($C95>K$2,0,IF($C95=K$2,0.5,1)*MIN($F95*$F$88,$F95-SUM($G95:J95)))","v":0},{"$f":"IF($C95>L$2,0,IF($C95=L$2,0.5,1)*MIN($F95*$F$88,$F95-SUM($G95:K95)))","v":0},{"$f":"IF($C95>M$2,0,IF($C95=M$2,0.5,1)*MIN($F95*$F$88,$F95-SUM($G95:L95)))","v":0},{"$f":"IF($C95>N$2,0,IF($C95=N$2,0.5,1)*MIN($F95*$F$88,$F95-SUM($G95:M95)))","v":0},{"$f":"IF($C95>O$2,0,IF($C95=O$2,0.5,1)*MIN($F95*$F$88,$F95-SUM($G95:N95)))","v":0},{"$f":"IF($C95>P$2,0,IF($C95=P$2,0.5,1)*MIN($F95*$F$88,$F95-SUM($G95:O95)))","v":0},{"$f":"IF($C95>Q$2,0,IF($C95=Q$2,0.5,1)*MIN($F95*$F$88,$F95-SUM($G95:P95)))","v":0},{"$f":"IF($C95>R$2,0,IF($C95=R$2,0.5,1)*MIN($F95*$F$88,$F95-SUM($G95:Q95)))","v":0},{"$f":"IF($C95>S$2,0,IF($C95=S$2,0.5,1)*MIN($F95*$F$88,$F95-SUM($G95:R95)))","v":0},{"$f":"IF($C95>T$2,0,IF($C95=T$2,0.5,1)*MIN($F95*$F$88,$F95-SUM($G95:S95)))","v":0},{"$f":"IF($C95>U$2,0,IF($C95=U$2,0.5,1)*MIN($F95*$F$88,$F95-SUM($G95:T95)))","v":0},{"$f":"IF($C95>V$2,0,IF($C95=V$2,0.5,1)*MIN($F95*$F$88,$F95-SUM($G95:U95)))","v":0},{"$f":"IF($C95>W$2,0,IF($C95=W$2,0.5,1)*MIN($F95*$F$88,$F95-SUM($G95:V95)))","v":0},{"$f":"IF($C95>X$2,0,IF($C95=X$2,0.5,1)*MIN($F95*$F$88,$F95-SUM($G95:W95)))","v":0},{"$f":"IF($C95>Y$2,0,IF($C95=Y$2,0.5,1)*MIN($F95*$F$88,$F95-SUM($G95:X95)))","v":0},{"$f":"IF($C95>Z$2,0,IF($C95=Z$2,0.5,1)*MIN($F95*$F$88,$F95-SUM($G95:Y95)))","v":0},{"$f":"IF($C95>AA$2,0,IF($C95=AA$2,0.5,1)*MIN($F95*$F$88,$F95-SUM($G95:Z95)))","v":0},{"$f":"IF($C95>AB$2,0,IF($C95=AB$2,0.5,1)*MIN($F95*$F$88,$F95-SUM($G95:AA95)))","v":0}]
[null,null,2028,"тыс. руб.",6,0,null,{"$f":"IF($C96>H$2,0,IF($C96=H$2,0.5,1)*MIN($F96*$F$88,$F96-SUM($G96:G96)))","v":0},{"$f":"IF($C96>I$2,0,IF($C96=I$2,0.5,1)*MIN($F96*$F$88,$F96-SUM($G96:H96)))","v":0},{"$f":"IF($C96>J$2,0,IF($C96=J$2,0.5,1)*MIN($F96*$F$88,$F96-SUM($G96:I96)))","v":0},{"$f":"IF($C96>K$2,0,IF($C96=K$2,0.5,1)*MIN($F96*$F$88,$F96-SUM($G96:J96)))","v":0},{"$f":"IF($C96>L$2,0,IF($C96=L$2,0.5,1)*MIN($F96*$F$88,$F96-SUM($G96:K96)))","v":0},{"$f":"IF($C96>M$2,0,IF($C96=M$2,0.5,1)*MIN($F96*$F$88,$F96-SUM($G96:L96)))","v":0},{"$f":"IF($C96>N$2,0,IF($C96=N$2,0.5,1)*MIN($F96*$F$88,$F96-SUM($G96:M96)))","v":0},{"$f":"IF($C96>O$2,0,IF($C96=O$2,0.5,1)*MIN($F96*$F$88,$F96-SUM($G96:N96)))","v":0},{"$f":"IF($C96>P$2,0,IF($C96=P$2,0.5,1)*MIN($F96*$F$88,$F96-SUM($G96:O96)))","v":0},{"$f":"IF($C96>Q$2,0,IF($C96=Q$2,0.5,1)*MIN($F96*$F$88,$F96-SUM($G96:P96)))","v":0},{"$f":"IF($C96>R$2,0,IF($C96=R$2,0.5,1)*MIN($F96*$F$88,$F96-SUM($G96:Q96)))","v":0},{"$f":"IF($C96>S$2,0,IF($C96=S$2,0.5,1)*MIN($F96*$F$88,$F96-SUM($G96:R96)))","v":0},{"$f":"IF($C96>T$2,0,IF($C96=T$2,0.5,1)*MIN($F96*$F$88,$F96-SUM($G96:S96)))","v":0},{"$f":"IF($C96>U$2,0,IF($C96=U$2,0.5,1)*MIN($F96*$F$88,$F96-SUM($G96:T96)))","v":0},{"$f":"IF($C96>V$2,0,IF($C96=V$2,0.5,1)*MIN($F96*$F$88,$F96-SUM($G96:U96)))","v":0},{"$f":"IF($C96>W$2,0,IF($C96=W$2,0.5,1)*MIN($F96*$F$88,$F96-SUM($G96:V96)))","v":0},{"$f":"IF($C96>X$2,0,IF($C96=X$2,0.5,1)*MIN($F96*$F$88,$F96-SUM($G96:W96)))","v":0},{"$f":"IF($C96>Y$2,0,IF($C96=Y$2,0.5,1)*MIN($F96*$F$88,$F96-SUM($G96:X96)))","v":0},{"$f":"IF($C96>Z$2,0,IF($C96=Z$2,0.5,1)*MIN($F96*$F$88,$F96-SUM($G96:Y96)))","v":0},{"$f":"IF($C96>AA$2,0,IF($C96=AA$2,0.5,1)*MIN($F96*$F$88,$F96-SUM($G96:Z96)))","v":0},{"$f":"IF($C96>AB$2,0,IF($C96=AB$2,0.5,1)*MIN($F96*$F$88,$F96-SUM($G96:AA96)))","v":0}]
[null,null,2029,"тыс. руб.",7,0,null,{"$f":"IF($C97>H$2,0,IF($C97=H$2,0.5,1)*MIN($F97*$F$88,$F97-SUM($G97:G97)))","v":0},{"$f":"IF($C97>I$2,0,IF($C97=I$2,0.5,1)*MIN($F97*$F$88,$F97-SUM($G97:H97)))","v":0},{"$f":"IF($C97>J$2,0,IF($C97=J$2,0.5,1)*MIN($F97*$F$88,$F97-SUM($G97:I97)))","v":0},{"$f":"IF($C97>K$2,0,IF($C97=K$2,0.5,1)*MIN($F97*$F$88,$F97-SUM($G97:J97)))","v":0},{"$f":"IF($C97>L$2,0,IF($C97=L$2,0.5,1)*MIN($F97*$F$88,$F97-SUM($G97:K97)))","v":0},{"$f":"IF($C97>M$2,0,IF($C97=M$2,0.5,1)*MIN($F97*$F$88,$F97-SUM($G97:L97)))","v":0},{"$f":"IF($C97>N$2,0,IF($C97=N$2,0.5,1)*MIN($F97*$F$88,$F97-SUM($G97:M97)))","v":0},{"$f":"IF($C97>O$2,0,IF($C97=O$2,0.5,1)*MIN($F97*$F$88,$F97-SUM($G97:N97)))","v":0},{"$f":"IF($C97>P$2,0,IF($C97=P$2,0.5,1)*MIN($F97*$F$88,$F97-SUM($G97:O97)))","v":0},{"$f":"IF($C97>Q$2,0,IF($C97=Q$2,0.5,1)*MIN($F97*$F$88,$F97-SUM($G97:P97)))","v":0},{"$f":"IF($C97>R$2,0,IF($C97=R$2,0.5,1)*MIN($F97*$F$88,$F97-SUM($G97:Q97)))","v":0},{"$f":"IF($C97>S$2,0,IF($C97=S$2,0.5,1)*MIN($F97*$F$88,$F97-SUM($G97:R97)))","v":0},{"$f":"IF($C97>T$2,0,IF($C97=T$2,0.5,1)*MIN($F97*$F$88,$F97-SUM($G97:S97)))","v":0},{"$f":"IF($C97>U$2,0,IF($C97=U$2,0.5,1)*MIN($F97*$F$88,$F97-SUM($G97:T97)))","v":0},{"$f":"IF($C97>V$2,0,IF($C97=V$2,0.5,1)*MIN($F97*$F$88,$F97-SUM($G97:U97)))","v":0},{"$f":"IF($C97>W$2,0,IF($C97=W$2,0.5,1)*MIN($F97*$F$88,$F97-SUM($G97:V97)))","v":0},{"$f":"IF($C97>X$2,0,IF($C97=X$2,0.5,1)*MIN($F97*$F$88,$F97-SUM($G97:W97)))","v":0},{"$f":"IF($C97>Y$2,0,IF($C97=Y$2,0.5,1)*MIN($F97*$F$88,$F97-SUM($G97:X97)))","v":0},{"$f":"IF($C97>Z$2,0,IF($C97=Z$2,0.5,1)*MIN($F97*$F$88,$F97-SUM($G97:Y97)))","v":0},{"$f":"IF($C97>AA$2,0,IF($C97=AA$2,0.5,1)*MIN($F97*$F$88,$F97-SUM($G97:Z97)))","v":0},{"$f":"IF($C97>AB$2,0,IF($C97=AB$2,0.5,1)*MIN($F97*$F$88,$F97-SUM($G97:AA97)))","v":0}]
[null,null,2030,"тыс. руб.",8,0,null,{"$f":"IF($C98>H$2,0,IF($C98=H$2,0.5,1)*MIN($F98*$F$88,$F98-SUM($G98:G98)))","v":0},{"$f":"IF($C98>I$2,0,IF($C98=I$2,0.5,1)*MIN($F98*$F$88,$F98-SUM($G98:H98)))","v":0},{"$f":"IF($C98>J$2,0,IF($C98=J$2,0.5,1)*MIN($F98*$F$88,$F98-SUM($G98:I98)))","v":0},{"$f":"IF($C98>K$2,0,IF($C98=K$2,0.5,1)*MIN($F98*$F$88,$F98-SUM($G98:J98)))","v":0},{"$f":"IF($C98>L$2,0,IF($C98=L$2,0.5,1)*MIN($F98*$F$88,$F98-SUM($G98:K98)))","v":0},{"$f":"IF($C98>M$2,0,IF($C98=M$2,0.5,1)*MIN($F98*$F$88,$F98-SUM($G98:L98)))","v":0},{"$f":"IF($C98>N$2,0,IF($C98=N$2,0.5,1)*MIN($F98*$F$88,$F98-SUM($G98:M98)))","v":0},{"$f":"IF($C98>O$2,0,IF($C98=O$2,0.5,1)*MIN($F98*$F$88,$F98-SUM($G98:N98)))","v":0},{"$f":"IF($C98>P$2,0,IF($C98=P$2,0.5,1)*MIN($F98*$F$88,$F98-SUM($G98:O98)))","v":0},{"$f":"IF($C98>Q$2,0,IF($C98=Q$2,0.5,1)*MIN($F98*$F$88,$F98-SUM($G98:P98)))","v":0},{"$f":"IF($C98>R$2,0,IF($C98=R$2,0.5,1)*MIN($F98*$F$88,$F98-SUM($G98:Q98)))","v":0},{"$f":"IF($C98>S$2,0,IF($C98=S$2,0.5,1)*MIN($F98*$F$88,$F98-SUM($G98:R98)))","v":0},{"$f":"IF($C98>T$2,0,IF($C98=T$2,0.5,1)*MIN($F98*$F$88,$F98-SUM($G98:S98)))","v":0},{"$f":"IF($C98>U$2,0,IF($C98=U$2,0.5,1)*MIN($F98*$F$88,$F98-SUM($G98:T98)))","v":0},{"$f":"IF($C98>V$2,0,IF($C98=V$2,0.5,1)*MIN($F98*$F$88,$F98-SUM($G98:U98)))","v":0},{"$f":"IF($C98>W$2,0,IF($C98=W$2,0.5,1)*MIN($F98*$F$88,$F98-SUM($G98:V98)))","v":0},{"$f":"IF($C98>X$2,0,IF($C98=X$2,0.5,1)*MIN($F98*$F$88,$F98-SUM($G98:W98)))","v":0},{"$f":"IF($C98>Y$2,0,IF($C98=Y$2,0.5,1)*MIN($F98*$F$88,$F98-SUM($G98:X98)))","v":0},{"$f":"IF($C98>Z$2,0,IF($C98=Z$2,0.5,1)*MIN($F98*$F$88,$F98-SUM($G98:Y98)))","v":0},{"$f":"IF($C98>AA$2,0,IF($C98=AA$2,0.5,1)*MIN($F98*$F$88,$F98-SUM($G98:Z98)))","v":0},{"$f":"IF($C98>AB$2,0,IF($C98=AB$2,0.5,1)*MIN($F98*$F$88,$F98-SUM($G98:AA98)))","v":0}]
[null,null,2031,"тыс. руб.",9,0,null,{"$f":"IF($C99>H$2,0,IF($C99=H$2,0.5,1)*MIN($F99*$F$88,$F99-SUM($G99:G99)))","v":0},{"$f":"IF($C99>I$2,0,IF($C99=I$2,0.5,1)*MIN($F99*$F$88,$F99-SUM($G99:H99)))","v":0},{"$f":"IF($C99>J$2,0,IF($C99=J$2,0.5,1)*MIN($F99*$F$88,$F99-SUM($G99:I99)))","v":0},{"$f":"IF($C99>K$2,0,IF($C99=K$2,0.5,1)*MIN($F99*$F$88,$F99-SUM($G99:J99)))","v":0},{"$f":"IF($C99>L$2,0,IF($C99=L$2,0.5,1)*MIN($F99*$F$88,$F99-SUM($G99:K99)))","v":0},{"$f":"IF($C99>M$2,0,IF($C99=M$2,0.5,1)*MIN($F99*$F$88,$F99-SUM($G99:L99)))","v":0},{"$f":"IF($C99>N$2,0,IF($C99=N$2,0.5,1)*MIN($F99*$F$88,$F99-SUM($G99:M99)))","v":0},{"$f":"IF($C99>O$2,0,IF($C99=O$2,0.5,1)*MIN($F99*$F$88,$F99-SUM($G99:N99)))","v":0},{"$f":"IF($C99>P$2,0,IF($C99=P$2,0.5,1)*MIN($F99*$F$88,$F99-SUM($G99:O99)))","v":0},{"$f":"IF($C99>Q$2,0,IF($C99=Q$2,0.5,1)*MIN($F99*$F$88,$F99-SUM($G99:P99)))","v":0},{"$f":"IF($C99>R$2,0,IF($C99=R$2,0.5,1)*MIN($F99*$F$88,$F99-SUM($G99:Q99)))","v":0},{"$f":"IF($C99>S$2,0,IF($C99=S$2,0.5,1)*MIN($F99*$F$88,$F99-SUM($G99:R99)))","v":0},{"$f":"IF($C99>T$2,0,IF($C99=T$2,0.5,1)*MIN($F99*$F$88,$F99-SUM($G99:S99)))","v":0},{"$f":"IF($C99>U$2,0,IF($C99=U$2,0.5,1)*MIN($F99*$F$88,$F99-SUM($G99:T99)))","v":0},{"$f":"IF($C99>V$2,0,IF($C99=V$2,0.5,1)*MIN($F99*$F$88,$F99-SUM($G99:U99)))","v":0},{"$f":"IF($C99>W$2,0,IF($C99=W$2,0.5,1)*MIN($F99*$F$88,$F99-SUM($G99:V99)))","v":0},{"$f":"IF($C99>X$2,0,IF($C99=X$2,0.5,1)*MIN($F99*$F$88,$F99-SUM($G99:W99)))","v":0},{"$f":"IF($C99>Y$2,0,IF($C99=Y$2,0.5,1)*MIN($F99*$F$88,$F99-SUM($G99:X99)))","v":0},{"$f":"IF($C99>Z$2,0,IF($C99=Z$2,0.5,1)*MIN($F99*$F$88,$F99-SUM($G99:Y99)))","v":0},{"$f":"IF($C99>AA$2,0,IF($C99=AA$2,0.5,1)*MIN($F99*$F$88,$F99-SUM($G99:Z99)))","v":0},{"$f":"IF($C99>AB$2,0,IF($C99=AB$2,0.5,1)*MIN($F99*$F$88,$F99-SUM($G99:AA99)))","v":0}]
[null,null,2032,"тыс. руб.",10,0,null,{"$f":"IF($C100>H$2,0,IF($C100=H$2,0.5,1)*MIN($F100*$F$88,$F100-SUM($G100:G100)))","v":0},{"$f":"IF($C100>I$2,0,IF($C100=I$2,0.5,1)*MIN($F100*$F$88,$F100-SUM($G100:H100)))","v":0},{"$f":"IF($C100>J$2,0,IF($C100=J$2,0.5,1)*MIN($F100*$F$88,$F100-SUM($G100:I100)))","v":0},{"$f":"IF($C100>K$2,0,IF($C100=K$2,0.5,1)*MIN($F100*$F$88,$F100-SUM($G100:J100)))","v":0},{"$f":"IF($C100>L$2,0,IF($C100=L$2,0.5,1)*MIN($F100*$F$88,$F100-SUM($G100:K100)))","v":0},{"$f":"IF($C100>M$2,0,IF($C100=M$2,0.5,1)*MIN($F100*$F$88,$F100-SUM($G100:L100)))","v":0},{"$f":"IF($C100>N$2,0,IF($C100=N$2,0.5,1)*MIN($F100*$F$88,$F100-SUM($G100:M100)))","v":0},{"$f":"IF($C100>O$2,0,IF($C100=O$2,0.5,1)*MIN($F100*$F$88,$F100-SUM($G100:N100)))","v":0},{"$f":"IF($C100>P$2,0,IF($C100=P$2,0.5,1)*MIN($F100*$F$88,$F100-SUM($G100:O100)))","v":0},{"$f":"IF($C100>Q$2,0,IF($C100=Q$2,0.5,1)*MIN($F100*$F$88,$F100-SUM($G100:P100)))","v":0},{"$f":"IF($C100>R$2,0,IF($C100=R$2,0.5,1)*MIN($F100*$F$88,$F100-SUM($G100:Q100)))","v":0},{"$f":"IF($C100>S$2,0,IF($C100=S$2,0.5,1)*MIN($F100*$F$88,$F100-SUM($G100:R100)))","v":0},{"$f":"IF($C100>T$2,0,IF($C100=T$2,0.5,1)*MIN($F100*$F$88,$F100-SUM($G100:S100)))","v":0},{"$f":"IF($C100>U$2,0,IF($C100=U$2,0.5,1)*MIN($F100*$F$88,$F100-SUM($G100:T100)))","v":0},{"$f":"IF($C100>V$2,0,IF($C100=V$2,0.5,1)*MIN($F100*$F$88,$F100-SUM($G100:U100)))","v":0},{"$f":"IF($C100>W$2,0,IF($C100=W$2,0.5,1)*MIN($F100*$F$88,$F100-SUM($G100:V100)))","v":0},{"$f":"IF($C100>X$2,0,IF($C100=X$2,0.5,1)*MIN($F100*$F$88,$F100-SUM($G100:W100)))","v":0},{"$f":"IF($C100>Y$2,0,IF($C100=Y$2,0.5,1)*MIN($F100*$F$88,$F100-SUM($G100:X100)))","v":0},{"$f":"IF($C100>Z$2,0,IF($C100=Z$2,0.5,1)*MIN($F100*$F$88,$F100-SUM($G100:Y100)))","v":0},{"$f":"IF($C100>AA$2,0,IF($C100=AA$2,0.5,1)*MIN($F100*$F$88,$F100-SUM($G100:Z100)))","v":0},{"$f":"IF($C100>AB$2,0,IF($C100=AB$2,0.5,1)*MIN($F100*$F$88,$F100-SUM($G100:AA100)))","v":0}]
[null,null,2033,"тыс. руб.",11,0,null,{"$f":"IF($C101>H$2,0,IF($C101=H$2,0.5,1)*MIN($F101*$F$88,$F101-SUM($G101:G101)))","v":0},{"$f":"IF($C101>I$2,0,IF($C101=I$2,0.5,1)*MIN($F101*$F$88,$F101-SUM($G101:H101)))","v":0},{"$f":"IF($C101>J$2,0,IF($C101=J$2,0.5,1)*MIN($F101*$F$88,$F101-SUM($G101:I101)))","v":0},{"$f":"IF($C101>K$2,0,IF($C101=K$2,0.5,1)*MIN($F101*$F$88,$F101-SUM($G101:J101)))","v":0},{"$f":"IF($C101>L$2,0,IF($C101=L$2,0.5,1)*MIN($F101*$F$88,$F101-SUM($G101:K101)))","v":0},{"$f":"IF($C101>M$2,0,IF($C101=M$2,0.5,1)*MIN($F101*$F$88,$F101-SUM($G101:L101)))","v":0},{"$f":"IF($C101>N$2,0,IF($C101=N$2,0.5,1)*MIN($F101*$F$88,$F101-SUM($G101:M101)))","v":0},{"$f":"IF($C101>O$2,0,IF($C101=O$2,0.5,1)*MIN($F101*$F$88,$F101-SUM($G101:N101)))","v":0},{"$f":"IF($C101>P$2,0,IF($C101=P$2,0.5,1)*MIN($F101*$F$88,$F101-SUM($G101:O101)))","v":0},{"$f":"IF($C101>Q$2,0,IF($C101=Q$2,0.5,1)*MIN($F101*$F$88,$F101-SUM($G101:P101)))","v":0},{"$f":"IF($C101>R$2,0,IF($C101=R$2,0.5,1)*MIN($F101*$F$88,$F101-SUM($G101:Q101)))","v":0},{"$f":"IF($C101>S$2,0,IF($C101=S$2,0.5,1)*MIN($F101*$F$88,$F101-SUM($G101:R101)))","v":0},{"$f":"IF($C101>T$2,0,IF($C101=T$2,0.5,1)*MIN($F101*$F$88,$F101-SUM($G101:S101)))","v":0},{"$f":"IF($C101>U$2,0,IF($C101=U$2,0.5,1)*MIN($F101*$F$88,$F101-SUM($G101:T101)))","v":0},{"$f":"IF($C101>V$2,0,IF($C101=V$2,0.5,1)*MIN($F101*$F$88,$F101-SUM($G101:U101)))","v":0},{"$f":"IF($C101>W$2,0,IF($C101=W$2,0.5,1)*MIN($F101*$F$88,$F101-SUM($G101:V101)))","v":0},{"$f":"IF($C101>X$2,0,IF($C101=X$2,0.5,1)*MIN($F101*$F$88,$F101-SUM($G101:W101)))","v":0},{"$f":"IF($C101>Y$2,0,IF($C101=Y$2,0.5,1)*MIN($F101*$F$88,$F101-SUM($G101:X101)))","v":0},{"$f":"IF($C101>Z$2,0,IF($C101=Z$2,0.5,1)*MIN($F101*$F$88,$F101-SUM($G101:Y101)))","v":0},{"$f":"IF($C101>AA$2,0,IF($C101=AA$2,0.5,1)*MIN($F101*$F$88,$F101-SUM($G101:Z101)))","v":0},{"$f":"IF($C101>AB$2,0,IF($C101=AB$2,0.5,1)*MIN($F101*$F$88,$F101-SUM($G101:AA101)))","v":0}]
[null,null,2034,"тыс. руб.",12,0,null,{"$f":"IF($C102>H$2,0,IF($C102=H$2,0.5,1)*MIN($F102*$F$88,$F102-SUM($G102:G102)))","v":0},{"$f":"IF($C102>I$2,0,IF($C102=I$2,0.5,1)*MIN($F102*$F$88,$F102-SUM($G102:H102)))","v":0},{"$f":"IF($C102>J$2,0,IF($C102=J$2,0.5,1)*MIN($F102*$F$88,$F102-SUM($G102:I102)))","v":0},{"$f":"IF($C102>K$2,0,IF($C102=K$2,0.5,1)*MIN($F102*$F$88,$F102-SUM($G102:J102)))","v":0},{"$f":"IF($C102>L$2,0,IF($C102=L$2,0.5,1)*MIN($F102*$F$88,$F102-SUM($G102:K102)))","v":0},{"$f":"IF($C102>M$2,0,IF($C102=M$2,0.5,1)*MIN($F102*$F$88,$F102-SUM($G102:L102)))","v":0},{"$f":"IF($C102>N$2,0,IF($C102=N$2,0.5,1)*MIN($F102*$F$88,$F102-SUM($G102:M102)))","v":0},{"$f":"IF($C102>O$2,0,IF($C102=O$2,0.5,1)*MIN($F102*$F$88,$F102-SUM($G102:N102)))","v":0},{"$f":"IF($C102>P$2,0,IF($C102=P$2,0.5,1)*MIN($F102*$F$88,$F102-SUM($G102:O102)))","v":0},{"$f":"IF($C102>Q$2,0,IF($C102=Q$2,0.5,1)*MIN($F102*$F$88,$F102-SUM($G102:P102)))","v":0},{"$f":"IF($C102>R$2,0,IF($C102=R$2,0.5,1)*MIN($F102*$F$88,$F102-SUM($G102:Q102)))","v":0},{"$f":"IF($C102>S$2,0,IF($C102=S$2,0.5,1)*MIN($F102*$F$88,$F102-SUM($G102:R102)))","v":0},{"$f":"IF($C102>T$2,0,IF($C102=T$2,0.5,1)*MIN($F102*$F$88,$F102-SUM($G102:S102)))","v":0},{"$f":"IF($C102>U$2,0,IF($C102=U$2,0.5,1)*MIN($F102*$F$88,$F102-SUM($G102:T102)))","v":0},{"$f":"IF($C102>V$2,0,IF($C102=V$2,0.5,1)*MIN($F102*$F$88,$F102-SUM($G102:U102)))","v":0},{"$f":"IF($C102>W$2,0,IF($C102=W$2,0.5,1)*MIN($F102*$F$88,$F102-SUM($G102:V102)))","v":0},{"$f":"IF($C102>X$2,0,IF($C102=X$2,0.5,1)*MIN($F102*$F$88,$F102-SUM($G102:W102)))","v":0},{"$f":"IF($C102>Y$2,0,IF($C102=Y$2,0.5,1)*MIN($F102*$F$88,$F102-SUM($G102:X102)))","v":0},{"$f":"IF($C102>Z$2,0,IF($C102=Z$2,0.5,1)*MIN($F102*$F$88,$F102-SUM($G102:Y102)))","v":0},{"$f":"IF($C102>AA$2,0,IF($C102=AA$2,0.5,1)*MIN($F102*$F$88,$F102-SUM($G102:Z102)))","v":0},{"$f":"IF($C102>AB$2,0,IF($C102=AB$2,0.5,1)*MIN($F102*$F$88,$F102-SUM($G102:AA102)))","v":0}]
[null,null,2035,"тыс. руб.",13,0,null,{"$f":"IF($C103>H$2,0,IF($C103=H$2,0.5,1)*MIN($F103*$F$88,$F103-SUM($G103:G103)))","v":0},{"$f":"IF($C103>I$2,0,IF($C103=I$2,0.5,1)*MIN($F103*$F$88,$F103-SUM($G103:H103)))","v":0},{"$f":"IF($C103>J$2,0,IF($C103=J$2,0.5,1)*MIN($F103*$F$88,$F103-SUM($G103:I103)))","v":0},{"$f":"IF($C103>K$2,0,IF($C103=K$2,0.5,1)*MIN($F103*$F$88,$F103-SUM($G103:J103)))","v":0},{"$f":"IF($C103>L$2,0,IF($C103=L$2,0.5,1)*MIN($F103*$F$88,$F103-SUM($G103:K103)))","v":0},{"$f":"IF($C103>M$2,0,IF($C103=M$2,0.5,1)*MIN($F103*$F$88,$F103-SUM($G103:L103)))","v":0},{"$f":"IF($C103>N$2,0,IF($C103=N$2,0.5,1)*MIN($F103*$F$88,$F103-SUM($G103:M103)))","v":0},{"$f":"IF($C103>O$2,0,IF($C103=O$2,0.5,1)*MIN($F103*$F$88,$F103-SUM($G103:N103)))","v":0},{"$f":"IF($C103>P$2,0,IF($C103=P$2,0.5,1)*MIN($F103*$F$88,$F103-SUM($G103:O103)))","v":0},{"$f":"IF($C103>Q$2,0,IF($C103=Q$2,0.5,1)*MIN($F103*$F$88,$F103-SUM($G103:P103)))","v":0},{"$f":"IF($C103>R$2,0,IF($C103=R$2,0.5,1)*MIN($F103*$F$88,$F103-SUM($G103:Q103)))","v":0},{"$f":"IF($C103>S$2,0,IF($C103=S$2,0.5,1)*MIN($F103*$F$88,$F103-SUM($G103:R103)))","v":0},{"$f":"IF($C103>T$2,0,IF($C103=T$2,0.5,1)*MIN($F103*$F$88,$F103-SUM($G103:S103)))","v":0},{"$f":"IF($C103>U$2,0,IF($C103=U$2,0.5,1)*MIN($F103*$F$88,$F103-SUM($G103:T103)))","v":0},{"$f":"IF($C103>V$2,0,IF($C103=V$2,0.5,1)*MIN($F103*$F$88,$F103-SUM($G103:U103)))","v":0},{"$f":"IF($C103>W$2,0,IF($C103=W$2,0.5,1)*MIN($F103*$F$88,$F103-SUM($G103:V103)))","v":0},{"$f":"IF($C103>X$2,0,IF($C103=X$2,0.5,1)*MIN($F103*$F$88,$F103-SUM($G103:W103)))","v":0},{"$f":"IF($C103>Y$2,0,IF($C103=Y$2,0.5,1)*MIN($F103*$F$88,$F103-SUM($G103:X103)))","v":0},{"$f":"IF($C103>Z$2,0,IF($C103=Z$2,0.5,1)*MIN($F103*$F$88,$F103-SUM($G103:Y103)))","v":0},{"$f":"IF($C103>AA$2,0,IF($C103=AA$2,0.5,1)*MIN($F103*$F$88,$F103-SUM($G103:Z103)))","v":0},{"$f":"IF($C103>AB$2,0,IF($C103=AB$2,0.5,1)*MIN($F103*$F$88,$F103-SUM($G103:AA103)))","v":0}]
[null,null,2036,"тыс. руб.",14,0,null,{"$f":"IF($C104>H$2,0,IF($C104=H$2,0.5,1)*MIN($F104*$F$88,$F104-SUM($G104:G104)))","v":0},{"$f":"IF($C104>I$2,0,IF($C104=I$2,0.5,1)*MIN($F104*$F$88,$F104-SUM($G104:H104)))","v":0},{"$f":"IF($C104>J$2,0,IF($C104=J$2,0.5,1)*MIN($F104*$F$88,$F104-SUM($G104:I104)))","v":0},{"$f":"IF($C104>K$2,0,IF($C104=K$2,0.5,1)*MIN($F104*$F$88,$F104-SUM($G104:J104)))","v":0},{"$f":"IF($C104>L$2,0,IF($C104=L$2,0.5,1)*MIN($F104*$F$88,$F104-SUM($G104:K104)))","v":0},{"$f":"IF($C104>M$2,0,IF($C104=M$2,0.5,1)*MIN($F104*$F$88,$F104-SUM($G104:L104)))","v":0},{"$f":"IF($C104>N$2,0,IF($C104=N$2,0.5,1)*MIN($F104*$F$88,$F104-SUM($G104:M104)))","v":0},{"$f":"IF($C104>O$2,0,IF($C104=O$2,0.5,1)*MIN($F104*$F$88,$F104-SUM($G104:N104)))","v":0},{"$f":"IF($C104>P$2,0,IF($C104=P$2,0.5,1)*MIN($F104*$F$88,$F104-SUM($G104:O104)))","v":0},{"$f":"IF($C104>Q$2,0,IF($C104=Q$2,0.5,1)*MIN($F104*$F$88,$F104-SUM($G104:P104)))","v":0},{"$f":"IF($C104>R$2,0,IF($C104=R$2,0.5,1)*MIN($F104*$F$88,$F104-SUM($G104:Q104)))","v":0},{"$f":"IF($C104>S$2,0,IF($C104=S$2,0.5,1)*MIN($F104*$F$88,$F104-SUM($G104:R104)))","v":0},{"$f":"IF($C104>T$2,0,IF($C104=T$2,0.5,1)*MIN($F104*$F$88,$F104-SUM($G104:S104)))","v":0},{"$f":"IF($C104>U$2,0,IF($C104=U$2,0.5,1)*MIN($F104*$F$88,$F104-SUM($G104:T104)))","v":0},{"$f":"IF($C104>V$2,0,IF($C104=V$2,0.5,1)*MIN($F104*$F$88,$F104-SUM($G104:U104)))","v":0},{"$f":"IF($C104>W$2,0,IF($C104=W$2,0.5,1)*MIN($F104*$F$88,$F104-SUM($G104:V104)))","v":0},{"$f":"IF($C104>X$2,0,IF($C104=X$2,0.5,1)*MIN($F104*$F$88,$F104-SUM($G104:W104)))","v":0},{"$f":"IF($C104>Y$2,0,IF($C104=Y$2,0.5,1)*MIN($F104*$F$88,$F104-SUM($G104:X104)))","v":0},{"$f":"IF($C104>Z$2,0,IF($C104=Z$2,0.5,1)*MIN($F104*$F$88,$F104-SUM($G104:Y104)))","v":0},{"$f":"IF($C104>AA$2,0,IF($C104=AA$2,0.5,1)*MIN($F104*$F$88,$F104-SUM($G104:Z104)))","v":0},{"$f":"IF($C104>AB$2,0,IF($C104=AB$2,0.5,1)*MIN($F104*$F$88,$F104-SUM($G104:AA104)))","v":0}]
[null,null,2037,"тыс. руб.",15,0,null,{"$f":"IF($C105>H$2,0,IF($C105=H$2,0.5,1)*MIN($F105*$F$88,$F105-SUM($G105:G105)))","v":0},{"$f":"IF($C105>I$2,0,IF($C105=I$2,0.5,1)*MIN($F105*$F$88,$F105-SUM($G105:H105)))","v":0},{"$f":"IF($C105>J$2,0,IF($C105=J$2,0.5,1)*MIN($F105*$F$88,$F105-SUM($G105:I105)))","v":0},{"$f":"IF($C105>K$2,0,IF($C105=K$2,0.5,1)*MIN($F105*$F$88,$F105-SUM($G105:J105)))","v":0},{"$f":"IF($C105>L$2,0,IF($C105=L$2,0.5,1)*MIN($F105*$F$88,$F105-SUM($G105:K105)))","v":0},{"$f":"IF($C105>M$2,0,IF($C105=M$2,0.5,1)*MIN($F105*$F$88,$F105-SUM($G105:L105)))","v":0},{"$f":"IF($C105>N$2,0,IF($C105=N$2,0.5,1)*MIN($F105*$F$88,$F105-SUM($G105:M105)))","v":0},{"$f":"IF($C105>O$2,0,IF($C105=O$2,0.5,1)*MIN($F105*$F$88,$F105-SUM($G105:N105)))","v":0},{"$f":"IF($C105>P$2,0,IF($C105=P$2,0.5,1)*MIN($F105*$F$88,$F105-SUM($G105:O105)))","v":0},{"$f":"IF($C105>Q$2,0,IF($C105=Q$2,0.5,1)*MIN($F105*$F$88,$F105-SUM($G105:P105)))","v":0},{"$f":"IF($C105>R$2,0,IF($C105=R$2,0.5,1)*MIN($F105*$F$88,$F105-SUM($G105:Q105)))","v":0},{"$f":"IF($C105>S$2,0,IF($C105=S$2,0.5,1)*MIN($F105*$F$88,$F105-SUM($G105:R105)))","v":0},{"$f":"IF($C105>T$2,0,IF($C105=T$2,0.5,1)*MIN($F105*$F$88,$F105-SUM($G105:S105)))","v":0},{"$f":"IF($C105>U$2,0,IF($C105=U$2,0.5,1)*MIN($F105*$F$88,$F105-SUM($G105:T105)))","v":0},{"$f":"IF($C105>V$2,0,IF($C105=V$2,0.5,1)*MIN($F105*$F$88,$F105-SUM($G105:U105)))","v":0},{"$f":"IF($C105>W$2,0,IF($C105=W$2,0.5,1)*MIN($F105*$F$88,$F105-SUM($G105:V105)))","v":0},{"$f":"IF($C105>X$2,0,IF($C105=X$2,0.5,1)*MIN($F105*$F$88,$F105-SUM($G105:W105)))","v":0},{"$f":"IF($C105>Y$2,0,IF($C105=Y$2,0.5,1)*MIN($F105*$F$88,$F105-SUM($G105:X105)))","v":0},{"$f":"IF($C105>Z$2,0,IF($C105=Z$2,0.5,1)*MIN($F105*$F$88,$F105-SUM($G105:Y105)))","v":0},{"$f":"IF($C105>AA$2,0,IF($C105=AA$2,0.5,1)*MIN($F105*$F$88,$F105-SUM($G105:Z105)))","v":0},{"$f":"IF($C105>AB$2,0,IF($C105=AB$2,0.5,1)*MIN($F105*$F$88,$F105-SUM($G105:AA105)))","v":0}]
[null,null,2038,"тыс. руб.",16,0,null,{"$f":"IF($C106>H$2,0,IF($C106=H$2,0.5,1)*MIN($F106*$F$88,$F106-SUM($G106:G106)))","v":0},{"$f":"IF($C106>I$2,0,IF($C106=I$2,0.5,1)*MIN($F106*$F$88,$F106-SUM($G106:H106)))","v":0},{"$f":"IF($C106>J$2,0,IF($C106=J$2,0.5,1)*MIN($F106*$F$88,$F106-SUM($G106:I106)))","v":0},{"$f":"IF($C106>K$2,0,IF($C106=K$2,0.5,1)*MIN($F106*$F$88,$F106-SUM($G106:J106)))","v":0},{"$f":"IF($C106>L$2,0,IF($C106=L$2,0.5,1)*MIN($F106*$F$88,$F106-SUM($G106:K106)))","v":0},{"$f":"IF($C106>M$2,0,IF($C106=M$2,0.5,1)*MIN($F106*$F$88,$F106-SUM($G106:L106)))","v":0},{"$f":"IF($C106>N$2,0,IF($C106=N$2,0.5,1)*MIN($F106*$F$88,$F106-SUM($G106:M106)))","v":0},{"$f":"IF($C106>O$2,0,IF($C106=O$2,0.5,1)*MIN($F106*$F$88,$F106-SUM($G106:N106)))","v":0},{"$f":"IF($C106>P$2,0,IF($C106=P$2,0.5,1)*MIN($F106*$F$88,$F106-SUM($G106:O106)))","v":0},{"$f":"IF($C106>Q$2,0,IF($C106=Q$2,0.5,1)*MIN($F106*$F$88,$F106-SUM($G106:P106)))","v":0},{"$f":"IF($C106>R$2,0,IF($C106=R$2,0.5,1)*MIN($F106*$F$88,$F106-SUM($G106:Q106)))","v":0},{"$f":"IF($C106>S$2,0,IF($C106=S$2,0.5,1)*MIN($F106*$F$88,$F106-SUM($G106:R106)))","v":0},{"$f":"IF($C106>T$2,0,IF($C106=T$2,0.5,1)*MIN($F106*$F$88,$F106-SUM($G106:S106)))","v":0},{"$f":"IF($C106>U$2,0,IF($C106=U$2,0.5,1)*MIN($F106*$F$88,$F106-SUM($G106:T106)))","v":0},{"$f":"IF($C106>V$2,0,IF($C106=V$2,0.5,1)*MIN($F106*$F$88,$F106-SUM($G106:U106)))","v":0},{"$f":"IF($C106>W$2,0,IF($C106=W$2,0.5,1)*MIN($F106*$F$88,$F106-SUM($G106:V106)))","v":0},{"$f":"IF($C106>X$2,0,IF($C106=X$2,0.5,1)*MIN($F106*$F$88,$F106-SUM($G106:W106)))","v":0},{"$f":"IF($C106>Y$2,0,IF($C106=Y$2,0.5,1)*MIN($F106*$F$88,$F106-SUM($G106:X106)))","v":0},{"$f":"IF($C106>Z$2,0,IF($C106=Z$2,0.5,1)*MIN($F106*$F$88,$F106-SUM($G106:Y106)))","v":0},{"$f":"IF($C106>AA$2,0,IF($C106=AA$2,0.5,1)*MIN($F106*$F$88,$F106-SUM($G106:Z106)))","v":0},{"$f":"IF($C106>AB$2,0,IF($C106=AB$2,0.5,1)*MIN($F106*$F$88,$F106-SUM($G106:AA106)))","v":0}]
[null,null,2039,"тыс. руб.",17,0,null,{"$f":"IF($C107>H$2,0,IF($C107=H$2,0.5,1)*MIN($F107*$F$88,$F107-SUM($G107:G107)))","v":0},{"$f":"IF($C107>I$2,0,IF($C107=I$2,0.5,1)*MIN($F107*$F$88,$F107-SUM($G107:H107)))","v":0},{"$f":"IF($C107>J$2,0,IF($C107=J$2,0.5,1)*MIN($F107*$F$88,$F107-SUM($G107:I107)))","v":0},{"$f":"IF($C107>K$2,0,IF($C107=K$2,0.5,1)*MIN($F107*$F$88,$F107-SUM($G107:J107)))","v":0},{"$f":"IF($C107>L$2,0,IF($C107=L$2,0.5,1)*MIN($F107*$F$88,$F107-SUM($G107:K107)))","v":0},{"$f":"IF($C107>M$2,0,IF($C107=M$2,0.5,1)*MIN($F107*$F$88,$F107-SUM($G107:L107)))","v":0},{"$f":"IF($C107>N$2,0,IF($C107=N$2,0.5,1)*MIN($F107*$F$88,$F107-SUM($G107:M107)))","v":0},{"$f":"IF($C107>O$2,0,IF($C107=O$2,0.5,1)*MIN($F107*$F$88,$F107-SUM($G107:N107)))","v":0},{"$f":"IF($C107>P$2,0,IF($C107=P$2,0.5,1)*MIN($F107*$F$88,$F107-SUM($G107:O107)))","v":0},{"$f":"IF($C107>Q$2,0,IF($C107=Q$2,0.5,1)*MIN($F107*$F$88,$F107-SUM($G107:P107)))","v":0},{"$f":"IF($C107>R$2,0,IF($C107=R$2,0.5,1)*MIN($F107*$F$88,$F107-SUM($G107:Q107)))","v":0},{"$f":"IF($C107>S$2,0,IF($C107=S$2,0.5,1)*MIN($F107*$F$88,$F107-SUM($G107:R107)))","v":0},{"$f":"IF($C107>T$2,0,IF($C107=T$2,0.5,1)*MIN($F107*$F$88,$F107-SUM($G107:S107)))","v":0},{"$f":"IF($C107>U$2,0,IF($C107=U$2,0.5,1)*MIN($F107*$F$88,$F107-SUM($G107:T107)))","v":0},{"$f":"IF($C107>V$2,0,IF($C107=V$2,0.5,1)*MIN($F107*$F$88,$F107-SUM($G107:U107)))","v":0},{"$f":"IF($C107>W$2,0,IF($C107=W$2,0.5,1)*MIN($F107*$F$88,$F107-SUM($G107:V107)))","v":0},{"$f":"IF($C107>X$2,0,IF($C107=X$2,0.5,1)*MIN($F107*$F$88,$F107-SUM($G107:W107)))","v":0},{"$f":"IF($C107>Y$2,0,IF($C107=Y$2,0.5,1)*MIN($F107*$F$88,$F107-SUM($G107:X107)))","v":0},{"$f":"IF($C107>Z$2,0,IF($C107=Z$2,0.5,1)*MIN($F107*$F$88,$F107-SUM($G107:Y107)))","v":0},{"$f":"IF($C107>AA$2,0,IF($C107=AA$2,0.5,1)*MIN($F107*$F$88,$F107-SUM($G107:Z107)))","v":0},{"$f":"IF($C107>AB$2,0,IF($C107=AB$2,0.5,1)*MIN($F107*$F$88,$F107-SUM($G107:AA107)))","v":0}]
[null,null,2040,"тыс. руб.",18,0,null,{"$f":"IF($C108>H$2,0,IF($C108=H$2,0.5,1)*MIN($F108*$F$88,$F108-SUM($G108:G108)))","v":0},{"$f":"IF($C108>I$2,0,IF($C108=I$2,0.5,1)*MIN($F108*$F$88,$F108-SUM($G108:H108)))","v":0},{"$f":"IF($C108>J$2,0,IF($C108=J$2,0.5,1)*MIN($F108*$F$88,$F108-SUM($G108:I108)))","v":0},{"$f":"IF($C108>K$2,0,IF($C108=K$2,0.5,1)*MIN($F108*$F$88,$F108-SUM($G108:J108)))","v":0},{"$f":"IF($C108>L$2,0,IF($C108=L$2,0.5,1)*MIN($F108*$F$88,$F108-SUM($G108:K108)))","v":0},{"$f":"IF($C108>M$2,0,IF($C108=M$2,0.5,1)*MIN($F108*$F$88,$F108-SUM($G108:L108)))","v":0},{"$f":"IF($C108>N$2,0,IF($C108=N$2,0.5,1)*MIN($F108*$F$88,$F108-SUM($G108:M108)))","v":0},{"$f":"IF($C108>O$2,0,IF($C108=O$2,0.5,1)*MIN($F108*$F$88,$F108-SUM($G108:N108)))","v":0},{"$f":"IF($C108>P$2,0,IF($C108=P$2,0.5,1)*MIN($F108*$F$88,$F108-SUM($G108:O108)))","v":0},{"$f":"IF($C108>Q$2,0,IF($C108=Q$2,0.5,1)*MIN($F108*$F$88,$F108-SUM($G108:P108)))","v":0},{"$f":"IF($C108>R$2,0,IF($C108=R$2,0.5,1)*MIN($F108*$F$88,$F108-SUM($G108:Q108)))","v":0},{"$f":"IF($C108>S$2,0,IF($C108=S$2,0.5,1)*MIN($F108*$F$88,$F108-SUM($G108:R108)))","v":0},{"$f":"IF($C108>T$2,0,IF($C108=T$2,0.5,1)*MIN($F108*$F$88,$F108-SUM($G108:S108)))","v":0},{"$f":"IF($C108>U$2,0,IF($C108=U$2,0.5,1)*MIN($F108*$F$88,$F108-SUM($G108:T108)))","v":0},{"$f":"IF($C108>V$2,0,IF($C108=V$2,0.5,1)*MIN($F108*$F$88,$F108-SUM($G108:U108)))","v":0},{"$f":"IF($C108>W$2,0,IF($C108=W$2,0.5,1)*MIN($F108*$F$88,$F108-SUM($G108:V108)))","v":0},{"$f":"IF($C108>X$2,0,IF($C108=X$2,0.5,1)*MIN($F108*$F$88,$F108-SUM($G108:W108)))","v":0},{"$f":"IF($C108>Y$2,0,IF($C108=Y$2,0.5,1)*MIN($F108*$F$88,$F108-SUM($G108:X108)))","v":0},{"$f":"IF($C108>Z$2,0,IF($C108=Z$2,0.5,1)*MIN($F108*$F$88,$F108-SUM($G108:Y108)))","v":0},{"$f":"IF($C108>AA$2,0,IF($C108=AA$2,0.5,1)*MIN($F108*$F$88,$F108-SUM($G108:Z108)))","v":0},{"$f":"IF($C108>AB$2,0,IF($C108=AB$2,0.5,1)*MIN($F108*$F$88,$F108-SUM($G108:AA108)))","v":0}]
[null,null,2041,"тыс. руб.",19,0,null,{"$f":"IF($C109>H$2,0,IF($C109=H$2,0.5,1)*MIN($F109*$F$88,$F109-SUM($G109:G109)))","v":0},{"$f":"IF($C109>I$2,0,IF($C109=I$2,0.5,1)*MIN($F109*$F$88,$F109-SUM($G109:H109)))","v":0},{"$f":"IF($C109>J$2,0,IF($C109=J$2,0.5,1)*MIN($F109*$F$88,$F109-SUM($G109:I109)))","v":0},{"$f":"IF($C109>K$2,0,IF($C109=K$2,0.5,1)*MIN($F109*$F$88,$F109-SUM($G109:J109)))","v":0},{"$f":"IF($C109>L$2,0,IF($C109=L$2,0.5,1)*MIN($F109*$F$88,$F109-SUM($G109:K109)))","v":0},{"$f":"IF($C109>M$2,0,IF($C109=M$2,0.5,1)*MIN($F109*$F$88,$F109-SUM($G109:L109)))","v":0},{"$f":"IF($C109>N$2,0,IF($C109=N$2,0.5,1)*MIN($F109*$F$88,$F109-SUM($G109:M109)))","v":0},{"$f":"IF($C109>O$2,0,IF($C109=O$2,0.5,1)*MIN($F109*$F$88,$F109-SUM($G109:N109)))","v":0},{"$f":"IF($C109>P$2,0,IF($C109=P$2,0.5,1)*MIN($F109*$F$88,$F109-SUM($G109:O109)))","v":0},{"$f":"IF($C109>Q$2,0,IF($C109=Q$2,0.5,1)*MIN($F109*$F$88,$F109-SUM($G109:P109)))","v":0},{"$f":"IF($C109>R$2,0,IF($C109=R$2,0.5,1)*MIN($F109*$F$88,$F109-SUM($G109:Q109)))","v":0},{"$f":"IF($C109>S$2,0,IF($C109=S$2,0.5,1)*MIN($F109*$F$88,$F109-SUM($G109:R109)))","v":0},{"$f":"IF($C109>T$2,0,IF($C109=T$2,0.5,1)*MIN($F109*$F$88,$F109-SUM($G109:S109)))","v":0},{"$f":"IF($C109>U$2,0,IF($C109=U$2,0.5,1)*MIN($F109*$F$88,$F109-SUM($G109:T109)))","v":0},{"$f":"IF($C109>V$2,0,IF($C109=V$2,0.5,1)*MIN($F109*$F$88,$F109-SUM($G109:U109)))","v":0},{"$f":"IF($C109>W$2,0,IF($C109=W$2,0.5,1)*MIN($F109*$F$88,$F109-SUM($G109:V109)))","v":0},{"$f":"IF($C109>X$2,0,IF($C109=X$2,0.5,1)*MIN($F109*$F$88,$F109-SUM($G109:W109)))","v":0},{"$f":"IF($C109>Y$2,0,IF($C109=Y$2,0.5,1)*MIN($F109*$F$88,$F109-SUM($G109:X109)))","v":0},{"$f":"IF($C109>Z$2,0,IF($C109=Z$2,0.5,1)*MIN($F109*$F$88,$F109-SUM($G109:Y109)))","v":0},{"$f":"IF($C109>AA$2,0,IF($C109=AA$2,0.5,1)*MIN($F109*$F$88,$F109-SUM($G109:Z109)))","v":0},{"$f":"IF($C109>AB$2,0,IF($C109=AB$2,0.5,1)*MIN($F109*$F$88,$F109-SUM($G109:AA109)))","v":0}]
[null,null,2042,"тыс. руб.",20,0,null,{"$f":"IF($C110>H$2,0,IF($C110=H$2,0.5,1)*MIN($F110*$F$88,$F110-SUM($G110:G110)))","v":0},{"$f":"IF($C110>I$2,0,IF($C110=I$2,0.5,1)*MIN($F110*$F$88,$F110-SUM($G110:H110)))","v":0},{"$f":"IF($C110>J$2,0,IF($C110=J$2,0.5,1)*MIN($F110*$F$88,$F110-SUM($G110:I110)))","v":0},{"$f":"IF($C110>K$2,0,IF($C110=K$2,0.5,1)*MIN($F110*$F$88,$F110-SUM($G110:J110)))","v":0},{"$f":"IF($C110>L$2,0,IF($C110=L$2,0.5,1)*MIN($F110*$F$88,$F110-SUM($G110:K110)))","v":0},{"$f":"IF($C110>M$2,0,IF($C110=M$2,0.5,1)*MIN($F110*$F$88,$F110-SUM($G110:L110)))","v":0},{"$f":"IF($C110>N$2,0,IF($C110=N$2,0.5,1)*MIN($F110*$F$88,$F110-SUM($G110:M110)))","v":0},{"$f":"IF($C110>O$2,0,IF($C110=O$2,0.5,1)*MIN($F110*$F$88,$F110-SUM($G110:N110)))","v":0},{"$f":"IF($C110>P$2,0,IF($C110=P$2,0.5,1)*MIN($F110*$F$88,$F110-SUM($G110:O110)))","v":0},{"$f":"IF($C110>Q$2,0,IF($C110=Q$2,0.5,1)*MIN($F110*$F$88,$F110-SUM($G110:P110)))","v":0},{"$f":"IF($C110>R$2,0,IF($C110=R$2,0.5,1)*MIN($F110*$F$88,$F110-SUM($G110:Q110)))","v":0},{"$f":"IF($C110>S$2,0,IF($C110=S$2,0.5,1)*MIN($F110*$F$88,$F110-SUM($G110:R110)))","v":0},{"$f":"IF($C110>T$2,0,IF($C110=T$2,0.5,1)*MIN($F110*$F$88,$F110-SUM($G110:S110)))","v":0},{"$f":"IF($C110>U$2,0,IF($C110=U$2,0.5,1)*MIN($F110*$F$88,$F110-SUM($G110:T110)))","v":0},{"$f":"IF($C110>V$2,0,IF($C110=V$2,0.5,1)*MIN($F110*$F$88,$F110-SUM($G110:U110)))","v":0},{"$f":"IF($C110>W$2,0,IF($C110=W$2,0.5,1)*MIN($F110*$F$88,$F110-SUM($G110:V110)))","v":0},{"$f":"IF($C110>X$2,0,IF($C110=X$2,0.5,1)*MIN($F110*$F$88,$F110-SUM($G110:W110)))","v":0},{"$f":"IF($C110>Y$2,0,IF($C110=Y$2,0.5,1)*MIN($F110*$F$88,$F110-SUM($G110:X110)))","v":0},{"$f":"IF($C110>Z$2,0,IF($C110=Z$2,0.5,1)*MIN($F110*$F$88,$F110-SUM($G110:Y110)))","v":0},{"$f":"IF($C110>AA$2,0,IF($C110=AA$2,0.5,1)*MIN($F110*$F$88,$F110-SUM($G110:Z110)))","v":0},{"$f":"IF($C110>AB$2,0,IF($C110=AB$2,0.5,1)*MIN($F110*$F$88,$F110-SUM($G110:AA110)))","v":0}]
[]
[null,null,"Первоначальная стоимость активов","тыс. руб.",null,null,null,{"$f":"G112+H38","v":0},0,0,0,0,0,0,0,0,0,0,0,0,0,0,0,0,0,0,0,0]
[null,null,"Амортизация за период","тыс. руб.",null,null,null,{"$f":"H90","v":0},0,0,0,0,0,0,0,0,0,0,0,0,0,0,0,0,0,0,0,0]
[null,null,"Накопленная амортизация","тыс. руб.",null,null,null,{"$f":"G114+H113","v":0},0,0,0,0,0,0,0,0,0,0,0,0,0,0,0,0,0,0,0,0]
[null,null,"Остаточная стоимость активов","тыс. руб.",null,null,null,{"$f":"H112-H114","v":0},0,0,0,0,0,0,0,0,0,0,0,0,0,{"$f":"V112-V114","v":0},0,0,0,0,0,0]
[]
[null,"Транспортные средства"]
[]
[null,null,"Ставка амортизации","%",null,{"$f":"Предпосылки!F193","v":0.14285714285714285}]
[]
[null,null,"Амортизация ","тыс. руб.",null,null,null,{"$f":"SUM(H122:H141)","v":0},{"$f":"SUM(I122:I141)","v":0},0,0,0,0,0,0,0,0,0,0,0,0,0,0,0,0,0,0,0]
[null,null,{"$f":"INDEX(H$2:AA$2,,$E122)","v":2023},"тыс. руб.",1,{"$f":"OFFSET($G$40,,E122)","v":0},null,{"$f":"IF($C122>H$2,0,IF($C122=H$2,0.5,1)*MIN($F122*$F$119,$F122-SUM($G122:G122)))","v":0},{"$f":"IF($C122>I$2,0,IF($C122=I$2,0.5,1)*MIN($F122*$F$119,$F122-SUM($G122:H122)))","v":0},{"$f":"IF($C122>J$2,0,IF($C122=J$2,0.5,1)*MIN($F122*$F$119,$F122-SUM($G122:I122)))","v":0},{"$f":"IF($C122>K$2,0,IF($C122=K$2,0.5,1)*MIN($F122*$F$119,$F122-SUM($G122:J122)))","v":0},{"$f":"IF($C122>L$2,0,IF($C122=L$2,0.5,1)*MIN($F122*$F$119,$F122-SUM($G122:K122)))","v":0},{"$f":"IF($C122>M$2,0,IF($C122=M$2,0.5,1)*MIN($F122*$F$119,$F122-SUM($G122:L122)))","v":0},{"$f":"IF($C122>N$2,0,IF($C122=N$2,0.5,1)*MIN($F122*$F$119,$F122-SUM($G122:M122)))","v":0},{"$f":"IF($C122>O$2,0,IF($C122=O$2,0.5,1)*MIN($F122*$F$119,$F122-SUM($G122:N122)))","v":0},{"$f":"IF($C122>P$2,0,IF($C122=P$2,0.5,1)*MIN($F122*$F$119,$F122-SUM($G122:O122)))","v":0},{"$f":"IF($C122>Q$2,0,IF($C122=Q$2,0.5,1)*MIN($F122*$F$119,$F122-SUM($G122:P122)))","v":0},{"$f":"IF($C122>R$2,0,IF($C122=R$2,0.5,1)*MIN($F122*$F$119,$F122-SUM($G122:Q122)))","v":0},{"$f":"IF($C122>S$2,0,IF($C122=S$2,0.5,1)*MIN($F122*$F$119,$F122-SUM($G122:R122)))","v":0},{"$f":"IF($C122>T$2,0,IF($C122=T$2,0.5,1)*MIN($F122*$F$119,$F122-SUM($G122:S122)))","v":0},{"$f":"IF($C122>U$2,0,IF($C122=U$2,0.5,1)*MIN($F122*$F$119,$F122-SUM($G122:T122)))","v":0},{"$f":"IF($C122>V$2,0,IF($C122=V$2,0.5,1)*MIN($F122*$F$119,$F122-SUM($G122:U122)))","v":0},{"$f":"IF($C122>W$2,0,IF($C122=W$2,0.5,1)*MIN($F122*$F$119,$F122-SUM($G122:V122)))","v":0},{"$f":"IF($C122>X$2,0,IF($C122=X$2,0.5,1)*MIN($F122*$F$119,$F122-SUM($G122:W122)))","v":0},{"$f":"IF($C122>Y$2,0,IF($C122=Y$2,0.5,1)*MIN($F122*$F$119,$F122-SUM($G122:X122)))","v":0},{"$f":"IF($C122>Z$2,0,IF($C122=Z$2,0.5,1)*MIN($F122*$F$119,$F122-SUM($G122:Y122)))","v":0},{"$f":"IF($C122>AA$2,0,IF($C122=AA$2,0.5,1)*MIN($F122*$F$119,$F122-SUM($G122:Z122)))","v":0},{"$f":"IF($C122>AB$2,0,IF($C122=AB$2,0.5,1)*MIN($F122*$F$119,$F122-SUM($G122:AA122)))","v":0}]
[null,null,{"$f":"INDEX(H$2:AA$2,,$E123)","v":2024},"тыс. руб.",2,{"$f":"OFFSET($G$40,,E123)","v":0},null,{"$f":"IF($C123>H$2,0,IF($C123=H$2,0.5,1)*MIN($F123*$F$119,$F123-SUM($G123:G123)))","v":0},{"$f":"IF($C123>I$2,0,IF($C123=I$2,0.5,1)*MIN($F123*$F$119,$F123-SUM($G123:H123)))","v":0},{"$f":"IF($C123>J$2,0,IF($C123=J$2,0.5,1)*MIN($F123*$F$119,$F123-SUM($G123:I123)))","v":0},{"$f":"IF($C123>K$2,0,IF($C123=K$2,0.5,1)*MIN($F123*$F$119,$F123-SUM($G123:J123)))","v":0},{"$f":"IF($C123>L$2,0,IF($C123=L$2,0.5,1)*MIN($F123*$F$119,$F123-SUM($G123:K123)))","v":0},{"$f":"IF($C123>M$2,0,IF($C123=M$2,0.5,1)*MIN($F123*$F$119,$F123-SUM($G123:L123)))","v":0},{"$f":"IF($C123>N$2,0,IF($C123=N$2,0.5,1)*MIN($F123*$F$119,$F123-SUM($G123:M123)))","v":0},{"$f":"IF($C123>O$2,0,IF($C123=O$2,0.5,1)*MIN($F123*$F$119,$F123-SUM($G123:N123)))","v":0},{"$f":"IF($C123>P$2,0,IF($C123=P$2,0.5,1)*MIN($F123*$F$119,$F123-SUM($G123:O123)))","v":0},{"$f":"IF($C123>Q$2,0,IF($C123=Q$2,0.5,1)*MIN($F123*$F$119,$F123-SUM($G123:P123)))","v":0},{"$f":"IF($C123>R$2,0,IF($C123=R$2,0.5,1)*MIN($F123*$F$119,$F123-SUM($G123:Q123)))","v":0},{"$f":"IF($C123>S$2,0,IF($C123=S$2,0.5,1)*MIN($F123*$F$119,$F123-SUM($G123:R123)))","v":0},{"$f":"IF($C123>T$2,0,IF($C123=T$2,0.5,1)*MIN($F123*$F$119,$F123-SUM($G123:S123)))","v":0},{"$f":"IF($C123>U$2,0,IF($C123=U$2,0.5,1)*MIN($F123*$F$119,$F123-SUM($G123:T123)))","v":0},{"$f":"IF($C123>V$2,0,IF($C123=V$2,0.5,1)*MIN($F123*$F$119,$F123-SUM($G123:U123)))","v":0},{"$f":"IF($C123>W$2,0,IF($C123=W$2,0.5,1)*MIN($F123*$F$119,$F123-SUM($G123:V123)))","v":0},{"$f":"IF($C123>X$2,0,IF($C123=X$2,0.5,1)*MIN($F123*$F$119,$F123-SUM($G123:W123)))","v":0},{"$f":"IF($C123>Y$2,0,IF($C123=Y$2,0.5,1)*MIN($F123*$F$119,$F123-SUM($G123:X123)))","v":0},{"$f":"IF($C123>Z$2,0,IF($C123=Z$2,0.5,1)*MIN($F123*$F$119,$F123-SUM($G123:Y123)))","v":0},{"$f":"IF($C123>AA$2,0,IF($C123=AA$2,0.5,1)*MIN($F123*$F$119,$F123-SUM($G123:Z123)))","v":0},{"$f":"IF($C123>AB$2,0,IF($C123=AB$2,0.5,1)*MIN($F123*$F$119,$F123-SUM($G123:AA123)))","v":0}]
[null,null,2025,"тыс. руб.",3,0,null,{"$f":"IF($C124>H$2,0,IF($C124=H$2,0.5,1)*MIN($F124*$F$119,$F124-SUM($G124:G124)))","v":0},{"$f":"IF($C124>I$2,0,IF($C124=I$2,0.5,1)*MIN($F124*$F$119,$F124-SUM($G124:H124)))","v":0},{"$f":"IF($C124>J$2,0,IF($C124=J$2,0.5,1)*MIN($F124*$F$119,$F124-SUM($G124:I124)))","v":0},{"$f":"IF($C124>K$2,0,IF($C124=K$2,0.5,1)*MIN($F124*$F$119,$F124-SUM($G124:J124)))","v":0},{"$f":"IF($C124>L$2,0,IF($C124=L$2,0.5,1)*MIN($F124*$F$119,$F124-SUM($G124:K124)))","v":0},{"$f":"IF($C124>M$2,0,IF($C124=M$2,0.5,1)*MIN($F124*$F$119,$F124-SUM($G124:L124)))","v":0},{"$f":"IF($C124>N$2,0,IF($C124=N$2,0.5,1)*MIN($F124*$F$119,$F124-SUM($G124:M124)))","v":0},{"$f":"IF($C124>O$2,0,IF($C124=O$2,0.5,1)*MIN($F124*$F$119,$F124-SUM($G124:N124)))","v":0},{"$f":"IF($C124>P$2,0,IF($C124=P$2,0.5,1)*MIN($F124*$F$119,$F124-SUM($G124:O124)))","v":0},{"$f":"IF($C124>Q$2,0,IF($C124=Q$2,0.5,1)*MIN($F124*$F$119,$F124-SUM($G124:P124)))","v":0},{"$f":"IF($C124>R$2,0,IF($C124=R$2,0.5,1)*MIN($F124*$F$119,$F124-SUM($G124:Q124)))","v":0},{"$f":"IF($C124>S$2,0,IF($C124=S$2,0.5,1)*MIN($F124*$F$119,$F124-SUM($G124:R124)))","v":0},{"$f":"IF($C124>T$2,0,IF($C124=T$2,0.5,1)*MIN($F124*$F$119,$F124-SUM($G124:S124)))","v":0},{"$f":"IF($C124>U$2,0,IF($C124=U$2,0.5,1)*MIN($F124*$F$119,$F124-SUM($G124:T124)))","v":0},{"$f":"IF($C124>V$2,0,IF($C124=V$2,0.5,1)*MIN($F124*$F$119,$F124-SUM($G124:U124)))","v":0},{"$f":"IF($C124>W$2,0,IF($C124=W$2,0.5,1)*MIN($F124*$F$119,$F124-SUM($G124:V124)))","v":0},{"$f":"IF($C124>X$2,0,IF($C124=X$2,0.5,1)*MIN($F124*$F$119,$F124-SUM($G124:W124)))","v":0},{"$f":"IF($C124>Y$2,0,IF($C124=Y$2,0.5,1)*MIN($F124*$F$119,$F124-SUM($G124:X124)))","v":0},{"$f":"IF($C124>Z$2,0,IF($C124=Z$2,0.5,1)*MIN($F124*$F$119,$F124-SUM($G124:Y124)))","v":0},{"$f":"IF($C124>AA$2,0,IF($C124=AA$2,0.5,1)*MIN($F124*$F$119,$F124-SUM($G124:Z124)))","v":0},{"$f":"IF($C124>AB$2,0,IF($C124=AB$2,0.5,1)*MIN($F124*$F$119,$F124-SUM($G124:AA124)))","v":0}]
[null,null,2026,"тыс. руб.",4,0,null,{"$f":"IF($C125>H$2,0,IF($C125=H$2,0.5,1)*MIN($F125*$F$119,$F125-SUM($G125:G125)))","v":0},{"$f":"IF($C125>I$2,0,IF($C125=I$2,0.5,1)*MIN($F125*$F$119,$F125-SUM($G125:H125)))","v":0},{"$f":"IF($C125>J$2,0,IF($C125=J$2,0.5,1)*MIN($F125*$F$119,$F125-SUM($G125:I125)))","v":0},{"$f":"IF($C125>K$2,0,IF($C125=K$2,0.5,1)*MIN($F125*$F$119,$F125-SUM($G125:J125)))","v":0},{"$f":"IF($C125>L$2,0,IF($C125=L$2,0.5,1)*MIN($F125*$F$119,$F125-SUM($G125:K125)))","v":0},{"$f":"IF($C125>M$2,0,IF($C125=M$2,0.5,1)*MIN($F125*$F$119,$F125-SUM($G125:L125)))","v":0},{"$f":"IF($C125>N$2,0,IF($C125=N$2,0.5,1)*MIN($F125*$F$119,$F125-SUM($G125:M125)))","v":0},{"$f":"IF($C125>O$2,0,IF($C125=O$2,0.5,1)*MIN($F125*$F$119,$F125-SUM($G125:N125)))","v":0},{"$f":"IF($C125>P$2,0,IF($C125=P$2,0.5,1)*MIN($F125*$F$119,$F125-SUM($G125:O125)))","v":0},{"$f":"IF($C125>Q$2,0,IF($C125=Q$2,0.5,1)*MIN($F125*$F$119,$F125-SUM($G125:P125)))","v":0},{"$f":"IF($C125>R$2,0,IF($C125=R$2,0.5,1)*MIN($F125*$F$119,$F125-SUM($G125:Q125)))","v":0},{"$f":"IF($C125>S$2,0,IF($C125=S$2,0.5,1)*MIN($F125*$F$119,$F125-SUM($G125:R125)))","v":0},{"$f":"IF($C125>T$2,0,IF($C125=T$2,0.5,1)*MIN($F125*$F$119,$F125-SUM($G125:S125)))","v":0},{"$f":"IF($C125>U$2,0,IF($C125=U$2,0.5,1)*MIN($F125*$F$119,$F125-SUM($G125:T125)))","v":0},{"$f":"IF($C125>V$2,0,IF($C125=V$2,0.5,1)*MIN($F125*$F$119,$F125-SUM($G125:U125)))","v":0},{"$f":"IF($C125>W$2,0,IF($C125=W$2,0.5,1)*MIN($F125*$F$119,$F125-SUM($G125:V125)))","v":0},{"$f":"IF($C125>X$2,0,IF($C125=X$2,0.5,1)*MIN($F125*$F$119,$F125-SUM($G125:W125)))","v":0},{"$f":"IF($C125>Y$2,0,IF($C125=Y$2,0.5,1)*MIN($F125*$F$119,$F125-SUM($G125:X125)))","v":0},{"$f":"IF($C125>Z$2,0,IF($C125=Z$2,0.5,1)*MIN($F125*$F$119,$F125-SUM($G125:Y125)))","v":0},{"$f":"IF($C125>AA$2,0,IF($C125=AA$2,0.5,1)*MIN($F125*$F$119,$F125-SUM($G125:Z125)))","v":0},{"$f":"IF($C125>AB$2,0,IF($C125=AB$2,0.5,1)*MIN($F125*$F$119,$F125-SUM($G125:AA125)))","v":0}]
[null,null,2027,"тыс. руб.",5,0,null,{"$f":"IF($C126>H$2,0,IF($C126=H$2,0.5,1)*MIN($F126*$F$119,$F126-SUM($G126:G126)))","v":0},{"$f":"IF($C126>I$2,0,IF($C126=I$2,0.5,1)*MIN($F126*$F$119,$F126-SUM($G126:H126)))","v":0},{"$f":"IF($C126>J$2,0,IF($C126=J$2,0.5,1)*MIN($F126*$F$119,$F126-SUM($G126:I126)))","v":0},{"$f":"IF($C126>K$2,0,IF($C126=K$2,0.5,1)*MIN($F126*$F$119,$F126-SUM($G126:J126)))","v":0},{"$f":"IF($C126>L$2,0,IF($C126=L$2,0.5,1)*MIN($F126*$F$119,$F126-SUM($G126:K126)))","v":0},{"$f":"IF($C126>M$2,0,IF($C126=M$2,0.5,1)*MIN($F126*$F$119,$F126-SUM($G126:L126)))","v":0},{"$f":"IF($C126>N$2,0,IF($C126=N$2,0.5,1)*MIN($F126*$F$119,$F126-SUM($G126:M126)))","v":0},{"$f":"IF($C126>O$2,0,IF($C126=O$2,0.5,1)*MIN($F126*$F$119,$F126-SUM($G126:N126)))","v":0},{"$f":"IF($C126>P$2,0,IF($C126=P$2,0.5,1)*MIN($F126*$F$119,$F126-SUM($G126:O126)))","v":0},{"$f":"IF($C126>Q$2,0,IF($C126=Q$2,0.5,1)*MIN($F126*$F$119,$F126-SUM($G126:P126)))","v":0},{"$f":"IF($C126>R$2,0,IF($C126=R$2,0.5,1)*MIN($F126*$F$119,$F126-SUM($G126:Q126)))","v":0},{"$f":"IF($C126>S$2,0,IF($C126=S$2,0.5,1)*MIN($F126*$F$119,$F126-SUM($G126:R126)))","v":0},{"$f":"IF($C126>T$2,0,IF($C126=T$2,0.5,1)*MIN($F126*$F$119,$F126-SUM($G126:S126)))","v":0},{"$f":"IF($C126>U$2,0,IF($C126=U$2,0.5,1)*MIN($F126*$F$119,$F126-SUM($G126:T126)))","v":0},{"$f":"IF($C126>V$2,0,IF($C126=V$2,0.5,1)*MIN($F126*$F$119,$F126-SUM($G126:U126)))","v":0},{"$f":"IF($C126>W$2,0,IF($C126=W$2,0.5,1)*MIN($F126*$F$119,$F126-SUM($G126:V126)))","v":0},{"$f":"IF($C126>X$2,0,IF($C126=X$2,0.5,1)*MIN($F126*$F$119,$F126-SUM($G126:W126)))","v":0},{"$f":"IF($C126>Y$2,0,IF($C126=Y$2,0.5,1)*MIN($F126*$F$119,$F126-SUM($G126:X126)))","v":0},{"$f":"IF($C126>Z$2,0,IF($C126=Z$2,0.5,1)*MIN($F126*$F$119,$F126-SUM($G126:Y126)))","v":0},{"$f":"IF($C126>AA$2,0,IF($C126=AA$2,0.5,1)*MIN($F126*$F$119,$F126-SUM($G126:Z126)))","v":0},{"$f":"IF($C126>AB$2,0,IF($C126=AB$2,0.5,1)*MIN($F126*$F$119,$F126-SUM($G126:AA126)))","v":0}]
[null,null,2028,"тыс. руб.",6,0,null,{"$f":"IF($C127>H$2,0,IF($C127=H$2,0.5,1)*MIN($F127*$F$119,$F127-SUM($G127:G127)))","v":0},{"$f":"IF($C127>I$2,0,IF($C127=I$2,0.5,1)*MIN($F127*$F$119,$F127-SUM($G127:H127)))","v":0},{"$f":"IF($C127>J$2,0,IF($C127=J$2,0.5,1)*MIN($F127*$F$119,$F127-SUM($G127:I127)))","v":0},{"$f":"IF($C127>K$2,0,IF($C127=K$2,0.5,1)*MIN($F127*$F$119,$F127-SUM($G127:J127)))","v":0},{"$f":"IF($C127>L$2,0,IF($C127=L$2,0.5,1)*MIN($F127*$F$119,$F127-SUM($G127:K127)))","v":0},{"$f":"IF($C127>M$2,0,IF($C127=M$2,0.5,1)*MIN($F127*$F$119,$F127-SUM($G127:L127)))","v":0},{"$f":"IF($C127>N$2,0,IF($C127=N$2,0.5,1)*MIN($F127*$F$119,$F127-SUM($G127:M127)))","v":0},{"$f":"IF($C127>O$2,0,IF($C127=O$2,0.5,1)*MIN($F127*$F$119,$F127-SUM($G127:N127)))","v":0},{"$f":"IF($C127>P$2,0,IF($C127=P$2,0.5,1)*MIN($F127*$F$119,$F127-SUM($G127:O127)))","v":0},{"$f":"IF($C127>Q$2,0,IF($C127=Q$2,0.5,1)*MIN($F127*$F$119,$F127-SUM($G127:P127)))","v":0},{"$f":"IF($C127>R$2,0,IF($C127=R$2,0.5,1)*MIN($F127*$F$119,$F127-SUM($G127:Q127)))","v":0},{"$f":"IF($C127>S$2,0,IF($C127=S$2,0.5,1)*MIN($F127*$F$119,$F127-SUM($G127:R127)))","v":0},{"$f":"IF($C127>T$2,0,IF($C127=T$2,0.5,1)*MIN($F127*$F$119,$F127-SUM($G127:S127)))","v":0},{"$f":"IF($C127>U$2,0,IF($C127=U$2,0.5,1)*MIN($F127*$F$119,$F127-SUM($G127:T127)))","v":0},{"$f":"IF($C127>V$2,0,IF($C127=V$2,0.5,1)*MIN($F127*$F$119,$F127-SUM($G127:U127)))","v":0},{"$f":"IF($C127>W$2,0,IF($C127=W$2,0.5,1)*MIN($F127*$F$119,$F127-SUM($G127:V127)))","v":0},{"$f":"IF($C127>X$2,0,IF($C127=X$2,0.5,1)*MIN($F127*$F$119,$F127-SUM($G127:W127)))","v":0},{"$f":"IF($C127>Y$2,0,IF($C127=Y$2,0.5,1)*MIN($F127*$F$119,$F127-SUM($G127:X127)))","v":0},{"$f":"IF($C127>Z$2,0,IF($C127=Z$2,0.5,1)*MIN($F127*$F$119,$F127-SUM($G127:Y127)))","v":0},{"$f":"IF($C127>AA$2,0,IF($C127=AA$2,0.5,1)*MIN($F127*$F$119,$F127-SUM($G127:Z127)))","v":0},{"$f":"IF($C127>AB$2,0,IF($C127=AB$2,0.5,1)*MIN($F127*$F$119,$F127-SUM($G127:AA127)))","v":0}]
[null,null,2029,"тыс. руб.",7,0,null,{"$f":"IF($C128>H$2,0,IF($C128=H$2,0.5,1)*MIN($F128*$F$119,$F128-SUM($G128:G128)))","v":0},{"$f":"IF($C128>I$2,0,IF($C128=I$2,0.5,1)*MIN($F128*$F$119,$F128-SUM($G128:H128)))","v":0},{"$f":"IF($C128>J$2,0,IF($C128=J$2,0.5,1)*MIN($F128*$F$119,$F128-SUM($G128:I128)))","v":0},{"$f":"IF($C128>K$2,0,IF($C128=K$2,0.5,1)*MIN($F128*$F$119,$F128-SUM($G128:J128)))","v":0},{"$f":"IF($C128>L$2,0,IF($C128=L$2,0.5,1)*MIN($F128*$F$119,$F128-SUM($G128:K128)))","v":0},{"$f":"IF($C128>M$2,0,IF($C128=M$2,0.5,1)*MIN($F128*$F$119,$F128-SUM($G128:L128)))","v":0},{"$f":"IF($C128>N$2,0,IF($C128=N$2,0.5,1)*MIN($F128*$F$119,$F128-SUM($G128:M128)))","v":0},{"$f":"IF($C128>O$2,0,IF($C128=O$2,0.5,1)*MIN($F128*$F$119,$F128-SUM($G128:N128)))","v":0},{"$f":"IF($C128>P$2,0,IF($C128=P$2,0.5,1)*MIN($F128*$F$119,$F128-SUM($G128:O128)))","v":0},{"$f":"IF($C128>Q$2,0,IF($C128=Q$2,0.5,1)*MIN($F128*$F$119,$F128-SUM($G128:P128)))","v":0},{"$f":"IF($C128>R$2,0,IF($C128=R$2,0.5,1)*MIN($F128*$F$119,$F128-SUM($G128:Q128)))","v":0},{"$f":"IF($C128>S$2,0,IF($C128=S$2,0.5,1)*MIN($F128*$F$119,$F128-SUM($G128:R128)))","v":0},{"$f":"IF($C128>T$2,0,IF($C128=T$2,0.5,1)*MIN($F128*$F$119,$F128-SUM($G128:S128)))","v":0},{"$f":"IF($C128>U$2,0,IF($C128=U$2,0.5,1)*MIN($F128*$F$119,$F128-SUM($G128:T128)))","v":0},{"$f":"IF($C128>V$2,0,IF($C128=V$2,0.5,1)*MIN($F128*$F$119,$F128-SUM($G128:U128)))","v":0},{"$f":"IF($C128>W$2,0,IF($C128=W$2,0.5,1)*MIN($F128*$F$119,$F128-SUM($G128:V128)))","v":0},{"$f":"IF($C128>X$2,0,IF($C128=X$2,0.5,1)*MIN($F128*$F$119,$F128-SUM($G128:W128)))","v":0},{"$f":"IF($C128>Y$2,0,IF($C128=Y$2,0.5,1)*MIN($F128*$F$119,$F128-SUM($G128:X128)))","v":0},{"$f":"IF($C128>Z$2,0,IF($C128=Z$2,0.5,1)*MIN($F128*$F$119,$F128-SUM($G128:Y128)))","v":0},{"$f":"IF($C128>AA$2,0,IF($C128=AA$2,0.5,1)*MIN($F128*$F$119,$F128-SUM($G128:Z128)))","v":0},{"$f":"IF($C128>AB$2,0,IF($C128=AB$2,0.5,1)*MIN($F128*$F$119,$F128-SUM($G128:AA128)))","v":0}]
[null,null,2030,"тыс. руб.",8,0,null,{"$f":"IF($C129>H$2,0,IF($C129=H$2,0.5,1)*MIN($F129*$F$119,$F129-SUM($G129:G129)))","v":0},{"$f":"IF($C129>I$2,0,IF($C129=I$2,0.5,1)*MIN($F129*$F$119,$F129-SUM($G129:H129)))","v":0},{"$f":"IF($C129>J$2,0,IF($C129=J$2,0.5,1)*MIN($F129*$F$119,$F129-SUM($G129:I129)))","v":0},{"$f":"IF($C129>K$2,0,IF($C129=K$2,0.5,1)*MIN($F129*$F$119,$F129-SUM($G129:J129)))","v":0},{"$f":"IF($C129>L$2,0,IF($C129=L$2,0.5,1)*MIN($F129*$F$119,$F129-SUM($G129:K129)))","v":0},{"$f":"IF($C129>M$2,0,IF($C129=M$2,0.5,1)*MIN($F129*$F$119,$F129-SUM($G129:L129)))","v":0},{"$f":"IF($C129>N$2,0,IF($C129=N$2,0.5,1)*MIN($F129*$F$119,$F129-SUM($G129:M129)))","v":0},{"$f":"IF($C129>O$2,0,IF($C129=O$2,0.5,1)*MIN($F129*$F$119,$F129-SUM($G129:N129)))","v":0},{"$f":"IF($C129>P$2,0,IF($C129=P$2,0.5,1)*MIN($F129*$F$119,$F129-SUM($G129:O129)))","v":0},{"$f":"IF($C129>Q$2,0,IF($C129=Q$2,0.5,1)*MIN($F129*$F$119,$F129-SUM($G129:P129)))","v":0},{"$f":"IF($C129>R$2,0,IF($C129=R$2,0.5,1)*MIN($F129*$F$119,$F129-SUM($G129:Q129)))","v":0},{"$f":"IF($C129>S$2,0,IF($C129=S$2,0.5,1)*MIN($F129*$F$119,$F129-SUM($G129:R129)))","v":0},{"$f":"IF($C129>T$2,0,IF($C129=T$2,0.5,1)*MIN($F129*$F$119,$F129-SUM($G129:S129)))","v":0},{"$f":"IF($C129>U$2,0,IF($C129=U$2,0.5,1)*MIN($F129*$F$119,$F129-SUM($G129:T129)))","v":0},{"$f":"IF($C129>V$2,0,IF($C129=V$2,0.5,1)*MIN($F129*$F$119,$F129-SUM($G129:U129)))","v":0},{"$f":"IF($C129>W$2,0,IF($C129=W$2,0.5,1)*MIN($F129*$F$119,$F129-SUM($G129:V129)))","v":0},{"$f":"IF($C129>X$2,0,IF($C129=X$2,0.5,1)*MIN($F129*$F$119,$F129-SUM($G129:W129)))","v":0},{"$f":"IF($C129>Y$2,0,IF($C129=Y$2,0.5,1)*MIN($F129*$F$119,$F129-SUM($G129:X129)))","v":0},{"$f":"IF($C129>Z$2,0,IF($C129=Z$2,0.5,1)*MIN($F129*$F$119,$F129-SUM($G129:Y129)))","v":0},{"$f":"IF($C129>AA$2,0,IF($C129=AA$2,0.5,1)*MIN($F129*$F$119,$F129-SUM($G129:Z129)))","v":0},{"$f":"IF($C129>AB$2,0,IF($C129=AB$2,0.5,1)*MIN($F129*$F$119,$F129-SUM($G129:AA129)))","v":0}]
[null,null,2031,"тыс. руб.",9,0,null,{"$f":"IF($C130>H$2,0,IF($C130=H$2,0.5,1)*MIN($F130*$F$119,$F130-SUM($G130:G130)))","v":0},{"$f":"IF($C130>I$2,0,IF($C130=I$2,0.5,1)*MIN($F130*$F$119,$F130-SUM($G130:H130)))","v":0},{"$f":"IF($C130>J$2,0,IF($C130=J$2,0.5,1)*MIN($F130*$F$119,$F130-SUM($G130:I130)))","v":0},{"$f":"IF($C130>K$2,0,IF($C130=K$2,0.5,1)*MIN($F130*$F$119,$F130-SUM($G130:J130)))","v":0},{"$f":"IF($C130>L$2,0,IF($C130=L$2,0.5,1)*MIN($F130*$F$119,$F130-SUM($G130:K130)))","v":0},{"$f":"IF($C130>M$2,0,IF($C130=M$2,0.5,1)*MIN($F130*$F$119,$F130-SUM($G130:L130)))","v":0},{"$f":"IF($C130>N$2,0,IF($C130=N$2,0.5,1)*MIN($F130*$F$119,$F130-SUM($G130:M130)))","v":0},{"$f":"IF($C130>O$2,0,IF($C130=O$2,0.5,1)*MIN($F130*$F$119,$F130-SUM($G130:N130)))","v":0},{"$f":"IF($C130>P$2,0,IF($C130=P$2,0.5,1)*MIN($F130*$F$119,$F130-SUM($G130:O130)))","v":0},{"$f":"IF($C130>Q$2,0,IF($C130=Q$2,0.5,1)*MIN($F130*$F$119,$F130-SUM($G130:P130)))","v":0},{"$f":"IF($C130>R$2,0,IF($C130=R$2,0.5,1)*MIN($F130*$F$119,$F130-SUM($G130:Q130)))","v":0},{"$f":"IF($C130>S$2,0,IF($C130=S$2,0.5,1)*MIN($F130*$F$119,$F130-SUM($G130:R130)))","v":0},{"$f":"IF($C130>T$2,0,IF($C130=T$2,0.5,1)*MIN($F130*$F$119,$F130-SUM($G130:S130)))","v":0},{"$f":"IF($C130>U$2,0,IF($C130=U$2,0.5,1)*MIN($F130*$F$119,$F130-SUM($G130:T130)))","v":0},{"$f":"IF($C130>V$2,0,IF($C130=V$2,0.5,1)*MIN($F130*$F$119,$F130-SUM($G130:U130)))","v":0},{"$f":"IF($C130>W$2,0,IF($C130=W$2,0.5,1)*MIN($F130*$F$119,$F130-SUM($G130:V130)))","v":0},{"$f":"IF($C130>X$2,0,IF($C130=X$2,0.5,1)*MIN($F130*$F$119,$F130-SUM($G130:W130)))","v":0},{"$f":"IF($C130>Y$2,0,IF($C130=Y$2,0.5,1)*MIN($F130*$F$119,$F130-SUM($G130:X130)))","v":0},{"$f":"IF($C130>Z$2,0,IF($C130=Z$2,0.5,1)*MIN($F130*$F$119,$F130-SUM($G130:Y130)))","v":0},{"$f":"IF($C130>AA$2,0,IF($C130=AA$2,0.5,1)*MIN($F130*$F$119,$F130-SUM($G130:Z130)))","v":0},{"$f":"IF($C130>AB$2,0,IF($C130=AB$2,0.5,1)*MIN($F130*$F$119,$F130-SUM($G130:AA130)))","v":0}]
[null,null,2032,"тыс. руб.",10,0,null,{"$f":"IF($C131>H$2,0,IF($C131=H$2,0.5,1)*MIN($F131*$F$119,$F131-SUM($G131:G131)))","v":0},{"$f":"IF($C131>I$2,0,IF($C131=I$2,0.5,1)*MIN($F131*$F$119,$F131-SUM($G131:H131)))","v":0},{"$f":"IF($C131>J$2,0,IF($C131=J$2,0.5,1)*MIN($F131*$F$119,$F131-SUM($G131:I131)))","v":0},{"$f":"IF($C131>K$2,0,IF($C131=K$2,0.5,1)*MIN($F131*$F$119,$F131-SUM($G131:J131)))","v":0},{"$f":"IF($C131>L$2,0,IF($C131=L$2,0.5,1)*MIN($F131*$F$119,$F131-SUM($G131:K131)))","v":0},{"$f":"IF($C131>M$2,0,IF($C131=M$2,0.5,1)*MIN($F131*$F$119,$F131-SUM($G131:L131)))","v":0},{"$f":"IF($C131>N$2,0,IF($C131=N$2,0.5,1)*MIN($F131*$F$119,$F131-SUM($G131:M131)))","v":0},{"$f":"IF($C131>O$2,0,IF($C131=O$2,0.5,1)*MIN($F131*$F$119,$F131-SUM($G131:N131)))","v":0},{"$f":"IF($C131>P$2,0,IF($C131=P$2,0.5,1)*MIN($F131*$F$119,$F131-SUM($G131:O131)))","v":0},{"$f":"IF($C131>Q$2,0,IF($C131=Q$2,0.5,1)*MIN($F131*$F$119,$F131-SUM($G131:P131)))","v":0},{"$f":"IF($C131>R$2,0,IF($C131=R$2,0.5,1)*MIN($F131*$F$119,$F131-SUM($G131:Q131)))","v":0},{"$f":"IF($C131>S$2,0,IF($C131=S$2,0.5,1)*MIN($F131*$F$119,$F131-SUM($G131:R131)))","v":0},{"$f":"IF($C131>T$2,0,IF($C131=T$2,0.5,1)*MIN($F131*$F$119,$F131-SUM($G131:S131)))","v":0},{"$f":"IF($C131>U$2,0,IF($C131=U$2,0.5,1)*MIN($F131*$F$119,$F131-SUM($G131:T131)))","v":0},{"$f":"IF($C131>V$2,0,IF($C131=V$2,0.5,1)*MIN($F131*$F$119,$F131-SUM($G131:U131)))","v":0},{"$f":"IF($C131>W$2,0,IF($C131=W$2,0.5,1)*MIN($F131*$F$119,$F131-SUM($G131:V131)))","v":0},{"$f":"IF($C131>X$2,0,IF($C131=X$2,0.5,1)*MIN($F131*$F$119,$F131-SUM($G131:W131)))","v":0},{"$f":"IF($C131>Y$2,0,IF($C131=Y$2,0.5,1)*MIN($F131*$F$119,$F131-SUM($G131:X131)))","v":0},{"$f":"IF($C131>Z$2,0,IF($C131=Z$2,0.5,1)*MIN($F131*$F$119,$F131-SUM($G131:Y131)))","v":0},{"$f":"IF($C131>AA$2,0,IF($C131=AA$2,0.5,1)*MIN($F131*$F$119,$F131-SUM($G131:Z131)))","v":0},{"$f":"IF($C131>AB$2,0,IF($C131=AB$2,0.5,1)*MIN($F131*$F$119,$F131-SUM($G131:AA131)))","v":0}]
[null,null,2033,"тыс. руб.",11,0,null,{"$f":"IF($C132>H$2,0,IF($C132=H$2,0.5,1)*MIN($F132*$F$119,$F132-SUM($G132:G132)))","v":0},{"$f":"IF($C132>I$2,0,IF($C132=I$2,0.5,1)*MIN($F132*$F$119,$F132-SUM($G132:H132)))","v":0},{"$f":"IF($C132>J$2,0,IF($C132=J$2,0.5,1)*MIN($F132*$F$119,$F132-SUM($G132:I132)))","v":0},{"$f":"IF($C132>K$2,0,IF($C132=K$2,0.5,1)*MIN($F132*$F$119,$F132-SUM($G132:J132)))","v":0},{"$f":"IF($C132>L$2,0,IF($C132=L$2,0.5,1)*MIN($F132*$F$119,$F132-SUM($G132:K132)))","v":0},{"$f":"IF($C132>M$2,0,IF($C132=M$2,0.5,1)*MIN($F132*$F$119,$F132-SUM($G132:L132)))","v":0},{"$f":"IF($C132>N$2,0,IF($C132=N$2,0.5,1)*MIN($F132*$F$119,$F132-SUM($G132:M132)))","v":0},{"$f":"IF($C132>O$2,0,IF($C132=O$2,0.5,1)*MIN($F132*$F$119,$F132-SUM($G132:N132)))","v":0},{"$f":"IF($C132>P$2,0,IF($C132=P$2,0.5,1)*MIN($F132*$F$119,$F132-SUM($G132:O132)))","v":0},{"$f":"IF($C132>Q$2,0,IF($C132=Q$2,0.5,1)*MIN($F132*$F$119,$F132-SUM($G132:P132)))","v":0},{"$f":"IF($C132>R$2,0,IF($C132=R$2,0.5,1)*MIN($F132*$F$119,$F132-SUM($G132:Q132)))","v":0},{"$f":"IF($C132>S$2,0,IF($C132=S$2,0.5,1)*MIN($F132*$F$119,$F132-SUM($G132:R132)))","v":0},{"$f":"IF($C132>T$2,0,IF($C132=T$2,0.5,1)*MIN($F132*$F$119,$F132-SUM($G132:S132)))","v":0},{"$f":"IF($C132>U$2,0,IF($C132=U$2,0.5,1)*MIN($F132*$F$119,$F132-SUM($G132:T132)))","v":0},{"$f":"IF($C132>V$2,0,IF($C132=V$2,0.5,1)*MIN($F132*$F$119,$F132-SUM($G132:U132)))","v":0},{"$f":"IF($C132>W$2,0,IF($C132=W$2,0.5,1)*MIN($F132*$F$119,$F132-SUM($G132:V132)))","v":0},{"$f":"IF($C132>X$2,0,IF($C132=X$2,0.5,1)*MIN($F132*$F$119,$F132-SUM($G132:W132)))","v":0},{"$f":"IF($C132>Y$2,0,IF($C132=Y$2,0.5,1)*MIN($F132*$F$119,$F132-SUM($G132:X132)))","v":0},{"$f":"IF($C132>Z$2,0,IF($C132=Z$2,0.5,1)*MIN($F132*$F$119,$F132-SUM($G132:Y132)))","v":0},{"$f":"IF($C132>AA$2,0,IF($C132=AA$2,0.5,1)*MIN($F132*$F$119,$F132-SUM($G132:Z132)))","v":0},{"$f":"IF($C132>AB$2,0,IF($C132=AB$2,0.5,1)*MIN($F132*$F$119,$F132-SUM($G132:AA132)))","v":0}]
[null,null,2034,"тыс. руб.",12,0,null,{"$f":"IF($C133>H$2,0,IF($C133=H$2,0.5,1)*MIN($F133*$F$119,$F133-SUM($G133:G133)))","v":0},{"$f":"IF($C133>I$2,0,IF($C133=I$2,0.5,1)*MIN($F133*$F$119,$F133-SUM($G133:H133)))","v":0},{"$f":"IF($C133>J$2,0,IF($C133=J$2,0.5,1)*MIN($F133*$F$119,$F133-SUM($G133:I133)))","v":0},{"$f":"IF($C133>K$2,0,IF($C133=K$2,0.5,1)*MIN($F133*$F$119,$F133-SUM($G133:J133)))","v":0},{"$f":"IF($C133>L$2,0,IF($C133=L$2,0.5,1)*MIN($F133*$F$119,$F133-SUM($G133:K133)))","v":0},{"$f":"IF($C133>M$2,0,IF($C133=M$2,0.5,1)*MIN($F133*$F$119,$F133-SUM($G133:L133)))","v":0},{"$f":"IF($C133>N$2,0,IF($C133=N$2,0.5,1)*MIN($F133*$F$119,$F133-SUM($G133:M133)))","v":0},{"$f":"IF($C133>O$2,0,IF($C133=O$2,0.5,1)*MIN($F133*$F$119,$F133-SUM($G133:N133)))","v":0},{"$f":"IF($C133>P$2,0,IF($C133=P$2,0.5,1)*MIN($F133*$F$119,$F133-SUM($G133:O133)))","v":0},{"$f":"IF($C133>Q$2,0,IF($C133=Q$2,0.5,1)*MIN($F133*$F$119,$F133-SUM($G133:P133)))","v":0},{"$f":"IF($C133>R$2,0,IF($C133=R$2,0.5,1)*MIN($F133*$F$119,$F133-SUM($G133:Q133)))","v":0},{"$f":"IF($C133>S$2,0,IF($C133=S$2,0.5,1)*MIN($F133*$F$119,$F133-SUM($G133:R133)))","v":0},{"$f":"IF($C133>T$2,0,IF($C133=T$2,0.5,1)*MIN($F133*$F$119,$F133-SUM($G133:S133)))","v":0},{"$f":"IF($C133>U$2,0,IF($C133=U$2,0.5,1)*MIN($F133*$F$119,$F133-SUM($G133:T133)))","v":0},{"$f":"IF($C133>V$2,0,IF($C133=V$2,0.5,1)*MIN($F133*$F$119,$F133-SUM($G133:U133)))","v":0},{"$f":"IF($C133>W$2,0,IF($C133=W$2,0.5,1)*MIN($F133*$F$119,$F133-SUM($G133:V133)))","v":0},{"$f":"IF($C133>X$2,0,IF($C133=X$2,0.5,1)*MIN($F133*$F$119,$F133-SUM($G133:W133)))","v":0},{"$f":"IF($C133>Y$2,0,IF($C133=Y$2,0.5,1)*MIN($F133*$F$119,$F133-SUM($G133:X133)))","v":0},{"$f":"IF($C133>Z$2,0,IF($C133=Z$2,0.5,1)*MIN($F133*$F$119,$F133-SUM($G133:Y133)))","v":0},{"$f":"IF($C133>AA$2,0,IF($C133=AA$2,0.5,1)*MIN($F133*$F$119,$F133-SUM($G133:Z133)))","v":0},{"$f":"IF($C133>AB$2,0,IF($C133=AB$2,0.5,1)*MIN($F133*$F$119,$F133-SUM($G133:AA133)))","v":0}]
[null,null,2035,"тыс. руб.",13,0,null,{"$f":"IF($C134>H$2,0,IF($C134=H$2,0.5,1)*MIN($F134*$F$119,$F134-SUM($G134:G134)))","v":0},{"$f":"IF($C134>I$2,0,IF($C134=I$2,0.5,1)*MIN($F134*$F$119,$F134-SUM($G134:H134)))","v":0},{"$f":"IF($C134>J$2,0,IF($C134=J$2,0.5,1)*MIN($F134*$F$119,$F134-SUM($G134:I134)))","v":0},{"$f":"IF($C134>K$2,0,IF($C134=K$2,0.5,1)*MIN($F134*$F$119,$F134-SUM($G134:J134)))","v":0},{"$f":"IF($C134>L$2,0,IF($C134=L$2,0.5,1)*MIN($F134*$F$119,$F134-SUM($G134:K134)))","v":0},{"$f":"IF($C134>M$2,0,IF($C134=M$2,0.5,1)*MIN($F134*$F$119,$F134-SUM($G134:L134)))","v":0},{"$f":"IF($C134>N$2,0,IF($C134=N$2,0.5,1)*MIN($F134*$F$119,$F134-SUM($G134:M134)))","v":0},{"$f":"IF($C134>O$2,0,IF($C134=O$2,0.5,1)*MIN($F134*$F$119,$F134-SUM($G134:N134)))","v":0},{"$f":"IF($C134>P$2,0,IF($C134=P$2,0.5,1)*MIN($F134*$F$119,$F134-SUM($G134:O134)))","v":0},{"$f":"IF($C134>Q$2,0,IF($C134=Q$2,0.5,1)*MIN($F134*$F$119,$F134-SUM($G134:P134)))","v":0},{"$f":"IF($C134>R$2,0,IF($C134=R$2,0.5,1)*MIN($F134*$F$119,$F134-SUM($G134:Q134)))","v":0},{"$f":"IF($C134>S$2,0,IF($C134=S$2,0.5,1)*MIN($F134*$F$119,$F134-SUM($G134:R134)))","v":0},{"$f":"IF($C134>T$2,0,IF($C134=T$2,0.5,1)*MIN($F134*$F$119,$F134-SUM($G134:S134)))","v":0},{"$f":"IF($C134>U$2,0,IF($C134=U$2,0.5,1)*MIN($F134*$F$119,$F134-SUM($G134:T134)))","v":0},{"$f":"IF($C134>V$2,0,IF($C134=V$2,0.5,1)*MIN($F134*$F$119,$F134-SUM($G134:U134)))","v":0},{"$f":"IF($C134>W$2,0,IF($C134=W$2,0.5,1)*MIN($F134*$F$119,$F134-SUM($G134:V134)))","v":0},{"$f":"IF($C134>X$2,0,IF($C134=X$2,0.5,1)*MIN($F134*$F$119,$F134-SUM($G134:W134)))","v":0},{"$f":"IF($C134>Y$2,0,IF($C134=Y$2,0.5,1)*MIN($F134*$F$119,$F134-SUM($G134:X134)))","v":0},{"$f":"IF($C134>Z$2,0,IF($C134=Z$2,0.5,1)*MIN($F134*$F$119,$F134-SUM($G134:Y134)))","v":0},{"$f":"IF($C134>AA$2,0,IF($C134=AA$2,0.5,1)*MIN($F134*$F$119,$F134-SUM($G134:Z134)))","v":0},{"$f":"IF($C134>AB$2,0,IF($C134=AB$2,0.5,1)*MIN($F134*$F$119,$F134-SUM($G134:AA134)))","v":0}]
[null,null,2036,"тыс. руб.",14,0,null,{"$f":"IF($C135>H$2,0,IF($C135=H$2,0.5,1)*MIN($F135*$F$119,$F135-SUM($G135:G135)))","v":0},{"$f":"IF($C135>I$2,0,IF($C135=I$2,0.5,1)*MIN($F135*$F$119,$F135-SUM($G135:H135)))","v":0},{"$f":"IF($C135>J$2,0,IF($C135=J$2,0.5,1)*MIN($F135*$F$119,$F135-SUM($G135:I135)))","v":0},{"$f":"IF($C135>K$2,0,IF($C135=K$2,0.5,1)*MIN($F135*$F$119,$F135-SUM($G135:J135)))","v":0},{"$f":"IF($C135>L$2,0,IF($C135=L$2,0.5,1)*MIN($F135*$F$119,$F135-SUM($G135:K135)))","v":0},{"$f":"IF($C135>M$2,0,IF($C135=M$2,0.5,1)*MIN($F135*$F$119,$F135-SUM($G135:L135)))","v":0},{"$f":"IF($C135>N$2,0,IF($C135=N$2,0.5,1)*MIN($F135*$F$119,$F135-SUM($G135:M135)))","v":0},{"$f":"IF($C135>O$2,0,IF($C135=O$2,0.5,1)*MIN($F135*$F$119,$F135-SUM($G135:N135)))","v":0},{"$f":"IF($C135>P$2,0,IF($C135=P$2,0.5,1)*MIN($F135*$F$119,$F135-SUM($G135:O135)))","v":0},{"$f":"IF($C135>Q$2,0,IF($C135=Q$2,0.5,1)*MIN($F135*$F$119,$F135-SUM($G135:P135)))","v":0},{"$f":"IF($C135>R$2,0,IF($C135=R$2,0.5,1)*MIN($F135*$F$119,$F135-SUM($G135:Q135)))","v":0},{"$f":"IF($C135>S$2,0,IF($C135=S$2,0.5,1)*MIN($F135*$F$119,$F135-SUM($G135:R135)))","v":0},{"$f":"IF($C135>T$2,0,IF($C135=T$2,0.5,1)*MIN($F135*$F$119,$F135-SUM($G135:S135)))","v":0},{"$f":"IF($C135>U$2,0,IF($C135=U$2,0.5,1)*MIN($F135*$F$119,$F135-SUM($G135:T135)))","v":0},{"$f":"IF($C135>V$2,0,IF($C135=V$2,0.5,1)*MIN($F135*$F$119,$F135-SUM($G135:U135)))","v":0},{"$f":"IF($C135>W$2,0,IF($C135=W$2,0.5,1)*MIN($F135*$F$119,$F135-SUM($G135:V135)))","v":0},{"$f":"IF($C135>X$2,0,IF($C135=X$2,0.5,1)*MIN($F135*$F$119,$F135-SUM($G135:W135)))","v":0},{"$f":"IF($C135>Y$2,0,IF($C135=Y$2,0.5,1)*MIN($F135*$F$119,$F135-SUM($G135:X135)))","v":0},{"$f":"IF($C135>Z$2,0,IF($C135=Z$2,0.5,1)*MIN($F135*$F$119,$F135-SUM($G135:Y135)))","v":0},{"$f":"IF($C135>AA$2,0,IF($C135=AA$2,0.5,1)*MIN($F135*$F$119,$F135-SUM($G135:Z135)))","v":0},{"$f":"IF($C135>AB$2,0,IF($C135=AB$2,0.5,1)*MIN($F135*$F$119,$F135-SUM($G135:AA135)))","v":0}]
[null,null,2037,"тыс. руб.",15,0,null,{"$f":"IF($C136>H$2,0,IF($C136=H$2,0.5,1)*MIN($F136*$F$119,$F136-SUM($G136:G136)))","v":0},{"$f":"IF($C136>I$2,0,IF($C136=I$2,0.5,1)*MIN($F136*$F$119,$F136-SUM($G136:H136)))","v":0},{"$f":"IF($C136>J$2,0,IF($C136=J$2,0.5,1)*MIN($F136*$F$119,$F136-SUM($G136:I136)))","v":0},{"$f":"IF($C136>K$2,0,IF($C136=K$2,0.5,1)*MIN($F136*$F$119,$F136-SUM($G136:J136)))","v":0},{"$f":"IF($C136>L$2,0,IF($C136=L$2,0.5,1)*MIN($F136*$F$119,$F136-SUM($G136:K136)))","v":0},{"$f":"IF($C136>M$2,0,IF($C136=M$2,0.5,1)*MIN($F136*$F$119,$F136-SUM($G136:L136)))","v":0},{"$f":"IF($C136>N$2,0,IF($C136=N$2,0.5,1)*MIN($F136*$F$119,$F136-SUM($G136:M136)))","v":0},{"$f":"IF($C136>O$2,0,IF($C136=O$2,0.5,1)*MIN($F136*$F$119,$F136-SUM($G136:N136)))","v":0},{"$f":"IF($C136>P$2,0,IF($C136=P$2,0.5,1)*MIN($F136*$F$119,$F136-SUM($G136:O136)))","v":0},{"$f":"IF($C136>Q$2,0,IF($C136=Q$2,0.5,1)*MIN($F136*$F$119,$F136-SUM($G136:P136)))","v":0},{"$f":"IF($C136>R$2,0,IF($C136=R$2,0.5,1)*MIN($F136*$F$119,$F136-SUM($G136:Q136)))","v":0},{"$f":"IF($C136>S$2,0,IF($C136=S$2,0.5,1)*MIN($F136*$F$119,$F136-SUM($G136:R136)))","v":0},{"$f":"IF($C136>T$2,0,IF($C136=T$2,0.5,1)*MIN($F136*$F$119,$F136-SUM($G136:S136)))","v":0},{"$f":"IF($C136>U$2,0,IF($C136=U$2,0.5,1)*MIN($F136*$F$119,$F136-SUM($G136:T136)))","v":0},{"$f":"IF($C136>V$2,0,IF($C136=V$2,0.5,1)*MIN($F136*$F$119,$F136-SUM($G136:U136)))","v":0},{"$f":"IF($C136>W$2,0,IF($C136=W$2,0.5,1)*MIN($F136*$F$119,$F136-SUM($G136:V136)))","v":0},{"$f":"IF($C136>X$2,0,IF($C136=X$2,0.5,1)*MIN($F136*$F$119,$F136-SUM($G136:W136)))","v":0},{"$f":"IF($C136>Y$2,0,IF($C136=Y$2,0.5,1)*MIN($F136*$F$119,$F136-SUM($G136:X136)))","v":0},{"$f":"IF($C136>Z$2,0,IF($C136=Z$2,0.5,1)*MIN($F136*$F$119,$F136-SUM($G136:Y136)))","v":0},{"$f":"IF($C136>AA$2,0,IF($C136=AA$2,0.5,1)*MIN($F136*$F$119,$F136-SUM($G136:Z136)))","v":0},{"$f":"IF($C136>AB$2,0,IF($C136=AB$2,0.5,1)*MIN($F136*$F$119,$F136-SUM($G136:AA136)))","v":0}]
[null,null,2038,"тыс. руб.",16,0,null,{"$f":"IF($C137>H$2,0,IF($C137=H$2,0.5,1)*MIN($F137*$F$119,$F137-SUM($G137:G137)))","v":0},{"$f":"IF($C137>I$2,0,IF($C137=I$2,0.5,1)*MIN($F137*$F$119,$F137-SUM($G137:H137)))","v":0},{"$f":"IF($C137>J$2,0,IF($C137=J$2,0.5,1)*MIN($F137*$F$119,$F137-SUM($G137:I137)))","v":0},{"$f":"IF($C137>K$2,0,IF($C137=K$2,0.5,1)*MIN($F137*$F$119,$F137-SUM($G137:J137)))","v":0},{"$f":"IF($C137>L$2,0,IF($C137=L$2,0.5,1)*MIN($F137*$F$119,$F137-SUM($G137:K137)))","v":0},{"$f":"IF($C137>M$2,0,IF($C137=M$2,0.5,1)*MIN($F137*$F$119,$F137-SUM($G137:L137)))","v":0},{"$f":"IF($C137>N$2,0,IF($C137=N$2,0.5,1)*MIN($F137*$F$119,$F137-SUM($G137:M137)))","v":0},{"$f":"IF($C137>O$2,0,IF($C137=O$2,0.5,1)*MIN($F137*$F$119,$F137-SUM($G137:N137)))","v":0},{"$f":"IF($C137>P$2,0,IF($C137=P$2,0.5,1)*MIN($F137*$F$119,$F137-SUM($G137:O137)))","v":0},{"$f":"IF($C137>Q$2,0,IF($C137=Q$2,0.5,1)*MIN($F137*$F$119,$F137-SUM($G137:P137)))","v":0},{"$f":"IF($C137>R$2,0,IF($C137=R$2,0.5,1)*MIN($F137*$F$119,$F137-SUM($G137:Q137)))","v":0},{"$f":"IF($C137>S$2,0,IF($C137=S$2,0.5,1)*MIN($F137*$F$119,$F137-SUM($G137:R137)))","v":0},{"$f":"IF($C137>T$2,0,IF($C137=T$2,0.5,1)*MIN($F137*$F$119,$F137-SUM($G137:S137)))","v":0},{"$f":"IF($C137>U$2,0,IF($C137=U$2,0.5,1)*MIN($F137*$F$119,$F137-SUM($G137:T137)))","v":0},{"$f":"IF($C137>V$2,0,IF($C137=V$2,0.5,1)*MIN($F137*$F$119,$F137-SUM($G137:U137)))","v":0},{"$f":"IF($C137>W$2,0,IF($C137=W$2,0.5,1)*MIN($F137*$F$119,$F137-SUM($G137:V137)))","v":0},{"$f":"IF($C137>X$2,0,IF($C137=X$2,0.5,1)*MIN($F137*$F$119,$F137-SUM($G137:W137)))","v":0},{"$f":"IF($C137>Y$2,0,IF($C137=Y$2,0.5,1)*MIN($F137*$F$119,$F137-SUM($G137:X137)))","v":0},{"$f":"IF($C137>Z$2,0,IF($C137=Z$2,0.5,1)*MIN($F137*$F$119,$F137-SUM($G137:Y137)))","v":0},{"$f":"IF($C137>AA$2,0,IF($C137=AA$2,0.5,1)*MIN($F137*$F$119,$F137-SUM($G137:Z137)))","v":0},{"$f":"IF($C137>AB$2,0,IF($C137=AB$2,0.5,1)*MIN($F137*$F$119,$F137-SUM($G137:AA137)))","v":0}]
[null,null,2039,"тыс. руб.",17,0,null,{"$f":"IF($C138>H$2,0,IF($C138=H$2,0.5,1)*MIN($F138*$F$119,$F138-SUM($G138:G138)))","v":0},{"$f":"IF($C138>I$2,0,IF($C138=I$2,0.5,1)*MIN($F138*$F$119,$F138-SUM($G138:H138)))","v":0},{"$f":"IF($C138>J$2,0,IF($C138=J$2,0.5,1)*MIN($F138*$F$119,$F138-SUM($G138:I138)))","v":0},{"$f":"IF($C138>K$2,0,IF($C138=K$2,0.5,1)*MIN($F138*$F$119,$F138-SUM($G138:J138)))","v":0},{"$f":"IF($C138>L$2,0,IF($C138=L$2,0.5,1)*MIN($F138*$F$119,$F138-SUM($G138:K138)))","v":0},{"$f":"IF($C138>M$2,0,IF($C138=M$2,0.5,1)*MIN($F138*$F$119,$F138-SUM($G138:L138)))","v":0},{"$f":"IF($C138>N$2,0,IF($C138=N$2,0.5,1)*MIN($F138*$F$119,$F138-SUM($G138:M138)))","v":0},{"$f":"IF($C138>O$2,0,IF($C138=O$2,0.5,1)*MIN($F138*$F$119,$F138-SUM($G138:N138)))","v":0},{"$f":"IF($C138>P$2,0,IF($C138=P$2,0.5,1)*MIN($F138*$F$119,$F138-SUM($G138:O138)))","v":0},{"$f":"IF($C138>Q$2,0,IF($C138=Q$2,0.5,1)*MIN($F138*$F$119,$F138-SUM($G138:P138)))","v":0},{"$f":"IF($C138>R$2,0,IF($C138=R$2,0.5,1)*MIN($F138*$F$119,$F138-SUM($G138:Q138)))","v":0},{"$f":"IF($C138>S$2,0,IF($C138=S$2,0.5,1)*MIN($F138*$F$119,$F138-SUM($G138:R138)))","v":0},{"$f":"IF($C138>T$2,0,IF($C138=T$2,0.5,1)*MIN($F138*$F$119,$F138-SUM($G138:S138)))","v":0},{"$f":"IF($C138>U$2,0,IF($C138=U$2,0.5,1)*MIN($F138*$F$119,$F138-SUM($G138:T138)))","v":0},{"$f":"IF($C138>V$2,0,IF($C138=V$2,0.5,1)*MIN($F138*$F$119,$F138-SUM($G138:U138)))","v":0},{"$f":"IF($C138>W$2,0,IF($C138=W$2,0.5,1)*MIN($F138*$F$119,$F138-SUM($G138:V138)))","v":0},{"$f":"IF($C138>X$2,0,IF($C138=X$2,0.5,1)*MIN($F138*$F$119,$F138-SUM($G138:W138)))","v":0},{"$f":"IF($C138>Y$2,0,IF($C138=Y$2,0.5,1)*MIN($F138*$F$119,$F138-SUM($G138:X138)))","v":0},{"$f":"IF($C138>Z$2,0,IF($C138=Z$2,0.5,1)*MIN($F138*$F$119,$F138-SUM($G138:Y138)))","v":0},{"$f":"IF($C138>AA$2,0,IF($C138=AA$2,0.5,1)*MIN($F138*$F$119,$F138-SUM($G138:Z138)))","v":0},{"$f":"IF($C138>AB$2,0,IF($C138=AB$2,0.5,1)*MIN($F138*$F$119,$F138-SUM($G138:AA138)))","v":0}]
[null,null,2040,"тыс. руб.",18,0,null,{"$f":"IF($C139>H$2,0,IF($C139=H$2,0.5,1)*MIN($F139*$F$119,$F139-SUM($G139:G139)))","v":0},{"$f":"IF($C139>I$2,0,IF($C139=I$2,0.5,1)*MIN($F139*$F$119,$F139-SUM($G139:H139)))","v":0},{"$f":"IF($C139>J$2,0,IF($C139=J$2,0.5,1)*MIN($F139*$F$119,$F139-SUM($G139:I139)))","v":0},{"$f":"IF($C139>K$2,0,IF($C139=K$2,0.5,1)*MIN($F139*$F$119,$F139-SUM($G139:J139)))","v":0},{"$f":"IF($C139>L$2,0,IF($C139=L$2,0.5,1)*MIN($F139*$F$119,$F139-SUM($G139:K139)))","v":0},{"$f":"IF($C139>M$2,0,IF($C139=M$2,0.5,1)*MIN($F139*$F$119,$F139-SUM($G139:L139)))","v":0},{"$f":"IF($C139>N$2,0,IF($C139=N$2,0.5,1)*MIN($F139*$F$119,$F139-SUM($G139:M139)))","v":0},{"$f":"IF($C139>O$2,0,IF($C139=O$2,0.5,1)*MIN($F139*$F$119,$F139-SUM($G139:N139)))","v":0},{"$f":"IF($C139>P$2,0,IF($C139=P$2,0.5,1)*MIN($F139*$F$119,$F139-SUM($G139:O139)))","v":0},{"$f":"IF($C139>Q$2,0,IF($C139=Q$2,0.5,1)*MIN($F139*$F$119,$F139-SUM($G139:P139)))","v":0},{"$f":"IF($C139>R$2,0,IF($C139=R$2,0.5,1)*MIN($F139*$F$119,$F139-SUM($G139:Q139)))","v":0},{"$f":"IF($C139>S$2,0,IF($C139=S$2,0.5,1)*MIN($F139*$F$119,$F139-SUM($G139:R139)))","v":0},{"$f":"IF($C139>T$2,0,IF($C139=T$2,0.5,1)*MIN($F139*$F$119,$F139-SUM($G139:S139)))","v":0},{"$f":"IF($C139>U$2,0,IF($C139=U$2,0.5,1)*MIN($F139*$F$119,$F139-SUM($G139:T139)))","v":0},{"$f":"IF($C139>V$2,0,IF($C139=V$2,0.5,1)*MIN($F139*$F$119,$F139-SUM($G139:U139)))","v":0},{"$f":"IF($C139>W$2,0,IF($C139=W$2,0.5,1)*MIN($F139*$F$119,$F139-SUM($G139:V139)))","v":0},{"$f":"IF($C139>X$2,0,IF($C139=X$2,0.5,1)*MIN($F139*$F$119,$F139-SUM($G139:W139)))","v":0},{"$f":"IF($C139>Y$2,0,IF($C139=Y$2,0.5,1)*MIN($F139*$F$119,$F139-SUM($G139:X139)))","v":0},{"$f":"IF($C139>Z$2,0,IF($C139=Z$2,0.5,1)*MIN($F139*$F$119,$F139-SUM($G139:Y139)))","v":0},{"$f":"IF($C139>AA$2,0,IF($C139=AA$2,0.5,1)*MIN($F139*$F$119,$F139-SUM($G139:Z139)))","v":0},{"$f":"IF($C139>AB$2,0,IF($C139=AB$2,0.5,1)*MIN($F139*$F$119,$F139-SUM($G139:AA139)))","v":0}]
[null,null,2041,"тыс. руб.",19,0,null,{"$f":"IF($C140>H$2,0,IF($C140=H$2,0.5,1)*MIN($F140*$F$119,$F140-SUM($G140:G140)))","v":0},{"$f":"IF($C140>I$2,0,IF($C140=I$2,0.5,1)*MIN($F140*$F$119,$F140-SUM($G140:H140)))","v":0},{"$f":"IF($C140>J$2,0,IF($C140=J$2,0.5,1)*MIN($F140*$F$119,$F140-SUM($G140:I140)))","v":0},{"$f":"IF($C140>K$2,0,IF($C140=K$2,0.5,1)*MIN($F140*$F$119,$F140-SUM($G140:J140)))","v":0},{"$f":"IF($C140>L$2,0,IF($C140=L$2,0.5,1)*MIN($F140*$F$119,$F140-SUM($G140:K140)))","v":0},{"$f":"IF($C140>M$2,0,IF($C140=M$2,0.5,1)*MIN($F140*$F$119,$F140-SUM($G140:L140)))","v":0},{"$f":"IF($C140>N$2,0,IF($C140=N$2,0.5,1)*MIN($F140*$F$119,$F140-SUM($G140:M140)))","v":0},{"$f":"IF($C140>O$2,0,IF($C140=O$2,0.5,1)*MIN($F140*$F$119,$F140-SUM($G140:N140)))","v":0},{"$f":"IF($C140>P$2,0,IF($C140=P$2,0.5,1)*MIN($F140*$F$119,$F140-SUM($G140:O140)))","v":0},{"$f":"IF($C140>Q$2,0,IF($C140=Q$2,0.5,1)*MIN($F140*$F$119,$F140-SUM($G140:P140)))","v":0},{"$f":"IF($C140>R$2,0,IF($C140=R$2,0.5,1)*MIN($F140*$F$119,$F140-SUM($G140:Q140)))","v":0},{"$f":"IF($C140>S$2,0,IF($C140=S$2,0.5,1)*MIN($F140*$F$119,$F140-SUM($G140:R140)))","v":0},{"$f":"IF($C140>T$2,0,IF($C140=T$2,0.5,1)*MIN($F140*$F$119,$F140-SUM($G140:S140)))","v":0},{"$f":"IF($C140>U$2,0,IF($C140=U$2,0.5,1)*MIN($F140*$F$119,$F140-SUM($G140:T140)))","v":0},{"$f":"IF($C140>V$2,0,IF($C140=V$2,0.5,1)*MIN($F140*$F$119,$F140-SUM($G140:U140)))","v":0},{"$f":"IF($C140>W$2,0,IF($C140=W$2,0.5,1)*MIN($F140*$F$119,$F140-SUM($G140:V140)))","v":0},{"$f":"IF($C140>X$2,0,IF($C140=X$2,0.5,1)*MIN($F140*$F$119,$F140-SUM($G140:W140)))","v":0},{"$f":"IF($C140>Y$2,0,IF($C140=Y$2,0.5,1)*MIN($F140*$F$119,$F140-SUM($G140:X140)))","v":0},{"$f":"IF($C140>Z$2,0,IF($C140=Z$2,0.5,1)*MIN($F140*$F$119,$F140-SUM($G140:Y140)))","v":0},{"$f":"IF($C140>AA$2,0,IF($C140=AA$2,0.5,1)*MIN($F140*$F$119,$F140-SUM($G140:Z140)))","v":0},{"$f":"IF($C140>AB$2,0,IF($C140=AB$2,0.5,1)*MIN($F140*$F$119,$F140-SUM($G140:AA140)))","v":0}]
[null,null,2042,"тыс. руб.",20,0,null,{"$f":"IF($C141>H$2,0,IF($C141=H$2,0.5,1)*MIN($F141*$F$119,$F141-SUM($G141:G141)))","v":0},{"$f":"IF($C141>I$2,0,IF($C141=I$2,0.5,1)*MIN($F141*$F$119,$F141-SUM($G141:H141)))","v":0},{"$f":"IF($C141>J$2,0,IF($C141=J$2,0.5,1)*MIN($F141*$F$119,$F141-SUM($G141:I141)))","v":0},{"$f":"IF($C141>K$2,0,IF($C141=K$2,0.5,1)*MIN($F141*$F$119,$F141-SUM($G141:J141)))","v":0},{"$f":"IF($C141>L$2,0,IF($C141=L$2,0.5,1)*MIN($F141*$F$119,$F141-SUM($G141:K141)))","v":0},{"$f":"IF($C141>M$2,0,IF($C141=M$2,0.5,1)*MIN($F141*$F$119,$F141-SUM($G141:L141)))","v":0},{"$f":"IF($C141>N$2,0,IF($C141=N$2,0.5,1)*MIN($F141*$F$119,$F141-SUM($G141:M141)))","v":0},{"$f":"IF($C141>O$2,0,IF($C141=O$2,0.5,1)*MIN($F141*$F$119,$F141-SUM($G141:N141)))","v":0},{"$f":"IF($C141>P$2,0,IF($C141=P$2,0.5,1)*MIN($F141*$F$119,$F141-SUM($G141:O141)))","v":0},{"$f":"IF($C141>Q$2,0,IF($C141=Q$2,0.5,1)*MIN($F141*$F$119,$F141-SUM($G141:P141)))","v":0},{"$f":"IF($C141>R$2,0,IF($C141=R$2,0.5,1)*MIN($F141*$F$119,$F141-SUM($G141:Q141)))","v":0},{"$f":"IF($C141>S$2,0,IF($C141=S$2,0.5,1)*MIN($F141*$F$119,$F141-SUM($G141:R141)))","v":0},{"$f":"IF($C141>T$2,0,IF($C141=T$2,0.5,1)*MIN($F141*$F$119,$F141-SUM($G141:S141)))","v":0},{"$f":"IF($C141>U$2,0,IF($C141=U$2,0.5,1)*MIN($F141*$F$119,$F141-SUM($G141:T141)))","v":0},{"$f":"IF($C141>V$2,0,IF($C141=V$2,0.5,1)*MIN($F141*$F$119,$F141-SUM($G141:U141)))","v":0},{"$f":"IF($C141>W$2,0,IF($C141=W$2,0.5,1)*MIN($F141*$F$119,$F141-SUM($G141:V141)))","v":0},{"$f":"IF($C141>X$2,0,IF($C141=X$2,0.5,1)*MIN($F141*$F$119,$F141-SUM($G141:W141)))","v":0},{"$f":"IF($C141>Y$2,0,IF($C141=Y$2,0.5,1)*MIN($F141*$F$119,$F141-SUM($G141:X141)))","v":0},{"$f":"IF($C141>Z$2,0,IF($C141=Z$2,0.5,1)*MIN($F141*$F$119,$F141-SUM($G141:Y141)))","v":0},{"$f":"IF($C141>AA$2,0,IF($C141=AA$2,0.5,1)*MIN($F141*$F$119,$F141-SUM($G141:Z141)))","v":0},{"$f":"IF($C141>AB$2,0,IF($C141=AB$2,0.5,1)*MIN($F141*$F$119,$F141-SUM($G141:AA141)))","v":0}]
[]
[null,null,"Первоначальная стоимость активов","тыс. руб.",null,null,null,{"$f":"G143+H40","v":0},0,0,0,0,0,0,0,0,0,0,0,0,0,0,0,0,0,0,0,0]
[null,null,"Амортизация за период","тыс. руб.",null,null,null,{"$f":"H121","v":0},0,0,0,0,0,0,0,0,0,0,0,0,0,0,0,0,0,0,0,0]
[null,null,"Накопленная амортизация","тыс. руб.",null,null,null,{"$f":"G145+H144","v":0},0,0,0,0,0,0,0,0,0,0,0,0,0,0,0,0,0,0,0,0]
[null,null,"Остаточная стоимость активов","тыс. руб.",null,null,null,{"$f":"H143-H145","v":0},0,0,0,0,0,0,0,0,0,0,0,0,0,{"$f":"V143-V145","v":0},0,0,0,0,0,0]
[]
[null,"Нематериальные активы с определенным сроком полезного использования"]
[]
[null,null,"Ставка амортизации","%",null,{"$f":"Предпосылки!F194","v":0.05}]
[]
[null,null,"Амортизация ","тыс. руб.",null,null,null,{"$f":"SUM(H153:H172)","v":0},{"$f":"SUM(I153:I172)","v":0},0,0,0,0,0,0,0,0,0,0,0,0,0,0,0,0,0,0,0]
[null,null,{"$f":"INDEX(H$2:AA$2,,$E153)","v":2023},"тыс. руб.",1,{"$f":"OFFSET($G$41,,E153)","v":0},null,{"$f":"IF($C153>H$2,0,IF($C153=H$2,0.5,1)*MIN($F153*$F$150,$F153-SUM($G153:G153)))","v":0},{"$f":"IF($C153>I$2,0,IF($C153=I$2,0.5,1)*MIN($F153*$F$150,$F153-SUM($G153:H153)))","v":0},{"$f":"IF($C153>J$2,0,IF($C153=J$2,0.5,1)*MIN($F153*$F$150,$F153-SUM($G153:I153)))","v":0},{"$f":"IF($C153>K$2,0,IF($C153=K$2,0.5,1)*MIN($F153*$F$150,$F153-SUM($G153:J153)))","v":0},{"$f":"IF($C153>L$2,0,IF($C153=L$2,0.5,1)*MIN($F153*$F$150,$F153-SUM($G153:K153)))","v":0},{"$f":"IF($C153>M$2,0,IF($C153=M$2,0.5,1)*MIN($F153*$F$150,$F153-SUM($G153:L153)))","v":0},{"$f":"IF($C153>N$2,0,IF($C153=N$2,0.5,1)*MIN($F153*$F$150,$F153-SUM($G153:M153)))","v":0},{"$f":"IF($C153>O$2,0,IF($C153=O$2,0.5,1)*MIN($F153*$F$150,$F153-SUM($G153:N153)))","v":0},{"$f":"IF($C153>P$2,0,IF($C153=P$2,0.5,1)*MIN($F153*$F$150,$F153-SUM($G153:O153)))","v":0},{"$f":"IF($C153>Q$2,0,IF($C153=Q$2,0.5,1)*MIN($F153*$F$150,$F153-SUM($G153:P153)))","v":0},{"$f":"IF($C153>R$2,0,IF($C153=R$2,0.5,1)*MIN($F153*$F$150,$F153-SUM($G153:Q153)))","v":0},{"$f":"IF($C153>S$2,0,IF($C153=S$2,0.5,1)*MIN($F153*$F$150,$F153-SUM($G153:R153)))","v":0},{"$f":"IF($C153>T$2,0,IF($C153=T$2,0.5,1)*MIN($F153*$F$150,$F153-SUM($G153:S153)))","v":0},{"$f":"IF($C153>U$2,0,IF($C153=U$2,0.5,1)*MIN($F153*$F$150,$F153-SUM($G153:T153)))","v":0},{"$f":"IF($C153>V$2,0,IF($C153=V$2,0.5,1)*MIN($F153*$F$150,$F153-SUM($G153:U153)))","v":0},{"$f":"IF($C153>W$2,0,IF($C153=W$2,0.5,1)*MIN($F153*$F$150,$F153-SUM($G153:V153)))","v":0},{"$f":"IF($C153>X$2,0,IF($C153=X$2,0.5,1)*MIN($F153*$F$150,$F153-SUM($G153:W153)))","v":0},{"$f":"IF($C153>Y$2,0,IF($C153=Y$2,0.5,1)*MIN($F153*$F$150,$F153-SUM($G153:X153)))","v":0},{"$f":"IF($C153>Z$2,0,IF($C153=Z$2,0.5,1)*MIN($F153*$F$150,$F153-SUM($G153:Y153)))","v":0},{"$f":"IF($C153>AA$2,0,IF($C153=AA$2,0.5,1)*MIN($F153*$F$150,$F153-SUM($G153:Z153)))","v":0},{"$f":"IF($C153>AB$2,0,IF($C153=AB$2,0.5,1)*MIN($F153*$F$150,$F153-SUM($G153:AA153)))","v":0}]
[null,null,{"$f":"INDEX(H$2:AA$2,,$E154)","v":2024},"тыс. руб.",2,{"$f":"OFFSET($G$41,,E154)","v":0},null,{"$f":"IF($C154>H$2,0,IF($C154=H$2,0.5,1)*MIN($F154*$F$150,$F154-SUM($G154:G154)))","v":0},{"$f":"IF($C154>I$2,0,IF($C154=I$2,0.5,1)*MIN($F154*$F$150,$F154-SUM($G154:H154)))","v":0},{"$f":"IF($C154>J$2,0,IF($C154=J$2,0.5,1)*MIN($F154*$F$150,$F154-SUM($G154:I154)))","v":0},{"$f":"IF($C154>K$2,0,IF($C154=K$2,0.5,1)*MIN($F154*$F$150,$F154-SUM($G154:J154)))","v":0},{"$f":"IF($C154>L$2,0,IF($C154=L$2,0.5,1)*MIN($F154*$F$150,$F154-SUM($G154:K154)))","v":0},{"$f":"IF($C154>M$2,0,IF($C154=M$2,0.5,1)*MIN($F154*$F$150,$F154-SUM($G154:L154)))","v":0},{"$f":"IF($C154>N$2,0,IF($C154=N$2,0.5,1)*MIN($F154*$F$150,$F154-SUM($G154:M154)))","v":0},{"$f":"IF($C154>O$2,0,IF($C154=O$2,0.5,1)*MIN($F154*$F$150,$F154-SUM($G154:N154)))","v":0},{"$f":"IF($C154>P$2,0,IF($C154=P$2,0.5,1)*MIN($F154*$F$150,$F154-SUM($G154:O154)))","v":0},{"$f":"IF($C154>Q$2,0,IF($C154=Q$2,0.5,1)*MIN($F154*$F$150,$F154-SUM($G154:P154)))","v":0},{"$f":"IF($C154>R$2,0,IF($C154=R$2,0.5,1)*MIN($F154*$F$150,$F154-SUM($G154:Q154)))","v":0},{"$f":"IF($C154>S$2,0,IF($C154=S$2,0.5,1)*MIN($F154*$F$150,$F154-SUM($G154:R154)))","v":0},{"$f":"IF($C154>T$2,0,IF($C154=T$2,0.5,1)*MIN($F154*$F$150,$F154-SUM($G154:S154)))","v":0},{"$f":"IF($C154>U$2,0,IF($C154=U$2,0.5,1)*MIN($F154*$F$150,$F154-SUM($G154:T154)))","v":0},{"$f":"IF($C154>V$2,0,IF($C154=V$2,0.5,1)*MIN($F154*$F$150,$F154-SUM($G154:U154)))","v":0},{"$f":"IF($C154>W$2,0,IF($C154=W$2,0.5,1)*MIN($F154*$F$150,$F154-SUM($G154:V154)))","v":0},{"$f":"IF($C154>X$2,0,IF($C154=X$2,0.5,1)*MIN($F154*$F$150,$F154-SUM($G154:W154)))","v":0},{"$f":"IF($C154>Y$2,0,IF($C154=Y$2,0.5,1)*MIN($F154*$F$150,$F154-SUM($G154:X154)))","v":0},{"$f":"IF($C154>Z$2,0,IF($C154=Z$2,0.5,1)*MIN($F154*$F$150,$F154-SUM($G154:Y154)))","v":0},{"$f":"IF($C154>AA$2,0,IF($C154=AA$2,0.5,1)*MIN($F154*$F$150,$F154-SUM($G154:Z154)))","v":0},{"$f":"IF($C154>AB$2,0,IF($C154=AB$2,0.5,1)*MIN($F154*$F$150,$F154-SUM($G154:AA154)))","v":0}]
[null,null,2025,"тыс. руб.",3,0,null,{"$f":"IF($C155>H$2,0,IF($C155=H$2,0.5,1)*MIN($F155*$F$150,$F155-SUM($G155:G155)))","v":0},{"$f":"IF($C155>I$2,0,IF($C155=I$2,0.5,1)*MIN($F155*$F$150,$F155-SUM($G155:H155)))","v":0},{"$f":"IF($C155>J$2,0,IF($C155=J$2,0.5,1)*MIN($F155*$F$150,$F155-SUM($G155:I155)))","v":0},{"$f":"IF($C155>K$2,0,IF($C155=K$2,0.5,1)*MIN($F155*$F$150,$F155-SUM($G155:J155)))","v":0},{"$f":"IF($C155>L$2,0,IF($C155=L$2,0.5,1)*MIN($F155*$F$150,$F155-SUM($G155:K155)))","v":0},{"$f":"IF($C155>M$2,0,IF($C155=M$2,0.5,1)*MIN($F155*$F$150,$F155-SUM($G155:L155)))","v":0},{"$f":"IF($C155>N$2,0,IF($C155=N$2,0.5,1)*MIN($F155*$F$150,$F155-SUM($G155:M155)))","v":0},{"$f":"IF($C155>O$2,0,IF($C155=O$2,0.5,1)*MIN($F155*$F$150,$F155-SUM($G155:N155)))","v":0},{"$f":"IF($C155>P$2,0,IF($C155=P$2,0.5,1)*MIN($F155*$F$150,$F155-SUM($G155:O155)))","v":0},{"$f":"IF($C155>Q$2,0,IF($C155=Q$2,0.5,1)*MIN($F155*$F$150,$F155-SUM($G155:P155)))","v":0},{"$f":"IF($C155>R$2,0,IF($C155=R$2,0.5,1)*MIN($F155*$F$150,$F155-SUM($G155:Q155)))","v":0},{"$f":"IF($C155>S$2,0,IF($C155=S$2,0.5,1)*MIN($F155*$F$150,$F155-SUM($G155:R155)))","v":0},{"$f":"IF($C155>T$2,0,IF($C155=T$2,0.5,1)*MIN($F155*$F$150,$F155-SUM($G155:S155)))","v":0},{"$f":"IF($C155>U$2,0,IF($C155=U$2,0.5,1)*MIN($F155*$F$150,$F155-SUM($G155:T155)))","v":0},{"$f":"IF($C155>V$2,0,IF($C155=V$2,0.5,1)*MIN($F155*$F$150,$F155-SUM($G155:U155)))","v":0},{"$f":"IF($C155>W$2,0,IF($C155=W$2,0.5,1)*MIN($F155*$F$150,$F155-SUM($G155:V155)))","v":0},{"$f":"IF($C155>X$2,0,IF($C155=X$2,0.5,1)*MIN($F155*$F$150,$F155-SUM($G155:W155)))","v":0},{"$f":"IF($C155>Y$2,0,IF($C155=Y$2,0.5,1)*MIN($F155*$F$150,$F155-SUM($G155:X155)))","v":0},{"$f":"IF($C155>Z$2,0,IF($C155=Z$2,0.5,1)*MIN($F155*$F$150,$F155-SUM($G155:Y155)))","v":0},{"$f":"IF($C155>AA$2,0,IF($C155=AA$2,0.5,1)*MIN($F155*$F$150,$F155-SUM($G155:Z155)))","v":0},{"$f":"IF($C155>AB$2,0,IF($C155=AB$2,0.5,1)*MIN($F155*$F$150,$F155-SUM($G155:AA155)))","v":0}]
[null,null,2026,"тыс. руб.",4,0,null,{"$f":"IF($C156>H$2,0,IF($C156=H$2,0.5,1)*MIN($F156*$F$150,$F156-SUM($G156:G156)))","v":0},{"$f":"IF($C156>I$2,0,IF($C156=I$2,0.5,1)*MIN($F156*$F$150,$F156-SUM($G156:H156)))","v":0},{"$f":"IF($C156>J$2,0,IF($C156=J$2,0.5,1)*MIN($F156*$F$150,$F156-SUM($G156:I156)))","v":0},{"$f":"IF($C156>K$2,0,IF($C156=K$2,0.5,1)*MIN($F156*$F$150,$F156-SUM($G156:J156)))","v":0},{"$f":"IF($C156>L$2,0,IF($C156=L$2,0.5,1)*MIN($F156*$F$150,$F156-SUM($G156:K156)))","v":0},{"$f":"IF($C156>M$2,0,IF($C156=M$2,0.5,1)*MIN($F156*$F$150,$F156-SUM($G156:L156)))","v":0},{"$f":"IF($C156>N$2,0,IF($C156=N$2,0.5,1)*MIN($F156*$F$150,$F156-SUM($G156:M156)))","v":0},{"$f":"IF($C156>O$2,0,IF($C156=O$2,0.5,1)*MIN($F156*$F$150,$F156-SUM($G156:N156)))","v":0},{"$f":"IF($C156>P$2,0,IF($C156=P$2,0.5,1)*MIN($F156*$F$150,$F156-SUM($G156:O156)))","v":0},{"$f":"IF($C156>Q$2,0,IF($C156=Q$2,0.5,1)*MIN($F156*$F$150,$F156-SUM($G156:P156)))","v":0},{"$f":"IF($C156>R$2,0,IF($C156=R$2,0.5,1)*MIN($F156*$F$150,$F156-SUM($G156:Q156)))","v":0},{"$f":"IF($C156>S$2,0,IF($C156=S$2,0.5,1)*MIN($F156*$F$150,$F156-SUM($G156:R156)))","v":0},{"$f":"IF($C156>T$2,0,IF($C156=T$2,0.5,1)*MIN($F156*$F$150,$F156-SUM($G156:S156)))","v":0},{"$f":"IF($C156>U$2,0,IF($C156=U$2,0.5,1)*MIN($F156*$F$150,$F156-SUM($G156:T156)))","v":0},{"$f":"IF($C156>V$2,0,IF($C156=V$2,0.5,1)*MIN($F156*$F$150,$F156-SUM($G156:U156)))","v":0},{"$f":"IF($C156>W$2,0,IF($C156=W$2,0.5,1)*MIN($F156*$F$150,$F156-SUM($G156:V156)))","v":0},{"$f":"IF($C156>X$2,0,IF($C156=X$2,0.5,1)*MIN($F156*$F$150,$F156-SUM($G156:W156)))","v":0},{"$f":"IF($C156>Y$2,0,IF($C156=Y$2,0.5,1)*MIN($F156*$F$150,$F156-SUM($G156:X156)))","v":0},{"$f":"IF($C156>Z$2,0,IF($C156=Z$2,0.5,1)*MIN($F156*$F$150,$F156-SUM($G156:Y156)))","v":0},{"$f":"IF($C156>AA$2,0,IF($C156=AA$2,0.5,1)*MIN($F156*$F$150,$F156-SUM($G156:Z156)))","v":0},{"$f":"IF($C156>AB$2,0,IF($C156=AB$2,0.5,1)*MIN($F156*$F$150,$F156-SUM($G156:AA156)))","v":0}]
[null,null,2027,"тыс. руб.",5,0,null,{"$f":"IF($C157>H$2,0,IF($C157=H$2,0.5,1)*MIN($F157*$F$150,$F157-SUM($G157:G157)))","v":0},{"$f":"IF($C157>I$2,0,IF($C157=I$2,0.5,1)*MIN($F157*$F$150,$F157-SUM($G157:H157)))","v":0},{"$f":"IF($C157>J$2,0,IF($C157=J$2,0.5,1)*MIN($F157*$F$150,$F157-SUM($G157:I157)))","v":0},{"$f":"IF($C157>K$2,0,IF($C157=K$2,0.5,1)*MIN($F157*$F$150,$F157-SUM($G157:J157)))","v":0},{"$f":"IF($C157>L$2,0,IF($C157=L$2,0.5,1)*MIN($F157*$F$150,$F157-SUM($G157:K157)))","v":0},{"$f":"IF($C157>M$2,0,IF($C157=M$2,0.5,1)*MIN($F157*$F$150,$F157-SUM($G157:L157)))","v":0},{"$f":"IF($C157>N$2,0,IF($C157=N$2,0.5,1)*MIN($F157*$F$150,$F157-SUM($G157:M157)))","v":0},{"$f":"IF($C157>O$2,0,IF($C157=O$2,0.5,1)*MIN($F157*$F$150,$F157-SUM($G157:N157)))","v":0},{"$f":"IF($C157>P$2,0,IF($C157=P$2,0.5,1)*MIN($F157*$F$150,$F157-SUM($G157:O157)))","v":0},{"$f":"IF($C157>Q$2,0,IF($C157=Q$2,0.5,1)*MIN($F157*$F$150,$F157-SUM($G157:P157)))","v":0},{"$f":"IF($C157>R$2,0,IF($C157=R$2,0.5,1)*MIN($F157*$F$150,$F157-SUM($G157:Q157)))","v":0},{"$f":"IF($C157>S$2,0,IF($C157=S$2,0.5,1)*MIN($F157*$F$150,$F157-SUM($G157:R157)))","v":0},{"$f":"IF($C157>T$2,0,IF($C157=T$2,0.5,1)*MIN($F157*$F$150,$F157-SUM($G157:S157)))","v":0},{"$f":"IF($C157>U$2,0,IF($C157=U$2,0.5,1)*MIN($F157*$F$150,$F157-SUM($G157:T157)))","v":0},{"$f":"IF($C157>V$2,0,IF($C157=V$2,0.5,1)*MIN($F157*$F$150,$F157-SUM($G157:U157)))","v":0},{"$f":"IF($C157>W$2,0,IF($C157=W$2,0.5,1)*MIN($F157*$F$150,$F157-SUM($G157:V157)))","v":0},{"$f":"IF($C157>X$2,0,IF($C157=X$2,0.5,1)*MIN($F157*$F$150,$F157-SUM($G157:W157)))","v":0},{"$f":"IF($C157>Y$2,0,IF($C157=Y$2,0.5,1)*MIN($F157*$F$150,$F157-SUM($G157:X157)))","v":0},{"$f":"IF($C157>Z$2,0,IF($C157=Z$2,0.5,1)*MIN($F157*$F$150,$F157-SUM($G157:Y157)))","v":0},{"$f":"IF($C157>AA$2,0,IF($C157=AA$2,0.5,1)*MIN($F157*$F$150,$F157-SUM($G157:Z157)))","v":0},{"$f":"IF($C157>AB$2,0,IF($C157=AB$2,0.5,1)*MIN($F157*$F$150,$F157-SUM($G157:AA157)))","v":0}]
[null,null,2028,"тыс. руб.",6,0,null,{"$f":"IF($C158>H$2,0,IF($C158=H$2,0.5,1)*MIN($F158*$F$150,$F158-SUM($G158:G158)))","v":0},{"$f":"IF($C158>I$2,0,IF($C158=I$2,0.5,1)*MIN($F158*$F$150,$F158-SUM($G158:H158)))","v":0},{"$f":"IF($C158>J$2,0,IF($C158=J$2,0.5,1)*MIN($F158*$F$150,$F158-SUM($G158:I158)))","v":0},{"$f":"IF($C158>K$2,0,IF($C158=K$2,0.5,1)*MIN($F158*$F$150,$F158-SUM($G158:J158)))","v":0},{"$f":"IF($C158>L$2,0,IF($C158=L$2,0.5,1)*MIN($F158*$F$150,$F158-SUM($G158:K158)))","v":0},{"$f":"IF($C158>M$2,0,IF($C158=M$2,0.5,1)*MIN($F158*$F$150,$F158-SUM($G158:L158)))","v":0},{"$f":"IF($C158>N$2,0,IF($C158=N$2,0.5,1)*MIN($F158*$F$150,$F158-SUM($G158:M158)))","v":0},{"$f":"IF($C158>O$2,0,IF($C158=O$2,0.5,1)*MIN($F158*$F$150,$F158-SUM($G158:N158)))","v":0},{"$f":"IF($C158>P$2,0,IF($C158=P$2,0.5,1)*MIN($F158*$F$150,$F158-SUM($G158:O158)))","v":0},{"$f":"IF($C158>Q$2,0,IF($C158=Q$2,0.5,1)*MIN($F158*$F$150,$F158-SUM($G158:P158)))","v":0},{"$f":"IF($C158>R$2,0,IF($C158=R$2,0.5,1)*MIN($F158*$F$150,$F158-SUM($G158:Q158)))","v":0},{"$f":"IF($C158>S$2,0,IF($C158=S$2,0.5,1)*MIN($F158*$F$150,$F158-SUM($G158:R158)))","v":0},{"$f":"IF($C158>T$2,0,IF($C158=T$2,0.5,1)*MIN($F158*$F$150,$F158-SUM($G158:S158)))","v":0},{"$f":"IF($C158>U$2,0,IF($C158=U$2,0.5,1)*MIN($F158*$F$150,$F158-SUM($G158:T158)))","v":0},{"$f":"IF($C158>V$2,0,IF($C158=V$2,0.5,1)*MIN($F158*$F$150,$F158-SUM($G158:U158)))","v":0},{"$f":"IF($C158>W$2,0,IF($C158=W$2,0.5,1)*MIN($F158*$F$150,$F158-SUM($G158:V158)))","v":0},{"$f":"IF($C158>X$2,0,IF($C158=X$2,0.5,1)*MIN($F158*$F$150,$F158-SUM($G158:W158)))","v":0},{"$f":"IF($C158>Y$2,0,IF($C158=Y$2,0.5,1)*MIN($F158*$F$150,$F158-SUM($G158:X158)))","v":0},{"$f":"IF($C158>Z$2,0,IF($C158=Z$2,0.5,1)*MIN($F158*$F$150,$F158-SUM($G158:Y158)))","v":0},{"$f":"IF($C158>AA$2,0,IF($C158=AA$2,0.5,1)*MIN($F158*$F$150,$F158-SUM($G158:Z158)))","v":0},{"$f":"IF($C158>AB$2,0,IF($C158=AB$2,0.5,1)*MIN($F158*$F$150,$F158-SUM($G158:AA158)))","v":0}]
[null,null,2029,"тыс. руб.",7,0,null,{"$f":"IF($C159>H$2,0,IF($C159=H$2,0.5,1)*MIN($F159*$F$150,$F159-SUM($G159:G159)))","v":0},{"$f":"IF($C159>I$2,0,IF($C159=I$2,0.5,1)*MIN($F159*$F$150,$F159-SUM($G159:H159)))","v":0},{"$f":"IF($C159>J$2,0,IF($C159=J$2,0.5,1)*MIN($F159*$F$150,$F159-SUM($G159:I159)))","v":0},{"$f":"IF($C159>K$2,0,IF($C159=K$2,0.5,1)*MIN($F159*$F$150,$F159-SUM($G159:J159)))","v":0},{"$f":"IF($C159>L$2,0,IF($C159=L$2,0.5,1)*MIN($F159*$F$150,$F159-SUM($G159:K159)))","v":0},{"$f":"IF($C159>M$2,0,IF($C159=M$2,0.5,1)*MIN($F159*$F$150,$F159-SUM($G159:L159)))","v":0},{"$f":"IF($C159>N$2,0,IF($C159=N$2,0.5,1)*MIN($F159*$F$150,$F159-SUM($G159:M159)))","v":0},{"$f":"IF($C159>O$2,0,IF($C159=O$2,0.5,1)*MIN($F159*$F$150,$F159-SUM($G159:N159)))","v":0},{"$f":"IF($C159>P$2,0,IF($C159=P$2,0.5,1)*MIN($F159*$F$150,$F159-SUM($G159:O159)))","v":0},{"$f":"IF($C159>Q$2,0,IF($C159=Q$2,0.5,1)*MIN($F159*$F$150,$F159-SUM($G159:P159)))","v":0},{"$f":"IF($C159>R$2,0,IF($C159=R$2,0.5,1)*MIN($F159*$F$150,$F159-SUM($G159:Q159)))","v":0},{"$f":"IF($C159>S$2,0,IF($C159=S$2,0.5,1)*MIN($F159*$F$150,$F159-SUM($G159:R159)))","v":0},{"$f":"IF($C159>T$2,0,IF($C159=T$2,0.5,1)*MIN($F159*$F$150,$F159-SUM($G159:S159)))","v":0},{"$f":"IF($C159>U$2,0,IF($C159=U$2,0.5,1)*MIN($F159*$F$150,$F159-SUM($G159:T159)))","v":0},{"$f":"IF($C159>V$2,0,IF($C159=V$2,0.5,1)*MIN($F159*$F$150,$F159-SUM($G159:U159)))","v":0},{"$f":"IF($C159>W$2,0,IF($C159=W$2,0.5,1)*MIN($F159*$F$150,$F159-SUM($G159:V159)))","v":0},{"$f":"IF($C159>X$2,0,IF($C159=X$2,0.5,1)*MIN($F159*$F$150,$F159-SUM($G159:W159)))","v":0},{"$f":"IF($C159>Y$2,0,IF($C159=Y$2,0.5,1)*MIN($F159*$F$150,$F159-SUM($G159:X159)))","v":0},{"$f":"IF($C159>Z$2,0,IF($C159=Z$2,0.5,1)*MIN($F159*$F$150,$F159-SUM($G159:Y159)))","v":0},{"$f":"IF($C159>AA$2,0,IF($C159=AA$2,0.5,1)*MIN($F159*$F$150,$F159-SUM($G159:Z159)))","v":0},{"$f":"IF($C159>AB$2,0,IF($C159=AB$2,0.5,1)*MIN($F159*$F$150,$F159-SUM($G159:AA159)))","v":0}]
[null,null,2030,"тыс. руб.",8,0,null,{"$f":"IF($C160>H$2,0,IF($C160=H$2,0.5,1)*MIN($F160*$F$150,$F160-SUM($G160:G160)))","v":0},{"$f":"IF($C160>I$2,0,IF($C160=I$2,0.5,1)*MIN($F160*$F$150,$F160-SUM($G160:H160)))","v":0},{"$f":"IF($C160>J$2,0,IF($C160=J$2,0.5,1)*MIN($F160*$F$150,$F160-SUM($G160:I160)))","v":0},{"$f":"IF($C160>K$2,0,IF($C160=K$2,0.5,1)*MIN($F160*$F$150,$F160-SUM($G160:J160)))","v":0},{"$f":"IF($C160>L$2,0,IF($C160=L$2,0.5,1)*MIN($F160*$F$150,$F160-SUM($G160:K160)))","v":0},{"$f":"IF($C160>M$2,0,IF($C160=M$2,0.5,1)*MIN($F160*$F$150,$F160-SUM($G160:L160)))","v":0},{"$f":"IF($C160>N$2,0,IF($C160=N$2,0.5,1)*MIN($F160*$F$150,$F160-SUM($G160:M160)))","v":0},{"$f":"IF($C160>O$2,0,IF($C160=O$2,0.5,1)*MIN($F160*$F$150,$F160-SUM($G160:N160)))","v":0},{"$f":"IF($C160>P$2,0,IF($C160=P$2,0.5,1)*MIN($F160*$F$150,$F160-SUM($G160:O160)))","v":0},{"$f":"IF($C160>Q$2,0,IF($C160=Q$2,0.5,1)*MIN($F160*$F$150,$F160-SUM($G160:P160)))","v":0},{"$f":"IF($C160>R$2,0,IF($C160=R$2,0.5,1)*MIN($F160*$F$150,$F160-SUM($G160:Q160)))","v":0},{"$f":"IF($C160>S$2,0,IF($C160=S$2,0.5,1)*MIN($F160*$F$150,$F160-SUM($G160:R160)))","v":0},{"$f":"IF($C160>T$2,0,IF($C160=T$2,0.5,1)*MIN($F160*$F$150,$F160-SUM($G160:S160)))","v":0},{"$f":"IF($C160>U$2,0,IF($C160=U$2,0.5,1)*MIN($F160*$F$150,$F160-SUM($G160:T160)))","v":0},{"$f":"IF($C160>V$2,0,IF($C160=V$2,0.5,1)*MIN($F160*$F$150,$F160-SUM($G160:U160)))","v":0},{"$f":"IF($C160>W$2,0,IF($C160=W$2,0.5,1)*MIN($F160*$F$150,$F160-SUM($G160:V160)))","v":0},{"$f":"IF($C160>X$2,0,IF($C160=X$2,0.5,1)*MIN($F160*$F$150,$F160-SUM($G160:W160)))","v":0},{"$f":"IF($C160>Y$2,0,IF($C160=Y$2,0.5,1)*MIN($F160*$F$150,$F160-SUM($G160:X160)))","v":0},{"$f":"IF($C160>Z$2,0,IF($C160=Z$2,0.5,1)*MIN($F160*$F$150,$F160-SUM($G160:Y160)))","v":0},{"$f":"IF($C160>AA$2,0,IF($C160=AA$2,0.5,1)*MIN($F160*$F$150,$F160-SUM($G160:Z160)))","v":0},{"$f":"IF($C160>AB$2,0,IF($C160=AB$2,0.5,1)*MIN($F160*$F$150,$F160-SUM($G160:AA160)))","v":0}]
[null,null,2031,"тыс. руб.",9,0,null,{"$f":"IF($C161>H$2,0,IF($C161=H$2,0.5,1)*MIN($F161*$F$150,$F161-SUM($G161:G161)))","v":0},{"$f":"IF($C161>I$2,0,IF($C161=I$2,0.5,1)*MIN($F161*$F$150,$F161-SUM($G161:H161)))","v":0},{"$f":"IF($C161>J$2,0,IF($C161=J$2,0.5,1)*MIN($F161*$F$150,$F161-SUM($G161:I161)))","v":0},{"$f":"IF($C161>K$2,0,IF($C161=K$2,0.5,1)*MIN($F161*$F$150,$F161-SUM($G161:J161)))","v":0},{"$f":"IF($C161>L$2,0,IF($C161=L$2,0.5,1)*MIN($F161*$F$150,$F161-SUM($G161:K161)))","v":0},{"$f":"IF($C161>M$2,0,IF($C161=M$2,0.5,1)*MIN($F161*$F$150,$F161-SUM($G161:L161)))","v":0},{"$f":"IF($C161>N$2,0,IF($C161=N$2,0.5,1)*MIN($F161*$F$150,$F161-SUM($G161:M161)))","v":0},{"$f":"IF($C161>O$2,0,IF($C161=O$2,0.5,1)*MIN($F161*$F$150,$F161-SUM($G161:N161)))","v":0},{"$f":"IF($C161>P$2,0,IF($C161=P$2,0.5,1)*MIN($F161*$F$150,$F161-SUM($G161:O161)))","v":0},{"$f":"IF($C161>Q$2,0,IF($C161=Q$2,0.5,1)*MIN($F161*$F$150,$F161-SUM($G161:P161)))","v":0},{"$f":"IF($C161>R$2,0,IF($C161=R$2,0.5,1)*MIN($F161*$F$150,$F161-SUM($G161:Q161)))","v":0},{"$f":"IF($C161>S$2,0,IF($C161=S$2,0.5,1)*MIN($F161*$F$150,$F161-SUM($G161:R161)))","v":0},{"$f":"IF($C161>T$2,0,IF($C161=T$2,0.5,1)*MIN($F161*$F$150,$F161-SUM($G161:S161)))","v":0},{"$f":"IF($C161>U$2,0,IF($C161=U$2,0.5,1)*MIN($F161*$F$150,$F161-SUM($G161:T161)))","v":0},{"$f":"IF($C161>V$2,0,IF($C161=V$2,0.5,1)*MIN($F161*$F$150,$F161-SUM($G161:U161)))","v":0},{"$f":"IF($C161>W$2,0,IF($C161=W$2,0.5,1)*MIN($F161*$F$150,$F161-SUM($G161:V161)))","v":0},{"$f":"IF($C161>X$2,0,IF($C161=X$2,0.5,1)*MIN($F161*$F$150,$F161-SUM($G161:W161)))","v":0},{"$f":"IF($C161>Y$2,0,IF($C161=Y$2,0.5,1)*MIN($F161*$F$150,$F161-SUM($G161:X161)))","v":0},{"$f":"IF($C161>Z$2,0,IF($C161=Z$2,0.5,1)*MIN($F161*$F$150,$F161-SUM($G161:Y161)))","v":0},{"$f":"IF($C161>AA$2,0,IF($C161=AA$2,0.5,1)*MIN($F161*$F$150,$F161-SUM($G161:Z161)))","v":0},{"$f":"IF($C161>AB$2,0,IF($C161=AB$2,0.5,1)*MIN($F161*$F$150,$F161-SUM($G161:AA161)))","v":0}]
[null,null,2032,"тыс. руб.",10,0,null,{"$f":"IF($C162>H$2,0,IF($C162=H$2,0.5,1)*MIN($F162*$F$150,$F162-SUM($G162:G162)))","v":0},{"$f":"IF($C162>I$2,0,IF($C162=I$2,0.5,1)*MIN($F162*$F$150,$F162-SUM($G162:H162)))","v":0},{"$f":"IF($C162>J$2,0,IF($C162=J$2,0.5,1)*MIN($F162*$F$150,$F162-SUM($G162:I162)))","v":0},{"$f":"IF($C162>K$2,0,IF($C162=K$2,0.5,1)*MIN($F162*$F$150,$F162-SUM($G162:J162)))","v":0},{"$f":"IF($C162>L$2,0,IF($C162=L$2,0.5,1)*MIN($F162*$F$150,$F162-SUM($G162:K162)))","v":0},{"$f":"IF($C162>M$2,0,IF($C162=M$2,0.5,1)*MIN($F162*$F$150,$F162-SUM($G162:L162)))","v":0},{"$f":"IF($C162>N$2,0,IF($C162=N$2,0.5,1)*MIN($F162*$F$150,$F162-SUM($G162:M162)))","v":0},{"$f":"IF($C162>O$2,0,IF($C162=O$2,0.5,1)*MIN($F162*$F$150,$F162-SUM($G162:N162)))","v":0},{"$f":"IF($C162>P$2,0,IF($C162=P$2,0.5,1)*MIN($F162*$F$150,$F162-SUM($G162:O162)))","v":0},{"$f":"IF($C162>Q$2,0,IF($C162=Q$2,0.5,1)*MIN($F162*$F$150,$F162-SUM($G162:P162)))","v":0},{"$f":"IF($C162>R$2,0,IF($C162=R$2,0.5,1)*MIN($F162*$F$150,$F162-SUM($G162:Q162)))","v":0},{"$f":"IF($C162>S$2,0,IF($C162=S$2,0.5,1)*MIN($F162*$F$150,$F162-SUM($G162:R162)))","v":0},{"$f":"IF($C162>T$2,0,IF($C162=T$2,0.5,1)*MIN($F162*$F$150,$F162-SUM($G162:S162)))","v":0},{"$f":"IF($C162>U$2,0,IF($C162=U$2,0.5,1)*MIN($F162*$F$150,$F162-SUM($G162:T162)))","v":0},{"$f":"IF($C162>V$2,0,IF($C162=V$2,0.5,1)*MIN($F162*$F$150,$F162-SUM($G162:U162)))","v":0},{"$f":"IF($C162>W$2,0,IF($C162=W$2,0.5,1)*MIN($F162*$F$150,$F162-SUM($G162:V162)))","v":0},{"$f":"IF($C162>X$2,0,IF($C162=X$2,0.5,1)*MIN($F162*$F$150,$F162-SUM($G162:W162)))","v":0},{"$f":"IF($C162>Y$2,0,IF($C162=Y$2,0.5,1)*MIN($F162*$F$150,$F162-SUM($G162:X162)))","v":0},{"$f":"IF($C162>Z$2,0,IF($C162=Z$2,0.5,1)*MIN($F162*$F$150,$F162-SUM($G162:Y162)))","v":0},{"$f":"IF($C162>AA$2,0,IF($C162=AA$2,0.5,1)*MIN($F162*$F$150,$F162-SUM($G162:Z162)))","v":0},{"$f":"IF($C162>AB$2,0,IF($C162=AB$2,0.5,1)*MIN($F162*$F$150,$F162-SUM($G162:AA162)))","v":0}]
[null,null,2033,"тыс. руб.",11,0,null,{"$f":"IF($C163>H$2,0,IF($C163=H$2,0.5,1)*MIN($F163*$F$150,$F163-SUM($G163:G163)))","v":0},{"$f":"IF($C163>I$2,0,IF($C163=I$2,0.5,1)*MIN($F163*$F$150,$F163-SUM($G163:H163)))","v":0},{"$f":"IF($C163>J$2,0,IF($C163=J$2,0.5,1)*MIN($F163*$F$150,$F163-SUM($G163:I163)))","v":0},{"$f":"IF($C163>K$2,0,IF($C163=K$2,0.5,1)*MIN($F163*$F$150,$F163-SUM($G163:J163)))","v":0},{"$f":"IF($C163>L$2,0,IF($C163=L$2,0.5,1)*MIN($F163*$F$150,$F163-SUM($G163:K163)))","v":0},{"$f":"IF($C163>M$2,0,IF($C163=M$2,0.5,1)*MIN($F163*$F$150,$F163-SUM($G163:L163)))","v":0},{"$f":"IF($C163>N$2,0,IF($C163=N$2,0.5,1)*MIN($F163*$F$150,$F163-SUM($G163:M163)))","v":0},{"$f":"IF($C163>O$2,0,IF($C163=O$2,0.5,1)*MIN($F163*$F$150,$F163-SUM($G163:N163)))","v":0},{"$f":"IF($C163>P$2,0,IF($C163=P$2,0.5,1)*MIN($F163*$F$150,$F163-SUM($G163:O163)))","v":0},{"$f":"IF($C163>Q$2,0,IF($C163=Q$2,0.5,1)*MIN($F163*$F$150,$F163-SUM($G163:P163)))","v":0},{"$f":"IF($C163>R$2,0,IF($C163=R$2,0.5,1)*MIN($F163*$F$150,$F163-SUM($G163:Q163)))","v":0},{"$f":"IF($C163>S$2,0,IF($C163=S$2,0.5,1)*MIN($F163*$F$150,$F163-SUM($G163:R163)))","v":0},{"$f":"IF($C163>T$2,0,IF($C163=T$2,0.5,1)*MIN($F163*$F$150,$F163-SUM($G163:S163)))","v":0},{"$f":"IF($C163>U$2,0,IF($C163=U$2,0.5,1)*MIN($F163*$F$150,$F163-SUM($G163:T163)))","v":0},{"$f":"IF($C163>V$2,0,IF($C163=V$2,0.5,1)*MIN($F163*$F$150,$F163-SUM($G163:U163)))","v":0},{"$f":"IF($C163>W$2,0,IF($C163=W$2,0.5,1)*MIN($F163*$F$150,$F163-SUM($G163:V163)))","v":0},{"$f":"IF($C163>X$2,0,IF($C163=X$2,0.5,1)*MIN($F163*$F$150,$F163-SUM($G163:W163)))","v":0},{"$f":"IF($C163>Y$2,0,IF($C163=Y$2,0.5,1)*MIN($F163*$F$150,$F163-SUM($G163:X163)))","v":0},{"$f":"IF($C163>Z$2,0,IF($C163=Z$2,0.5,1)*MIN($F163*$F$150,$F163-SUM($G163:Y163)))","v":0},{"$f":"IF($C163>AA$2,0,IF($C163=AA$2,0.5,1)*MIN($F163*$F$150,$F163-SUM($G163:Z163)))","v":0},{"$f":"IF($C163>AB$2,0,IF($C163=AB$2,0.5,1)*MIN($F163*$F$150,$F163-SUM($G163:AA163)))","v":0}]
[null,null,2034,"тыс. руб.",12,0,null,{"$f":"IF($C164>H$2,0,IF($C164=H$2,0.5,1)*MIN($F164*$F$150,$F164-SUM($G164:G164)))","v":0},{"$f":"IF($C164>I$2,0,IF($C164=I$2,0.5,1)*MIN($F164*$F$150,$F164-SUM($G164:H164)))","v":0},{"$f":"IF($C164>J$2,0,IF($C164=J$2,0.5,1)*MIN($F164*$F$150,$F164-SUM($G164:I164)))","v":0},{"$f":"IF($C164>K$2,0,IF($C164=K$2,0.5,1)*MIN($F164*$F$150,$F164-SUM($G164:J164)))","v":0},{"$f":"IF($C164>L$2,0,IF($C164=L$2,0.5,1)*MIN($F164*$F$150,$F164-SUM($G164:K164)))","v":0},{"$f":"IF($C164>M$2,0,IF($C164=M$2,0.5,1)*MIN($F164*$F$150,$F164-SUM($G164:L164)))","v":0},{"$f":"IF($C164>N$2,0,IF($C164=N$2,0.5,1)*MIN($F164*$F$150,$F164-SUM($G164:M164)))","v":0},{"$f":"IF($C164>O$2,0,IF($C164=O$2,0.5,1)*MIN($F164*$F$150,$F164-SUM($G164:N164)))","v":0},{"$f":"IF($C164>P$2,0,IF($C164=P$2,0.5,1)*MIN($F164*$F$150,$F164-SUM($G164:O164)))","v":0},{"$f":"IF($C164>Q$2,0,IF($C164=Q$2,0.5,1)*MIN($F164*$F$150,$F164-SUM($G164:P164)))","v":0},{"$f":"IF($C164>R$2,0,IF($C164=R$2,0.5,1)*MIN($F164*$F$150,$F164-SUM($G164:Q164)))","v":0},{"$f":"IF($C164>S$2,0,IF($C164=S$2,0.5,1)*MIN($F164*$F$150,$F164-SUM($G164:R164)))","v":0},{"$f":"IF($C164>T$2,0,IF($C164=T$2,0.5,1)*MIN($F164*$F$150,$F164-SUM($G164:S164)))","v":0},{"$f":"IF($C164>U$2,0,IF($C164=U$2,0.5,1)*MIN($F164*$F$150,$F164-SUM($G164:T164)))","v":0},{"$f":"IF($C164>V$2,0,IF($C164=V$2,0.5,1)*MIN($F164*$F$150,$F164-SUM($G164:U164)))","v":0},{"$f":"IF($C164>W$2,0,IF($C164=W$2,0.5,1)*MIN($F164*$F$150,$F164-SUM($G164:V164)))","v":0},{"$f":"IF($C164>X$2,0,IF($C164=X$2,0.5,1)*MIN($F164*$F$150,$F164-SUM($G164:W164)))","v":0},{"$f":"IF($C164>Y$2,0,IF($C164=Y$2,0.5,1)*MIN($F164*$F$150,$F164-SUM($G164:X164)))","v":0},{"$f":"IF($C164>Z$2,0,IF($C164=Z$2,0.5,1)*MIN($F164*$F$150,$F164-SUM($G164:Y164)))","v":0},{"$f":"IF($C164>AA$2,0,IF($C164=AA$2,0.5,1)*MIN($F164*$F$150,$F164-SUM($G164:Z164)))","v":0},{"$f":"IF($C164>AB$2,0,IF($C164=AB$2,0.5,1)*MIN($F164*$F$150,$F164-SUM($G164:AA164)))","v":0}]
[null,null,2035,"тыс. руб.",13,0,null,{"$f":"IF($C165>H$2,0,IF($C165=H$2,0.5,1)*MIN($F165*$F$150,$F165-SUM($G165:G165)))","v":0},{"$f":"IF($C165>I$2,0,IF($C165=I$2,0.5,1)*MIN($F165*$F$150,$F165-SUM($G165:H165)))","v":0},{"$f":"IF($C165>J$2,0,IF($C165=J$2,0.5,1)*MIN($F165*$F$150,$F165-SUM($G165:I165)))","v":0},{"$f":"IF($C165>K$2,0,IF($C165=K$2,0.5,1)*MIN($F165*$F$150,$F165-SUM($G165:J165)))","v":0},{"$f":"IF($C165>L$2,0,IF($C165=L$2,0.5,1)*MIN($F165*$F$150,$F165-SUM($G165:K165)))","v":0},{"$f":"IF($C165>M$2,0,IF($C165=M$2,0.5,1)*MIN($F165*$F$150,$F165-SUM($G165:L165)))","v":0},{"$f":"IF($C165>N$2,0,IF($C165=N$2,0.5,1)*MIN($F165*$F$150,$F165-SUM($G165:M165)))","v":0},{"$f":"IF($C165>O$2,0,IF($C165=O$2,0.5,1)*MIN($F165*$F$150,$F165-SUM($G165:N165)))","v":0},{"$f":"IF($C165>P$2,0,IF($C165=P$2,0.5,1)*MIN($F165*$F$150,$F165-SUM($G165:O165)))","v":0},{"$f":"IF($C165>Q$2,0,IF($C165=Q$2,0.5,1)*MIN($F165*$F$150,$F165-SUM($G165:P165)))","v":0},{"$f":"IF($C165>R$2,0,IF($C165=R$2,0.5,1)*MIN($F165*$F$150,$F165-SUM($G165:Q165)))","v":0},{"$f":"IF($C165>S$2,0,IF($C165=S$2,0.5,1)*MIN($F165*$F$150,$F165-SUM($G165:R165)))","v":0},{"$f":"IF($C165>T$2,0,IF($C165=T$2,0.5,1)*MIN($F165*$F$150,$F165-SUM($G165:S165)))","v":0},{"$f":"IF($C165>U$2,0,IF($C165=U$2,0.5,1)*MIN($F165*$F$150,$F165-SUM($G165:T165)))","v":0},{"$f":"IF($C165>V$2,0,IF($C165=V$2,0.5,1)*MIN($F165*$F$150,$F165-SUM($G165:U165)))","v":0},{"$f":"IF($C165>W$2,0,IF($C165=W$2,0.5,1)*MIN($F165*$F$150,$F165-SUM($G165:V165)))","v":0},{"$f":"IF($C165>X$2,0,IF($C165=X$2,0.5,1)*MIN($F165*$F$150,$F165-SUM($G165:W165)))","v":0},{"$f":"IF($C165>Y$2,0,IF($C165=Y$2,0.5,1)*MIN($F165*$F$150,$F165-SUM($G165:X165)))","v":0},{"$f":"IF($C165>Z$2,0,IF($C165=Z$2,0.5,1)*MIN($F165*$F$150,$F165-SUM($G165:Y165)))","v":0},{"$f":"IF($C165>AA$2,0,IF($C165=AA$2,0.5,1)*MIN($F165*$F$150,$F165-SUM($G165:Z165)))","v":0},{"$f":"IF($C165>AB$2,0,IF($C165=AB$2,0.5,1)*MIN($F165*$F$150,$F165-SUM($G165:AA165)))","v":0}]
[null,null,2036,"тыс. руб.",14,0,null,{"$f":"IF($C166>H$2,0,IF($C166=H$2,0.5,1)*MIN($F166*$F$150,$F166-SUM($G166:G166)))","v":0},{"$f":"IF($C166>I$2,0,IF($C166=I$2,0.5,1)*MIN($F166*$F$150,$F166-SUM($G166:H166)))","v":0},{"$f":"IF($C166>J$2,0,IF($C166=J$2,0.5,1)*MIN($F166*$F$150,$F166-SUM($G166:I166)))","v":0},{"$f":"IF($C166>K$2,0,IF($C166=K$2,0.5,1)*MIN($F166*$F$150,$F166-SUM($G166:J166)))","v":0},{"$f":"IF($C166>L$2,0,IF($C166=L$2,0.5,1)*MIN($F166*$F$150,$F166-SUM($G166:K166)))","v":0},{"$f":"IF($C166>M$2,0,IF($C166=M$2,0.5,1)*MIN($F166*$F$150,$F166-SUM($G166:L166)))","v":0},{"$f":"IF($C166>N$2,0,IF($C166=N$2,0.5,1)*MIN($F166*$F$150,$F166-SUM($G166:M166)))","v":0},{"$f":"IF($C166>O$2,0,IF($C166=O$2,0.5,1)*MIN($F166*$F$150,$F166-SUM($G166:N166)))","v":0},{"$f":"IF($C166>P$2,0,IF($C166=P$2,0.5,1)*MIN($F166*$F$150,$F166-SUM($G166:O166)))","v":0},{"$f":"IF($C166>Q$2,0,IF($C166=Q$2,0.5,1)*MIN($F166*$F$150,$F166-SUM($G166:P166)))","v":0},{"$f":"IF($C166>R$2,0,IF($C166=R$2,0.5,1)*MIN($F166*$F$150,$F166-SUM($G166:Q166)))","v":0},{"$f":"IF($C166>S$2,0,IF($C166=S$2,0.5,1)*MIN($F166*$F$150,$F166-SUM($G166:R166)))","v":0},{"$f":"IF($C166>T$2,0,IF($C166=T$2,0.5,1)*MIN($F166*$F$150,$F166-SUM($G166:S166)))","v":0},{"$f":"IF($C166>U$2,0,IF($C166=U$2,0.5,1)*MIN($F166*$F$150,$F166-SUM($G166:T166)))","v":0},{"$f":"IF($C166>V$2,0,IF($C166=V$2,0.5,1)*MIN($F166*$F$150,$F166-SUM($G166:U166)))","v":0},{"$f":"IF($C166>W$2,0,IF($C166=W$2,0.5,1)*MIN($F166*$F$150,$F166-SUM($G166:V166)))","v":0},{"$f":"IF($C166>X$2,0,IF($C166=X$2,0.5,1)*MIN($F166*$F$150,$F166-SUM($G166:W166)))","v":0},{"$f":"IF($C166>Y$2,0,IF($C166=Y$2,0.5,1)*MIN($F166*$F$150,$F166-SUM($G166:X166)))","v":0},{"$f":"IF($C166>Z$2,0,IF($C166=Z$2,0.5,1)*MIN($F166*$F$150,$F166-SUM($G166:Y166)))","v":0},{"$f":"IF($C166>AA$2,0,IF($C166=AA$2,0.5,1)*MIN($F166*$F$150,$F166-SUM($G166:Z166)))","v":0},{"$f":"IF($C166>AB$2,0,IF($C166=AB$2,0.5,1)*MIN($F166*$F$150,$F166-SUM($G166:AA166)))","v":0}]
[null,null,2037,"тыс. руб.",15,0,null,{"$f":"IF($C167>H$2,0,IF($C167=H$2,0.5,1)*MIN($F167*$F$150,$F167-SUM($G167:G167)))","v":0},{"$f":"IF($C167>I$2,0,IF($C167=I$2,0.5,1)*MIN($F167*$F$150,$F167-SUM($G167:H167)))","v":0},{"$f":"IF($C167>J$2,0,IF($C167=J$2,0.5,1)*MIN($F167*$F$150,$F167-SUM($G167:I167)))","v":0},{"$f":"IF($C167>K$2,0,IF($C167=K$2,0.5,1)*MIN($F167*$F$150,$F167-SUM($G167:J167)))","v":0},{"$f":"IF($C167>L$2,0,IF($C167=L$2,0.5,1)*MIN($F167*$F$150,$F167-SUM($G167:K167)))","v":0},{"$f":"IF($C167>M$2,0,IF($C167=M$2,0.5,1)*MIN($F167*$F$150,$F167-SUM($G167:L167)))","v":0},{"$f":"IF($C167>N$2,0,IF($C167=N$2,0.5,1)*MIN($F167*$F$150,$F167-SUM($G167:M167)))","v":0},{"$f":"IF($C167>O$2,0,IF($C167=O$2,0.5,1)*MIN($F167*$F$150,$F167-SUM($G167:N167)))","v":0},{"$f":"IF($C167>P$2,0,IF($C167=P$2,0.5,1)*MIN($F167*$F$150,$F167-SUM($G167:O167)))","v":0},{"$f":"IF($C167>Q$2,0,IF($C167=Q$2,0.5,1)*MIN($F167*$F$150,$F167-SUM($G167:P167)))","v":0},{"$f":"IF($C167>R$2,0,IF($C167=R$2,0.5,1)*MIN($F167*$F$150,$F167-SUM($G167:Q167)))","v":0},{"$f":"IF($C167>S$2,0,IF($C167=S$2,0.5,1)*MIN($F167*$F$150,$F167-SUM($G167:R167)))","v":0},{"$f":"IF($C167>T$2,0,IF($C167=T$2,0.5,1)*MIN($F167*$F$150,$F167-SUM($G167:S167)))","v":0},{"$f":"IF($C167>U$2,0,IF($C167=U$2,0.5,1)*MIN($F167*$F$150,$F167-SUM($G167:T167)))","v":0},{"$f":"IF($C167>V$2,0,IF($C167=V$2,0.5,1)*MIN($F167*$F$150,$F167-SUM($G167:U167)))","v":0},{"$f":"IF($C167>W$2,0,IF($C167=W$2,0.5,1)*MIN($F167*$F$150,$F167-SUM($G167:V167)))","v":0},{"$f":"IF($C167>X$2,0,IF($C167=X$2,0.5,1)*MIN($F167*$F$150,$F167-SUM($G167:W167)))","v":0},{"$f":"IF($C167>Y$2,0,IF($C167=Y$2,0.5,1)*MIN($F167*$F$150,$F167-SUM($G167:X167)))","v":0},{"$f":"IF($C167>Z$2,0,IF($C167=Z$2,0.5,1)*MIN($F167*$F$150,$F167-SUM($G167:Y167)))","v":0},{"$f":"IF($C167>AA$2,0,IF($C167=AA$2,0.5,1)*MIN($F167*$F$150,$F167-SUM($G167:Z167)))","v":0},{"$f":"IF($C167>AB$2,0,IF($C167=AB$2,0.5,1)*MIN($F167*$F$150,$F167-SUM($G167:AA167)))","v":0}]
[null,null,2038,"тыс. руб.",16,0,null,{"$f":"IF($C168>H$2,0,IF($C168=H$2,0.5,1)*MIN($F168*$F$150,$F168-SUM($G168:G168)))","v":0},{"$f":"IF($C168>I$2,0,IF($C168=I$2,0.5,1)*MIN($F168*$F$150,$F168-SUM($G168:H168)))","v":0},{"$f":"IF($C168>J$2,0,IF($C168=J$2,0.5,1)*MIN($F168*$F$150,$F168-SUM($G168:I168)))","v":0},{"$f":"IF($C168>K$2,0,IF($C168=K$2,0.5,1)*MIN($F168*$F$150,$F168-SUM($G168:J168)))","v":0},{"$f":"IF($C168>L$2,0,IF($C168=L$2,0.5,1)*MIN($F168*$F$150,$F168-SUM($G168:K168)))","v":0},{"$f":"IF($C168>M$2,0,IF($C168=M$2,0.5,1)*MIN($F168*$F$150,$F168-SUM($G168:L168)))","v":0},{"$f":"IF($C168>N$2,0,IF($C168=N$2,0.5,1)*MIN($F168*$F$150,$F168-SUM($G168:M168)))","v":0},{"$f":"IF($C168>O$2,0,IF($C168=O$2,0.5,1)*MIN($F168*$F$150,$F168-SUM($G168:N168)))","v":0},{"$f":"IF($C168>P$2,0,IF($C168=P$2,0.5,1)*MIN($F168*$F$150,$F168-SUM($G168:O168)))","v":0},{"$f":"IF($C168>Q$2,0,IF($C168=Q$2,0.5,1)*MIN($F168*$F$150,$F168-SUM($G168:P168)))","v":0},{"$f":"IF($C168>R$2,0,IF($C168=R$2,0.5,1)*MIN($F168*$F$150,$F168-SUM($G168:Q168)))","v":0},{"$f":"IF($C168>S$2,0,IF($C168=S$2,0.5,1)*MIN($F168*$F$150,$F168-SUM($G168:R168)))","v":0},{"$f":"IF($C168>T$2,0,IF($C168=T$2,0.5,1)*MIN($F168*$F$150,$F168-SUM($G168:S168)))","v":0},{"$f":"IF($C168>U$2,0,IF($C168=U$2,0.5,1)*MIN($F168*$F$150,$F168-SUM($G168:T168)))","v":0},{"$f":"IF($C168>V$2,0,IF($C168=V$2,0.5,1)*MIN($F168*$F$150,$F168-SUM($G168:U168)))","v":0},{"$f":"IF($C168>W$2,0,IF($C168=W$2,0.5,1)*MIN($F168*$F$150,$F168-SUM($G168:V168)))","v":0},{"$f":"IF($C168>X$2,0,IF($C168=X$2,0.5,1)*MIN($F168*$F$150,$F168-SUM($G168:W168)))","v":0},{"$f":"IF($C168>Y$2,0,IF($C168=Y$2,0.5,1)*MIN($F168*$F$150,$F168-SUM($G168:X168)))","v":0},{"$f":"IF($C168>Z$2,0,IF($C168=Z$2,0.5,1)*MIN($F168*$F$150,$F168-SUM($G168:Y168)))","v":0},{"$f":"IF($C168>AA$2,0,IF($C168=AA$2,0.5,1)*MIN($F168*$F$150,$F168-SUM($G168:Z168)))","v":0},{"$f":"IF($C168>AB$2,0,IF($C168=AB$2,0.5,1)*MIN($F168*$F$150,$F168-SUM($G168:AA168)))","v":0}]
[null,null,2039,"тыс. руб.",17,0,null,{"$f":"IF($C169>H$2,0,IF($C169=H$2,0.5,1)*MIN($F169*$F$150,$F169-SUM($G169:G169)))","v":0},{"$f":"IF($C169>I$2,0,IF($C169=I$2,0.5,1)*MIN($F169*$F$150,$F169-SUM($G169:H169)))","v":0},{"$f":"IF($C169>J$2,0,IF($C169=J$2,0.5,1)*MIN($F169*$F$150,$F169-SUM($G169:I169)))","v":0},{"$f":"IF($C169>K$2,0,IF($C169=K$2,0.5,1)*MIN($F169*$F$150,$F169-SUM($G169:J169)))","v":0},{"$f":"IF($C169>L$2,0,IF($C169=L$2,0.5,1)*MIN($F169*$F$150,$F169-SUM($G169:K169)))","v":0},{"$f":"IF($C169>M$2,0,IF($C169=M$2,0.5,1)*MIN($F169*$F$150,$F169-SUM($G169:L169)))","v":0},{"$f":"IF($C169>N$2,0,IF($C169=N$2,0.5,1)*MIN($F169*$F$150,$F169-SUM($G169:M169)))","v":0},{"$f":"IF($C169>O$2,0,IF($C169=O$2,0.5,1)*MIN($F169*$F$150,$F169-SUM($G169:N169)))","v":0},{"$f":"IF($C169>P$2,0,IF($C169=P$2,0.5,1)*MIN($F169*$F$150,$F169-SUM($G169:O169)))","v":0},{"$f":"IF($C169>Q$2,0,IF($C169=Q$2,0.5,1)*MIN($F169*$F$150,$F169-SUM($G169:P169)))","v":0},{"$f":"IF($C169>R$2,0,IF($C169=R$2,0.5,1)*MIN($F169*$F$150,$F169-SUM($G169:Q169)))","v":0},{"$f":"IF($C169>S$2,0,IF($C169=S$2,0.5,1)*MIN($F169*$F$150,$F169-SUM($G169:R169)))","v":0},{"$f":"IF($C169>T$2,0,IF($C169=T$2,0.5,1)*MIN($F169*$F$150,$F169-SUM($G169:S169)))","v":0},{"$f":"IF($C169>U$2,0,IF($C169=U$2,0.5,1)*MIN($F169*$F$150,$F169-SUM($G169:T169)))","v":0},{"$f":"IF($C169>V$2,0,IF($C169=V$2,0.5,1)*MIN($F169*$F$150,$F169-SUM($G169:U169)))","v":0},{"$f":"IF($C169>W$2,0,IF($C169=W$2,0.5,1)*MIN($F169*$F$150,$F169-SUM($G169:V169)))","v":0},{"$f":"IF($C169>X$2,0,IF($C169=X$2,0.5,1)*MIN($F169*$F$150,$F169-SUM($G169:W169)))","v":0},{"$f":"IF($C169>Y$2,0,IF($C169=Y$2,0.5,1)*MIN($F169*$F$150,$F169-SUM($G169:X169)))","v":0},{"$f":"IF($C169>Z$2,0,IF($C169=Z$2,0.5,1)*MIN($F169*$F$150,$F169-SUM($G169:Y169)))","v":0},{"$f":"IF($C169>AA$2,0,IF($C169=AA$2,0.5,1)*MIN($F169*$F$150,$F169-SUM($G169:Z169)))","v":0},{"$f":"IF($C169>AB$2,0,IF($C169=AB$2,0.5,1)*MIN($F169*$F$150,$F169-SUM($G169:AA169)))","v":0}]
[null,null,2040,"тыс. руб.",18,0,null,{"$f":"IF($C170>H$2,0,IF($C170=H$2,0.5,1)*MIN($F170*$F$150,$F170-SUM($G170:G170)))","v":0},{"$f":"IF($C170>I$2,0,IF($C170=I$2,0.5,1)*MIN($F170*$F$150,$F170-SUM($G170:H170)))","v":0},{"$f":"IF($C170>J$2,0,IF($C170=J$2,0.5,1)*MIN($F170*$F$150,$F170-SUM($G170:I170)))","v":0},{"$f":"IF($C170>K$2,0,IF($C170=K$2,0.5,1)*MIN($F170*$F$150,$F170-SUM($G170:J170)))","v":0},{"$f":"IF($C170>L$2,0,IF($C170=L$2,0.5,1)*MIN($F170*$F$150,$F170-SUM($G170:K170)))","v":0},{"$f":"IF($C170>M$2,0,IF($C170=M$2,0.5,1)*MIN($F170*$F$150,$F170-SUM($G170:L170)))","v":0},{"$f":"IF($C170>N$2,0,IF($C170=N$2,0.5,1)*MIN($F170*$F$150,$F170-SUM($G170:M170)))","v":0},{"$f":"IF($C170>O$2,0,IF($C170=O$2,0.5,1)*MIN($F170*$F$150,$F170-SUM($G170:N170)))","v":0},{"$f":"IF($C170>P$2,0,IF($C170=P$2,0.5,1)*MIN($F170*$F$150,$F170-SUM($G170:O170)))","v":0},{"$f":"IF($C170>Q$2,0,IF($C170=Q$2,0.5,1)*MIN($F170*$F$150,$F170-SUM($G170:P170)))","v":0},{"$f":"IF($C170>R$2,0,IF($C170=R$2,0.5,1)*MIN($F170*$F$150,$F170-SUM($G170:Q170)))","v":0},{"$f":"IF($C170>S$2,0,IF($C170=S$2,0.5,1)*MIN($F170*$F$150,$F170-SUM($G170:R170)))","v":0},{"$f":"IF($C170>T$2,0,IF($C170=T$2,0.5,1)*MIN($F170*$F$150,$F170-SUM($G170:S170)))","v":0},{"$f":"IF($C170>U$2,0,IF($C170=U$2,0.5,1)*MIN($F170*$F$150,$F170-SUM($G170:T170)))","v":0},{"$f":"IF($C170>V$2,0,IF($C170=V$2,0.5,1)*MIN($F170*$F$150,$F170-SUM($G170:U170)))","v":0},{"$f":"IF($C170>W$2,0,IF($C170=W$2,0.5,1)*MIN($F170*$F$150,$F170-SUM($G170:V170)))","v":0},{"$f":"IF($C170>X$2,0,IF($C170=X$2,0.5,1)*MIN($F170*$F$150,$F170-SUM($G170:W170)))","v":0},{"$f":"IF($C170>Y$2,0,IF($C170=Y$2,0.5,1)*MIN($F170*$F$150,$F170-SUM($G170:X170)))","v":0},{"$f":"IF($C170>Z$2,0,IF($C170=Z$2,0.5,1)*MIN($F170*$F$150,$F170-SUM($G170:Y170)))","v":0},{"$f":"IF($C170>AA$2,0,IF($C170=AA$2,0.5,1)*MIN($F170*$F$150,$F170-SUM($G170:Z170)))","v":0},{"$f":"IF($C170>AB$2,0,IF($C170=AB$2,0.5,1)*MIN($F170*$F$150,$F170-SUM($G170:AA170)))","v":0}]
[null,null,2041,"тыс. руб.",19,0,null,{"$f":"IF($C171>H$2,0,IF($C171=H$2,0.5,1)*MIN($F171*$F$150,$F171-SUM($G171:G171)))","v":0},{"$f":"IF($C171>I$2,0,IF($C171=I$2,0.5,1)*MIN($F171*$F$150,$F171-SUM($G171:H171)))","v":0},{"$f":"IF($C171>J$2,0,IF($C171=J$2,0.5,1)*MIN($F171*$F$150,$F171-SUM($G171:I171)))","v":0},{"$f":"IF($C171>K$2,0,IF($C171=K$2,0.5,1)*MIN($F171*$F$150,$F171-SUM($G171:J171)))","v":0},{"$f":"IF($C171>L$2,0,IF($C171=L$2,0.5,1)*MIN($F171*$F$150,$F171-SUM($G171:K171)))","v":0},{"$f":"IF($C171>M$2,0,IF($C171=M$2,0.5,1)*MIN($F171*$F$150,$F171-SUM($G171:L171)))","v":0},{"$f":"IF($C171>N$2,0,IF($C171=N$2,0.5,1)*MIN($F171*$F$150,$F171-SUM($G171:M171)))","v":0},{"$f":"IF($C171>O$2,0,IF($C171=O$2,0.5,1)*MIN($F171*$F$150,$F171-SUM($G171:N171)))","v":0},{"$f":"IF($C171>P$2,0,IF($C171=P$2,0.5,1)*MIN($F171*$F$150,$F171-SUM($G171:O171)))","v":0},{"$f":"IF($C171>Q$2,0,IF($C171=Q$2,0.5,1)*MIN($F171*$F$150,$F171-SUM($G171:P171)))","v":0},{"$f":"IF($C171>R$2,0,IF($C171=R$2,0.5,1)*MIN($F171*$F$150,$F171-SUM($G171:Q171)))","v":0},{"$f":"IF($C171>S$2,0,IF($C171=S$2,0.5,1)*MIN($F171*$F$150,$F171-SUM($G171:R171)))","v":0},{"$f":"IF($C171>T$2,0,IF($C171=T$2,0.5,1)*MIN($F171*$F$150,$F171-SUM($G171:S171)))","v":0},{"$f":"IF($C171>U$2,0,IF($C171=U$2,0.5,1)*MIN($F171*$F$150,$F171-SUM($G171:T171)))","v":0},{"$f":"IF($C171>V$2,0,IF($C171=V$2,0.5,1)*MIN($F171*$F$150,$F171-SUM($G171:U171)))","v":0},{"$f":"IF($C171>W$2,0,IF($C171=W$2,0.5,1)*MIN($F171*$F$150,$F171-SUM($G171:V171)))","v":0},{"$f":"IF($C171>X$2,0,IF($C171=X$2,0.5,1)*MIN($F171*$F$150,$F171-SUM($G171:W171)))","v":0},{"$f":"IF($C171>Y$2,0,IF($C171=Y$2,0.5,1)*MIN($F171*$F$150,$F171-SUM($G171:X171)))","v":0},{"$f":"IF($C171>Z$2,0,IF($C171=Z$2,0.5,1)*MIN($F171*$F$150,$F171-SUM($G171:Y171)))","v":0},{"$f":"IF($C171>AA$2,0,IF($C171=AA$2,0.5,1)*MIN($F171*$F$150,$F171-SUM($G171:Z171)))","v":0},{"$f":"IF($C171>AB$2,0,IF($C171=AB$2,0.5,1)*MIN($F171*$F$150,$F171-SUM($G171:AA171)))","v":0}]
[null,null,2042,"тыс. руб.",20,0,null,{"$f":"IF($C172>H$2,0,IF($C172=H$2,0.5,1)*MIN($F172*$F$150,$F172-SUM($G172:G172)))","v":0},{"$f":"IF($C172>I$2,0,IF($C172=I$2,0.5,1)*MIN($F172*$F$150,$F172-SUM($G172:H172)))","v":0},{"$f":"IF($C172>J$2,0,IF($C172=J$2,0.5,1)*MIN($F172*$F$150,$F172-SUM($G172:I172)))","v":0},{"$f":"IF($C172>K$2,0,IF($C172=K$2,0.5,1)*MIN($F172*$F$150,$F172-SUM($G172:J172)))","v":0},{"$f":"IF($C172>L$2,0,IF($C172=L$2,0.5,1)*MIN($F172*$F$150,$F172-SUM($G172:K172)))","v":0},{"$f":"IF($C172>M$2,0,IF($C172=M$2,0.5,1)*MIN($F172*$F$150,$F172-SUM($G172:L172)))","v":0},{"$f":"IF($C172>N$2,0,IF($C172=N$2,0.5,1)*MIN($F172*$F$150,$F172-SUM($G172:M172)))","v":0},{"$f":"IF($C172>O$2,0,IF($C172=O$2,0.5,1)*MIN($F172*$F$150,$F172-SUM($G172:N172)))","v":0},{"$f":"IF($C172>P$2,0,IF($C172=P$2,0.5,1)*MIN($F172*$F$150,$F172-SUM($G172:O172)))","v":0},{"$f":"IF($C172>Q$2,0,IF($C172=Q$2,0.5,1)*MIN($F172*$F$150,$F172-SUM($G172:P172)))","v":0},{"$f":"IF($C172>R$2,0,IF($C172=R$2,0.5,1)*MIN($F172*$F$150,$F172-SUM($G172:Q172)))","v":0},{"$f":"IF($C172>S$2,0,IF($C172=S$2,0.5,1)*MIN($F172*$F$150,$F172-SUM($G172:R172)))","v":0},{"$f":"IF($C172>T$2,0,IF($C172=T$2,0.5,1)*MIN($F172*$F$150,$F172-SUM($G172:S172)))","v":0},{"$f":"IF($C172>U$2,0,IF($C172=U$2,0.5,1)*MIN($F172*$F$150,$F172-SUM($G172:T172)))","v":0},{"$f":"IF($C172>V$2,0,IF($C172=V$2,0.5,1)*MIN($F172*$F$150,$F172-SUM($G172:U172)))","v":0},{"$f":"IF($C172>W$2,0,IF($C172=W$2,0.5,1)*MIN($F172*$F$150,$F172-SUM($G172:V172)))","v":0},{"$f":"IF($C172>X$2,0,IF($C172=X$2,0.5,1)*MIN($F172*$F$150,$F172-SUM($G172:W172)))","v":0},{"$f":"IF($C172>Y$2,0,IF($C172=Y$2,0.5,1)*MIN($F172*$F$150,$F172-SUM($G172:X172)))","v":0},{"$f":"IF($C172>Z$2,0,IF($C172=Z$2,0.5,1)*MIN($F172*$F$150,$F172-SUM($G172:Y172)))","v":0},{"$f":"IF($C172>AA$2,0,IF($C172=AA$2,0.5,1)*MIN($F172*$F$150,$F172-SUM($G172:Z172)))","v":0},{"$f":"IF($C172>AB$2,0,IF($C172=AB$2,0.5,1)*MIN($F172*$F$150,$F172-SUM($G172:AA172)))","v":0}]
[]
[null,null,"Первоначальная стоимость активов","тыс. руб.",null,null,null,{"$f":"G174+H41","v":0},0,0,0,0,0,0,0,0,0,0,0,0,0,0,0,0,0,0,0,0]
[null,null,"Амортизация за период","тыс. руб.",null,null,null,{"$f":"H152","v":0},0,0,0,0,0,0,0,0,0,0,0,0,0,0,0,0,0,0,0,0]
[null,null,"Накопленная амортизация","тыс. руб.",null,null,null,{"$f":"G176+H175","v":0},{"$f":"H176+I175","v":0},{"$f":"I176+J175","v":0},{"$f":"J176+K175","v":0},{"$f":"K176+L175","v":0},{"$f":"L176+M175","v":0},{"$f":"M176+N175","v":0},{"$f":"N176+O175","v":0},{"$f":"O176+P175","v":0},{"$f":"P176+Q175","v":0},{"$f":"Q176+R175","v":0},{"$f":"R176+S175","v":0},{"$f":"S176+T175","v":0},{"$f":"T176+U175","v":0},{"$f":"U176+V175","v":0},{"$f":"V176+W175","v":0},{"$f":"W176+X175","v":0},{"$f":"X176+Y175","v":0},{"$f":"Y176+Z175","v":0},{"$f":"Z176+AA175","v":0},{"$f":"AA176+AB175","v":0}]
[null,null,"Остаточная стоимость активов","тыс. руб.",null,null,null,{"$f":"H174-H176","v":0},{"$f":"I174-I176","v":0},0,0,0,0,0,0,0,0,0,0,0,0,0,0,0,0,0,0,0]

{"sheet":"Выручка и себестоимость","index":6,"n_rows":45,"n_cols":28,"rows_kept":45,"cut":false,"hidden":false,"merged":[[1,2,2,2],[1,3,2,3],[1,4,2,4],[1,5,2,5]]}
[null,null,null,null,{"$f":"\"Лист:  \" & RIGHT(CELL(\"filename\",A1),LEN(CELL(\"filename\",A1))-SEARCH(\"]\",CELL(\"filename\",A1)))","v":"Лист:  Выручка и себестоимость"}]
[null,null,"Параметр","Ед. изм.","Источник","Текущее значение",null,{"$f":"Предпосылки!H2","v":2023},{"$f":"Предпосылки!I2","v":2024},{"$f":"Предпосылки!J2","v":2025},{"$f":"Предпосылки!K2","v":2026},{"$f":"Предпосылки!L2","v":2027},{"$f":"Предпосылки!M2","v":2028},{"$f":"Предпосылки!N2","v":2029},{"$f":"Предпосылки!O2","v":2030},{"$f":"Предпосылки!P2","v":2031},{"$f":"Предпосылки!Q2","v":2032},{"$f":"Предпосылки!R2","v":2033},{"$f":"Предпосылки!S2","v":2034},{"$f":"Предпосылки!T2","v":2035},{"$f":"Предпосылки!U2","v":2036},{"$f":"Предпосылки!V2","v":2037},{"$f":"Предпосылки!W2","v":2038},{"$f":"Предпосылки!X2","v":2039},{"$f":"Предпосылки!Y2","v":2040},{"$f":"Предпосылки!Z2","v":2041},{"$f":"Предпосылки!AA2","v":2042},{"$f":"Предпосылки!AB2","v":2043}]
[null,null,null,null,null,null,null,1,2,3,4,5,6,7,8,9,10,11,12,13,14,15,16,17,18,19,20,21]
[]
[null,"Выручка от продаж, без НДС"]
[]
[null,null,"Продукция 1","тыс. руб.",null,null,null,{"$f":"Предпосылки!H36*Предпосылки!H48","v":0},{"$f":"Предпосылки!I36*Предпосылки!I48","v":0},{"$f":"Предпосылки!J36*Предпосылки!J48","v":0},{"$f":"Предпосылки!K36*Предпосылки!K48","v":0},{"$f":"Предпосылки!L36*Предпосылки!L48","v":0},{"$f":"Предпосылки!M36*Предпосылки!M48","v":0},{"$f":"Предпосылки!N36*Предпосылки!N48","v":0},{"$f":"Предпосылки!O36*Предпосылки!O48","v":0},{"$f":"Предпосылки!P36*Предпосылки!P48","v":0},{"$f":"Предпосылки!Q36*Предпосылки!Q48","v":0},{"$f":"Предпосылки!R36*Предпосылки!R48","v":0},{"$f":"Предпосылки!S36*Предпосылки!S48","v":0},{"$f":"Предпосылки!T36*Предпосылки!T48","v":0},{"$f":"Предпосылки!U36*Предпосылки!U48","v":0},{"$f":"Предпосылки!V36*Предпосылки!V48","v":0},{"$f":"Предпосылки!W36*Предпосылки!W48","v":0},{"$f":"Предпосылки!X36*Предпосылки!X48","v":0},{"$f":"Предпосылки!Y36*Предпосылки!Y48","v":0},{"$f":"Предпосылки!Z36*Предпосылки!Z48","v":0},{"$f":"Предпосылки!AA36*Предпосылки!AA48","v":0},{"$f":"Предпосылки!AB36*Предпосылки!AB48","v":0}]
[null,null,"Продукция 2","тыс. руб.",null,null,null,{"$f":"Предпосылки!H37*Предпосылки!H49","v":0},{"$f":"Предпосылки!I37*Предпосылки!I49","v":0},{"$f":"Предпосылки!J37*Предпосылки!J49","v":0},{"$f":"Предпосылки!K37*Предпосылки!K49","v":0},{"$f":"Предпосылки!L37*Предпосылки!L49","v":0},{"$f":"Предпосылки!M37*Предпосылки!M49","v":0},{"$f":"Предпосылки!N37*Предпосылки!N49","v":0},{"$f":"Предпосылки!O37*Предпосылки!O49","v":0},{"$f":"Предпосылки!P37*Предпосылки!P49","v":0},{"$f":"Предпосылки!Q37*Предпосылки!Q49","v":0},{"$f":"Предпосылки!R37*Предпосылки!R49","v":0},{"$f":"Предпосылки!S37*Предпосылки!S49","v":0},{"$f":"Предпосылки!T37*Предпосылки!T49","v":0},{"$f":"Предпосылки!U37*Предпосылки!U49","v":0},{"$f":"Предпосылки!V37*Предпосылки!V49","v":0},{"$f":"Предпосылки!W37*Предпосылки!W49","v":0},{"$f":"Предпосылки!X37*Предпосылки!X49","v":0},{"$f":"Предпосылки!Y37*Предпосылки!Y49","v":0},{"$f":"Предпосылки!Z37*Предпосылки!Z49","v":0},{"$f":"Предпосылки!AA37*Предпосылки!AA49","v":0},{"$f":"Предпосылки!AB37*Предпосылки!AB49","v":0}]
[null,null,"…"]
[null,null,"Итого","тыс. руб.",null,null,null,{"$f":"SUM(H7:H8)","v":0},{"$f":"SUM(I7:I8)","v":0},0,0,0,0,0,0,0,0,0,0,0,0,0,0,0,0,0,0,0]
[]
[null,null,"Темп прироста по продукции 1 ","%",null,null,null,{"$f":"IFERROR((H7-G7)/G7,\"-\")","v":"-"},{"$f":"IFERROR((I7-H7)/H7,\"-\")","v":"-"},"-","-","-","-","-","-","-","-","-","-","-","-","-",{"$f":"IFERROR((W7-V7)/V7,\"-\")","v":"-"},"-","-","-","-","-"]
[null,null,"Темп прироста по продукции 2","%",null,null,null,{"$f":"IFERROR((H8-G8)/G8,\"-\")","v":"-"},{"$f":"IFERROR((I8-H8)/H8,\"-\")","v":"-"},"-","-","-","-","-","-","-","-","-","-","-","-","-","-","-","-","-","-","-"]
[null,null,"…"]
[null,null,"Темп прироста общей выручки","%",null,null,null,{"$f":"IFERROR((H10-G10)/G10,\"-\")","v":"-"},{"$f":"IFERROR((I10-H10)/H10,\"-\")","v":"-"},"-","-","-","-","-","-","-","-","-","-","-","-","-",{"$f":"IFERROR((W10-V10)/V10,\"-\")","v":"-"},"-","-","-","-","-"]
[]
[null,"Исходящий НДС"]
[]
[null,null,"Продукция 1","тыс. руб.",null,null,null,{"$f":"H7*НДС_общая","v":0},0,0,0,0,0,0,0,0,0,0,0,0,0,0,0,0,0,0,0,0]
[null,null,"Продукция 2","тыс. руб.",null,null,null,{"$f":"H8*НДС_общая","v":0},0,0,0,0,0,0,0,0,0,0,0,0,0,0,0,0,0,0,0,0]
[null,null,"…"]
[null,null,"Итого","тыс. руб.",null,null,null,{"$f":"SUM(H19:H20)","v":0},{"$f":"SUM(I19:I20)","v":0},0,0,0,0,0,0,0,0,0,0,0,0,0,0,0,0,0,0,0]
[]
[null,"Выручка от продаж, с НДС"]
[]
[null,null,"Продукция 1","тыс. руб.",null,null,null,{"$f":"H7+H19","v":0},{"$f":"I7+I19","v":0},0,0,0,0,0,0,0,0,0,0,0,0,0,0,0,0,0,0,0]
[null,null,"Продукция 2","тыс. руб.",null,null,null,{"$f":"H8+H20","v":0},{"$f":"I8+I20","v":0},0,0,0,0,0,0,0,0,0,0,0,0,0,0,0,0,0,0,0]
[null,null,"…"]
[null,null,"Итого","тыс. руб.",null,null,null,{"$f":"SUM(H26:H27)","v":0},{"$f":"SUM(I26:I27)","v":0},0,0,0,0,0,0,0,0,0,0,0,0,0,0,0,0,0,0,0]
[]
[null,"Себестоимость продаж"]
[]
[null,"Себестоимость продаж в случае применения льготного тарифа страховых взносов с ФОТ для участников СПИК 1.0, являющихся участниками промышленных кластеров"]
[null,null,"Прямые затраты на производство продукции","тыс. руб.","Лист: Операционные затраты",null,null,{"$f":"'Операционные затраты'!H11+'Операционные затраты'!H17","v":0},{"$f":"'Операционные затраты'!I11+'Операционные затраты'!I17","v":0},{"$f":"'Операционные затраты'!J11+'Операционные затраты'!J17","v":0},{"$f":"'Операционные затраты'!K11+'Операционные затраты'!K17","v":0},{"$f":"'Операционные затраты'!L11+'Операционные затраты'!L17","v":0},{"$f":"'Операционные затраты'!M11+'Операционные затраты'!M17","v":0},{"$f":"'Операционные затраты'!N11+'Операционные затраты'!N17","v":0},{"$f":"'Операционные затраты'!O11+'Операционные затраты'!O17","v":0},{"$f":"'Операционные затраты'!P11+'Операционные затраты'!P17","v":0},{"$f":"'Операционные затраты'!Q11+'Операционные затраты'!Q17","v":0},{"$f":"'Операционные затраты'!R11+'Операционные затраты'!R17","v":0},{"$f":"'Операционные затраты'!S11+'Операционные затраты'!S17","v":0},{"$f":"'Операционные затраты'!T11+'Операционные затраты'!T17","v":0},{"$f":"'Операционные затраты'!U11+'Операционные затраты'!U17","v":0},{"$f":"'Операционные затраты'!V11+'Операционные затраты'!V17","v":0},{"$f":"'Операционные затраты'!W11+'Операционные затраты'!W17","v":0},{"$f":"'Операционные затраты'!X11+'Операционные затраты'!X17","v":0},{"$f":"'Операционные затраты'!Y11+'Операционные затраты'!Y17","v":0},{"$f":"'Операционные затраты'!Z11+'Операционные затраты'!Z17","v":0},{"$f":"'Операционные затраты'!AA11+'Операционные затраты'!AA17","v":0},{"$f":"'Операционные затраты'!AB11+'Операционные затраты'!AB17","v":0}]
[null,null,"Общехозяйственные (производственные) расходы","тыс. руб.","Лист: Операционные затраты",null,null,{"$f":"'Операционные затраты'!H25","v":0},{"$f":"'Операционные затраты'!I25","v":0},{"$f":"'Операционные затраты'!J25","v":0},{"$f":"'Операционные затраты'!K25","v":0},{"$f":"'Операционные затраты'!L25","v":0},{"$f":"'Операционные затраты'!M25","v":0},{"$f":"'Операционные затраты'!N25","v":0},{"$f":"'Операционные затраты'!O25","v":0},{"$f":"'Операционные затраты'!P25","v":0},{"$f":"'Операционные затраты'!Q25","v":0},{"$f":"'Операционные затраты'!R25","v":0},{"$f":"'Операционные затраты'!S25","v":0},{"$f":"'Операционные затраты'!T25","v":0},{"$f":"'Операционные затраты'!U25","v":0},{"$f":"'Операционные затраты'!V25","v":0},{"$f":"'Операционные затраты'!W25","v":0},{"$f":"'Операционные затраты'!X25","v":0},{"$f":"'Операционные затраты'!Y25","v":0},{"$f":"'Операционные затраты'!Z25","v":0},{"$f":"'Операционные затраты'!AA25","v":0},{"$f":"'Операционные затраты'!AB25","v":0}]
[null,null,"Расходы на ОТ производственного и вспомогательного персонала","тыс. руб.","Лист: Операционные затраты",null,null,{"$f":"SUM('Операционные затраты'!H105:H106)","v":0},{"$f":"SUM('Операционные затраты'!I105:I106)","v":0},{"$f":"SUM('Операционные затраты'!J105:J106)","v":0},{"$f":"SUM('Операционные затраты'!K105:K106)","v":0},{"$f":"SUM('Операционные затраты'!L105:L106)","v":0},{"$f":"SUM('Операционные затраты'!M105:M106)","v":0},{"$f":"SUM('Операционные затраты'!N105:N106)","v":0},{"$f":"SUM('Операционные затраты'!O105:O106)","v":0},{"$f":"SUM('Операционные затраты'!P105:P106)","v":0},{"$f":"SUM('Операционные затраты'!Q105:Q106)","v":0},{"$f":"SUM('Операционные затраты'!R105:R106)","v":0},{"$f":"SUM('Операционные затраты'!S105:S106)","v":0},{"$f":"SUM('Операционные затраты'!T105:T106)","v":0},{"$f":"SUM('Операционные затраты'!U105:U106)","v":0},{"$f":"SUM('Операционные затраты'!V105:V106)","v":0},{"$f":"SUM('Операционные затраты'!W105:W106)","v":0},{"$f":"SUM('Операционные затраты'!X105:X106)","v":0},{"$f":"SUM('Операционные затраты'!Y105:Y106)","v":0},{"$f":"SUM('Операционные затраты'!Z105:Z106)","v":0},{"$f":"SUM('Операционные затраты'!AA105:AA106)","v":0},{"$f":"SUM('Операционные затраты'!AB105:AB106)","v":0}]
[null,null,"Амортизация производственных активов","тыс. руб.","Лист: Капитальные вложения",null,null,{"$f":"'Капитальные вложения'!H52","v":0},{"$f":"'Капитальные вложения'!I52","v":0},{"$f":"'Капитальные вложения'!J52","v":0},{"$f":"'Капитальные вложения'!K52","v":0},{"$f":"'Капитальные вложения'!L52","v":0},{"$f":"'Капитальные вложения'!M52","v":0},{"$f":"'Капитальные вложения'!N52","v":0},{"$f":"'Капитальные вложения'!O52","v":0},{"$f":"'Капитальные вложения'!P52","v":0},{"$f":"'Капитальные вложения'!Q52","v":0},{"$f":"'Капитальные вложения'!R52","v":0},{"$f":"'Капитальные вложения'!S52","v":0},{"$f":"'Капитальные вложения'!T52","v":0},{"$f":"'Капитальные вложения'!U52","v":0},{"$f":"'Капитальные вложения'!V52","v":0},{"$f":"'Капитальные вложения'!W52","v":0},{"$f":"'Капитальные вложения'!X52","v":0},{"$f":"'Капитальные вложения'!Y52","v":0},{"$f":"'Капитальные вложения'!Z52","v":0},{"$f":"'Капитальные вложения'!AA52","v":0},{"$f":"'Капитальные вложения'!AB52","v":0}]
[null,null,"Итого","тыс. руб.",null,null,null,{"$f":"SUM(H34:H37)","v":0},{"$f":"SUM(I34:I37)","v":0},0,0,0,0,0,0,0,0,0,0,0,0,0,0,0,0,0,0,0]
[]
[null,"Себестоимость продаж в иных случаях"]
[null,null,"Прямые затраты на производство продукции","тыс. руб.","Лист: Операционные затраты",null,null,{"$f":"'Операционные затраты'!H11+'Операционные затраты'!H17","v":0},{"$f":"'Операционные затраты'!I11+'Операционные затраты'!I17","v":0},{"$f":"'Операционные затраты'!J11+'Операционные затраты'!J17","v":0},{"$f":"'Операционные затраты'!K11+'Операционные затраты'!K17","v":0},{"$f":"'Операционные затраты'!L11+'Операционные затраты'!L17","v":0},{"$f":"'Операционные затраты'!M11+'Операционные затраты'!M17","v":0},{"$f":"'Операционные затраты'!N11+'Операционные затраты'!N17","v":0},{"$f":"'Операционные затраты'!O11+'Операционные затраты'!O17","v":0},{"$f":"'Операционные затраты'!P11+'Операционные затраты'!P17","v":0},{"$f":"'Операционные затраты'!Q11+'Операционные затраты'!Q17","v":0},{"$f":"'Операционные затраты'!R11+'Операционные затраты'!R17","v":0},{"$f":"'Операционные затраты'!S11+'Операционные затраты'!S17","v":0},{"$f":"'Операционные затраты'!T11+'Операционные затраты'!T17","v":0},{"$f":"'Операционные затраты'!U11+'Операционные затраты'!U17","v":0},{"$f":"'Операционные затраты'!V11+'Операционные затраты'!V17","v":0},{"$f":"'Операционные затраты'!W11+'Операционные затраты'!W17","v":0},{"$f":"'Операционные затраты'!X11+'Операционные затраты'!X17","v":0},{"$f":"'Операционные затраты'!Y11+'Операционные затраты'!Y17","v":0},{"$f":"'Операционные затраты'!Z11+'Операционные затраты'!Z17","v":0},{"$f":"'Операционные затраты'!AA11+'Операционные затраты'!AA17","v":0},{"$f":"'Операционные затраты'!AB11+'Операционные затраты'!AB17","v":0}]
[null,null,"Общехозяйственные (производственные) расходы","тыс. руб.","Лист: Операционные затраты",null,null,{"$f":"'Операционные затраты'!H25","v":0},{"$f":"'Операционные затраты'!I25","v":0},{"$f":"'Операционные затраты'!J25","v":0},{"$f":"'Операционные затраты'!K25","v":0},{"$f":"'Операционные затраты'!L25","v":0},{"$f":"'Операционные затраты'!M25","v":0},{"$f":"'Операционные затраты'!N25","v":0},{"$f":"'Операционные затраты'!O25","v":0},{"$f":"'Операционные затраты'!P25","v":0},{"$f":"'Операционные затраты'!Q25","v":0},{"$f":"'Операционные затраты'!R25","v":0},{"$f":"'Операционные затраты'!S25","v":0},{"$f":"'Операционные затраты'!T25","v":0},{"$f":"'Операционные затраты'!U25","v":0},{"$f":"'Операционные затраты'!V25","v":0},{"$f":"'Операционные затраты'!W25","v":0},{"$f":"'Операционные затраты'!X25","v":0},{"$f":"'Операционные затраты'!Y25","v":0},{"$f":"'Операционные затраты'!Z25","v":0},{"$f":"'Операционные затраты'!AA25","v":0},{"$f":"'Операционные затраты'!AB25","v":0}]
[null,null,"Расходы на ОТ производственного и вспомогательного персонала","тыс. руб.","Лист: Операционные затраты",null,null,{"$f":"SUM('Операционные затраты'!H147:H148)","v":0},{"$f":"SUM('Операционные затраты'!I147:I148)","v":0},{"$f":"SUM('Операционные затраты'!J147:J148)","v":0},{"$f":"SUM('Операционные затраты'!K147:K148)","v":0},{"$f":"SUM('Операционные затраты'!L147:L148)","v":0},{"$f":"SUM('Операционные затраты'!M147:M148)","v":0},{"$f":"SUM('Операционные затраты'!N147:N148)","v":0},{"$f":"SUM('Операционные затраты'!O147:O148)","v":0},{"$f":"SUM('Операционные затраты'!P147:P148)","v":0},{"$f":"SUM('Операционные затраты'!Q147:Q148)","v":0},{"$f":"SUM('Операционные затраты'!R147:R148)","v":0},{"$f":"SUM('Операционные затраты'!S147:S148)","v":0},{"$f":"SUM('Операционные затраты'!T147:T148)","v":0},{"$f":"SUM('Операционные затраты'!U147:U148)","v":0},{"$f":"SUM('Операционные затраты'!V147:V148)","v":0},{"$f":"SUM('Операционные затраты'!W147:W148)","v":0},{"$f":"SUM('Операционные затраты'!X147:X148)","v":0},{"$f":"SUM('Операционные затраты'!Y147:Y148)","v":0},{"$f":"SUM('Операционные затраты'!Z147:Z148)","v":0},{"$f":"SUM('Операционные затраты'!AA147:AA148)","v":0},{"$f":"SUM('Операционные затраты'!AB147:AB148)","v":0}]
[null,null,"Амортизация производственных активов","тыс. руб.","Лист: Капитальные вложения",null,null,{"$f":"'Капитальные вложения'!H52","v":0},{"$f":"'Капитальные вложения'!I52","v":0},{"$f":"'Капитальные вложения'!J52","v":0},{"$f":"'Капитальные вложения'!K52","v":0},{"$f":"'Капитальные вложения'!L52","v":0},{"$f":"'Капитальные вложения'!M52","v":0},{"$f":"'Капитальные вложения'!N52","v":0},{"$f":"'Капитальные вложения'!O52","v":0},{"$f":"'Капитальные вложения'!P52","v":0},{"$f":"'Капитальные вложения'!Q52","v":0},{"$f":"'Капитальные вложения'!R52","v":0},{"$f":"'Капитальные вложения'!S52","v":0},{"$f":"'Капитальные вложения'!T52","v":0},{"$f":"'Капитальные вложения'!U52","v":0},{"$f":"'Капитальные вложения'!V52","v":0},{"$f":"'Капитальные вложения'!W52","v":0},{"$f":"'Капитальные вложения'!X52","v":0},{"$f":"'Капитальные вложения'!Y52","v":0},{"$f":"'Капитальные вложения'!Z52","v":0},{"$f":"'Капитальные вложения'!AA52","v":0},{"$f":"'Капитальные вложения'!AB52","v":0}]
[null,null,"Итого","тыс. руб.",null,null,null,{"$f":"SUM(H41:H44)","v":0},{"$f":"SUM(I41:I44)","v":0},0,0,0,0,0,0,0,0,0,0,0,0,0,0,0,0,0,0,0]

{"sheet":"Операционные затраты","index":7,"n_rows":193,"n_cols":28,"rows_kept":193,"cut":false,"hidden":false,"merged":[[1,2,2,2],[1,3,2,3],[1,5,2,5],[1,4,2,4]]}
[null,null,null,null,{"$f":"\"Лист:  \" & RIGHT(CELL(\"filename\",A1),LEN(CELL(\"filename\",A1))-SEARCH(\"]\",CELL(\"filename\",A1)))","v":"Лист:  Операционные затраты"}]
[null,null,"Параметр","Ед. изм.","Источник","Текущее значение",null,{"$f":"Предпосылки!H2","v":2023},{"$f":"Предпосылки!I2","v":2024},{"$f":"Предпосылки!J2","v":2025},{"$f":"Предпосылки!K2","v":2026},{"$f":"Предпосылки!L2","v":2027},{"$f":"Предпосылки!M2","v":2028},{"$f":"Предпосылки!N2","v":2029},{"$f":"Предпосылки!O2","v":2030},{"$f":"Предпосылки!P2","v":2031},{"$f":"Предпосылки!Q2","v":2032},{"$f":"Предпосылки!R2","v":2033},{"$f":"Предпосылки!S2","v":2034},{"$f":"Предпосылки!T2","v":2035},{"$f":"Предпосылки!U2","v":2036},{"$f":"Предпосылки!V2","v":2037},{"$f":"Предпосылки!W2","v":2038},{"$f":"Предпосылки!X2","v":2039},{"$f":"Предпосылки!Y2","v":2040},{"$f":"Предпосылки!Z2","v":2041},{"$f":"Предпосылки!AA2","v":2042},{"$f":"Предпосылки!AB2","v":2043}]
[null,null,null,null,null,null,null,1,2,3,4,5,6,7,8,9,10,11,12,13,14,15,16,17,18,19,20,21]
[]
[null,"Прямые расходы на производство продукции (без НДС)"]
[]
[null,"Продукция 1 "]
[null,null,"Сырье/материалы 1","тыс. руб.",null,null,null,{"$f":"Предпосылки!H$42*Предпосылки!H75*Предпосылки!H87","v":0},{"$f":"Предпосылки!I$42*Предпосылки!I75*Предпосылки!I87","v":0},{"$f":"Предпосылки!J$42*Предпосылки!J75*Предпосылки!J87","v":0},{"$f":"Предпосылки!K$42*Предпосылки!K75*Предпосылки!K87","v":0},{"$f":"Предпосылки!L$42*Предпосылки!L75*Предпосылки!L87","v":0},{"$f":"Предпосылки!M$42*Предпосылки!M75*Предпосылки!M87","v":0},{"$f":"Предпосылки!N$42*Предпосылки!N75*Предпосылки!N87","v":0},{"$f":"Предпосылки!O$42*Предпосылки!O75*Предпосылки!O87","v":0},{"$f":"Предпосылки!P$42*Предпосылки!P75*Предпосылки!P87","v":0},{"$f":"Предпосылки!Q$42*Предпосылки!Q75*Предпосылки!Q87","v":0},{"$f":"Предпосылки!R$42*Предпосылки!R75*Предпосылки!R87","v":0},{"$f":"Предпосылки!S$42*Предпосылки!S75*Предпосылки!S87","v":0},{"$f":"Предпосылки!T$42*Предпосылки!T75*Предпосылки!T87","v":0},{"$f":"Предпосылки!U$42*Предпосылки!U75*Предпосылки!U87","v":0},{"$f":"Предпосылки!V$42*Предпосылки!V75*Предпосылки!V87","v":0},{"$f":"Предпосылки!W$42*Предпосылки!W75*Предпосылки!W87","v":0},{"$f":"Предпосылки!X$42*Предпосылки!X75*Предпосылки!X87","v":0},{"$f":"Предпосылки!Y$42*Предпосылки!Y75*Предпосылки!Y87","v":0},{"$f":"Предпосылки!Z$42*Предпосылки!Z75*Предпосылки!Z87","v":0},{"$f":"Предпосылки!AA$42*Предпосылки!AA75*Предпосылки!AA87","v":0},{"$f":"Предпосылки!AB$42*Предпосылки!AB75*Предпосылки!AB87","v":0}]
[null,null,"Сырье/материалы 2","тыс. руб.",null,null,null,{"$f":"Предпосылки!H$42*Предпосылки!H76*Предпосылки!H88","v":0},{"$f":"Предпосылки!I$42*Предпосылки!I76*Предпосылки!I88","v":0},{"$f":"Предпосылки!J$42*Предпосылки!J76*Предпосылки!J88","v":0},{"$f":"Предпосылки!K$42*Предпосылки!K76*Предпосылки!K88","v":0},{"$f":"Предпосылки!L$42*Предпосылки!L76*Предпосылки!L88","v":0},{"$f":"Предпосылки!M$42*Предпосылки!M76*Предпосылки!M88","v":0},{"$f":"Предпосылки!N$42*Предпосылки!N76*Предпосылки!N88","v":0},{"$f":"Предпосылки!O$42*Предпосылки!O76*Предпосылки!O88","v":0},{"$f":"Предпосылки!P$42*Предпосылки!P76*Предпосылки!P88","v":0},{"$f":"Предпосылки!Q$42*Предпосылки!Q76*Предпосылки!Q88","v":0},{"$f":"Предпосылки!R$42*Предпосылки!R76*Предпосылки!R88","v":0},{"$f":"Предпосылки!S$42*Предпосылки!S76*Предпосылки!S88","v":0},{"$f":"Предпосылки!T$42*Предпосылки!T76*Предпосылки!T88","v":0},{"$f":"Предпосылки!U$42*Предпосылки!U76*Предпосылки!U88","v":0},{"$f":"Предпосылки!V$42*Предпосылки!V76*Предпосылки!V88","v":0},{"$f":"Предпосылки!W$42*Предпосылки!W76*Предпосылки!W88","v":0},{"$f":"Предпосылки!X$42*Предпосылки!X76*Предпосылки!X88","v":0},{"$f":"Предпосылки!Y$42*Предпосылки!Y76*Предпосылки!Y88","v":0},{"$f":"Предпосылки!Z$42*Предпосылки!Z76*Предпосылки!Z88","v":0},{"$f":"Предпосылки!AA$42*Предпосылки!AA76*Предпосылки!AA88","v":0},{"$f":"Предпосылки!AB$42*Предпосылки!AB76*Предпосылки!AB88","v":0}]
[null,null,"…"]
[null,null,"Итого"," тыс. руб.",null,null,null,{"$f":"SUM(H8:H10)","v":0},0,0,0,0,0,0,0,0,0,0,0,0,0,0,0,0,0,0,0,0]
[]
[null,"Продукция 2"]
[null,null,"Сырье/материалы 1","тыс. руб.",null,null,null,{"$f":"Предпосылки!H$43*Предпосылки!H80*Предпосылки!H92","v":0},{"$f":"Предпосылки!I$43*Предпосылки!I80*Предпосылки!I92","v":0},{"$f":"Предпосылки!J$43*Предпосылки!J80*Предпосылки!J92","v":0},{"$f":"Предпосылки!K$43*Предпосылки!K80*Предпосылки!K92","v":0},{"$f":"Предпосылки!L$43*Предпосылки!L80*Предпосылки!L92","v":0},{"$f":"Предпосылки!M$43*Предпосылки!M80*Предпосылки!M92","v":0},{"$f":"Предпосылки!N$43*Предпосылки!N80*Предпосылки!N92","v":0},{"$f":"Предпосылки!O$43*Предпосылки!O80*Предпосылки!O92","v":0},{"$f":"Предпосылки!P$43*Предпосылки!P80*Предпосылки!P92","v":0},{"$f":"Предпосылки!Q$43*Предпосылки!Q80*Предпосылки!Q92","v":0},{"$f":"Предпосылки!R$43*Предпосылки!R80*Предпосылки!R92","v":0},{"$f":"Предпосылки!S$43*Предпосылки!S80*Предпосылки!S92","v":0},{"$f":"Предпосылки!T$43*Предпосылки!T80*Предпосылки!T92","v":0},{"$f":"Предпосылки!U$43*Предпосылки!U80*Предпосылки!U92","v":0},{"$f":"Предпосылки!V$43*Предпосылки!V80*Предпосылки!V92","v":0},{"$f":"Предпосылки!W$43*Предпосылки!W80*Предпосылки!W92","v":0},{"$f":"Предпосылки!X$43*Предпосылки!X80*Предпосылки!X92","v":0},{"$f":"Предпосылки!Y$43*Предпосылки!Y80*Предпосылки!Y92","v":0},{"$f":"Предпосылки!Z$43*Предпосылки!Z80*Предпосылки!Z92","v":0},{"$f":"Предпосылки!AA$43*Предпосылки!AA80*Предпосылки!AA92","v":0},{"$f":"Предпосылки!AB$43*Предпосылки!AB80*Предпосылки!AB92","v":0}]
[null,null,"Сырье/материалы 3","тыс. руб.",null,null,null,{"$f":"Предпосылки!H$43*Предпосылки!H81*Предпосылки!H93","v":0},{"$f":"Предпосылки!I$43*Предпосылки!I81*Предпосылки!I93","v":0},{"$f":"Предпосылки!J$43*Предпосылки!J81*Предпосылки!J93","v":0},{"$f":"Предпосылки!K$43*Предпосылки!K81*Предпосылки!K93","v":0},{"$f":"Предпосылки!L$43*Предпосылки!L81*Предпосылки!L93","v":0},{"$f":"Предпосылки!M$43*Предпосылки!M81*Предпосылки!M93","v":0},{"$f":"Предпосылки!N$43*Предпосылки!N81*Предпосылки!N93","v":0},{"$f":"Предпосылки!O$43*Предпосылки!O81*Предпосылки!O93","v":0},{"$f":"Предпосылки!P$43*Предпосылки!P81*Предпосылки!P93","v":0},{"$f":"Предпосылки!Q$43*Предпосылки!Q81*Предпосылки!Q93","v":0},{"$f":"Предпосылки!R$43*Предпосылки!R81*Предпосылки!R93","v":0},{"$f":"Предпосылки!S$43*Предпосылки!S81*Предпосылки!S93","v":0},{"$f":"Предпосылки!T$43*Предпосылки!T81*Предпосылки!T93","v":0},{"$f":"Предпосылки!U$43*Предпосылки!U81*Предпосылки!U93","v":0},{"$f":"Предпосылки!V$43*Предпосылки!V81*Предпосылки!V93","v":0},{"$f":"Предпосылки!W$43*Предпосылки!W81*Предпосылки!W93","v":0},{"$f":"Предпосылки!X$43*Предпосылки!X81*Предпосылки!X93","v":0},{"$f":"Предпосылки!Y$43*Предпосылки!Y81*Предпосылки!Y93","v":0},{"$f":"Предпосылки!Z$43*Предпосылки!Z81*Предпосылки!Z93","v":0},{"$f":"Предпосылки!AA$43*Предпосылки!AA81*Предпосылки!AA93","v":0},{"$f":"Предпосылки!AB$43*Предпосылки!AB81*Предпосылки!AB93","v":0}]
[null,null,"…"]
[null,null,"Итого"," тыс. руб.",null,null,null,{"$f":"SUM(H14:H16)","v":0},0,0,0,0,0,0,0,0,0,0,0,0,0,0,0,0,0,0,0,0]
[]
[null,"Общехозяйственные расходы (без НДС)"]
[]
[null,"Общепроизводственные расходы "]
[null,null,"Статья расходов 1","тыс. руб."]
[null,null,"Статья расходов 2","тыс. руб."]
[null,null,"…","тыс. руб."]
[null,null,"Итого"," тыс. руб.",null,null,null,{"$f":"SUM(H22:H24)","v":0},0,0,0,0,0,0,0,0,0,0,0,0,0,0,0,0,0,0,0,0]
[]
[null,"Коммерческие расходы"]
[null,null,"Статья расходов 1","тыс. руб."]
[null,null,"Статья расходов 2","тыс. руб."]
[null,null,"…","тыс. руб."]
[null,null,"Итого"," тыс. руб.",null,null,null,{"$f":"SUM(H28:H30)","v":0},0,0,0,0,0,0,0,0,0,0,0,0,0,0,0,0,0,0,0,0]
[]
[null,"Управленческие расходы "]
[null,null,"Статья расходов 1","тыс. руб."]
[null,null,"Статья расходов 2","тыс. руб."]
[null,null,"…","тыс. руб."]
[null,null,"Итого"," тыс. руб.",null,null,null,{"$f":"SUM(H34:H36)","v":0},0,0,0,0,0,0,0,0,0,0,0,0,0,0,0,0,0,0,0,0]
[]
[null,"Итого общехозяйственные расходы",null," тыс. руб.",null,null,null,{"$f":"SUM(H25,H31,H37)","v":0},0,0,0,0,0,0,0,0,0,0,0,0,0,0,0,0,0,0,0,0]
[]
[null,"Прочие расходы (без НДС)"]
[]
[null,null,"Статья расходов 1","тыс. руб."]
[null,null,"Статья расходов 2","тыс. руб."]
[null,null,"…","тыс. руб."]
[null,null,"Итого"," тыс. руб.",null,null,null,{"$f":"SUM(H43:H45)","v":0},0,0,0,0,0,0,0,0,0,0,0,0,0,{"$f":"SUM(V43:V45)","v":0},0,0,0,0,0,0]
[]
[null,null,"Статьи, подлежащие обложению НДС (1 - да, 0 - нет)"]
[]
[null,null,"Статья расходов 1","тыс. руб.",null,1]
[null,null,"Статья расходов 2","тыс. руб.",null,0]
[null,null,"…","тыс. руб.",null,0]
[]
[null,"Расходы на ФОТ"]
[]
[null,{"$f":"Предпосылки!B100","v":"Сотрудники с ФОТ менее 1917 тыс. рублей/год"}]
[null,null,{"$f":"Предпосылки!C101","v":"Производственный персонал"},"тыс. руб.",null,null,null,{"$f":"SUBTOTAL(9,H58:H59)","v":0},{"$f":"SUBTOTAL(9,I58:I59)","v":0},0,0,0,0,0,0,0,0,0,0,0,0,0,0,0,0,0,0,0]
[null,null,{"$f":"Предпосылки!C102","v":"Категория 1"},"тыс. руб.",null,null,null,{"$f":"Предпосылки!H102*Предпосылки!H128*Предпосылки!H$29","v":0},{"$f":"Предпосылки!I102*Предпосылки!I128*Предпосылки!I$29","v":0},{"$f":"Предпосылки!J102*Предпосылки!J128*Предпосылки!J$29","v":0},{"$f":"Предпосылки!K102*Предпосылки!K128*Предпосылки!K$29","v":0},{"$f":"Предпосылки!L102*Предпосылки!L128*Предпосылки!L$29","v":0},{"$f":"Предпосылки!M102*Предпосылки!M128*Предпосылки!M$29","v":0},{"$f":"Предпосылки!N102*Предпосылки!N128*Предпосылки!N$29","v":0},{"$f":"Предпосылки!O102*Предпосылки!O128*Предпосылки!O$29","v":0},{"$f":"Предпосылки!P102*Предпосылки!P128*Предпосылки!P$29","v":0},{"$f":"Предпосылки!Q102*Предпосылки!Q128*Предпосылки!Q$29","v":0},{"$f":"Предпосылки!R102*Предпосылки!R128*Предпосылки!R$29","v":0},{"$f":"Предпосылки!S102*Предпосылки!S128*Предпосылки!S$29","v":0},{"$f":"Предпосылки!T102*Предпосылки!T128*Предпосылки!T$29","v":0},{"$f":"Предпосылки!U102*Предпосылки!U128*Предпосылки!U$29","v":0},{"$f":"Предпосылки!V102*Предпосылки!V128*Предпосылки!V$29","v":0},{"$f":"Предпосылки!W102*Предпосылки!W128*Предпосылки!W$29","v":0},{"$f":"Предпосылки!X102*Предпосылки!X128*Предпосылки!X$29","v":0},{"$f":"Предпосылки!Y102*Предпосылки!Y128*Предпосылки!Y$29","v":0},{"$f":"Предпосылки!Z102*Предпосылки!Z128*Предпосылки!Z$29","v":0},{"$f":"Предпосылки!AA102*Предпосылки!AA128*Предпосылки!AA$29","v":0},{"$f":"Предпосылки!AB102*Предпосылки!AB128*Предпосылки!AB$29","v":0}]
[null,null,{"$f":"Предпосылки!C103","v":"…"},"тыс. руб."]
[null,null,{"$f":"Предпосылки!C104","v":"Вспомогательный персонал"},"тыс. руб.",null,null,null,{"$f":"SUBTOTAL(9,H61:H62)","v":0},{"$f":"SUBTOTAL(9,I61:I62)","v":0},0,0,0,0,0,0,0,0,0,0,0,0,0,0,0,0,0,0,0]
[null,null,{"$f":"Предпосылки!C105","v":"Категория 1"},"тыс. руб.",null,null,null,{"$f":"Предпосылки!H105*Предпосылки!H131*Предпосылки!H$29","v":0},{"$f":"Предпосылки!I105*Предпосылки!I131*Предпосылки!I$29","v":0},{"$f":"Предпосылки!J105*Предпосылки!J131*Предпосылки!J$29","v":0},{"$f":"Предпосылки!K105*Предпосылки!K131*Предпосылки!K$29","v":0},{"$f":"Предпосылки!L105*Предпосылки!L131*Предпосылки!L$29","v":0},{"$f":"Предпосылки!M105*Предпосылки!M131*Предпосылки!M$29","v":0},{"$f":"Предпосылки!N105*Предпосылки!N131*Предпосылки!N$29","v":0},{"$f":"Предпосылки!O105*Предпосылки!O131*Предпосылки!O$29","v":0},{"$f":"Предпосылки!P105*Предпосылки!P131*Предпосылки!P$29","v":0},{"$f":"Предпосылки!Q105*Предпосылки!Q131*Предпосылки!Q$29","v":0},{"$f":"Предпосылки!R105*Предпосылки!R131*Предпосылки!R$29","v":0},{"$f":"Предпосылки!S105*Предпосылки!S131*Предпосылки!S$29","v":0},{"$f":"Предпосылки!T105*Предпосылки!T131*Предпосылки!T$29","v":0},{"$f":"Предпосылки!U105*Предпосылки!U131*Предпосылки!U$29","v":0},{"$f":"Предпосылки!V105*Предпосылки!V131*Предпосылки!V$29","v":0},{"$f":"Предпосылки!W105*Предпосылки!W131*Предпосылки!W$29","v":0},{"$f":"Предпосылки!X105*Предпосылки!X131*Предпосылки!X$29","v":0},{"$f":"Предпосылки!Y105*Предпосылки!Y131*Предпосылки!Y$29","v":0},{"$f":"Предпосылки!Z105*Предпосылки!Z131*Предпосылки!Z$29","v":0},{"$f":"Предпосылки!AA105*Предпосылки!AA131*Предпосылки!AA$29","v":0},{"$f":"Предпосылки!AB105*Предпосылки!AB131*Предпосылки!AB$29","v":0}]
[null,null,{"$f":"Предпосылки!C106","v":"…"},"тыс. руб."]
[null,null,{"$f":"Предпосылки!C107","v":"Административный персонал"},"тыс. руб.",null,null,null,{"$f":"SUBTOTAL(9,H64:H65)","v":0},{"$f":"SUBTOTAL(9,I64:I65)","v":0},0,0,0,0,0,0,0,0,0,0,0,0,0,0,0,0,0,0,0]
[null,null,{"$f":"Предпосылки!C108","v":"Категория 1"},"тыс. руб.",null,null,null,{"$f":"Предпосылки!H108*Предпосылки!H134*Предпосылки!H$29","v":0},{"$f":"Предпосылки!I108*Предпосылки!I134*Предпосылки!I$29","v":0},{"$f":"Предпосылки!J108*Предпосылки!J134*Предпосылки!J$29","v":0},{"$f":"Предпосылки!K108*Предпосылки!K134*Предпосылки!K$29","v":0},{"$f":"Предпосылки!L108*Предпосылки!L134*Предпосылки!L$29","v":0},{"$f":"Предпосылки!M108*Предпосылки!M134*Предпосылки!M$29","v":0},{"$f":"Предпосылки!N108*Предпосылки!N134*Предпосылки!N$29","v":0},{"$f":"Предпосылки!O108*Предпосылки!O134*Предпосылки!O$29","v":0},{"$f":"Предпосылки!P108*Предпосылки!P134*Предпосылки!P$29","v":0},{"$f":"Предпосылки!Q108*Предпосылки!Q134*Предпосылки!Q$29","v":0},{"$f":"Предпосылки!R108*Предпосылки!R134*Предпосылки!R$29","v":0},{"$f":"Предпосылки!S108*Предпосылки!S134*Предпосылки!S$29","v":0},{"$f":"Предпосылки!T108*Предпосылки!T134*Предпосылки!T$29","v":0},{"$f":"Предпосылки!U108*Предпосылки!U134*Предпосылки!U$29","v":0},{"$f":"Предпосылки!V108*Предпосылки!V134*Предпосылки!V$29","v":0},{"$f":"Предпосылки!W108*Предпосылки!W134*Предпосылки!W$29","v":0},{"$f":"Предпосылки!X108*Предпосылки!X134*Предпосылки!X$29","v":0},{"$f":"Предпосылки!Y108*Предпосылки!Y134*Предпосылки!Y$29","v":0},{"$f":"Предпосылки!Z108*Предпосылки!Z134*Предпосылки!Z$29","v":0},{"$f":"Предпосылки!AA108*Предпосылки!AA134*Предпосылки!AA$29","v":0},{"$f":"Предпосылки!AB108*Предпосылки!AB134*Предпосылки!AB$29","v":0}]
[null,null,{"$f":"Предпосылки!C109","v":"…"},"тыс. руб."]
[null,null,{"$f":"Предпосылки!C110","v":"Итого"},"тыс. руб.",null,null,null,{"$f":"SUBTOTAL(9,H57:H65)","v":0},{"$f":"SUBTOTAL(9,I57:I65)","v":0},0,0,0,0,0,0,0,0,0,0,0,0,0,0,0,0,0,0,0]
[]
[null,{"$f":"Предпосылки!B112","v":"Сотрудники с ФОТ более или равно 1917 тыс. рублей/год (каждый указывается отдельно)"}]
[null,null,{"$f":"Предпосылки!C113","v":"Производственный персонал"},"тыс. руб.",null,null,null,{"$f":"SUBTOTAL(9,H70:H71)","v":0},{"$f":"SUBTOTAL(9,I70:I71)","v":0},0,0,0,0,0,0,0,0,0,0,0,0,0,0,0,0,0,0,0]
[null,null,{"$f":"Предпосылки!C114","v":"Сотрудник 1 "},"тыс. руб.",null,null,null,{"$f":"Предпосылки!H114*Предпосылки!H140*Предпосылки!H$29","v":0},{"$f":"Предпосылки!I114*Предпосылки!I140*Предпосылки!I$29","v":0},{"$f":"Предпосылки!J114*Предпосылки!J140*Предпосылки!J$29","v":0},{"$f":"Предпосылки!K114*Предпосылки!K140*Предпосылки!K$29","v":0},{"$f":"Предпосылки!L114*Предпосылки!L140*Предпосылки!L$29","v":0},{"$f":"Предпосылки!M114*Предпосылки!M140*Предпосылки!M$29","v":0},{"$f":"Предпосылки!N114*Предпосылки!N140*Предпосылки!N$29","v":0},{"$f":"Предпосылки!O114*Предпосылки!O140*Предпосылки!O$29","v":0},{"$f":"Предпосылки!P114*Предпосылки!P140*Предпосылки!P$29","v":0},{"$f":"Предпосылки!Q114*Предпосылки!Q140*Предпосылки!Q$29","v":0},{"$f":"Предпосылки!R114*Предпосылки!R140*Предпосылки!R$29","v":0},{"$f":"Предпосылки!S114*Предпосылки!S140*Предпосылки!S$29","v":0},{"$f":"Предпосылки!T114*Предпосылки!T140*Предпосылки!T$29","v":0},{"$f":"Предпосылки!U114*Предпосылки!U140*Предпосылки!U$29","v":0},{"$f":"Предпосылки!V114*Предпосылки!V140*Предпосылки!V$29","v":0},{"$f":"Предпосылки!W114*Предпосылки!W140*Предпосылки!W$29","v":0},{"$f":"Предпосылки!X114*Предпосылки!X140*Предпосылки!X$29","v":0},{"$f":"Предпосылки!Y114*Предпосылки!Y140*Предпосылки!Y$29","v":0},{"$f":"Предпосылки!Z114*Предпосылки!Z140*Предпосылки!Z$29","v":0},{"$f":"Предпосылки!AA114*Предпосылки!AA140*Предпосылки!AA$29","v":0},{"$f":"Предпосылки!AB114*Предпосылки!AB140*Предпосылки!AB$29","v":0}]
[null,null,{"$f":"Предпосылки!C115","v":"…"},"тыс. руб."]
[null,null,{"$f":"Предпосылки!C116","v":"Вспомогательный персонал"},"тыс. руб.",null,null,null,{"$f":"SUBTOTAL(9,H73:H74)","v":0},{"$f":"SUBTOTAL(9,I73:I74)","v":0},0,0,0,0,0,0,0,0,0,0,0,0,0,0,0,0,0,0,0]
[null,null,{"$f":"Предпосылки!C117","v":"Сотрудник 1 "},"тыс. руб.",null,null,null,{"$f":"Предпосылки!H117*Предпосылки!H143*Предпосылки!H$29","v":0},{"$f":"Предпосылки!I117*Предпосылки!I143*Предпосылки!I$29","v":0},{"$f":"Предпосылки!J117*Предпосылки!J143*Предпосылки!J$29","v":0},{"$f":"Предпосылки!K117*Предпосылки!K143*Предпосылки!K$29","v":0},{"$f":"Предпосылки!L117*Предпосылки!L143*Предпосылки!L$29","v":0},{"$f":"Предпосылки!M117*Предпосылки!M143*Предпосылки!M$29","v":0},{"$f":"Предпосылки!N117*Предпосылки!N143*Предпосылки!N$29","v":0},{"$f":"Предпосылки!O117*Предпосылки!O143*Предпосылки!O$29","v":0},{"$f":"Предпосылки!P117*Предпосылки!P143*Предпосылки!P$29","v":0},{"$f":"Предпосылки!Q117*Предпосылки!Q143*Предпосылки!Q$29","v":0},{"$f":"Предпосылки!R117*Предпосылки!R143*Предпосылки!R$29","v":0},{"$f":"Предпосылки!S117*Предпосылки!S143*Предпосылки!S$29","v":0},{"$f":"Предпосылки!T117*Предпосылки!T143*Предпосылки!T$29","v":0},{"$f":"Предпосылки!U117*Предпосылки!U143*Предпосылки!U$29","v":0},{"$f":"Предпосылки!V117*Предпосылки!V143*Предпосылки!V$29","v":0},{"$f":"Предпосылки!W117*Предпосылки!W143*Предпосылки!W$29","v":0},{"$f":"Предпосылки!X117*Предпосылки!X143*Предпосылки!X$29","v":0},{"$f":"Предпосылки!Y117*Предпосылки!Y143*Предпосылки!Y$29","v":0},{"$f":"Предпосылки!Z117*Предпосылки!Z143*Предпосылки!Z$29","v":0},{"$f":"Предпосылки!AA117*Предпосылки!AA143*Предпосылки!AA$29","v":0},{"$f":"Предпосылки!AB117*Предпосылки!AB143*Предпосылки!AB$29","v":0}]
[null,null,{"$f":"Предпосылки!C118","v":"…"},"тыс. руб."]
[null,null,{"$f":"Предпосылки!C119","v":"Административный персонал"},"тыс. руб.",null,null,null,{"$f":"SUBTOTAL(9,H76:H77)","v":0},{"$f":"SUBTOTAL(9,I76:I77)","v":0},0,0,0,0,0,0,0,0,0,0,0,0,0,0,0,0,0,0,0]
[null,null,{"$f":"Предпосылки!C120","v":"Сотрудник 1 "},"тыс. руб.",null,null,null,{"$f":"Предпосылки!H120*Предпосылки!H146*Предпосылки!H$29","v":0},{"$f":"Предпосылки!I120*Предпосылки!I146*Предпосылки!I$29","v":0},{"$f":"Предпосылки!J120*Предпосылки!J146*Предпосылки!J$29","v":0},{"$f":"Предпосылки!K120*Предпосылки!K146*Предпосылки!K$29","v":0},{"$f":"Предпосылки!L120*Предпосылки!L146*Предпосылки!L$29","v":0},{"$f":"Предпосылки!M120*Предпосылки!M146*Предпосылки!M$29","v":0},{"$f":"Предпосылки!N120*Предпосылки!N146*Предпосылки!N$29","v":0},{"$f":"Предпосылки!O120*Предпосылки!O146*Предпосылки!O$29","v":0},{"$f":"Предпосылки!P120*Предпосылки!P146*Предпосылки!P$29","v":0},{"$f":"Предпосылки!Q120*Предпосылки!Q146*Предпосылки!Q$29","v":0},{"$f":"Предпосылки!R120*Предпосылки!R146*Предпосылки!R$29","v":0},{"$f":"Предпосылки!S120*Предпосылки!S146*Предпосылки!S$29","v":0},{"$f":"Предпосылки!T120*Предпосылки!T146*Предпосылки!T$29","v":0},{"$f":"Предпосылки!U120*Предпосылки!U146*Предпосылки!U$29","v":0},{"$f":"Предпосылки!V120*Предпосылки!V146*Предпосылки!V$29","v":0},{"$f":"Предпосылки!W120*Предпосылки!W146*Предпосылки!W$29","v":0},{"$f":"Предпосылки!X120*Предпосылки!X146*Предпосылки!X$29","v":0},{"$f":"Предпосылки!Y120*Предпосылки!Y146*Предпосылки!Y$29","v":0},{"$f":"Предпосылки!Z120*Предпосылки!Z146*Предпосылки!Z$29","v":0},{"$f":"Предпосылки!AA120*Предпосылки!AA146*Предпосылки!AA$29","v":0},{"$f":"Предпосылки!AB120*Предпосылки!AB146*Предпосылки!AB$29","v":0}]
[null,null,{"$f":"Предпосылки!C121","v":"…"},"тыс. руб."]
[null,null,{"$f":"Предпосылки!C122","v":"Итого"},"тыс. руб.",null,null,null,{"$f":"SUBTOTAL(9,H69:H77)","v":0},{"$f":"SUBTOTAL(9,I69:I77)","v":0},0,0,0,0,0,0,0,0,0,0,0,0,0,0,0,0,0,0,0]
[]
[]
[null,"Совокупный ФОТ",null,"тыс. руб.",null,null,null,{"$f":"SUM(H66,H78)","v":0},{"$f":"SUM(I66,I78)","v":0},0,0,0,0,0,0,0,0,0,0,0,0,0,0,0,0,0,0,0]
[]
[null,"Взносы во внебюджетные фонды"]
[]
[null,"Страховые взносы с учетом применения льготного тарифа для участников СПИК 1.0, являющихся участниками промышленных кластеров"]
[]
[null,"Отчисления по единому прониженному тарифу"]
[]
[null,"Производственный персонал"]
[null,null,"По общей ставке","тыс. руб.",null,null,null,{"$f":"SUM(H57,Предпосылки!H264*Предпосылки!H113)*Предпосылки!H282","v":0},{"$f":"SUM(I57,Предпосылки!I264*Предпосылки!I113)*Предпосылки!I282","v":0},{"$f":"SUM(J57,Предпосылки!J264*Предпосылки!J113)*Предпосылки!J282","v":0},{"$f":"SUM(K57,Предпосылки!K264*Предпосылки!K113)*Предпосылки!K282","v":0},{"$f":"SUM(L57,Предпосылки!L264*Предпосылки!L113)*Предпосылки!L282","v":0},{"$f":"SUM(M57,Предпосылки!M264*Предпосылки!M113)*Предпосылки!M282","v":0},{"$f":"SUM(N57,Предпосылки!N264*Предпосылки!N113)*Предпосылки!N282","v":0},{"$f":"SUM(O57,Предпосылки!O264*Предпосылки!O113)*Предпосылки!O282","v":0},{"$f":"SUM(P57,Предпосылки!P264*Предпосылки!P113)*Предпосылки!P282","v":0},{"$f":"SUM(Q57,Предпосылки!Q264*Предпосылки!Q113)*Предпосылки!Q282","v":0},{"$f":"SUM(R57,Предпосылки!R264*Предпосылки!R113)*Предпосылки!R282","v":0},{"$f":"SUM(S57,Предпосылки!S264*Предпосылки!S113)*Предпосылки!S282","v":0},{"$f":"SUM(T57,Предпосылки!T264*Предпосылки!T113)*Предпосылки!T282","v":0},{"$f":"SUM(U57,Предпосылки!U264*Предпосылки!U113)*Предпосылки!U282","v":0},{"$f":"SUM(V57,Предпосылки!V264*Предпосылки!V113)*Предпосылки!V282","v":0},{"$f":"SUM(W57,Предпосылки!W264*Предпосылки!W113)*Предпосылки!W282","v":0},{"$f":"SUM(X57,Предпосылки!X264*Предпосылки!X113)*Предпосылки!X282","v":0},{"$f":"SUM(Y57,Предпосылки!Y264*Предпосылки!Y113)*Предпосылки!Y282","v":0},{"$f":"SUM(Z57,Предпосылки!Z264*Предпосылки!Z113)*Предпосылки!Z282","v":0},{"$f":"SUM(AA57,Предпосылки!AA264*Предпосылки!AA113)*Предпосылки!AA282","v":0},{"$f":"SUM(AB57,Предпосылки!AB264*Предпосылки!AB113)*Предпосылки!AB282","v":0}]
[null,null,"По пониженной ставке","тыс. руб.",null,null,null,{"$f":"(H69-Предпосылки!H264*Предпосылки!H113)*Предпосылки!H283","v":0},{"$f":"(I69-Предпосылки!I264*Предпосылки!I113)*Предпосылки!I283","v":0},{"$f":"(J69-Предпосылки!J264*Предпосылки!J113)*Предпосылки!J283","v":0},{"$f":"(K69-Предпосылки!K264*Предпосылки!K113)*Предпосылки!K283","v":0},{"$f":"(L69-Предпосылки!L264*Предпосылки!L113)*Предпосылки!L283","v":0},{"$f":"(M69-Предпосылки!M264*Предпосылки!M113)*Предпосылки!M283","v":0},{"$f":"(N69-Предпосылки!N264*Предпосылки!N113)*Предпосылки!N283","v":0},{"$f":"(O69-Предпосылки!O264*Предпосылки!O113)*Предпосылки!O283","v":0},{"$f":"(P69-Предпосылки!P264*Предпосылки!P113)*Предпосылки!P283","v":0},{"$f":"(Q69-Предпосылки!Q264*Предпосылки!Q113)*Предпосылки!Q283","v":0},{"$f":"(R69-Предпосылки!R264*Предпосылки!R113)*Предпосылки!R283","v":0},{"$f":"(S69-Предпосылки!S264*Предпосылки!S113)*Предпосылки!S283","v":0},{"$f":"(T69-Предпосылки!T264*Предпосылки!T113)*Предпосылки!T283","v":0},{"$f":"(U69-Предпосылки!U264*Предпосылки!U113)*Предпосылки!U283","v":0},{"$f":"(V69-Предпосылки!V264*Предпосылки!V113)*Предпосылки!V283","v":0},{"$f":"(W69-Предпосылки!W264*Предпосылки!W113)*Предпосылки!W283","v":0},{"$f":"(X69-Предпосылки!X264*Предпосылки!X113)*Предпосылки!X283","v":0},{"$f":"(Y69-Предпосылки!Y264*Предпосылки!Y113)*Предпосылки!Y283","v":0},{"$f":"(Z69-Предпосылки!Z264*Предпосылки!Z113)*Предпосылки!Z283","v":0},{"$f":"(AA69-Предпосылки!AA264*Предпосылки!AA113)*Предпосылки!AA283","v":0},{"$f":"(AB69-Предпосылки!AB264*Предпосылки!AB113)*Предпосылки!AB283","v":0}]
[null,null,"На травматизм","тыс. руб.",null,null,null,{"$f":"SUM(H57,H69)*Предпосылки!$F$274","v":0},{"$f":"SUM(I57,I69)*Предпосылки!$F$274","v":0},{"$f":"SUM(J57,J69)*Предпосылки!$F$274","v":0},{"$f":"SUM(K57,K69)*Предпосылки!$F$274","v":0},{"$f":"SUM(L57,L69)*Предпосылки!$F$274","v":0},{"$f":"SUM(M57,M69)*Предпосылки!$F$274","v":0},{"$f":"SUM(N57,N69)*Предпосылки!$F$274","v":0},{"$f":"SUM(O57,O69)*Предпосылки!$F$274","v":0},{"$f":"SUM(P57,P69)*Предпосылки!$F$274","v":0},{"$f":"SUM(Q57,Q69)*Предпосылки!$F$274","v":0},{"$f":"SUM(R57,R69)*Предпосылки!$F$274","v":0},{"$f":"SUM(S57,S69)*Предпосылки!$F$274","v":0},{"$f":"SUM(T57,T69)*Предпосылки!$F$274","v":0},{"$f":"SUM(U57,U69)*Предпосылки!$F$274","v":0},{"$f":"SUM(V57,V69)*Предпосылки!$F$274","v":0},{"$f":"SUM(W57,W69)*Предпосылки!$F$274","v":0},{"$f":"SUM(X57,X69)*Предпосылки!$F$274","v":0},{"$f":"SUM(Y57,Y69)*Предпосылки!$F$274","v":0},{"$f":"SUM(Z57,Z69)*Предпосылки!$F$274","v":0},{"$f":"SUM(AA57,AA69)*Предпосылки!$F$274","v":0},{"$f":"SUM(AB57,AB69)*Предпосылки!$F$274","v":0}]
[null,"Вспомогательный персонал"]
[null,null,"По общей ставке","тыс. руб.",null,null,null,{"$f":"SUM(H60,Предпосылки!H264*Предпосылки!H116)*Предпосылки!H282","v":0},{"$f":"SUM(I60,Предпосылки!I264*Предпосылки!I116)*Предпосылки!I282","v":0},{"$f":"SUM(J60,Предпосылки!J264*Предпосылки!J116)*Предпосылки!J282","v":0},{"$f":"SUM(K60,Предпосылки!K264*Предпосылки!K116)*Предпосылки!K282","v":0},{"$f":"SUM(L60,Предпосылки!L264*Предпосылки!L116)*Предпосылки!L282","v":0},{"$f":"SUM(M60,Предпосылки!M264*Предпосылки!M116)*Предпосылки!M282","v":0},{"$f":"SUM(N60,Предпосылки!N264*Предпосылки!N116)*Предпосылки!N282","v":0},{"$f":"SUM(O60,Предпосылки!O264*Предпосылки!O116)*Предпосылки!O282","v":0},{"$f":"SUM(P60,Предпосылки!P264*Предпосылки!P116)*Предпосылки!P282","v":0},{"$f":"SUM(Q60,Предпосылки!Q264*Предпосылки!Q116)*Предпосылки!Q282","v":0},{"$f":"SUM(R60,Предпосылки!R264*Предпосылки!R116)*Предпосылки!R282","v":0},{"$f":"SUM(S60,Предпосылки!S264*Предпосылки!S116)*Предпосылки!S282","v":0},{"$f":"SUM(T60,Предпосылки!T264*Предпосылки!T116)*Предпосылки!T282","v":0},{"$f":"SUM(U60,Предпосылки!U264*Предпосылки!U116)*Предпосылки!U282","v":0},{"$f":"SUM(V60,Предпосылки!V264*Предпосылки!V116)*Предпосылки!V282","v":0},{"$f":"SUM(W60,Предпосылки!W264*Предпосылки!W116)*Предпосылки!W282","v":0},{"$f":"SUM(X60,Предпосылки!X264*Предпосылки!X116)*Предпосылки!X282","v":0},{"$f":"SUM(Y60,Предпосылки!Y264*Предпосылки!Y116)*Предпосылки!Y282","v":0},{"$f":"SUM(Z60,Предпосылки!Z264*Предпосылки!Z116)*Предпосылки!Z282","v":0},{"$f":"SUM(AA60,Предпосылки!AA264*Предпосылки!AA116)*Предпосылки!AA282","v":0},{"$f":"SUM(AB60,Предпосылки!AB264*Предпосылки!AB116)*Предпосылки!AB282","v":0}]
[null,null,"По пониженной ставке","тыс. руб.",null,null,null,{"$f":"(H72-Предпосылки!H264*Предпосылки!H116)*Предпосылки!H283","v":0},{"$f":"(I72-Предпосылки!I264*Предпосылки!I116)*Предпосылки!I283","v":0},{"$f":"(J72-Предпосылки!J264*Предпосылки!J116)*Предпосылки!J283","v":0},{"$f":"(K72-Предпосылки!K264*Предпосылки!K116)*Предпосылки!K283","v":0},{"$f":"(L72-Предпосылки!L264*Предпосылки!L116)*Предпосылки!L283","v":0},{"$f":"(M72-Предпосылки!M264*Предпосылки!M116)*Предпосылки!M283","v":0},{"$f":"(N72-Предпосылки!N264*Предпосылки!N116)*Предпосылки!N283","v":0},{"$f":"(O72-Предпосылки!O264*Предпосылки!O116)*Предпосылки!O283","v":0},{"$f":"(P72-Предпосылки!P264*Предпосылки!P116)*Предпосылки!P283","v":0},{"$f":"(Q72-Предпосылки!Q264*Предпосылки!Q116)*Предпосылки!Q283","v":0},{"$f":"(R72-Предпосылки!R264*Предпосылки!R116)*Предпосылки!R283","v":0},{"$f":"(S72-Предпосылки!S264*Предпосылки!S116)*Предпосылки!S283","v":0},{"$f":"(T72-Предпосылки!T264*Предпосылки!T116)*Предпосылки!T283","v":0},{"$f":"(U72-Предпосылки!U264*Предпосылки!U116)*Предпосылки!U283","v":0},{"$f":"(V72-Предпосылки!V264*Предпосылки!V116)*Предпосылки!V283","v":0},{"$f":"(W72-Предпосылки!W264*Предпосылки!W116)*Предпосылки!W283","v":0},{"$f":"(X72-Предпосылки!X264*Предпосылки!X116)*Предпосылки!X283","v":0},{"$f":"(Y72-Предпосылки!Y264*Предпосылки!Y116)*Предпосылки!Y283","v":0},{"$f":"(Z72-Предпосылки!Z264*Предпосылки!Z116)*Предпосылки!Z283","v":0},{"$f":"(AA72-Предпосылки!AA264*Предпосылки!AA116)*Предпосылки!AA283","v":0},{"$f":"(AB72-Предпосылки!AB264*Предпосылки!AB116)*Предпосылки!AB283","v":0}]
[null,null,"На травматизм","тыс. руб.",null,null,null,{"$f":"SUM(H60,H72)*Предпосылки!$F$274","v":0},{"$f":"SUM(I60,I72)*Предпосылки!$F$274","v":0},{"$f":"SUM(J60,J72)*Предпосылки!$F$274","v":0},{"$f":"SUM(K60,K72)*Предпосылки!$F$274","v":0},{"$f":"SUM(L60,L72)*Предпосылки!$F$274","v":0},{"$f":"SUM(M60,M72)*Предпосылки!$F$274","v":0},{"$f":"SUM(N60,N72)*Предпосылки!$F$274","v":0},{"$f":"SUM(O60,O72)*Предпосылки!$F$274","v":0},{"$f":"SUM(P60,P72)*Предпосылки!$F$274","v":0},{"$f":"SUM(Q60,Q72)*Предпосылки!$F$274","v":0},{"$f":"SUM(R60,R72)*Предпосылки!$F$274","v":0},{"$f":"SUM(S60,S72)*Предпосылки!$F$274","v":0},{"$f":"SUM(T60,T72)*Предпосылки!$F$274","v":0},{"$f":"SUM(U60,U72)*Предпосылки!$F$274","v":0},{"$f":"SUM(V60,V72)*Предпосылки!$F$274","v":0},{"$f":"SUM(W60,W72)*Предпосылки!$F$274","v":0},{"$f":"SUM(X60,X72)*Предпосылки!$F$274","v":0},{"$f":"SUM(Y60,Y72)*Предпосылки!$F$274","v":0},{"$f":"SUM(Z60,Z72)*Предпосылки!$F$274","v":0},{"$f":"SUM(AA60,AA72)*Предпосылки!$F$274","v":0},{"$f":"SUM(AB60,AB72)*Предпосылки!$F$274","v":0}]
[null,"Административный персонал"]
[null,null,"По общей ставке","тыс. руб.",null,null,null,{"$f":"SUM(H63,Предпосылки!H264*Предпосылки!H119)*Предпосылки!H282","v":0},{"$f":"SUM(I63,Предпосылки!I264*Предпосылки!I119)*Предпосылки!I282","v":0},{"$f":"SUM(J63,Предпосылки!J264*Предпосылки!J119)*Предпосылки!J282","v":0},{"$f":"SUM(K63,Предпосылки!K264*Предпосылки!K119)*Предпосылки!K282","v":0},{"$f":"SUM(L63,Предпосылки!L264*Предпосылки!L119)*Предпосылки!L282","v":0},{"$f":"SUM(M63,Предпосылки!M264*Предпосылки!M119)*Предпосылки!M282","v":0},{"$f":"SUM(N63,Предпосылки!N264*Предпосылки!N119)*Предпосылки!N282","v":0},{"$f":"SUM(O63,Предпосылки!O264*Предпосылки!O119)*Предпосылки!O282","v":0},{"$f":"SUM(P63,Предпосылки!P264*Предпосылки!P119)*Предпосылки!P282","v":0},{"$f":"SUM(Q63,Предпосылки!Q264*Предпосылки!Q119)*Предпосылки!Q282","v":0},{"$f":"SUM(R63,Предпосылки!R264*Предпосылки!R119)*Предпосылки!R282","v":0},{"$f":"SUM(S63,Предпосылки!S264*Предпосылки!S119)*Предпосылки!S282","v":0},{"$f":"SUM(T63,Предпосылки!T264*Предпосылки!T119)*Предпосылки!T282","v":0},{"$f":"SUM(U63,Предпосылки!U264*Предпосылки!U119)*Предпосылки!U282","v":0},{"$f":"SUM(V63,Предпосылки!V264*Предпосылки!V119)*Предпосылки!V282","v":0},{"$f":"SUM(W63,Предпосылки!W264*Предпосылки!W119)*Предпосылки!W282","v":0},{"$f":"SUM(X63,Предпосылки!X264*Предпосылки!X119)*Предпосылки!X282","v":0},{"$f":"SUM(Y63,Предпосылки!Y264*Предпосылки!Y119)*Предпосылки!Y282","v":0},{"$f":"SUM(Z63,Предпосылки!Z264*Предпосылки!Z119)*Предпосылки!Z282","v":0},{"$f":"SUM(AA63,Предпосылки!AA264*Предпосылки!AA119)*Предпосылки!AA282","v":0},{"$f":"SUM(AB63,Предпосылки!AB264*Предпосылки!AB119)*Предпосылки!AB282","v":0}]
[null,null,"По пониженной ставке","тыс. руб.",null,null,null,{"$f":"(H75-Предпосылки!H264*Предпосылки!H119)*Предпосылки!H283","v":0},{"$f":"(I75-Предпосылки!I264*Предпосылки!I119)*Предпосылки!I283","v":0},{"$f":"(J75-Предпосылки!J264*Предпосылки!J119)*Предпосылки!J283","v":0},{"$f":"(K75-Предпосылки!K264*Предпосылки!K119)*Предпосылки!K283","v":0},{"$f":"(L75-Предпосылки!L264*Предпосылки!L119)*Предпосылки!L283","v":0},{"$f":"(M75-Предпосылки!M264*Предпосылки!M119)*Предпосылки!M283","v":0},{"$f":"(N75-Предпосылки!N264*Предпосылки!N119)*Предпосылки!N283","v":0},{"$f":"(O75-Предпосылки!O264*Предпосылки!O119)*Предпосылки!O283","v":0},{"$f":"(P75-Предпосылки!P264*Предпосылки!P119)*Предпосылки!P283","v":0},{"$f":"(Q75-Предпосылки!Q264*Предпосылки!Q119)*Предпосылки!Q283","v":0},{"$f":"(R75-Предпосылки!R264*Предпосылки!R119)*Предпосылки!R283","v":0},{"$f":"(S75-Предпосылки!S264*Предпосылки!S119)*Предпосылки!S283","v":0},{"$f":"(T75-Предпосылки!T264*Предпосылки!T119)*Предпосылки!T283","v":0},{"$f":"(U75-Предпосылки!U264*Предпосылки!U119)*Предпосылки!U283","v":0},{"$f":"(V75-Предпосылки!V264*Предпосылки!V119)*Предпосылки!V283","v":0},{"$f":"(W75-Предпосылки!W264*Предпосылки!W119)*Предпосылки!W283","v":0},{"$f":"(X75-Предпосылки!X264*Предпосылки!X119)*Предпосылки!X283","v":0},{"$f":"(Y75-Предпосылки!Y264*Предпосылки!Y119)*Предпосылки!Y283","v":0},{"$f":"(Z75-Предпосылки!Z264*Предпосылки!Z119)*Предпосылки!Z283","v":0},{"$f":"(AA75-Предпосылки!AA264*Предпосылки!AA119)*Предпосылки!AA283","v":0},{"$f":"(AB75-Предпосылки!AB264*Предпосылки!AB119)*Предпосылки!AB283","v":0}]
[null,null,"На травматизм","тыс. руб.",null,null,null,{"$f":"SUM(H63,H75)*Предпосылки!$F$274","v":0},{"$f":"SUM(I63,I75)*Предпосылки!$F$274","v":0},{"$f":"SUM(J63,J75)*Предпосылки!$F$274","v":0},{"$f":"SUM(K63,K75)*Предпосылки!$F$274","v":0},{"$f":"SUM(L63,L75)*Предпосылки!$F$274","v":0},{"$f":"SUM(M63,M75)*Предпосылки!$F$274","v":0},{"$f":"SUM(N63,N75)*Предпосылки!$F$274","v":0},{"$f":"SUM(O63,O75)*Предпосылки!$F$274","v":0},{"$f":"SUM(P63,P75)*Предпосылки!$F$274","v":0},{"$f":"SUM(Q63,Q75)*Предпосылки!$F$274","v":0},{"$f":"SUM(R63,R75)*Предпосылки!$F$274","v":0},{"$f":"SUM(S63,S75)*Предпосылки!$F$274","v":0},{"$f":"SUM(T63,T75)*Предпосылки!$F$274","v":0},{"$f":"SUM(U63,U75)*Предпосылки!$F$274","v":0},{"$f":"SUM(V63,V75)*Предпосылки!$F$274","v":0},{"$f":"SUM(W63,W75)*Предпосылки!$F$274","v":0},{"$f":"SUM(X63,X75)*Предпосылки!$F$274","v":0},{"$f":"SUM(Y63,Y75)*Предпосылки!$F$274","v":0},{"$f":"SUM(Z63,Z75)*Предпосылки!$F$274","v":0},{"$f":"SUM(AA63,AA75)*Предпосылки!$F$274","v":0},{"$f":"SUM(AB63,AB75)*Предпосылки!$F$274","v":0}]
[null,null,"Итого","тыс. руб.",null,null,null,{"$f":"SUBTOTAL(9,H90:H100)","v":0},{"$f":"SUBTOTAL(9,I90:I100)","v":0},0,0,0,0,0,0,0,0,0,0,0,0,0,0,0,0,0,0,0]
[]
[null,"Совокупные расходы на персонал"]
[]
[null,"Производственный персонал",null,"тыс. руб.",null,null,null,{"$f":"SUM(H90:H92)","v":0},{"$f":"SUM(I90:I92)","v":0},0,0,0,0,0,0,0,0,0,0,0,0,0,0,0,0,0,0,0]
[null,"Вспомогательный персонал",null,"тыс. руб.",null,null,null,{"$f":"SUM(H94:H96)","v":0},{"$f":"SUM(I94:I96)","v":0},0,0,0,0,0,0,0,0,0,0,0,0,0,0,0,0,0,0,0]
[null,"Административный персонал",null,"тыс. руб.",null,null,null,{"$f":"SUM(H98:H100)","v":0},{"$f":"SUM(I98:I100)","v":0},0,0,0,0,0,0,0,0,0,0,0,0,0,0,0,0,0,0,0]
[null,null,"Итого","тыс. руб.",null,null,null,{"$f":"SUM(H105:H107)","v":0},{"$f":"SUM(I105:I107)","v":0},0,0,0,0,0,0,0,0,0,0,0,0,0,0,0,0,0,0,0]
[]
[null,"Страховые взносы в иных случаях"]
[]
[null,"ПФР"]
[null,"Производственный персонал",null,"тыс. руб."]
[null,null,"По общей ставке","тыс. руб.",null,null,null,{"$f":"SUM(H57,Предпосылки!H264*Предпосылки!H113)*Предпосылки!$F$269","v":0},{"$f":"SUM(I57,Предпосылки!I264*Предпосылки!I113)*Предпосылки!$F$269","v":0},{"$f":"SUM(J57,Предпосылки!J264*Предпосылки!J113)*Предпосылки!$F$269","v":0},{"$f":"SUM(K57,Предпосылки!K264*Предпосылки!K113)*Предпосылки!$F$269","v":0},{"$f":"SUM(L57,Предпосылки!L264*Предпосылки!L113)*Предпосылки!$F$269","v":0},{"$f":"SUM(M57,Предпосылки!M264*Предпосылки!M113)*Предпосылки!$F$269","v":0},{"$f":"SUM(N57,Предпосылки!N264*Предпосылки!N113)*Предпосылки!$F$269","v":0},{"$f":"SUM(O57,Предпосылки!O264*Предпосылки!O113)*Предпосылки!$F$269","v":0},{"$f":"SUM(P57,Предпосылки!P264*Предпосылки!P113)*Предпосылки!$F$269","v":0},{"$f":"SUM(Q57,Предпосылки!Q264*Предпосылки!Q113)*Предпосылки!$F$269","v":0},{"$f":"SUM(R57,Предпосылки!R264*Предпосылки!R113)*Предпосылки!$F$269","v":0},{"$f":"SUM(S57,Предпосылки!S264*Предпосылки!S113)*Предпосылки!$F$269","v":0},{"$f":"SUM(T57,Предпосылки!T264*Предпосылки!T113)*Предпосылки!$F$269","v":0},{"$f":"SUM(U57,Предпосылки!U264*Предпосылки!U113)*Предпосылки!$F$269","v":0},{"$f":"SUM(V57,Предпосылки!V264*Предпосылки!V113)*Предпосылки!$F$269","v":0},{"$f":"SUM(W57,Предпосылки!W264*Предпосылки!W113)*Предпосылки!$F$269","v":0},{"$f":"SUM(X57,Предпосылки!X264*Предпосылки!X113)*Предпосылки!$F$269","v":0},{"$f":"SUM(Y57,Предпосылки!Y264*Предпосылки!Y113)*Предпосылки!$F$269","v":0},{"$f":"SUM(Z57,Предпосылки!Z264*Предпосылки!Z113)*Предпосылки!$F$269","v":0},{"$f":"SUM(AA57,Предпосылки!AA264*Предпосылки!AA113)*Предпосылки!$F$269","v":0},{"$f":"SUM(AB57,Предпосылки!AB264*Предпосылки!AB113)*Предпосылки!$F$269","v":0}]
[null,null,"По пониженной ставке","тыс. руб.",null,null,null,{"$f":"(H69-Предпосылки!H264*Предпосылки!H113)*Предпосылки!$F$270","v":0},{"$f":"(I69-Предпосылки!I264*Предпосылки!I113)*Предпосылки!$F$270","v":0},{"$f":"(J69-Предпосылки!J264*Предпосылки!J113)*Предпосылки!$F$270","v":0},{"$f":"(K69-Предпосылки!K264*Предпосылки!K113)*Предпосылки!$F$270","v":0},{"$f":"(L69-Предпосылки!L264*Предпосылки!L113)*Предпосылки!$F$270","v":0},{"$f":"(M69-Предпосылки!M264*Предпосылки!M113)*Предпосылки!$F$270","v":0},{"$f":"(N69-Предпосылки!N264*Предпосылки!N113)*Предпосылки!$F$270","v":0},{"$f":"(O69-Предпосылки!O264*Предпосылки!O113)*Предпосылки!$F$270","v":0},{"$f":"(P69-Предпосылки!P264*Предпосылки!P113)*Предпосылки!$F$270","v":0},{"$f":"(Q69-Предпосылки!Q264*Предпосылки!Q113)*Предпосылки!$F$270","v":0},{"$f":"(R69-Предпосылки!R264*Предпосылки!R113)*Предпосылки!$F$270","v":0},{"$f":"(S69-Предпосылки!S264*Предпосылки!S113)*Предпосылки!$F$270","v":0},{"$f":"(T69-Предпосылки!T264*Предпосылки!T113)*Предпосылки!$F$270","v":0},{"$f":"(U69-Предпосылки!U264*Предпосылки!U113)*Предпосылки!$F$270","v":0},{"$f":"(V69-Предпосылки!V264*Предпосылки!V113)*Предпосылки!$F$270","v":0},{"$f":"(W69-Предпосылки!W264*Предпосылки!W113)*Предпосылки!$F$270","v":0},{"$f":"(X69-Предпосылки!X264*Предпосылки!X113)*Предпосылки!$F$270","v":0},{"$f":"(Y69-Предпосылки!Y264*Предпосылки!Y113)*Предпосылки!$F$270","v":0},{"$f":"(Z69-Предпосылки!Z264*Предпосылки!Z113)*Предпосылки!$F$270","v":0},{"$f":"(AA69-Предпосылки!AA264*Предпосылки!AA113)*Предпосылки!$F$270","v":0},{"$f":"(AB69-Предпосылки!AB264*Предпосылки!AB113)*Предпосылки!$F$270","v":0}]
[null,"Вспомогательный персонал",null,"тыс. руб."]
[null,null,"По общей ставке","тыс. руб.",null,null,null,{"$f":"SUM(H60,Предпосылки!H264*Предпосылки!H116)*Предпосылки!$F$269","v":0},{"$f":"SUM(I60,Предпосылки!I264*Предпосылки!I116)*Предпосылки!$F$269","v":0},{"$f":"SUM(J60,Предпосылки!J264*Предпосылки!J116)*Предпосылки!$F$269","v":0},{"$f":"SUM(K60,Предпосылки!K264*Предпосылки!K116)*Предпосылки!$F$269","v":0},{"$f":"SUM(L60,Предпосылки!L264*Предпосылки!L116)*Предпосылки!$F$269","v":0},{"$f":"SUM(M60,Предпосылки!M264*Предпосылки!M116)*Предпосылки!$F$269","v":0},{"$f":"SUM(N60,Предпосылки!N264*Предпосылки!N116)*Предпосылки!$F$269","v":0},{"$f":"SUM(O60,Предпосылки!O264*Предпосылки!O116)*Предпосылки!$F$269","v":0},{"$f":"SUM(P60,Предпосылки!P264*Предпосылки!P116)*Предпосылки!$F$269","v":0},{"$f":"SUM(Q60,Предпосылки!Q264*Предпосылки!Q116)*Предпосылки!$F$269","v":0},{"$f":"SUM(R60,Предпосылки!R264*Предпосылки!R116)*Предпосылки!$F$269","v":0},{"$f":"SUM(S60,Предпосылки!S264*Предпосылки!S116)*Предпосылки!$F$269","v":0},{"$f":"SUM(T60,Предпосылки!T264*Предпосылки!T116)*Предпосылки!$F$269","v":0},{"$f":"SUM(U60,Предпосылки!U264*Предпосылки!U116)*Предпосылки!$F$269","v":0},{"$f":"SUM(V60,Предпосылки!V264*Предпосылки!V116)*Предпосылки!$F$269","v":0},{"$f":"SUM(W60,Предпосылки!W264*Предпосылки!W116)*Предпосылки!$F$269","v":0},{"$f":"SUM(X60,Предпосылки!X264*Предпосылки!X116)*Предпосылки!$F$269","v":0},{"$f":"SUM(Y60,Предпосылки!Y264*Предпосылки!Y116)*Предпосылки!$F$269","v":0},{"$f":"SUM(Z60,Предпосылки!Z264*Предпосылки!Z116)*Предпосылки!$F$269","v":0},{"$f":"SUM(AA60,Предпосылки!AA264*Предпосылки!AA116)*Предпосылки!$F$269","v":0},{"$f":"SUM(AB60,Предпосылки!AB264*Предпосылки!AB116)*Предпосылки!$F$269","v":0}]
[null,null,"По пониженной ставке","тыс. руб.",null,null,null,{"$f":"(H72-Предпосылки!H264*Предпосылки!H116)*Предпосылки!$F$270","v":0},{"$f":"(I72-Предпосылки!I264*Предпосылки!I116)*Предпосылки!$F$270","v":0},{"$f":"(J72-Предпосылки!J264*Предпосылки!J116)*Предпосылки!$F$270","v":0},{"$f":"(K72-Предпосылки!K264*Предпосылки!K116)*Предпосылки!$F$270","v":0},{"$f":"(L72-Предпосылки!L264*Предпосылки!L116)*Предпосылки!$F$270","v":0},{"$f":"(M72-Предпосылки!M264*Предпосылки!M116)*Предпосылки!$F$270","v":0},{"$f":"(N72-Предпосылки!N264*Предпосылки!N116)*Предпосылки!$F$270","v":0},{"$f":"(O72-Предпосылки!O264*Предпосылки!O116)*Предпосылки!$F$270","v":0},{"$f":"(P72-Предпосылки!P264*Предпосылки!P116)*Предпосылки!$F$270","v":0},{"$f":"(Q72-Предпосылки!Q264*Предпосылки!Q116)*Предпосылки!$F$270","v":0},{"$f":"(R72-Предпосылки!R264*Предпосылки!R116)*Предпосылки!$F$270","v":0},{"$f":"(S72-Предпосылки!S264*Предпосылки!S116)*Предпосылки!$F$270","v":0},{"$f":"(T72-Предпосылки!T264*Предпосылки!T116)*Предпосылки!$F$270","v":0},{"$f":"(U72-Предпосылки!U264*Предпосылки!U116)*Предпосылки!$F$270","v":0},{"$f":"(V72-Предпосылки!V264*Предпосылки!V116)*Предпосылки!$F$270","v":0},{"$f":"(W72-Предпосылки!W264*Предпосылки!W116)*Предпосылки!$F$270","v":0},{"$f":"(X72-Предпосылки!X264*Предпосылки!X116)*Предпосылки!$F$270","v":0},{"$f":"(Y72-Предпосылки!Y264*Предпосылки!Y116)*Предпосылки!$F$270","v":0},{"$f":"(Z72-Предпосылки!Z264*Предпосылки!Z116)*Предпосылки!$F$270","v":0},{"$f":"(AA72-Предпосылки!AA264*Предпосылки!AA116)*Предпосылки!$F$270","v":0},{"$f":"(AB72-Предпосылки!AB264*Предпосылки!AB116)*Предпосылки!$F$270","v":0}]
[null,"Административный персонал",null,"тыс. руб."]
[null,null,"По общей ставке","тыс. руб.",null,null,null,{"$f":"SUM(H63,Предпосылки!H264*Предпосылки!H119)*Предпосылки!$F$269","v":0},{"$f":"SUM(I63,Предпосылки!I264*Предпосылки!I119)*Предпосылки!$F$269","v":0},{"$f":"SUM(J63,Предпосылки!J264*Предпосылки!J119)*Предпосылки!$F$269","v":0},{"$f":"SUM(K63,Предпосылки!K264*Предпосылки!K119)*Предпосылки!$F$269","v":0},{"$f":"SUM(L63,Предпосылки!L264*Предпосылки!L119)*Предпосылки!$F$269","v":0},{"$f":"SUM(M63,Предпосылки!M264*Предпосылки!M119)*Предпосылки!$F$269","v":0},{"$f":"SUM(N63,Предпосылки!N264*Предпосылки!N119)*Предпосылки!$F$269","v":0},{"$f":"SUM(O63,Предпосылки!O264*Предпосылки!O119)*Предпосылки!$F$269","v":0},{"$f":"SUM(P63,Предпосылки!P264*Предпосылки!P119)*Предпосылки!$F$269","v":0},{"$f":"SUM(Q63,Предпосылки!Q264*Предпосылки!Q119)*Предпосылки!$F$269","v":0},{"$f":"SUM(R63,Предпосылки!R264*Предпосылки!R119)*Предпосылки!$F$269","v":0},{"$f":"SUM(S63,Предпосылки!S264*Предпосылки!S119)*Предпосылки!$F$269","v":0},{"$f":"SUM(T63,Предпосылки!T264*Предпосылки!T119)*Предпосылки!$F$269","v":0},{"$f":"SUM(U63,Предпосылки!U264*Предпосылки!U119)*Предпосылки!$F$269","v":0},{"$f":"SUM(V63,Предпосылки!V264*Предпосылки!V119)*Предпосылки!$F$269","v":0},{"$f":"SUM(W63,Предпосылки!W264*Предпосылки!W119)*Предпосылки!$F$269","v":0},{"$f":"SUM(X63,Предпосылки!X264*Предпосылки!X119)*Предпосылки!$F$269","v":0},{"$f":"SUM(Y63,Предпосылки!Y264*Предпосылки!Y119)*Предпосылки!$F$269","v":0},{"$f":"SUM(Z63,Предпосылки!Z264*Предпосылки!Z119)*Предпосылки!$F$269","v":0},{"$f":"SUM(AA63,Предпосылки!AA264*Предпосылки!AA119)*Предпосылки!$F$269","v":0},{"$f":"SUM(AB63,Предпосылки!AB264*Предпосылки!AB119)*Предпосылки!$F$269","v":0}]
[null,null,"По пониженной ставке","тыс. руб.",null,null,null,{"$f":"(H75-Предпосылки!H264*Предпосылки!H119)*Предпосылки!$F$270","v":0},{"$f":"(I75-Предпосылки!I264*Предпосылки!I119)*Предпосылки!$F$270","v":0},{"$f":"(J75-Предпосылки!J264*Предпосылки!J119)*Предпосылки!$F$270","v":0},{"$f":"(K75-Предпосылки!K264*Предпосылки!K119)*Предпосылки!$F$270","v":0},{"$f":"(L75-Предпосылки!L264*Предпосылки!L119)*Предпосылки!$F$270","v":0},{"$f":"(M75-Предпосылки!M264*Предпосылки!M119)*Предпосылки!$F$270","v":0},{"$f":"(N75-Предпосылки!N264*Предпосылки!N119)*Предпосылки!$F$270","v":0},{"$f":"(O75-Предпосылки!O264*Предпосылки!O119)*Предпосылки!$F$270","v":0},{"$f":"(P75-Предпосылки!P264*Предпосылки!P119)*Предпосылки!$F$270","v":0},{"$f":"(Q75-Предпосылки!Q264*Предпосылки!Q119)*Предпосылки!$F$270","v":0},{"$f":"(R75-Предпосылки!R264*Предпосылки!R119)*Предпосылки!$F$270","v":0},{"$f":"(S75-Предпосылки!S264*Предпосылки!S119)*Предпосылки!$F$270","v":0},{"$f":"(T75-Предпосылки!T264*Предпосылки!T119)*Предпосылки!$F$270","v":0},{"$f":"(U75-Предпосылки!U264*Предпосылки!U119)*Предпосылки!$F$270","v":0},{"$f":"(V75-Предпосылки!V264*Предпосылки!V119)*Предпосылки!$F$270","v":0},{"$f":"(W75-Предпосылки!W264*Предпосылки!W119)*Предпосылки!$F$270","v":0},{"$f":"(X75-Предпосылки!X264*Предпосылки!X119)*Предпосылки!$F$270","v":0},{"$f":"(Y75-Предпосылки!Y264*Предпосылки!Y119)*Предпосылки!$F$270","v":0},{"$f":"(Z75-Предпосылки!Z264*Предпосылки!Z119)*Предпосылки!$F$270","v":0},{"$f":"(AA75-Предпосылки!AA264*Предпосылки!AA119)*Предпосылки!$F$270","v":0},{"$f":"(AB75-Предпосылки!AB264*Предпосылки!AB119)*Предпосылки!$F$270","v":0}]
[null,null,"Итого","тыс. руб.",null,null,null,{"$f":"SUBTOTAL(9,H113:H121)","v":0},{"$f":"SUBTOTAL(9,I113:I121)","v":0},0,0,0,0,0,0,0,0,0,0,0,0,0,0,0,0,0,0,0]
[]
[null,"ФСС"]
[null,"Производственный персонал",null,"тыс. руб."]
[null,null,"По общей ставке","тыс. руб.",null,null,null,{"$f":"SUM(H57,Предпосылки!H264*Предпосылки!H113)*Предпосылки!$F$272","v":0},{"$f":"SUM(I57,Предпосылки!I264*Предпосылки!I113)*Предпосылки!$F$272","v":0},{"$f":"SUM(J57,Предпосылки!J264*Предпосылки!J113)*Предпосылки!$F$272","v":0},{"$f":"SUM(K57,Предпосылки!K264*Предпосылки!K113)*Предпосылки!$F$272","v":0},{"$f":"SUM(L57,Предпосылки!L264*Предпосылки!L113)*Предпосылки!$F$272","v":0},{"$f":"SUM(M57,Предпосылки!M264*Предпосылки!M113)*Предпосылки!$F$272","v":0},{"$f":"SUM(N57,Предпосылки!N264*Предпосылки!N113)*Предпосылки!$F$272","v":0},{"$f":"SUM(O57,Предпосылки!O264*Предпосылки!O113)*Предпосылки!$F$272","v":0},{"$f":"SUM(P57,Предпосылки!P264*Предпосылки!P113)*Предпосылки!$F$272","v":0},{"$f":"SUM(Q57,Предпосылки!Q264*Предпосылки!Q113)*Предпосылки!$F$272","v":0},{"$f":"SUM(R57,Предпосылки!R264*Предпосылки!R113)*Предпосылки!$F$272","v":0},{"$f":"SUM(S57,Предпосылки!S264*Предпосылки!S113)*Предпосылки!$F$272","v":0},{"$f":"SUM(T57,Предпосылки!T264*Предпосылки!T113)*Предпосылки!$F$272","v":0},{"$f":"SUM(U57,Предпосылки!U264*Предпосылки!U113)*Предпосылки!$F$272","v":0},{"$f":"SUM(V57,Предпосылки!V264*Предпосылки!V113)*Предпосылки!$F$272","v":0},{"$f":"SUM(W57,Предпосылки!W264*Предпосылки!W113)*Предпосылки!$F$272","v":0},{"$f":"SUM(X57,Предпосылки!X264*Предпосылки!X113)*Предпосылки!$F$272","v":0},{"$f":"SUM(Y57,Предпосылки!Y264*Предпосылки!Y113)*Предпосылки!$F$272","v":0},{"$f":"SUM(Z57,Предпосылки!Z264*Предпосылки!Z113)*Предпосылки!$F$272","v":0},{"$f":"SUM(AA57,Предпосылки!AA264*Предпосылки!AA113)*Предпосылки!$F$272","v":0},{"$f":"SUM(AB57,Предпосылки!AB264*Предпосылки!AB113)*Предпосылки!$F$272","v":0}]
[null,null,"По пониженной ставке","тыс. руб.",null,null,null,{"$f":"(H69-Предпосылки!H264*Предпосылки!H113)*Предпосылки!$F$273","v":0},{"$f":"(I69-Предпосылки!I264*Предпосылки!I113)*Предпосылки!$F$273","v":0},{"$f":"(J69-Предпосылки!J264*Предпосылки!J113)*Предпосылки!$F$273","v":0},{"$f":"(K69-Предпосылки!K264*Предпосылки!K113)*Предпосылки!$F$273","v":0},{"$f":"(L69-Предпосылки!L264*Предпосылки!L113)*Предпосылки!$F$273","v":0},{"$f":"(M69-Предпосылки!M264*Предпосылки!M113)*Предпосылки!$F$273","v":0},{"$f":"(N69-Предпосылки!N264*Предпосылки!N113)*Предпосылки!$F$273","v":0},{"$f":"(O69-Предпосылки!O264*Предпосылки!O113)*Предпосылки!$F$273","v":0},{"$f":"(P69-Предпосылки!P264*Предпосылки!P113)*Предпосылки!$F$273","v":0},{"$f":"(Q69-Предпосылки!Q264*Предпосылки!Q113)*Предпосылки!$F$273","v":0},{"$f":"(R69-Предпосылки!R264*Предпосылки!R113)*Предпосылки!$F$273","v":0},{"$f":"(S69-Предпосылки!S264*Предпосылки!S113)*Предпосылки!$F$273","v":0},{"$f":"(T69-Предпосылки!T264*Предпосылки!T113)*Предпосылки!$F$273","v":0},{"$f":"(U69-Предпосылки!U264*Предпосылки!U113)*Предпосылки!$F$273","v":0},{"$f":"(V69-Предпосылки!V264*Предпосылки!V113)*Предпосылки!$F$273","v":0},{"$f":"(W69-Предпосылки!W264*Предпосылки!W113)*Предпосылки!$F$273","v":0},{"$f":"(X69-Предпосылки!X264*Предпосылки!X113)*Предпосылки!$F$273","v":0},{"$f":"(Y69-Предпосылки!Y264*Предпосылки!Y113)*Предпосылки!$F$273","v":0},{"$f":"(Z69-Предпосылки!Z264*Предпосылки!Z113)*Предпосылки!$F$273","v":0},{"$f":"(AA69-Предпосылки!AA264*Предпосылки!AA113)*Предпосылки!$F$273","v":0},{"$f":"(AB69-Предпосылки!AB264*Предпосылки!AB113)*Предпосылки!$F$273","v":0}]
[null,null,"На травматизм",null,null,null,null,{"$f":"SUM(H57,H69)*Предпосылки!$F$274","v":0},{"$f":"SUM(I57,I69)*Предпосылки!$F$274","v":0},{"$f":"SUM(J57,J69)*Предпосылки!$F$274","v":0},{"$f":"SUM(K57,K69)*Предпосылки!$F$274","v":0},{"$f":"SUM(L57,L69)*Предпосылки!$F$274","v":0},{"$f":"SUM(M57,M69)*Предпосылки!$F$274","v":0},{"$f":"SUM(N57,N69)*Предпосылки!$F$274","v":0},{"$f":"SUM(O57,O69)*Предпосылки!$F$274","v":0},{"$f":"SUM(P57,P69)*Предпосылки!$F$274","v":0},{"$f":"SUM(Q57,Q69)*Предпосылки!$F$274","v":0},{"$f":"SUM(R57,R69)*Предпосылки!$F$274","v":0},{"$f":"SUM(S57,S69)*Предпосылки!$F$274","v":0},{"$f":"SUM(T57,T69)*Предпосылки!$F$274","v":0},{"$f":"SUM(U57,U69)*Предпосылки!$F$274","v":0},{"$f":"SUM(V57,V69)*Предпосылки!$F$274","v":0},{"$f":"SUM(W57,W69)*Предпосылки!$F$274","v":0},{"$f":"SUM(X57,X69)*Предпосылки!$F$274","v":0},{"$f":"SUM(Y57,Y69)*Предпосылки!$F$274","v":0},{"$f":"SUM(Z57,Z69)*Предпосылки!$F$274","v":0},{"$f":"SUM(AA57,AA69)*Предпосылки!$F$274","v":0},{"$f":"SUM(AB57,AB69)*Предпосылки!$F$274","v":0}]
[null,"Вспомогательный персонал",null,"тыс. руб."]
[null,null,"По общей ставке","тыс. руб.",null,null,null,{"$f":"SUM(H60,Предпосылки!H264*Предпосылки!H116)*Предпосылки!$F$272","v":0},{"$f":"SUM(I60,Предпосылки!I264*Предпосылки!I116)*Предпосылки!$F$272","v":0},{"$f":"SUM(J60,Предпосылки!J264*Предпосылки!J116)*Предпосылки!$F$272","v":0},{"$f":"SUM(K60,Предпосылки!K264*Предпосылки!K116)*Предпосылки!$F$272","v":0},{"$f":"SUM(L60,Предпосылки!L264*Предпосылки!L116)*Предпосылки!$F$272","v":0},{"$f":"SUM(M60,Предпосылки!M264*Предпосылки!M116)*Предпосылки!$F$272","v":0},{"$f":"SUM(N60,Предпосылки!N264*Предпосылки!N116)*Предпосылки!$F$272","v":0},{"$f":"SUM(O60,Предпосылки!O264*Предпосылки!O116)*Предпосылки!$F$272","v":0},{"$f":"SUM(P60,Предпосылки!P264*Предпосылки!P116)*Предпосылки!$F$272","v":0},{"$f":"SUM(Q60,Предпосылки!Q264*Предпосылки!Q116)*Предпосылки!$F$272","v":0},{"$f":"SUM(R60,Предпосылки!R264*Предпосылки!R116)*Предпосылки!$F$272","v":0},{"$f":"SUM(S60,Предпосылки!S264*Предпосылки!S116)*Предпосылки!$F$272","v":0},{"$f":"SUM(T60,Предпосылки!T264*Предпосылки!T116)*Предпосылки!$F$272","v":0},{"$f":"SUM(U60,Предпосылки!U264*Предпосылки!U116)*Предпосылки!$F$272","v":0},{"$f":"SUM(V60,Предпосылки!V264*Предпосылки!V116)*Предпосылки!$F$272","v":0},{"$f":"SUM(W60,Предпосылки!W264*Предпосылки!W116)*Предпосылки!$F$272","v":0},{"$f":"SUM(X60,Предпосылки!X264*Предпосылки!X116)*Предпосылки!$F$272","v":0},{"$f":"SUM(Y60,Предпосылки!Y264*Предпосылки!Y116)*Предпосылки!$F$272","v":0},{"$f":"SUM(Z60,Предпосылки!Z264*Предпосылки!Z116)*Предпосылки!$F$272","v":0},{"$f":"SUM(AA60,Предпосылки!AA264*Предпосылки!AA116)*Предпосылки!$F$272","v":0},{"$f":"SUM(AB60,Предпосылки!AB264*Предпосылки!AB116)*Предпосылки!$F$272","v":0}]
[null,null,"По пониженной ставке","тыс. руб.",null,null,null,{"$f":"(H72-Предпосылки!H264*Предпосылки!H116)*Предпосылки!$F$273","v":0},{"$f":"(I72-Предпосылки!I264*Предпосылки!I116)*Предпосылки!$F$273","v":0},{"$f":"(J72-Предпосылки!J264*Предпосылки!J116)*Предпосылки!$F$273","v":0},{"$f":"(K72-Предпосылки!K264*Предпосылки!K116)*Предпосылки!$F$273","v":0},{"$f":"(L72-Предпосылки!L264*Предпосылки!L116)*Предпосылки!$F$273","v":0},{"$f":"(M72-Предпосылки!M264*Предпосылки!M116)*Предпосылки!$F$273","v":0},{"$f":"(N72-Предпосылки!N264*Предпосылки!N116)*Предпосылки!$F$273","v":0},{"$f":"(O72-Предпосылки!O264*Предпосылки!O116)*Предпосылки!$F$273","v":0},{"$f":"(P72-Предпосылки!P264*Предпосылки!P116)*Предпосылки!$F$273","v":0},{"$f":"(Q72-Предпосылки!Q264*Предпосылки!Q116)*Предпосылки!$F$273","v":0},{"$f":"(R72-Предпосылки!R264*Предпосылки!R116)*Предпосылки!$F$273","v":0},{"$f":"(S72-Предпосылки!S264*Предпосылки!S116)*Предпосылки!$F$273","v":0},{"$f":"(T72-Предпосылки!T264*Предпосылки!T116)*Предпосылки!$F$273","v":0},{"$f":"(U72-Предпосылки!U264*Предпосылки!U116)*Предпосылки!$F$273","v":0},{"$f":"(V72-Предпосылки!V264*Предпосылки!V116)*Предпосылки!$F$273","v":0},{"$f":"(W72-Предпосылки!W264*Предпосылки!W116)*Предпосылки!$F$273","v":0},{"$f":"(X72-Предпосылки!X264*Предпосылки!X116)*Предпосылки!$F$273","v":0},{"$f":"(Y72-Предпосылки!Y264*Предпосылки!Y116)*Предпосылки!$F$273","v":0},{"$f":"(Z72-Предпосылки!Z264*Предпосылки!Z116)*Предпосылки!$F$273","v":0},{"$f":"(AA72-Предпосылки!AA264*Предпосылки!AA116)*Предпосылки!$F$273","v":0},{"$f":"(AB72-Предпосылки!AB264*Предпосылки!AB116)*Предпосылки!$F$273","v":0}]
[null,null,"На травматизм",null,null,null,null,{"$f":"SUM(H60,H72)*Предпосылки!$F$274","v":0},{"$f":"SUM(I60,I72)*Предпосылки!$F$274","v":0},{"$f":"SUM(J60,J72)*Предпосылки!$F$274","v":0},{"$f":"SUM(K60,K72)*Предпосылки!$F$274","v":0},{"$f":"SUM(L60,L72)*Предпосылки!$F$274","v":0},{"$f":"SUM(M60,M72)*Предпосылки!$F$274","v":0},{"$f":"SUM(N60,N72)*Предпосылки!$F$274","v":0},{"$f":"SUM(O60,O72)*Предпосылки!$F$274","v":0},{"$f":"SUM(P60,P72)*Предпосылки!$F$274","v":0},{"$f":"SUM(Q60,Q72)*Предпосылки!$F$274","v":0},{"$f":"SUM(R60,R72)*Предпосылки!$F$274","v":0},{"$f":"SUM(S60,S72)*Предпосылки!$F$274","v":0},{"$f":"SUM(T60,T72)*Предпосылки!$F$274","v":0},{"$f":"SUM(U60,U72)*Предпосылки!$F$274","v":0},{"$f":"SUM(V60,V72)*Предпосылки!$F$274","v":0},{"$f":"SUM(W60,W72)*Предпосылки!$F$274","v":0},{"$f":"SUM(X60,X72)*Предпосылки!$F$274","v":0},{"$f":"SUM(Y60,Y72)*Предпосылки!$F$274","v":0},{"$f":"SUM(Z60,Z72)*Предпосылки!$F$274","v":0},{"$f":"SUM(AA60,AA72)*Предпосылки!$F$274","v":0},{"$f":"SUM(AB60,AB72)*Предпосылки!$F$274","v":0}]
[null,"Административный персонал",null,"тыс. руб."]
[null,null,"По общей ставке","тыс. руб.",null,null,null,{"$f":"SUM(H63,Предпосылки!H264*Предпосылки!H119)*Предпосылки!$F$272","v":0},{"$f":"SUM(I63,Предпосылки!I264*Предпосылки!I119)*Предпосылки!$F$272","v":0},{"$f":"SUM(J63,Предпосылки!J264*Предпосылки!J119)*Предпосылки!$F$272","v":0},{"$f":"SUM(K63,Предпосылки!K264*Предпосылки!K119)*Предпосылки!$F$272","v":0},{"$f":"SUM(L63,Предпосылки!L264*Предпосылки!L119)*Предпосылки!$F$272","v":0},{"$f":"SUM(M63,Предпосылки!M264*Предпосылки!M119)*Предпосылки!$F$272","v":0},{"$f":"SUM(N63,Предпосылки!N264*Предпосылки!N119)*Предпосылки!$F$272","v":0},{"$f":"SUM(O63,Предпосылки!O264*Предпосылки!O119)*Предпосылки!$F$272","v":0},{"$f":"SUM(P63,Предпосылки!P264*Предпосылки!P119)*Предпосылки!$F$272","v":0},{"$f":"SUM(Q63,Предпосылки!Q264*Предпосылки!Q119)*Предпосылки!$F$272","v":0},{"$f":"SUM(R63,Предпосылки!R264*Предпосылки!R119)*Предпосылки!$F$272","v":0},{"$f":"SUM(S63,Предпосылки!S264*Предпосылки!S119)*Предпосылки!$F$272","v":0},{"$f":"SUM(T63,Предпосылки!T264*Предпосылки!T119)*Предпосылки!$F$272","v":0},{"$f":"SUM(U63,Предпосылки!U264*Предпосылки!U119)*Предпосылки!$F$272","v":0},{"$f":"SUM(V63,Предпосылки!V264*Предпосылки!V119)*Предпосылки!$F$272","v":0},{"$f":"SUM(W63,Предпосылки!W264*Предпосылки!W119)*Предпосылки!$F$272","v":0},{"$f":"SUM(X63,Предпосылки!X264*Предпосылки!X119)*Предпосылки!$F$272","v":0},{"$f":"SUM(Y63,Предпосылки!Y264*Предпосылки!Y119)*Предпосылки!$F$272","v":0},{"$f":"SUM(Z63,Предпосылки!Z264*Предпосылки!Z119)*Предпосылки!$F$272","v":0},{"$f":"SUM(AA63,Предпосылки!AA264*Предпосылки!AA119)*Предпосылки!$F$272","v":0},{"$f":"SUM(AB63,Предпосылки!AB264*Предпосылки!AB119)*Предпосылки!$F$272","v":0}]
[null,null,"По пониженной ставке","тыс. руб.",null,null,null,{"$f":"(H75-Предпосылки!H264*Предпосылки!H119)*Предпосылки!$F$273","v":0},{"$f":"(I75-Предпосылки!I264*Предпосылки!I119)*Предпосылки!$F$273","v":0},{"$f":"(J75-Предпосылки!J264*Предпосылки!J119)*Предпосылки!$F$273","v":0},{"$f":"(K75-Предпосылки!K264*Предпосылки!K119)*Предпосылки!$F$273","v":0},{"$f":"(L75-Предпосылки!L264*Предпосылки!L119)*Предпосылки!$F$273","v":0},{"$f":"(M75-Предпосылки!M264*Предпосылки!M119)*Предпосылки!$F$273","v":0},{"$f":"(N75-Предпосылки!N264*Предпосылки!N119)*Предпосылки!$F$273","v":0},{"$f":"(O75-Предпосылки!O264*Предпосылки!O119)*Предпосылки!$F$273","v":0},{"$f":"(P75-Предпосылки!P264*Предпосылки!P119)*Предпосылки!$F$273","v":0},{"$f":"(Q75-Предпосылки!Q264*Предпосылки!Q119)*Предпосылки!$F$273","v":0},{"$f":"(R75-Предпосылки!R264*Предпосылки!R119)*Предпосылки!$F$273","v":0},{"$f":"(S75-Предпосылки!S264*Предпосылки!S119)*Предпосылки!$F$273","v":0},{"$f":"(T75-Предпосылки!T264*Предпосылки!T119)*Предпосылки!$F$273","v":0},{"$f":"(U75-Предпосылки!U264*Предпосылки!U119)*Предпосылки!$F$273","v":0},{"$f":"(V75-Предпосылки!V264*Предпосылки!V119)*Предпосылки!$F$273","v":0},{"$f":"(W75-Предпосылки!W264*Предпосылки!W119)*Предпосылки!$F$273","v":0},{"$f":"(X75-Предпосылки!X264*Предпосылки!X119)*Предпосылки!$F$273","v":0},{"$f":"(Y75-Предпосылки!Y264*Предпосылки!Y119)*Предпосылки!$F$273","v":0},{"$f":"(Z75-Предпосылки!Z264*Предпосылки!Z119)*Предпосылки!$F$273","v":0},{"$f":"(AA75-Предпосылки!AA264*Предпосылки!AA119)*Предпосылки!$F$273","v":0},{"$f":"(AB75-Предпосылки!AB264*Предпосылки!AB119)*Предпосылки!$F$273","v":0}]
[null,null,"На травматизм",null,null,null,null,{"$f":"SUM(H63,H75)*Предпосылки!$F$274","v":0},{"$f":"SUM(I63,I75)*Предпосылки!$F$274","v":0},{"$f":"SUM(J63,J75)*Предпосылки!$F$274","v":0},{"$f":"SUM(K63,K75)*Предпосылки!$F$274","v":0},{"$f":"SUM(L63,L75)*Предпосылки!$F$274","v":0},{"$f":"SUM(M63,M75)*Предпосылки!$F$274","v":0},{"$f":"SUM(N63,N75)*Предпосылки!$F$274","v":0},{"$f":"SUM(O63,O75)*Предпосылки!$F$274","v":0},{"$f":"SUM(P63,P75)*Предпосылки!$F$274","v":0},{"$f":"SUM(Q63,Q75)*Предпосылки!$F$274","v":0},{"$f":"SUM(R63,R75)*Предпосылки!$F$274","v":0},{"$f":"SUM(S63,S75)*Предпосылки!$F$274","v":0},{"$f":"SUM(T63,T75)*Предпосылки!$F$274","v":0},{"$f":"SUM(U63,U75)*Предпосылки!$F$274","v":0},{"$f":"SUM(V63,V75)*Предпосылки!$F$274","v":0},{"$f":"SUM(W63,W75)*Предпосылки!$F$274","v":0},{"$f":"SUM(X63,X75)*Предпосылки!$F$274","v":0},{"$f":"SUM(Y63,Y75)*Предпосылки!$F$274","v":0},{"$f":"SUM(Z63,Z75)*Предпосылки!$F$274","v":0},{"$f":"SUM(AA63,AA75)*Предпосылки!$F$274","v":0},{"$f":"SUM(AB63,AB75)*Предпосылки!$F$274","v":0}]
[null,null,"Итого","тыс. руб.",null,null,null,{"$f":"SUBTOTAL(9,H125:H136)","v":0},{"$f":"SUBTOTAL(9,I125:I136)","v":0},0,0,0,0,0,0,0,0,0,0,0,0,0,0,0,0,0,0,0]
[]
[null,"ФОМС"]
[null,"Производственный персонал",null,"тыс. руб.",null,null,null,{"$f":"SUM(H57,H69)*Предпосылки!$F$276","v":0},{"$f":"SUM(I57,I69)*Предпосылки!$F$276","v":0},{"$f":"SUM(J57,J69)*Предпосылки!$F$276","v":0},{"$f":"SUM(K57,K69)*Предпосылки!$F$276","v":0},{"$f":"SUM(L57,L69)*Предпосылки!$F$276","v":0},{"$f":"SUM(M57,M69)*Предпосылки!$F$276","v":0},{"$f":"SUM(N57,N69)*Предпосылки!$F$276","v":0},{"$f":"SUM(O57,O69)*Предпосылки!$F$276","v":0},{"$f":"SUM(P57,P69)*Предпосылки!$F$276","v":0},{"$f":"SUM(Q57,Q69)*Предпосылки!$F$276","v":0},{"$f":"SUM(R57,R69)*Предпосылки!$F$276","v":0},{"$f":"SUM(S57,S69)*Предпосылки!$F$276","v":0},{"$f":"SUM(T57,T69)*Предпосылки!$F$276","v":0},{"$f":"SUM(U57,U69)*Предпосылки!$F$276","v":0},{"$f":"SUM(V57,V69)*Предпосылки!$F$276","v":0},{"$f":"SUM(W57,W69)*Предпосылки!$F$276","v":0},{"$f":"SUM(X57,X69)*Предпосылки!$F$276","v":0},{"$f":"SUM(Y57,Y69)*Предпосылки!$F$276","v":0},{"$f":"SUM(Z57,Z69)*Предпосылки!$F$276","v":0},{"$f":"SUM(AA57,AA69)*Предпосылки!$F$276","v":0},{"$f":"SUM(AB57,AB69)*Предпосылки!$F$276","v":0}]
[null,"Вспомогательный персонал",null,"тыс. руб.",null,null,null,{"$f":"SUM(H60,H72)*Предпосылки!$F$276","v":0},{"$f":"SUM(I60,I72)*Предпосылки!$F$276","v":0},{"$f":"SUM(J60,J72)*Предпосылки!$F$276","v":0},{"$f":"SUM(K60,K72)*Предпосылки!$F$276","v":0},{"$f":"SUM(L60,L72)*Предпосылки!$F$276","v":0},{"$f":"SUM(M60,M72)*Предпосылки!$F$276","v":0},{"$f":"SUM(N60,N72)*Предпосылки!$F$276","v":0},{"$f":"SUM(O60,O72)*Предпосылки!$F$276","v":0},{"$f":"SUM(P60,P72)*Предпосылки!$F$276","v":0},{"$f":"SUM(Q60,Q72)*Предпосылки!$F$276","v":0},{"$f":"SUM(R60,R72)*Предпосылки!$F$276","v":0},{"$f":"SUM(S60,S72)*Предпосылки!$F$276","v":0},{"$f":"SUM(T60,T72)*Предпосылки!$F$276","v":0},{"$f":"SUM(U60,U72)*Предпосылки!$F$276","v":0},{"$f":"SUM(V60,V72)*Предпосылки!$F$276","v":0},{"$f":"SUM(W60,W72)*Предпосылки!$F$276","v":0},{"$f":"SUM(X60,X72)*Предпосылки!$F$276","v":0},{"$f":"SUM(Y60,Y72)*Предпосылки!$F$276","v":0},{"$f":"SUM(Z60,Z72)*Предпосылки!$F$276","v":0},{"$f":"SUM(AA60,AA72)*Предпосылки!$F$276","v":0},{"$f":"SUM(AB60,AB72)*Предпосылки!$F$276","v":0}]
[null,"Административный персонал",null,"тыс. руб.",null,null,null,{"$f":"SUM(H63,H75)*Предпосылки!$F$276","v":0},{"$f":"SUM(I63,I75)*Предпосылки!$F$276","v":0},{"$f":"SUM(J63,J75)*Предпосылки!$F$276","v":0},{"$f":"SUM(K63,K75)*Предпосылки!$F$276","v":0},{"$f":"SUM(L63,L75)*Предпосылки!$F$276","v":0},{"$f":"SUM(M63,M75)*Предпосылки!$F$276","v":0},{"$f":"SUM(N63,N75)*Предпосылки!$F$276","v":0},{"$f":"SUM(O63,O75)*Предпосылки!$F$276","v":0},{"$f":"SUM(P63,P75)*Предпосылки!$F$276","v":0},{"$f":"SUM(Q63,Q75)*Предпосылки!$F$276","v":0},{"$f":"SUM(R63,R75)*Предпосылки!$F$276","v":0},{"$f":"SUM(S63,S75)*Предпосылки!$F$276","v":0},{"$f":"SUM(T63,T75)*Предпосылки!$F$276","v":0},{"$f":"SUM(U63,U75)*Предпосылки!$F$276","v":0},{"$f":"SUM(V63,V75)*Предпосылки!$F$276","v":0},{"$f":"SUM(W63,W75)*Предпосылки!$F$276","v":0},{"$f":"SUM(X63,X75)*Предпосылки!$F$276","v":0},{"$f":"SUM(Y63,Y75)*Предпосылки!$F$276","v":0},{"$f":"SUM(Z63,Z75)*Предпосылки!$F$276","v":0},{"$f":"SUM(AA63,AA75)*Предпосылки!$F$276","v":0},{"$f":"SUM(AB63,AB75)*Предпосылки!$F$276","v":0}]
[null,null,"Итого","тыс. руб.",null,null,null,{"$f":"SUM(H140:H142)","v":0},{"$f":"SUM(I140:I142)","v":0},0,0,0,0,0,0,0,0,0,0,0,0,0,0,0,0,0,0,0]
[]
[null,"Совокупные расходы на персонал"]
[]
[null,"Производственный персонал",null,"тыс. руб.",null,null,null,{"$f":"SUM(H57,H69,H114:H115,H126:H128,H140)","v":0},{"$f":"SUM(I57,I69,I114:I115,I126:I128,I140)","v":0},0,0,0,0,0,0,0,0,0,0,0,0,0,0,0,0,0,0,0]
[null,"Вспомогательный персонал",null,"тыс. руб.",null,null,null,{"$f":"SUM(H60,H72,H117:H118,H130:H132,H141)","v":0},{"$f":"SUM(I60,I72,I117:I118,I130:I132,I141)","v":0},0,0,0,0,0,0,0,0,0,0,0,0,0,0,0,0,0,0,0]
[null,"Административный персонал",null,"тыс. руб.",null,null,null,{"$f":"SUM(H63,H75,H120:H121,H134:H136,H142)","v":0},{"$f":"SUM(I63,I75,I120:I121,I134:I136,I142)","v":0},0,0,0,0,0,0,0,0,0,0,0,0,0,0,0,0,0,0,0]
[null,null,"Итого","тыс. руб.",null,null,null,{"$f":"SUM(H147:H149)","v":0},{"$f":"SUM(I147:I149)","v":0},0,0,0,0,0,0,0,0,0,0,0,0,0,0,0,0,0,0,0]
[]
[null,"Расчеты с сотрудниками по заработной плате"]
[]
[null,null,"Задолженность на начало периода","тыс. руб.",null,null,null,{"$f":"G157","v":0},{"$f":"H157","v":0},0,0,0,0,0,0,0,0,0,0,0,0,0,{"$f":"V157","v":0},0,0,0,0,0]
[null,null,"Начисление заработной платы","тыс. руб.",null,null,null,{"$f":"H81","v":0},{"$f":"I81","v":0},0,0,0,0,0,0,0,0,0,0,0,0,0,0,0,0,0,0,0]
[null,null,"Уплата заработной платы в том числе НДФЛ (-)","тыс. руб.",null,null,null,{"$f":"-H155*Предпосылки!$F$296-H154","v":0},{"$f":"-I155*Предпосылки!$F$296-I154","v":0},{"$f":"-J155*Предпосылки!$F$296-J154","v":0},{"$f":"-K155*Предпосылки!$F$296-K154","v":0},{"$f":"-L155*Предпосылки!$F$296-L154","v":0},{"$f":"-M155*Предпосылки!$F$296-M154","v":0},{"$f":"-N155*Предпосылки!$F$296-N154","v":0},{"$f":"-O155*Предпосылки!$F$296-O154","v":0},{"$f":"-P155*Предпосылки!$F$296-P154","v":0},{"$f":"-Q155*Предпосылки!$F$296-Q154","v":0},{"$f":"-R155*Предпосылки!$F$296-R154","v":0},{"$f":"-S155*Предпосылки!$F$296-S154","v":0},{"$f":"-T155*Предпосылки!$F$296-T154","v":0},{"$f":"-U155*Предпосылки!$F$296-U154","v":0},{"$f":"-V155*Предпосылки!$F$296-V154","v":0},{"$f":"-W155*Предпосылки!$F$296-W154","v":0},{"$f":"-X155*Предпосылки!$F$296-X154","v":0},{"$f":"-Y155*Предпосылки!$F$296-Y154","v":0},{"$f":"-Z155*Предпосылки!$F$296-Z154","v":0},{"$f":"-AA155*Предпосылки!$F$296-AA154","v":0},{"$f":"-AB155*Предпосылки!$F$296-AB154","v":0}]
[null,null,"Задолженность на конец периода в том чиле НДФЛ","тыс. руб.",null,null,null,{"$f":"SUM(H154:H156)","v":0},{"$f":"SUM(I154:I156)","v":0},0,0,0,0,0,0,0,0,0,0,0,0,0,0,0,0,0,0,0]
[]
[null,"Расчеты по страховым взносам во внебюджетные фонды "]
[]
[null,"Страховые взносы с учетом применения льготного тарифа для участников СПИК 1.0, являющихся участниками промышленных кластеров"]
[]
[null,"ИТОГО"]
[null,null,"Задолженность  на  начало периода","тыс. руб.",null,null,null,{"$f":"G167","v":0},{"$f":"H167","v":0},{"$f":"I167","v":0},{"$f":"J167","v":0},{"$f":"K167","v":0},{"$f":"L167","v":0},{"$f":"M167","v":0},{"$f":"N167","v":0},{"$f":"O167","v":0},{"$f":"P167","v":0},{"$f":"Q167","v":0},{"$f":"R167","v":0},{"$f":"S167","v":0},{"$f":"T167","v":0},{"$f":"U167","v":0},{"$f":"V167","v":0},{"$f":"W167","v":0},{"$f":"X167","v":0},{"$f":"Y167","v":0},{"$f":"Z167","v":0},{"$f":"AA167","v":0}]
[null,null,"Начисление взносов","тыс. руб.",null,null,null,{"$f":"H108","v":0},{"$f":"I108","v":0},0,0,0,0,0,0,0,0,0,0,0,0,0,0,0,0,0,0,0]
[null,null,"Уплата взносов (-)","тыс. руб.",null,null,null,{"$f":"-H165*Предпосылки!$F$310-H164","v":0},{"$f":"-I165*Предпосылки!$F$310-I164","v":0},{"$f":"-J165*Предпосылки!$F$310-J164","v":0},{"$f":"-K165*Предпосылки!$F$310-K164","v":0},{"$f":"-L165*Предпосылки!$F$310-L164","v":0},{"$f":"-M165*Предпосылки!$F$310-M164","v":0},{"$f":"-N165*Предпосылки!$F$310-N164","v":0},{"$f":"-O165*Предпосылки!$F$310-O164","v":0},{"$f":"-P165*Предпосылки!$F$310-P164","v":0},{"$f":"-Q165*Предпосылки!$F$310-Q164","v":0},{"$f":"-R165*Предпосылки!$F$310-R164","v":0},{"$f":"-S165*Предпосылки!$F$310-S164","v":0},{"$f":"-T165*Предпосылки!$F$310-T164","v":0},{"$f":"-U165*Предпосылки!$F$310-U164","v":0},{"$f":"-V165*Предпосылки!$F$310-V164","v":0},{"$f":"-W165*Предпосылки!$F$310-W164","v":0},{"$f":"-X165*Предпосылки!$F$310-X164","v":0},{"$f":"-Y165*Предпосылки!$F$310-Y164","v":0},{"$f":"-Z165*Предпосылки!$F$310-Z164","v":0},{"$f":"-AA165*Предпосылки!$F$310-AA164","v":0},{"$f":"-AB165*Предпосылки!$F$310-AB164","v":0}]
[null,null,"Задолженность на конец периода","тыс. руб.",null,null,null,{"$f":"SUM(H164:H166)","v":0},{"$f":"SUM(I164:I166)","v":0},0,0,0,0,0,0,0,0,0,0,0,0,0,0,0,0,0,0,0]
[]
[null,"Страховые взносы в иных случаях"]
[]
[null,"ПФР"]
[null,null,"Задолженность  на  начало периода","тыс. руб.",null,null,null,{"$f":"G175","v":0},{"$f":"H175","v":0},0,0,0,0,0,0,0,0,0,0,0,0,0,{"$f":"V175","v":0},0,0,0,0,0]
[null,null,"Начисление взносов","тыс. руб.",null,null,null,{"$f":"H122","v":0},0,0,0,0,0,0,0,0,0,0,0,0,0,0,0,0,0,0,0,0]
[null,null,"Уплата взносов (-)","тыс. руб.",null,null,null,{"$f":"-H173*Предпосылки!$F$310-H172","v":0},{"$f":"-I173*Предпосылки!$F$310-I172","v":0},{"$f":"-J173*Предпосылки!$F$310-J172","v":0},{"$f":"-K173*Предпосылки!$F$310-K172","v":0},{"$f":"-L173*Предпосылки!$F$310-L172","v":0},{"$f":"-M173*Предпосылки!$F$310-M172","v":0},{"$f":"-N173*Предпосылки!$F$310-N172","v":0},{"$f":"-O173*Предпосылки!$F$310-O172","v":0},{"$f":"-P173*Предпосылки!$F$310-P172","v":0},{"$f":"-Q173*Предпосылки!$F$310-Q172","v":0},{"$f":"-R173*Предпосылки!$F$310-R172","v":0},{"$f":"-S173*Предпосылки!$F$310-S172","v":0},{"$f":"-T173*Предпосылки!$F$310-T172","v":0},{"$f":"-U173*Предпосылки!$F$310-U172","v":0},{"$f":"-V173*Предпосылки!$F$310-V172","v":0},{"$f":"-W173*Предпосылки!$F$310-W172","v":0},{"$f":"-X173*Предпосылки!$F$310-X172","v":0},{"$f":"-Y173*Предпосылки!$F$310-Y172","v":0},{"$f":"-Z173*Предпосылки!$F$310-Z172","v":0},{"$f":"-AA173*Предпосылки!$F$310-AA172","v":0},{"$f":"-AB173*Предпосылки!$F$310-AB172","v":0}]
[null,null,"Задолженность на конец периода","тыс. руб.",null,null,null,{"$f":"SUM(H172:H174)","v":0},{"$f":"SUM(I172:I174)","v":0},0,0,0,0,0,0,0,0,0,0,0,0,0,0,0,0,0,0,0]
[]
[null,"ФСС"]
[null,null,"Задолженность  на  начало периода","тыс. руб.",null,null,null,{"$f":"G181","v":0},{"$f":"H181","v":0},0,0,0,0,0,0,0,0,0,0,0,0,0,{"$f":"V181","v":0},0,0,0,0,0]
[null,null,"Начисление взносов","тыс. руб.",null,null,null,{"$f":"H137","v":0},0,0,0,0,0,0,0,0,0,0,0,0,0,0,0,0,0,0,0,0]
[null,null,"Уплата взносов (-)","тыс. руб.",null,null,null,{"$f":"-H179*Предпосылки!$F$310-H178","v":0},{"$f":"-I179*Предпосылки!$F$310-I178","v":0},{"$f":"-J179*Предпосылки!$F$310-J178","v":0},{"$f":"-K179*Предпосылки!$F$310-K178","v":0},{"$f":"-L179*Предпосылки!$F$310-L178","v":0},{"$f":"-M179*Предпосылки!$F$310-M178","v":0},{"$f":"-N179*Предпосылки!$F$310-N178","v":0},{"$f":"-O179*Предпосылки!$F$310-O178","v":0},{"$f":"-P179*Предпосылки!$F$310-P178","v":0},{"$f":"-Q179*Предпосылки!$F$310-Q178","v":0},{"$f":"-R179*Предпосылки!$F$310-R178","v":0},{"$f":"-S179*Предпосылки!$F$310-S178","v":0},{"$f":"-T179*Предпосылки!$F$310-T178","v":0},{"$f":"-U179*Предпосылки!$F$310-U178","v":0},{"$f":"-V179*Предпосылки!$F$310-V178","v":0},{"$f":"-W179*Предпосылки!$F$310-W178","v":0},{"$f":"-X179*Предпосылки!$F$310-X178","v":0},{"$f":"-Y179*Предпосылки!$F$310-Y178","v":0},{"$f":"-Z179*Предпосылки!$F$310-Z178","v":0},{"$f":"-AA179*Предпосылки!$F$310-AA178","v":0},{"$f":"-AB179*Предпосылки!$F$310-AB178","v":0}]
[null,null,"Задолженность на конец периода","тыс. руб.",null,null,null,{"$f":"SUM(H178:H180)","v":0},0,0,0,0,0,0,0,0,0,0,0,0,0,{"$f":"SUM(V178:V180)","v":0},0,0,0,0,0,0]
[]
[null,"ФОМС"]
[null,null,"Задолженность  на  начало периода","тыс. руб.",null,null,null,{"$f":"G187","v":0},{"$f":"H187","v":0},0,0,0,0,0,0,0,0,0,0,0,0,0,{"$f":"V187","v":0},0,0,0,0,0]
[null,null,"Начисление взносов","тыс. руб.",null,null,null,{"$f":"H143","v":0},0,0,0,0,0,0,0,0,0,0,0,0,0,0,0,0,0,0,0,0]
[null,null,"Уплата взносов (-)","тыс. руб.",null,null,null,{"$f":"-H185*Предпосылки!$F$310-H184","v":0},{"$f":"-I185*Предпосылки!$F$310-I184","v":0},{"$f":"-J185*Предпосылки!$F$310-J184","v":0},{"$f":"-K185*Предпосылки!$F$310-K184","v":0},{"$f":"-L185*Предпосылки!$F$310-L184","v":0},{"$f":"-M185*Предпосылки!$F$310-M184","v":0},{"$f":"-N185*Предпосылки!$F$310-N184","v":0},{"$f":"-O185*Предпосылки!$F$310-O184","v":0},{"$f":"-P185*Предпосылки!$F$310-P184","v":0},{"$f":"-Q185*Предпосылки!$F$310-Q184","v":0},{"$f":"-R185*Предпосылки!$F$310-R184","v":0},{"$f":"-S185*Предпосылки!$F$310-S184","v":0},{"$f":"-T185*Предпосылки!$F$310-T184","v":0},{"$f":"-U185*Предпосылки!$F$310-U184","v":0},{"$f":"-V185*Предпосылки!$F$310-V184","v":0},{"$f":"-W185*Предпосылки!$F$310-W184","v":0},{"$f":"-X185*Предпосылки!$F$310-X184","v":0},{"$f":"-Y185*Предпосылки!$F$310-Y184","v":0},{"$f":"-Z185*Предпосылки!$F$310-Z184","v":0},{"$f":"-AA185*Предпосылки!$F$310-AA184","v":0},{"$f":"-AB185*Предпосылки!$F$310-AB184","v":0}]
[null,null,"Задолженность на конец периода","тыс. руб.",null,null,null,{"$f":"SUM(H184:H186)","v":0},0,0,0,0,0,0,0,0,0,0,0,0,0,{"$f":"SUM(V184:V186)","v":0},0,0,0,0,0,0]
[]
[null,"ИТОГО"]
[null,null,"Задолженность  на  начало периода","тыс. руб.",null,null,null,{"$f":"SUM(H172,H178,H184)","v":0},0,0,0,0,0,0,0,0,0,0,0,0,0,0,0,0,0,0,0,0]
[null,null,"Начисление взносов","тыс. руб.",null,null,null,{"$f":"SUM(H173,H179,H185)","v":0},0,0,0,0,0,0,0,0,0,0,0,0,0,0,0,{"$f":"SUM(X173,X179,X185)","v":0},0,0,0,0]
[null,null,"Уплата взносов (-)","тыс. руб.",null,null,null,0,0,0,0,0,0,0,0,0,0,0,0,0,0,0,0,0,0,0,0,0]
[null,null,"Задолженность на конец периода","тыс. руб.",null,null,null,0,0,0,0,0,0,0,0,0,0,0,0,0,0,0,0,0,0,0,0,0]

{"sheet":"Оборотный капитал","index":8,"n_rows":146,"n_cols":28,"rows_kept":146,"cut":false,"hidden":false,"merged":[[1,2,2,2],[1,3,2,3],[1,4,2,4],[1,5,2,5]]}
[null,null,null,null,{"$f":"\"Лист:  \" & RIGHT(CELL(\"filename\",A1),LEN(CELL(\"filename\",A1))-SEARCH(\"]\",CELL(\"filename\",A1)))","v":"Лист:  Оборотный капитал"}]
[null,null,"Параметр","Ед. изм.","Источник","Текущее значение",null,{"$f":"Предпосылки!H2","v":2023},{"$f":"Предпосылки!I2","v":2024},{"$f":"Предпосылки!J2","v":2025},{"$f":"Предпосылки!K2","v":2026},{"$f":"Предпосылки!L2","v":2027},{"$f":"Предпосылки!M2","v":2028},{"$f":"Предпосылки!N2","v":2029},{"$f":"Предпосылки!O2","v":2030},{"$f":"Предпосылки!P2","v":2031},{"$f":"Предпосылки!Q2","v":2032},{"$f":"Предпосылки!R2","v":2033},{"$f":"Предпосылки!S2","v":2034},{"$f":"Предпосылки!T2","v":2035},{"$f":"Предпосылки!U2","v":2036},{"$f":"Предпосылки!V2","v":2037},{"$f":"Предпосылки!W2","v":2038},{"$f":"Предпосылки!X2","v":2039},{"$f":"Предпосылки!Y2","v":2040},{"$f":"Предпосылки!Z2","v":2041},{"$f":"Предпосылки!AA2","v":2042},{"$f":"Предпосылки!AB2","v":2043}]
[null,null,null,null,null,null,null,1,2,3,4,5,6,7,8,9,10,11,12,13,14,15,16,17,18,19,20,21]
[]
[null,null,"Дней в отчетном периоде","дн",null,null,null,{"$f":"Предпосылки!H12","v":365},{"$f":"Предпосылки!I12","v":366},{"$f":"Предпосылки!J12","v":365},{"$f":"Предпосылки!K12","v":365},{"$f":"Предпосылки!L12","v":365},{"$f":"Предпосылки!M12","v":366},{"$f":"Предпосылки!N12","v":365},{"$f":"Предпосылки!O12","v":365},{"$f":"Предпосылки!P12","v":365},{"$f":"Предпосылки!Q12","v":366},{"$f":"Предпосылки!R12","v":365},{"$f":"Предпосылки!S12","v":365},{"$f":"Предпосылки!T12","v":365},{"$f":"Предпосылки!U12","v":366},{"$f":"Предпосылки!V12","v":365},{"$f":"Предпосылки!W12","v":365},{"$f":"Предпосылки!X12","v":365},{"$f":"Предпосылки!Y12","v":366},{"$f":"Предпосылки!Z12","v":365},{"$f":"Предпосылки!AA12","v":365},{"$f":"Предпосылки!AB12","v":365}]
[]
[null,"Запасы (без НДС)"]
[]
[null,"Прямые расходы"]
[null,"Продукция 1 "]
[null,null,"Сырье/материалы 1","тыс. руб.","Лист: Операционные затраты",null,null,{"$f":"'Операционные затраты'!H8","v":0},{"$f":"'Операционные затраты'!I8","v":0},{"$f":"'Операционные затраты'!J8","v":0},{"$f":"'Операционные затраты'!K8","v":0},{"$f":"'Операционные затраты'!L8","v":0},{"$f":"'Операционные затраты'!M8","v":0},{"$f":"'Операционные затраты'!N8","v":0},{"$f":"'Операционные затраты'!O8","v":0},{"$f":"'Операционные затраты'!P8","v":0},{"$f":"'Операционные затраты'!Q8","v":0},{"$f":"'Операционные затраты'!R8","v":0},{"$f":"'Операционные затраты'!S8","v":0},{"$f":"'Операционные затраты'!T8","v":0},{"$f":"'Операционные затраты'!U8","v":0},{"$f":"'Операционные затраты'!V8","v":0},{"$f":"'Операционные затраты'!W8","v":0},{"$f":"'Операционные затраты'!X8","v":0},{"$f":"'Операционные затраты'!Y8","v":0},{"$f":"'Операционные затраты'!Z8","v":0},{"$f":"'Операционные затраты'!AA8","v":0},{"$f":"'Операционные затраты'!AB8","v":0}]
[null,null,"Сырье/материалы 2","тыс. руб.","Лист: Операционные затраты",null,null,{"$f":"'Операционные затраты'!H9","v":0},{"$f":"'Операционные затраты'!I9","v":0},{"$f":"'Операционные затраты'!J9","v":0},{"$f":"'Операционные затраты'!K9","v":0},{"$f":"'Операционные затраты'!L9","v":0},{"$f":"'Операционные затраты'!M9","v":0},{"$f":"'Операционные затраты'!N9","v":0},{"$f":"'Операционные затраты'!O9","v":0},{"$f":"'Операционные затраты'!P9","v":0},{"$f":"'Операционные затраты'!Q9","v":0},{"$f":"'Операционные затраты'!R9","v":0},{"$f":"'Операционные затраты'!S9","v":0},{"$f":"'Операционные затраты'!T9","v":0},{"$f":"'Операционные затраты'!U9","v":0},{"$f":"'Операционные затраты'!V9","v":0},{"$f":"'Операционные затраты'!W9","v":0},{"$f":"'Операционные затраты'!X9","v":0},{"$f":"'Операционные затраты'!Y9","v":0},{"$f":"'Операционные затраты'!Z9","v":0},{"$f":"'Операционные затраты'!AA9","v":0},{"$f":"'Операционные затраты'!AB9","v":0}]
[null,null,"…"]
[null,"Продукция 2"]
[null,null,"Сырье/материалы 1","тыс. руб.","Лист: Операционные затраты",null,null,{"$f":"'Операционные затраты'!H14","v":0},{"$f":"'Операционные затраты'!I14","v":0},{"$f":"'Операционные затраты'!J14","v":0},{"$f":"'Операционные затраты'!K14","v":0},{"$f":"'Операционные затраты'!L14","v":0},{"$f":"'Операционные затраты'!M14","v":0},{"$f":"'Операционные затраты'!N14","v":0},{"$f":"'Операционные затраты'!O14","v":0},{"$f":"'Операционные затраты'!P14","v":0},{"$f":"'Операционные затраты'!Q14","v":0},{"$f":"'Операционные затраты'!R14","v":0},{"$f":"'Операционные затраты'!S14","v":0},{"$f":"'Операционные затраты'!T14","v":0},{"$f":"'Операционные затраты'!U14","v":0},{"$f":"'Операционные затраты'!V14","v":0},{"$f":"'Операционные затраты'!W14","v":0},{"$f":"'Операционные затраты'!X14","v":0},{"$f":"'Операционные затраты'!Y14","v":0},{"$f":"'Операционные затраты'!Z14","v":0},{"$f":"'Операционные затраты'!AA14","v":0},{"$f":"'Операционные затраты'!AB14","v":0}]
[null,null,"Сырье/материалы 3","тыс. руб.","Лист: Операционные затраты",null,null,{"$f":"'Операционные затраты'!H15","v":0},{"$f":"'Операционные затраты'!I15","v":0},{"$f":"'Операционные затраты'!J15","v":0},{"$f":"'Операционные затраты'!K15","v":0},{"$f":"'Операционные затраты'!L15","v":0},{"$f":"'Операционные затраты'!M15","v":0},{"$f":"'Операционные затраты'!N15","v":0},{"$f":"'Операционные затраты'!O15","v":0},{"$f":"'Операционные затраты'!P15","v":0},{"$f":"'Операционные затраты'!Q15","v":0},{"$f":"'Операционные затраты'!R15","v":0},{"$f":"'Операционные затраты'!S15","v":0},{"$f":"'Операционные затраты'!T15","v":0},{"$f":"'Операционные затраты'!U15","v":0},{"$f":"'Операционные затраты'!V15","v":0},{"$f":"'Операционные затраты'!W15","v":0},{"$f":"'Операционные затраты'!X15","v":0},{"$f":"'Операционные затраты'!Y15","v":0},{"$f":"'Операционные затраты'!Z15","v":0},{"$f":"'Операционные затраты'!AA15","v":0},{"$f":"'Операционные затраты'!AB15","v":0}]
[null,null,"…"]
[null,"Итого:",null,"тыс. руб.",null,null,null,{"$f":"SUM(H11:H12,H15:H16)","v":0},0,0,0,0,0,0,0,0,0,0,0,0,0,0,0,0,0,0,0,0]
[]
[null,"Остаток запасов на начало периода"]
[null,"Продукция 1 "]
[null,null,"Сырье/материалы 1","тыс. руб.",null,null,null,{"$f":"H11*Предпосылки!H201/H$5","v":0},{"$f":"I11*Предпосылки!I201/I$5","v":0},{"$f":"J11*Предпосылки!J201/J$5","v":0},{"$f":"K11*Предпосылки!K201/K$5","v":0},{"$f":"L11*Предпосылки!L201/L$5","v":0},{"$f":"M11*Предпосылки!M201/M$5","v":0},{"$f":"N11*Предпосылки!N201/N$5","v":0},{"$f":"O11*Предпосылки!O201/O$5","v":0},{"$f":"P11*Предпосылки!P201/P$5","v":0},{"$f":"Q11*Предпосылки!Q201/Q$5","v":0},{"$f":"R11*Предпосылки!R201/R$5","v":0},{"$f":"S11*Предпосылки!S201/S$5","v":0},{"$f":"T11*Предпосылки!T201/T$5","v":0},{"$f":"U11*Предпосылки!U201/U$5","v":0},{"$f":"V11*Предпосылки!V201/V$5","v":0},{"$f":"W11*Предпосылки!W201/W$5","v":0},{"$f":"X11*Предпосылки!X201/X$5","v":0},{"$f":"Y11*Предпосылки!Y201/Y$5","v":0},{"$f":"Z11*Предпосылки!Z201/Z$5","v":0},{"$f":"AA11*Предпосылки!AA201/AA$5","v":0},{"$f":"AB11*Предпосылки!AB201/AB$5","v":0}]
[null,null,"Сырье/материалы 2","тыс. руб.",null,null,null,{"$f":"H12*Предпосылки!H202/H$5","v":0},{"$f":"I12*Предпосылки!I202/I$5","v":0},{"$f":"J12*Предпосылки!J202/J$5","v":0},{"$f":"K12*Предпосылки!K202/K$5","v":0},{"$f":"L12*Предпосылки!L202/L$5","v":0},{"$f":"M12*Предпосылки!M202/M$5","v":0},{"$f":"N12*Предпосылки!N202/N$5","v":0},{"$f":"O12*Предпосылки!O202/O$5","v":0},{"$f":"P12*Предпосылки!P202/P$5","v":0},{"$f":"Q12*Предпосылки!Q202/Q$5","v":0},{"$f":"R12*Предпосылки!R202/R$5","v":0},{"$f":"S12*Предпосылки!S202/S$5","v":0},{"$f":"T12*Предпосылки!T202/T$5","v":0},{"$f":"U12*Предпосылки!U202/U$5","v":0},{"$f":"V12*Предпосылки!V202/V$5","v":0},{"$f":"W12*Предпосылки!W202/W$5","v":0},{"$f":"X12*Предпосылки!X202/X$5","v":0},{"$f":"Y12*Предпосылки!Y202/Y$5","v":0},{"$f":"Z12*Предпосылки!Z202/Z$5","v":0},{"$f":"AA12*Предпосылки!AA202/AA$5","v":0},{"$f":"AB12*Предпосылки!AB202/AB$5","v":0}]
[null,null,"…"]
[null,"Продукция 2"]
[null,null,"Сырье/материалы 1","тыс. руб.",null,null,null,{"$f":"H15*Предпосылки!H205/H$5","v":0},{"$f":"I15*Предпосылки!I205/I$5","v":0},{"$f":"J15*Предпосылки!J205/J$5","v":0},{"$f":"K15*Предпосылки!K205/K$5","v":0},{"$f":"L15*Предпосылки!L205/L$5","v":0},{"$f":"M15*Предпосылки!M205/M$5","v":0},{"$f":"N15*Предпосылки!N205/N$5","v":0},{"$f":"O15*Предпосылки!O205/O$5","v":0},{"$f":"P15*Предпосылки!P205/P$5","v":0},{"$f":"Q15*Предпосылки!Q205/Q$5","v":0},{"$f":"R15*Предпосылки!R205/R$5","v":0},{"$f":"S15*Предпосылки!S205/S$5","v":0},{"$f":"T15*Предпосылки!T205/T$5","v":0},{"$f":"U15*Предпосылки!U205/U$5","v":0},{"$f":"V15*Предпосылки!V205/V$5","v":0},{"$f":"W15*Предпосылки!W205/W$5","v":0},{"$f":"X15*Предпосылки!X205/X$5","v":0},{"$f":"Y15*Предпосылки!Y205/Y$5","v":0},{"$f":"Z15*Предпосылки!Z205/Z$5","v":0},{"$f":"AA15*Предпосылки!AA205/AA$5","v":0},{"$f":"AB15*Предпосылки!AB205/AB$5","v":0}]
[null,null,"Сырье/материалы 3","тыс. руб.",null,null,null,{"$f":"H16*Предпосылки!H206/H$5","v":0},{"$f":"I16*Предпосылки!I206/I$5","v":0},{"$f":"J16*Предпосылки!J206/J$5","v":0},{"$f":"K16*Предпосылки!K206/K$5","v":0},{"$f":"L16*Предпосылки!L206/L$5","v":0},{"$f":"M16*Предпосылки!M206/M$5","v":0},{"$f":"N16*Предпосылки!N206/N$5","v":0},{"$f":"O16*Предпосылки!O206/O$5","v":0},{"$f":"P16*Предпосылки!P206/P$5","v":0},{"$f":"Q16*Предпосылки!Q206/Q$5","v":0},{"$f":"R16*Предпосылки!R206/R$5","v":0},{"$f":"S16*Предпосылки!S206/S$5","v":0},{"$f":"T16*Предпосылки!T206/T$5","v":0},{"$f":"U16*Предпосылки!U206/U$5","v":0},{"$f":"V16*Предпосылки!V206/V$5","v":0},{"$f":"W16*Предпосылки!W206/W$5","v":0},{"$f":"X16*Предпосылки!X206/X$5","v":0},{"$f":"Y16*Предпосылки!Y206/Y$5","v":0},{"$f":"Z16*Предпосылки!Z206/Z$5","v":0},{"$f":"AA16*Предпосылки!AA206/AA$5","v":0},{"$f":"AB16*Предпосылки!AB206/AB$5","v":0}]
[null,null,"…"]
[null,"Итого:",null,"тыс. руб.",null,null,null,{"$f":"SUM(H22:H23,H26:H27)","v":0},{"$f":"SUM(I22:I23,I26:I27)","v":0},0,0,0,0,0,0,0,0,0,0,0,0,0,0,0,0,0,0,0]
[]
[null,"Дополнительные инвестиции в запасы"]
[null,"Продукция 1 "]
[null,null,"Сырье/материалы 1","тыс. руб.",null,null,null,{"$f":"I22-H22","v":0},{"$f":"J22-I22","v":0},0,0,0,0,0,0,0,0,0,0,0,0,0,{"$f":"X22-W22","v":0},0,0,0,0,0]
[null,null,"Сырье/материалы 2","тыс. руб.",null,null,null,{"$f":"I23-H23","v":0},{"$f":"J23-I23","v":0},0,0,0,0,0,0,0,0,0,0,0,0,0,0,0,0,0,0,0]
[null,null,"…"]
[null,"Продукция 2"]
[null,null,"Сырье/материалы 1","тыс. руб.",null,null,null,{"$f":"I26-H26","v":0},{"$f":"J26-I26","v":0},0,0,0,0,0,0,0,0,0,0,0,0,0,{"$f":"X26-W26","v":0},0,0,0,0,0]
[null,null,"Сырье/материалы 3","тыс. руб.",null,null,null,{"$f":"I27-H27","v":0},{"$f":"J27-I27","v":0},0,0,0,0,0,0,0,0,0,0,0,0,0,0,0,0,0,0,0]
[null,null,"…"]
[null,"Итого:",null,"тыс. руб.",null,null,null,{"$f":"SUM(H33:H34,H37:H38)","v":0},{"$f":"SUM(I33:I34,I37:I38)","v":0},0,0,0,0,0,0,0,0,0,0,0,0,0,0,0,0,0,0,0]
[]
[null,"Остаток  запасов на начало периода",null,"тыс. руб.",null,null,null,{"$f":"H29","v":0},{"$f":"I29","v":0},0,0,0,0,0,0,0,0,0,0,0,0,0,0,0,0,0,0,0]
[null,"Начисление прямых затрат",null,"тыс. руб.",null,null,null,{"$f":"H18","v":0},{"$f":"I18","v":0},0,0,0,0,0,0,0,0,0,0,0,0,0,0,0,0,0,0,0]
[null,"Потребность в закупке запасов",null,"тыс. руб.",null,null,null,{"$f":"SUM(-H42,H43,H45)","v":0},{"$f":"SUM(-I42,I43,I45)","v":0},{"$f":"SUM(-J42,J43,J45)","v":0},0,0,0,0,0,0,0,0,0,0,0,0,0,0,0,0,0,0]
[null,"Остаток запасов на конец периода",null,"тыс. руб.",null,null,null,{"$f":"I42","v":0},{"$f":"J42","v":0},0,0,0,0,0,0,0,0,0,0,0,0,0,{"$f":"X42","v":0},0,0,0,0,0]
[]
[null,"Расчеты с покупателями"]
[]
[null,null,"Выручка (с  НДС)","тыс. руб.","Лист: Выручка и себестоимость",null,null,{"$f":"'Выручка и себестоимость'!H29","v":0},{"$f":"'Выручка и себестоимость'!I29","v":0},{"$f":"'Выручка и себестоимость'!J29","v":0},{"$f":"'Выручка и себестоимость'!K29","v":0},{"$f":"'Выручка и себестоимость'!L29","v":0},{"$f":"'Выручка и себестоимость'!M29","v":0},{"$f":"'Выручка и себестоимость'!N29","v":0},{"$f":"'Выручка и себестоимость'!O29","v":0},{"$f":"'Выручка и себестоимость'!P29","v":0},{"$f":"'Выручка и себестоимость'!Q29","v":0},{"$f":"'Выручка и себестоимость'!R29","v":0},{"$f":"'Выручка и себестоимость'!S29","v":0},{"$f":"'Выручка и себестоимость'!T29","v":0},{"$f":"'Выручка и себестоимость'!U29","v":0},{"$f":"'Выручка и себестоимость'!V29","v":0},{"$f":"'Выручка и себестоимость'!W29","v":0},{"$f":"'Выручка и себестоимость'!X29","v":0},{"$f":"'Выручка и себестоимость'!Y29","v":0},{"$f":"'Выручка и себестоимость'!Z29","v":0},{"$f":"'Выручка и себестоимость'!AA29","v":0},{"$f":"'Выручка и себестоимость'!AB29","v":0}]
[]
[null,null,"Планируется к получению в качестве аванса","тыс. руб.",null,null,null,{"$f":"H$49*Предпосылки!$F314","v":0},{"$f":"I$49*Предпосылки!$F314","v":0},{"$f":"J$49*Предпосылки!$F314","v":0},{"$f":"K$49*Предпосылки!$F314","v":0},{"$f":"L$49*Предпосылки!$F314","v":0},{"$f":"M$49*Предпосылки!$F314","v":0},{"$f":"N$49*Предпосылки!$F314","v":0},{"$f":"O$49*Предпосылки!$F314","v":0},{"$f":"P$49*Предпосылки!$F314","v":0},{"$f":"Q$49*Предпосылки!$F314","v":0},{"$f":"R$49*Предпосылки!$F314","v":0},{"$f":"S$49*Предпосылки!$F314","v":0},{"$f":"T$49*Предпосылки!$F314","v":0},{"$f":"U$49*Предпосылки!$F314","v":0},{"$f":"V$49*Предпосылки!$F314","v":0},{"$f":"W$49*Предпосылки!$F314","v":0},{"$f":"X$49*Предпосылки!$F314","v":0},{"$f":"Y$49*Предпосылки!$F314","v":0},{"$f":"Z$49*Предпосылки!$F314","v":0},{"$f":"AA$49*Предпосылки!$F314","v":0},{"$f":"AB$49*Предпосылки!$F314","v":0}]
[null,null,"Планируется к получению после поставки","тыс. руб.",null,null,null,{"$f":"H$49*Предпосылки!$F319","v":0},{"$f":"I$49*Предпосылки!$F319","v":0},{"$f":"J$49*Предпосылки!$F319","v":0},{"$f":"K$49*Предпосылки!$F319","v":0},{"$f":"L$49*Предпосылки!$F319","v":0},{"$f":"M$49*Предпосылки!$F319","v":0},{"$f":"N$49*Предпосылки!$F319","v":0},{"$f":"O$49*Предпосылки!$F319","v":0},{"$f":"P$49*Предпосылки!$F319","v":0},{"$f":"Q$49*Предпосылки!$F319","v":0},{"$f":"R$49*Предпосылки!$F319","v":0},{"$f":"S$49*Предпосылки!$F319","v":0},{"$f":"T$49*Предпосылки!$F319","v":0},{"$f":"U$49*Предпосылки!$F319","v":0},{"$f":"V$49*Предпосылки!$F319","v":0},{"$f":"W$49*Предпосылки!$F319","v":0},{"$f":"X$49*Предпосылки!$F319","v":0},{"$f":"Y$49*Предпосылки!$F319","v":0},{"$f":"Z$49*Предпосылки!$F319","v":0},{"$f":"AA$49*Предпосылки!$F319","v":0},{"$f":"AB$49*Предпосылки!$F319","v":0}]
[]
[null,null,"Поступления авансового платежа в периоде соответствующем признанию выручки ","тыс. руб.",null,null,null,{"$f":"H51","v":0},{"$f":"I51*Предпосылки!I316","v":0},{"$f":"J51*Предпосылки!J316","v":0},{"$f":"K51*Предпосылки!K316","v":0},{"$f":"L51*Предпосылки!L316","v":0},{"$f":"M51*Предпосылки!M316","v":0},{"$f":"N51*Предпосылки!N316","v":0},{"$f":"O51*Предпосылки!O316","v":0},{"$f":"P51*Предпосылки!P316","v":0},{"$f":"Q51*Предпосылки!Q316","v":0},{"$f":"R51*Предпосылки!R316","v":0},{"$f":"S51*Предпосылки!S316","v":0},{"$f":"T51*Предпосылки!T316","v":0},{"$f":"U51*Предпосылки!U316","v":0},{"$f":"V51*Предпосылки!V316","v":0},{"$f":"W51*Предпосылки!W316","v":0},{"$f":"X51*Предпосылки!X316","v":0},{"$f":"Y51*Предпосылки!Y316","v":0},{"$f":"Z51*Предпосылки!Z316","v":0},{"$f":"AA51*Предпосылки!AA316","v":0},{"$f":"AB51*Предпосылки!AB316","v":0}]
[null,null,"Поступления авансового платежа от выручки, признаваемой в следющем периоде","тыс. руб.",null,null,null,{"$f":"I51-I54","v":0},{"$f":"J51-J54","v":0},0,0,0,0,0,0,0,0,0,0,0,0,0,0,0,0,0,{"$f":"AB51-AB54","v":0},0]
[null,null,"Поступление последующего платежа в периоде, соответствующем признанию выручки","тыс. руб.",null,null,null,{"$f":"H52*Предпосылки!H321","v":0},{"$f":"I52*Предпосылки!I321","v":0},{"$f":"J52*Предпосылки!J321","v":0},{"$f":"K52*Предпосылки!K321","v":0},{"$f":"L52*Предпосылки!L321","v":0},{"$f":"M52*Предпосылки!M321","v":0},{"$f":"N52*Предпосылки!N321","v":0},{"$f":"O52*Предпосылки!O321","v":0},{"$f":"P52*Предпосылки!P321","v":0},{"$f":"Q52*Предпосылки!Q321","v":0},{"$f":"R52*Предпосылки!R321","v":0},{"$f":"S52*Предпосылки!S321","v":0},{"$f":"T52*Предпосылки!T321","v":0},{"$f":"U52*Предпосылки!U321","v":0},{"$f":"V52*Предпосылки!V321","v":0},{"$f":"W52*Предпосылки!W321","v":0},{"$f":"X52*Предпосылки!X321","v":0},{"$f":"Y52*Предпосылки!Y321","v":0},{"$f":"Z52*Предпосылки!Z321","v":0},{"$f":"AA52*Предпосылки!AA321","v":0},{"$f":"AB52*Предпосылки!AB321","v":0}]
[null,null,"Поступление последующего платежа к выручке, признанной в предыдущем периоде","тыс. руб.",null,null,null,{"$f":"G52-G56","v":0},{"$f":"H52-H56","v":0},0,0,0,0,0,0,0,0,0,0,0,0,0,0,0,0,0,0,0]
[null,null,"Итого поступления от покупателей:","тыс. руб.",null,null,null,{"$f":"SUM(H54:H57)","v":0},{"$f":"SUM(I54:I57)","v":0},0,0,0,0,0,0,0,0,0,0,0,0,0,0,0,0,0,0,0]
[]
[null,"Расчеты с поставщиками и подрядчиками"]
[]
[null,"Расчеты с поставщиками запасов"]
[]
[null,null,"Планируемые затраты на запасы (без НДС)","тыс. руб.",null,null,null,{"$f":"H44","v":0},0,0,0,0,0,0,0,0,0,0,0,0,0,0,0,0,0,0,0,0]
[null,null,"Планируемые затраты на запасы (с НДС)","тыс. руб.",null,null,null,{"$f":"H64*(One+НДС_общая)","v":0},0,0,0,0,0,0,0,0,0,0,0,0,0,0,0,0,0,0,0,0]
[]
[null,null,"Планируется к оплате в качестве аванса","тыс. руб.",null,null,null,{"$f":"H$65*Предпосылки!$F332","v":0},{"$f":"I$65*Предпосылки!$F332","v":0},{"$f":"J$65*Предпосылки!$F332","v":0},{"$f":"K$65*Предпосылки!$F332","v":0},{"$f":"L$65*Предпосылки!$F332","v":0},{"$f":"M$65*Предпосылки!$F332","v":0},{"$f":"N$65*Предпосылки!$F332","v":0},{"$f":"O$65*Предпосылки!$F332","v":0},{"$f":"P$65*Предпосылки!$F332","v":0},{"$f":"Q$65*Предпосылки!$F332","v":0},{"$f":"R$65*Предпосылки!$F332","v":0},{"$f":"S$65*Предпосылки!$F332","v":0},{"$f":"T$65*Предпосылки!$F332","v":0},{"$f":"U$65*Предпосылки!$F332","v":0},{"$f":"V$65*Предпосылки!$F332","v":0},{"$f":"W$65*Предпосылки!$F332","v":0},{"$f":"X$65*Предпосылки!$F332","v":0},{"$f":"Y$65*Предпосылки!$F332","v":0},{"$f":"Z$65*Предпосылки!$F332","v":0},{"$f":"AA$65*Предпосылки!$F332","v":0},{"$f":"AB$65*Предпосылки!$F332","v":0}]
[null,null,"Планируется к оплате после поставки","тыс. руб.",null,null,null,{"$f":"H$65*Предпосылки!$F337","v":0},{"$f":"I$65*Предпосылки!$F337","v":0},{"$f":"J$65*Предпосылки!$F337","v":0},{"$f":"K$65*Предпосылки!$F337","v":0},{"$f":"L$65*Предпосылки!$F337","v":0},{"$f":"M$65*Предпосылки!$F337","v":0},{"$f":"N$65*Предпосылки!$F337","v":0},{"$f":"O$65*Предпосылки!$F337","v":0},{"$f":"P$65*Предпосылки!$F337","v":0},{"$f":"Q$65*Предпосылки!$F337","v":0},{"$f":"R$65*Предпосылки!$F337","v":0},{"$f":"S$65*Предпосылки!$F337","v":0},{"$f":"T$65*Предпосылки!$F337","v":0},{"$f":"U$65*Предпосылки!$F337","v":0},{"$f":"V$65*Предпосылки!$F337","v":0},{"$f":"W$65*Предпосылки!$F337","v":0},{"$f":"X$65*Предпосылки!$F337","v":0},{"$f":"Y$65*Предпосылки!$F337","v":0},{"$f":"Z$65*Предпосылки!$F337","v":0},{"$f":"AA$65*Предпосылки!$F337","v":0},{"$f":"AB$65*Предпосылки!$F337","v":0}]
[]
[null,null,"Уплата авансового платежа в периоде, соответствующем признанию запасов","тыс. руб.",null,null,null,{"$f":"H67","v":0},{"$f":"I67*Предпосылки!I334","v":0},{"$f":"J67*Предпосылки!J334","v":0},{"$f":"K67*Предпосылки!K334","v":0},{"$f":"L67*Предпосылки!L334","v":0},{"$f":"M67*Предпосылки!M334","v":0},{"$f":"N67*Предпосылки!N334","v":0},{"$f":"O67*Предпосылки!O334","v":0},{"$f":"P67*Предпосылки!P334","v":0},{"$f":"Q67*Предпосылки!Q334","v":0},{"$f":"R67*Предпосылки!R334","v":0},{"$f":"S67*Предпосылки!S334","v":0},{"$f":"T67*Предпосылки!T334","v":0},{"$f":"U67*Предпосылки!U334","v":0},{"$f":"V67*Предпосылки!V334","v":0},{"$f":"W67*Предпосылки!W334","v":0},{"$f":"X67*Предпосылки!X334","v":0},{"$f":"Y67*Предпосылки!Y334","v":0},{"$f":"Z67*Предпосылки!Z334","v":0},{"$f":"AA67*Предпосылки!AA334","v":0},{"$f":"AB67*Предпосылки!AB334","v":0}]
[null,null,"Уплата авансового платежа от запасов, приобретаемых в следующем периоде","тыс. руб.",null,null,null,{"$f":"I67-I70","v":0},{"$f":"J67-J70","v":0},0,0,0,0,0,0,0,0,0,0,0,0,0,0,0,0,0,{"$f":"AB67-AB70","v":0},0]
[null,null,"Перечисление последующего платежа в периоде, соответствующем признанию запасов","тыс. руб.",null,null,null,{"$f":"H68*Предпосылки!H339","v":0},{"$f":"I68*Предпосылки!I339","v":0},{"$f":"J68*Предпосылки!J339","v":0},{"$f":"K68*Предпосылки!K339","v":0},{"$f":"L68*Предпосылки!L339","v":0},{"$f":"M68*Предпосылки!M339","v":0},{"$f":"N68*Предпосылки!N339","v":0},{"$f":"O68*Предпосылки!O339","v":0},{"$f":"P68*Предпосылки!P339","v":0},{"$f":"Q68*Предпосылки!Q339","v":0},{"$f":"R68*Предпосылки!R339","v":0},{"$f":"S68*Предпосылки!S339","v":0},{"$f":"T68*Предпосылки!T339","v":0},{"$f":"U68*Предпосылки!U339","v":0},{"$f":"V68*Предпосылки!V339","v":0},{"$f":"W68*Предпосылки!W339","v":0},{"$f":"X68*Предпосылки!X339","v":0},{"$f":"Y68*Предпосылки!Y339","v":0},{"$f":"Z68*Предпосылки!Z339","v":0},{"$f":"AA68*Предпосылки!AA339","v":0},{"$f":"AB68*Предпосылки!AB339","v":0}]
[null,null,"Перечисление последующего платежа по запасам, признанным в предыдущем периоде","тыс. руб.",null,null,null,{"$f":"G68-G72","v":0},{"$f":"H68-H72","v":0},0,0,0,0,0,0,0,0,0,0,0,0,0,0,0,0,0,0,0]
[null,null,"Итого оплата запасов:","тыс. руб.",null,null,null,{"$f":"SUM(H70:H73)","v":0},0,0,0,0,0,0,0,0,0,0,0,0,0,{"$f":"SUM(V70:V73)","v":0},0,0,0,0,0,0]
[]
[null,"Расчеты по общехозяйственным расходам(общепроизводственным, коммерческим и управленческим)"]
[]
[null,null,"Сумма учтенных затрат (без НДС)","тыс. руб.","Лист: Операционные затраты",null,null,{"$f":"'Операционные затраты'!H39","v":0},{"$f":"'Операционные затраты'!I39","v":0},{"$f":"'Операционные затраты'!J39","v":0},{"$f":"'Операционные затраты'!K39","v":0},{"$f":"'Операционные затраты'!L39","v":0},{"$f":"'Операционные затраты'!M39","v":0},{"$f":"'Операционные затраты'!N39","v":0},{"$f":"'Операционные затраты'!O39","v":0},{"$f":"'Операционные затраты'!P39","v":0},{"$f":"'Операционные затраты'!Q39","v":0},{"$f":"'Операционные затраты'!R39","v":0},{"$f":"'Операционные затраты'!S39","v":0},{"$f":"'Операционные затраты'!T39","v":0},{"$f":"'Операционные затраты'!U39","v":0},{"$f":"'Операционные затраты'!V39","v":0},{"$f":"'Операционные затраты'!W39","v":0},{"$f":"'Операционные затраты'!X39","v":0},{"$f":"'Операционные затраты'!Y39","v":0},{"$f":"'Операционные затраты'!Z39","v":0},{"$f":"'Операционные затраты'!AA39","v":0},{"$f":"'Операционные затраты'!AB39","v":0}]
[null,null,"Сумма учтенных затрат (с НДС)","тыс. руб.",null,null,null,{"$f":"H78*(One+НДС_общая)","v":0},0,0,0,0,0,0,0,0,0,0,0,0,0,0,0,0,0,0,0,0]
[]
[null,null,"Планируется к оплате в качестве аванса","тыс. руб.",null,null,null,{"$f":"H$79*Предпосылки!$F355","v":0},{"$f":"I$79*Предпосылки!$F355","v":0},{"$f":"J$79*Предпосылки!$F355","v":0},{"$f":"K$79*Предпосылки!$F355","v":0},{"$f":"L$79*Предпосылки!$F355","v":0},{"$f":"M$79*Предпосылки!$F355","v":0},{"$f":"N$79*Предпосылки!$F355","v":0},{"$f":"O$79*Предпосылки!$F355","v":0},{"$f":"P$79*Предпосылки!$F355","v":0},{"$f":"Q$79*Предпосылки!$F355","v":0},{"$f":"R$79*Предпосылки!$F355","v":0},{"$f":"S$79*Предпосылки!$F355","v":0},{"$f":"T$79*Предпосылки!$F355","v":0},{"$f":"U$79*Предпосылки!$F355","v":0},{"$f":"V$79*Предпосылки!$F355","v":0},{"$f":"W$79*Предпосылки!$F355","v":0},{"$f":"X$79*Предпосылки!$F355","v":0},{"$f":"Y$79*Предпосылки!$F355","v":0},{"$f":"Z$79*Предпосылки!$F355","v":0},{"$f":"AA$79*Предпосылки!$F355","v":0},{"$f":"AB$79*Предпосылки!$F355","v":0}]
[null,null,"Планируется к оплате после поставки / оказания услуг","тыс. руб.",null,null,null,{"$f":"H$79*Предпосылки!$F360","v":0},{"$f":"I$79*Предпосылки!$F360","v":0},{"$f":"J$79*Предпосылки!$F360","v":0},{"$f":"K$79*Предпосылки!$F360","v":0},{"$f":"L$79*Предпосылки!$F360","v":0},{"$f":"M$79*Предпосылки!$F360","v":0},{"$f":"N$79*Предпосылки!$F360","v":0},{"$f":"O$79*Предпосылки!$F360","v":0},{"$f":"P$79*Предпосылки!$F360","v":0},{"$f":"Q$79*Предпосылки!$F360","v":0},{"$f":"R$79*Предпосылки!$F360","v":0},{"$f":"S$79*Предпосылки!$F360","v":0},{"$f":"T$79*Предпосылки!$F360","v":0},{"$f":"U$79*Предпосылки!$F360","v":0},{"$f":"V$79*Предпосылки!$F360","v":0},{"$f":"W$79*Предпосылки!$F360","v":0},{"$f":"X$79*Предпосылки!$F360","v":0},{"$f":"Y$79*Предпосылки!$F360","v":0},{"$f":"Z$79*Предпосылки!$F360","v":0},{"$f":"AA$79*Предпосылки!$F360","v":0},{"$f":"AB$79*Предпосылки!$F360","v":0}]
[]
[null,null,"Уплата авансового платежа в периоде, соответствующем признанию запасов","тыс. руб.",null,null,null,{"$f":"H81","v":0},{"$f":"I81*Предпосылки!I357","v":0},{"$f":"J81*Предпосылки!J357","v":0},{"$f":"K81*Предпосылки!K357","v":0},{"$f":"L81*Предпосылки!L357","v":0},{"$f":"M81*Предпосылки!M357","v":0},{"$f":"N81*Предпосылки!N357","v":0},{"$f":"O81*Предпосылки!O357","v":0},{"$f":"P81*Предпосылки!P357","v":0},{"$f":"Q81*Предпосылки!Q357","v":0},{"$f":"R81*Предпосылки!R357","v":0},{"$f":"S81*Предпосылки!S357","v":0},{"$f":"T81*Предпосылки!T357","v":0},{"$f":"U81*Предпосылки!U357","v":0},{"$f":"V81*Предпосылки!V357","v":0},{"$f":"W81*Предпосылки!W357","v":0},{"$f":"X81*Предпосылки!X357","v":0},{"$f":"Y81*Предпосылки!Y357","v":0},{"$f":"Z81*Предпосылки!Z357","v":0},{"$f":"AA81*Предпосылки!AA357","v":0},{"$f":"AB81*Предпосылки!AB357","v":0}]
[null,null,"Уплата авансового платежа от запасов, приобретаемых в следующем периоде","тыс. руб.",null,null,null,{"$f":"I81-I84","v":0},{"$f":"J81-J84","v":0},0,0,0,0,0,0,0,0,0,0,0,0,0,0,0,0,0,{"$f":"AB81-AB84","v":0},0]
[null,null,"Перечисление последующего платежа в периоде, соответствующем признанию запасов","тыс. руб.",null,null,null,{"$f":"H82*Предпосылки!H362","v":0},{"$f":"I82*Предпосылки!I362","v":0},{"$f":"J82*Предпосылки!J362","v":0},{"$f":"K82*Предпосылки!K362","v":0},{"$f":"L82*Предпосылки!L362","v":0},{"$f":"M82*Предпосылки!M362","v":0},{"$f":"N82*Предпосылки!N362","v":0},{"$f":"O82*Предпосылки!O362","v":0},{"$f":"P82*Предпосылки!P362","v":0},{"$f":"Q82*Предпосылки!Q362","v":0},{"$f":"R82*Предпосылки!R362","v":0},{"$f":"S82*Предпосылки!S362","v":0},{"$f":"T82*Предпосылки!T362","v":0},{"$f":"U82*Предпосылки!U362","v":0},{"$f":"V82*Предпосылки!V362","v":0},{"$f":"W82*Предпосылки!W362","v":0},{"$f":"X82*Предпосылки!X362","v":0},{"$f":"Y82*Предпосылки!Y362","v":0},{"$f":"Z82*Предпосылки!Z362","v":0},{"$f":"AA82*Предпосылки!AA362","v":0},{"$f":"AB82*Предпосылки!AB362","v":0}]
[null,null,"Перечисление последующего платежа по запасам, признанным в предыдущем периоде","тыс. руб.",null,null,null,{"$f":"G82-G86","v":0},{"$f":"H82-H86","v":0},0,0,0,0,0,0,0,0,0,0,0,0,0,0,0,0,0,0,0]
[null,null,"Итого оплата общехозяйственных расходов:","тыс. руб.",null,null,null,{"$f":"SUM(H84:H87)","v":0},0,0,0,0,0,0,0,0,0,0,0,0,0,{"$f":"SUM(V84:V87)","v":0},0,0,0,0,0,0]
[]
[null,"Расчеты по прочим расходам"]
[]
[null,null,"Сумма учтенных затрат (без НДС)","тыс. руб.","Лист: Операционные затраты",null,null,{"$f":"'Операционные затраты'!H46","v":0},{"$f":"'Операционные затраты'!I46","v":0},{"$f":"'Операционные затраты'!J46","v":0},{"$f":"'Операционные затраты'!K46","v":0},{"$f":"'Операционные затраты'!L46","v":0},{"$f":"'Операционные затраты'!M46","v":0},{"$f":"'Операционные затраты'!N46","v":0},{"$f":"'Операционные затраты'!O46","v":0},{"$f":"'Операционные затраты'!P46","v":0},{"$f":"'Операционные затраты'!Q46","v":0},{"$f":"'Операционные затраты'!R46","v":0},{"$f":"'Операционные затраты'!S46","v":0},{"$f":"'Операционные затраты'!T46","v":0},{"$f":"'Операционные затраты'!U46","v":0},{"$f":"'Операционные затраты'!V46","v":0},{"$f":"'Операционные затраты'!W46","v":0},{"$f":"'Операционные затраты'!X46","v":0},{"$f":"'Операционные затраты'!Y46","v":0},{"$f":"'Операционные затраты'!Z46","v":0},{"$f":"'Операционные затраты'!AA46","v":0},{"$f":"'Операционные затраты'!AB46","v":0}]
[null,null,"Сумма учтенных затрат (с НДС)","тыс. руб.","Лист: Операционные затраты",null,null,{"$f":"SUMPRODUCT('Операционные затраты'!$F50:$F52,'Операционные затраты'!H43:H45)*(1+НДС_общая)+SUMIF('Операционные затраты'!$F50:$F52,0,'Операционные затраты'!H43:H45)","v":0},{"$f":"SUMPRODUCT('Операционные затраты'!$F50:$F52,'Операционные затраты'!I43:I45)*(1+НДС_общая)+SUMIF('Операционные затраты'!$F50:$F52,0,'Операционные затраты'!I43:I45)","v":0},{"$f":"SUMPRODUCT('Операционные затраты'!$F50:$F52,'Операционные затраты'!J43:J45)*(1+НДС_общая)+SUMIF('Операционные затраты'!$F50:$F52,0,'Операционные затраты'!J43:J45)","v":0},{"$f":"SUMPRODUCT('Операционные затраты'!$F50:$F52,'Операционные затраты'!K43:K45)*(1+НДС_общая)+SUMIF('Операционные затраты'!$F50:$F52,0,'Операционные затраты'!K43:K45)","v":0},{"$f":"SUMPRODUCT('Операционные затраты'!$F50:$F52,'Операционные затраты'!L43:L45)*(1+НДС_общая)+SUMIF('Операционные затраты'!$F50:$F52,0,'Операционные затраты'!L43:L45)","v":0},{"$f":"SUMPRODUCT('Операционные затраты'!$F50:$F52,'Операционные затраты'!M43:M45)*(1+НДС_общая)+SUMIF('Операционные затраты'!$F50:$F52,0,'Операционные затраты'!M43:M45)","v":0},{"$f":"SUMPRODUCT('Операционные затраты'!$F50:$F52,'Операционные затраты'!N43:N45)*(1+НДС_общая)+SUMIF('Операционные затраты'!$F50:$F52,0,'Операционные затраты'!N43:N45)","v":0},{"$f":"SUMPRODUCT('Операционные затраты'!$F50:$F52,'Операционные затраты'!O43:O45)*(1+НДС_общая)+SUMIF('Операционные затраты'!$F50:$F52,0,'Операционные затраты'!O43:O45)","v":0},{"$f":"SUMPRODUCT('Операционные затраты'!$F50:$F52,'Операционные затраты'!P43:P45)*(1+НДС_общая)+SUMIF('Операционные затраты'!$F50:$F52,0,'Операционные затраты'!P43:P45)","v":0},{"$f":"SUMPRODUCT('Операционные затраты'!$F50:$F52,'Операционные затраты'!Q43:Q45)*(1+НДС_общая)+SUMIF('Операционные затраты'!$F50:$F52,0,'Операционные затраты'!Q43:Q45)","v":0},{"$f":"SUMPRODUCT('Операционные затраты'!$F50:$F52,'Операционные затраты'!R43:R45)*(1+НДС_общая)+SUMIF('Операционные затраты'!$F50:$F52,0,'Операционные затраты'!R43:R45)","v":0},{"$f":"SUMPRODUCT('Операционные затраты'!$F50:$F52,'Операционные затраты'!S43:S45)*(1+НДС_общая)+SUMIF('Операционные затраты'!$F50:$F52,0,'Операционные затраты'!S43:S45)","v":0},{"$f":"SUMPRODUCT('Операционные затраты'!$F50:$F52,'Операционные затраты'!T43:T45)*(1+НДС_общая)+SUMIF('Операционные затраты'!$F50:$F52,0,'Операционные затраты'!T43:T45)","v":0},{"$f":"SUMPRODUCT('Операционные затраты'!$F50:$F52,'Операционные затраты'!U43:U45)*(1+НДС_общая)+SUMIF('Операционные затраты'!$F50:$F52,0,'Операционные затраты'!U43:U45)","v":0},{"$f":"SUMPRODUCT('Операционные затраты'!$F50:$F52,'Операционные затраты'!V43:V45)*(1+НДС_общая)+SUMIF('Операционные затраты'!$F50:$F52,0,'Операционные затраты'!V43:V45)","v":0},{"$f":"SUMPRODUCT('Операционные затраты'!$F50:$F52,'Операционные затраты'!W43:W45)*(1+НДС_общая)+SUMIF('Операционные затраты'!$F50:$F52,0,'Операционные затраты'!W43:W45)","v":0},{"$f":"SUMPRODUCT('Операционные затраты'!$F50:$F52,'Операционные затраты'!X43:X45)*(1+НДС_общая)+SUMIF('Операционные затраты'!$F50:$F52,0,'Операционные затраты'!X43:X45)","v":0},{"$f":"SUMPRODUCT('Операционные затраты'!$F50:$F52,'Операционные затраты'!Y43:Y45)*(1+НДС_общая)+SUMIF('Операционные затраты'!$F50:$F52,0,'Операционные затраты'!Y43:Y45)","v":0},{"$f":"SUMPRODUCT('Операционные затраты'!$F50:$F52,'Операционные затраты'!Z43:Z45)*(1+НДС_общая)+SUMIF('Операционные затраты'!$F50:$F52,0,'Операционные затраты'!Z43:Z45)","v":0},{"$f":"SUMPRODUCT('Операционные затраты'!$F50:$F52,'Операционные затраты'!AA43:AA45)*(1+НДС_общая)+SUMIF('Операционные затраты'!$F50:$F52,0,'Операционные затраты'!AA43:AA45)","v":0},{"$f":"SUMPRODUCT('Операционные затраты'!$F50:$F52,'Операционные затраты'!AB43:AB45)*(1+НДС_общая)+SUMIF('Операционные затраты'!$F50:$F52,0,'Операционные затраты'!AB43:AB45)","v":0}]
[]
[null,null,"Оплата прочих расходов","тыс. руб.",null,null,null,{"$f":"H93*Предпосылки!$F$365","v":0},{"$f":"I93*Предпосылки!$F$365","v":0},{"$f":"J93*Предпосылки!$F$365","v":0},{"$f":"K93*Предпосылки!$F$365","v":0},{"$f":"L93*Предпосылки!$F$365","v":0},{"$f":"M93*Предпосылки!$F$365","v":0},{"$f":"N93*Предпосылки!$F$365","v":0},{"$f":"O93*Предпосылки!$F$365","v":0},{"$f":"P93*Предпосылки!$F$365","v":0},{"$f":"Q93*Предпосылки!$F$365","v":0},{"$f":"R93*Предпосылки!$F$365","v":0},{"$f":"S93*Предпосылки!$F$365","v":0},{"$f":"T93*Предпосылки!$F$365","v":0},{"$f":"U93*Предпосылки!$F$365","v":0},{"$f":"V93*Предпосылки!$F$365","v":0},{"$f":"W93*Предпосылки!$F$365","v":0},{"$f":"X93*Предпосылки!$F$365","v":0},{"$f":"Y93*Предпосылки!$F$365","v":0},{"$f":"Z93*Предпосылки!$F$365","v":0},{"$f":"AA93*Предпосылки!$F$365","v":0},{"$f":"AB93*Предпосылки!$F$365","v":0}]
[]
[null,"Дебиторская задолженность"]
[]
[null,null,"Дебиторская задолженность на начало периода","тыс. руб.",null,null,null,{"$f":"G103","v":0},{"$f":"H103","v":0},0,0,0,0,0,0,0,0,0,0,0,0,0,{"$f":"V103","v":0},0,0,0,0,0]
[null,null,"Формированиие дебиторской задолженности от расчетов с покупателями","тыс. руб.",null,null,null,{"$f":"I57","v":0},0,0,0,0,0,0,0,0,0,0,0,0,0,0,0,0,0,0,0,0]
[null,null,"Формированиие дебиторской задолженности от расчетов по запасам","тыс. руб.",null,null,null,{"$f":"H71","v":0},0,0,0,0,0,0,0,0,0,0,0,0,0,0,0,0,0,0,0,0]
[null,null,"Формированиие дебиторской задолженности от расчетов по общехозяйственным расходам","тыс. руб.",null,null,null,{"$f":"H85","v":0},0,0,0,0,0,0,0,0,0,0,0,0,0,0,0,0,0,0,0,0]
[null,null,"Дебиторская задолженность на конец периода","тыс. руб.",null,null,null,{"$f":"SUM(H100:H102)","v":0},0,0,0,0,0,0,0,0,0,0,0,0,0,0,0,0,0,0,0,0]
[]
[null,"Кредиторская задолженность "]
[]
[null,"Расчеты с покупателями, поставщиками, подрядчиками"]
[null,null,"Кредиторская задолженность на начало периода","тыс. руб.",null,null,null,{"$f":"G112","v":0},0,0,0,0,0,0,0,0,0,0,0,0,0,0,0,0,0,0,0,0]
[null,null,"Формированиие кредиторской задолженности от расчетов с покупателями","тыс. руб.",null,null,null,{"$f":"H55","v":0},0,0,0,0,0,0,0,0,0,0,0,0,0,0,0,0,0,0,0,0]
[null,null,"Формированиие кредиторской задолженности от расчетов по запасам","тыс. руб.",null,null,null,{"$f":"I73","v":0},0,0,0,0,0,0,0,0,0,0,0,0,0,0,0,0,0,0,0,0]
[null,null,"Формированиие кредиторской задолженности от расчетов по общехозяйственным расходам","тыс. руб.",null,null,null,{"$f":"I87","v":0},0,0,0,0,0,0,0,0,0,0,0,0,0,0,0,0,0,0,0,0]
[null,null,"Кредиторская задолженность на конец периода","тыс. руб.",null,null,null,{"$f":"SUM(H109:H111)","v":0},0,0,0,0,0,0,0,0,0,0,0,0,0,0,0,0,0,0,0,0]
[]
[null,"Расчеты с сотрудниками"]
[null,null,"Кредиторская задолженность по оплате труда (без НДФЛ) на конец периода","тыс. руб.","Лист: Операционные затраты",null,null,{"$f":"'Операционные затраты'!H157-H122","v":0},{"$f":"'Операционные затраты'!I157-I122","v":0},{"$f":"'Операционные затраты'!J157-J122","v":0},{"$f":"'Операционные затраты'!K157-K122","v":0},{"$f":"'Операционные затраты'!L157-L122","v":0},{"$f":"'Операционные затраты'!M157-M122","v":0},{"$f":"'Операционные затраты'!N157-N122","v":0},{"$f":"'Операционные затраты'!O157-O122","v":0},{"$f":"'Операционные затраты'!P157-P122","v":0},{"$f":"'Операционные затраты'!Q157-Q122","v":0},{"$f":"'Операционные затраты'!R157-R122","v":0},{"$f":"'Операционные затраты'!S157-S122","v":0},{"$f":"'Операционные затраты'!T157-T122","v":0},{"$f":"'Операционные затраты'!U157-U122","v":0},{"$f":"'Операционные затраты'!V157-V122","v":0},{"$f":"'Операционные затраты'!W157-W122","v":0},{"$f":"'Операционные затраты'!X157-X122","v":0},{"$f":"'Операционные затраты'!Y157-Y122","v":0},{"$f":"'Операционные затраты'!Z157-Z122","v":0},{"$f":"'Операционные затраты'!AA157-AA122","v":0}]
[]
[null,"Расчеты по налогам и страховым взносам"]
[]
[null,null,"С учетом СПИК"]
[null,null,"Кредиторская задолженность на конец периода по:"]
[null,null,"НДС","тыс. руб.","Лист: Налоги",null,null,{"$f":"Налоги!H28","v":0},{"$f":"Налоги!I28","v":0},{"$f":"Налоги!J28","v":0},{"$f":"Налоги!K28","v":0},{"$f":"Налоги!L28","v":0},{"$f":"Налоги!M28","v":0},{"$f":"Налоги!N28","v":0},{"$f":"Налоги!O28","v":0},{"$f":"Налоги!P28","v":0},{"$f":"Налоги!Q28","v":0},{"$f":"Налоги!R28","v":0},{"$f":"Налоги!S28","v":0},{"$f":"Налоги!T28","v":0},{"$f":"Налоги!U28","v":0},{"$f":"Налоги!V28","v":0},{"$f":"Налоги!W28","v":0},{"$f":"Налоги!X28","v":0},{"$f":"Налоги!Y28","v":0},{"$f":"Налоги!Z28","v":0},{"$f":"Налоги!AA28","v":0}]
[null,null,"НДФЛ","тыс. руб.","Лист: Налоги",null,null,{"$f":"Налоги!H35","v":0},{"$f":"Налоги!I35","v":0},{"$f":"Налоги!J35","v":0},{"$f":"Налоги!K35","v":0},{"$f":"Налоги!L35","v":0},{"$f":"Налоги!M35","v":0},{"$f":"Налоги!N35","v":0},{"$f":"Налоги!O35","v":0},{"$f":"Налоги!P35","v":0},{"$f":"Налоги!Q35","v":0},{"$f":"Налоги!R35","v":0},{"$f":"Налоги!S35","v":0},{"$f":"Налоги!T35","v":0},{"$f":"Налоги!U35","v":0},{"$f":"Налоги!V35","v":0},{"$f":"Налоги!W35","v":0},{"$f":"Налоги!X35","v":0},{"$f":"Налоги!Y35","v":0},{"$f":"Налоги!Z35","v":0},{"$f":"Налоги!AA35","v":0}]
[null,null,"Налог на прибыль организаций","тыс. руб.","Лист: Налоги",null,null,{"$f":"Налоги!H65","v":0},{"$f":"Налоги!I65","v":0},{"$f":"Налоги!J65","v":0},{"$f":"Налоги!K65","v":0},{"$f":"Налоги!L65","v":0},{"$f":"Налоги!M65","v":0},{"$f":"Налоги!N65","v":0},{"$f":"Налоги!O65","v":0},{"$f":"Налоги!P65","v":0},{"$f":"Налоги!Q65","v":0},{"$f":"Налоги!R65","v":0},{"$f":"Налоги!S65","v":0},{"$f":"Налоги!T65","v":0},{"$f":"Налоги!U65","v":0},{"$f":"Налоги!V65","v":0},{"$f":"Налоги!W65","v":0},{"$f":"Налоги!X65","v":0},{"$f":"Налоги!Y65","v":0},{"$f":"Налоги!Z65","v":0},{"$f":"Налоги!AA65","v":0}]
[null,null,"Налог на имущество организаций","тыс. руб.","Лист: Налоги",null,null,{"$f":"Налоги!H101","v":0},{"$f":"Налоги!I101","v":0},{"$f":"Налоги!J101","v":0},{"$f":"Налоги!K101","v":0},{"$f":"Налоги!L101","v":0},{"$f":"Налоги!M101","v":0},{"$f":"Налоги!N101","v":0},{"$f":"Налоги!O101","v":0},{"$f":"Налоги!P101","v":0},{"$f":"Налоги!Q101","v":0},{"$f":"Налоги!R101","v":0},{"$f":"Налоги!S101","v":0},{"$f":"Налоги!T101","v":0},{"$f":"Налоги!U101","v":0},{"$f":"Налоги!V101","v":0},{"$f":"Налоги!W101","v":0},{"$f":"Налоги!X101","v":0},{"$f":"Налоги!Y101","v":0},{"$f":"Налоги!Z101","v":0},{"$f":"Налоги!AA101","v":0}]
[null,null,"Земельный налог","тыс. руб.","Лист: Налоги",null,null,{"$f":"Налоги!H121","v":0},{"$f":"Налоги!I121","v":0},{"$f":"Налоги!J121","v":0},{"$f":"Налоги!K121","v":0},{"$f":"Налоги!L121","v":0},{"$f":"Налоги!M121","v":0},{"$f":"Налоги!N121","v":0},{"$f":"Налоги!O121","v":0},{"$f":"Налоги!P121","v":0},{"$f":"Налоги!Q121","v":0},{"$f":"Налоги!R121","v":0},{"$f":"Налоги!S121","v":0},{"$f":"Налоги!T121","v":0},{"$f":"Налоги!U121","v":0},{"$f":"Налоги!V121","v":0},{"$f":"Налоги!W121","v":0},{"$f":"Налоги!X121","v":0},{"$f":"Налоги!Y121","v":0},{"$f":"Налоги!Z121","v":0},{"$f":"Налоги!AA121","v":0}]
[null,null,"Транспортный налог","тыс. руб.","Лист: Налоги",null,null,{"$f":"Налоги!H135","v":0},{"$f":"Налоги!I135","v":0},{"$f":"Налоги!J135","v":0},{"$f":"Налоги!K135","v":0},{"$f":"Налоги!L135","v":0},{"$f":"Налоги!M135","v":0},{"$f":"Налоги!N135","v":0},{"$f":"Налоги!O135","v":0},{"$f":"Налоги!P135","v":0},{"$f":"Налоги!Q135","v":0},{"$f":"Налоги!R135","v":0},{"$f":"Налоги!S135","v":0},{"$f":"Налоги!T135","v":0},{"$f":"Налоги!U135","v":0},{"$f":"Налоги!V135","v":0},{"$f":"Налоги!W135","v":0},{"$f":"Налоги!X135","v":0},{"$f":"Налоги!Y135","v":0},{"$f":"Налоги!Z135","v":0},{"$f":"Налоги!AA135","v":0}]
[null,null,"Страховые взносы во внебюджетные фонды","тыс. руб.","Лист: Операционные затраты",null,null,{"$f":"IF(Предпосылки!$F$280=1,'Операционные затраты'!H167,'Операционные затраты'!H193)","v":0},{"$f":"IF(Предпосылки!$F$280=1,'Операционные затраты'!I167,'Операционные затраты'!I193)","v":0},{"$f":"IF(Предпосылки!$F$280=1,'Операционные затраты'!J167,'Операционные затраты'!J193)","v":0},{"$f":"IF(Предпосылки!$F$280=1,'Операционные затраты'!K167,'Операционные затраты'!K193)","v":0},{"$f":"IF(Предпосылки!$F$280=1,'Операционные затраты'!L167,'Операционные затраты'!L193)","v":0},{"$f":"IF(Предпосылки!$F$280=1,'Операционные затраты'!M167,'Операционные затраты'!M193)","v":0},{"$f":"IF(Предпосылки!$F$280=1,'Операционные затраты'!N167,'Операционные затраты'!N193)","v":0},{"$f":"IF(Предпосылки!$F$280=1,'Операционные затраты'!O167,'Операционные затраты'!O193)","v":0},{"$f":"IF(Предпосылки!$F$280=1,'Операционные затраты'!P167,'Операционные затраты'!P193)","v":0},{"$f":"IF(Предпосылки!$F$280=1,'Операционные затраты'!Q167,'Операционные затраты'!Q193)","v":0},{"$f":"IF(Предпосылки!$F$280=1,'Операционные затраты'!R167,'Операционные затраты'!R193)","v":0},{"$f":"IF(Предпосылки!$F$280=1,'Операционные затраты'!S167,'Операционные затраты'!S193)","v":0},{"$f":"IF(Предпосылки!$F$280=1,'Операционные затраты'!T167,'Операционные затраты'!T193)","v":0},{"$f":"IF(Предпосылки!$F$280=1,'Операционные затраты'!U167,'Операционные затраты'!U193)","v":0},{"$f":"IF(Предпосылки!$F$280=1,'Операционные затраты'!V167,'Операционные затраты'!V193)","v":0},{"$f":"IF(Предпосылки!$F$280=1,'Операционные затраты'!W167,'Операционные затраты'!W193)","v":0},{"$f":"IF(Предпосылки!$F$280=1,'Операционные затраты'!X167,'Операционные затраты'!X193)","v":0},{"$f":"IF(Предпосылки!$F$280=1,'Операционные затраты'!Y167,'Операционные затраты'!Y193)","v":0},{"$f":"IF(Предпосылки!$F$280=1,'Операционные затраты'!Z167,'Операционные затраты'!Z193)","v":0},{"$f":"IF(Предпосылки!$F$280=1,'Операционные затраты'!AA167,'Операционные затраты'!AA193)","v":0}]
[null,null,"Итого:","тыс. руб.",null,null,null,{"$f":"SUM(H121:H127)","v":0},{"$f":"SUM(I121:I127)","v":0},0,0,0,0,0,0,0,0,0,0,0,0,0,0,0,0,0,0]
[]
[null,null,"Без учета СПИК"]
[null,null,"Кредиторская задолженность на конец периода по:"]
[null,null,"НДС","тыс. руб.","Лист: Налоги",null,null,{"$f":"Налоги!H28","v":0},{"$f":"Налоги!I28","v":0},{"$f":"Налоги!J28","v":0},{"$f":"Налоги!K28","v":0},{"$f":"Налоги!L28","v":0},{"$f":"Налоги!M28","v":0},{"$f":"Налоги!N28","v":0},{"$f":"Налоги!O28","v":0},{"$f":"Налоги!P28","v":0},{"$f":"Налоги!Q28","v":0},{"$f":"Налоги!R28","v":0},{"$f":"Налоги!S28","v":0},{"$f":"Налоги!T28","v":0},{"$f":"Налоги!U28","v":0},{"$f":"Налоги!V28","v":0},{"$f":"Налоги!W28","v":0},{"$f":"Налоги!X28","v":0},{"$f":"Налоги!Y28","v":0},{"$f":"Налоги!Z28","v":0},{"$f":"Налоги!AA28","v":0}]
[null,null,"НДФЛ","тыс. руб.","Лист: Налоги",null,null,{"$f":"Налоги!H35","v":0},{"$f":"Налоги!I35","v":0},{"$f":"Налоги!J35","v":0},{"$f":"Налоги!K35","v":0},{"$f":"Налоги!L35","v":0},{"$f":"Налоги!M35","v":0},{"$f":"Налоги!N35","v":0},{"$f":"Налоги!O35","v":0},{"$f":"Налоги!P35","v":0},{"$f":"Налоги!Q35","v":0},{"$f":"Налоги!R35","v":0},{"$f":"Налоги!S35","v":0},{"$f":"Налоги!T35","v":0},{"$f":"Налоги!U35","v":0},{"$f":"Налоги!V35","v":0},{"$f":"Налоги!W35","v":0},{"$f":"Налоги!X35","v":0},{"$f":"Налоги!Y35","v":0},{"$f":"Налоги!Z35","v":0},{"$f":"Налоги!AA35","v":0}]
[null,null,"Налог на прибыль организаций","тыс. руб.","Лист: Налоги",null,null,{"$f":"Налоги!H93","v":0},{"$f":"Налоги!I93","v":0},{"$f":"Налоги!J93","v":0},{"$f":"Налоги!K93","v":0},{"$f":"Налоги!L93","v":0},{"$f":"Налоги!M93","v":0},{"$f":"Налоги!N93","v":0},{"$f":"Налоги!O93","v":0},{"$f":"Налоги!P93","v":0},{"$f":"Налоги!Q93","v":0},{"$f":"Налоги!R93","v":0},{"$f":"Налоги!S93","v":0},{"$f":"Налоги!T93","v":0},{"$f":"Налоги!U93","v":0},{"$f":"Налоги!V93","v":0},{"$f":"Налоги!W93","v":0},{"$f":"Налоги!X93","v":0},{"$f":"Налоги!Y93","v":0},{"$f":"Налоги!Z93","v":0},{"$f":"Налоги!AA93","v":0}]
[null,null,"Налог на имущество организаций","тыс. руб.","Лист: Налоги",null,null,{"$f":"Налоги!H107","v":0},{"$f":"Налоги!I107","v":0},{"$f":"Налоги!J107","v":0},{"$f":"Налоги!K107","v":0},{"$f":"Налоги!L107","v":0},{"$f":"Налоги!M107","v":0},{"$f":"Налоги!N107","v":0},{"$f":"Налоги!O107","v":0},{"$f":"Налоги!P107","v":0},{"$f":"Налоги!Q107","v":0},{"$f":"Налоги!R107","v":0},{"$f":"Налоги!S107","v":0},{"$f":"Налоги!T107","v":0},{"$f":"Налоги!U107","v":0},{"$f":"Налоги!V107","v":0},{"$f":"Налоги!W107","v":0},{"$f":"Налоги!X107","v":0},{"$f":"Налоги!Y107","v":0},{"$f":"Налоги!Z107","v":0},{"$f":"Налоги!AA107","v":0}]
[null,null,"Земельный налог","тыс. руб.","Лист: Налоги",null,null,{"$f":"Налоги!H127","v":0},{"$f":"Налоги!I127","v":0},{"$f":"Налоги!J127","v":0},{"$f":"Налоги!K127","v":0},{"$f":"Налоги!L127","v":0},{"$f":"Налоги!M127","v":0},{"$f":"Налоги!N127","v":0},{"$f":"Налоги!O127","v":0},{"$f":"Налоги!P127","v":0},{"$f":"Налоги!Q127","v":0},{"$f":"Налоги!R127","v":0},{"$f":"Налоги!S127","v":0},{"$f":"Налоги!T127","v":0},{"$f":"Налоги!U127","v":0},{"$f":"Налоги!V127","v":0},{"$f":"Налоги!W127","v":0},{"$f":"Налоги!X127","v":0},{"$f":"Налоги!Y127","v":0},{"$f":"Налоги!Z127","v":0},{"$f":"Налоги!AA127","v":0}]
[null,null,"Транспортный налог","тыс. руб.","Лист: Налоги",null,null,{"$f":"Налоги!H141","v":0},{"$f":"Налоги!I141","v":0},{"$f":"Налоги!J141","v":0},{"$f":"Налоги!K141","v":0},{"$f":"Налоги!L141","v":0},{"$f":"Налоги!M141","v":0},{"$f":"Налоги!N141","v":0},{"$f":"Налоги!O141","v":0},{"$f":"Налоги!P141","v":0},{"$f":"Налоги!Q141","v":0},{"$f":"Налоги!R141","v":0},{"$f":"Налоги!S141","v":0},{"$f":"Налоги!T141","v":0},{"$f":"Налоги!U141","v":0},{"$f":"Налоги!V141","v":0},{"$f":"Налоги!W141","v":0},{"$f":"Налоги!X141","v":0},{"$f":"Налоги!Y141","v":0},{"$f":"Налоги!Z141","v":0},{"$f":"Налоги!AA141","v":0}]
[null,null,"Страховые взносы во внебюджетные фонды","тыс. руб.","Лист: Операционные затраты",null,null,{"$f":"'Операционные затраты'!H193","v":0},{"$f":"'Операционные затраты'!I193","v":0},{"$f":"'Операционные затраты'!J193","v":0},{"$f":"'Операционные затраты'!K193","v":0},{"$f":"'Операционные затраты'!L193","v":0},{"$f":"'Операционные затраты'!M193","v":0},{"$f":"'Операционные затраты'!N193","v":0},{"$f":"'Операционные затраты'!O193","v":0},{"$f":"'Операционные затраты'!P193","v":0},{"$f":"'Операционные затраты'!Q193","v":0},{"$f":"'Операционные затраты'!R193","v":0},{"$f":"'Операционные затраты'!S193","v":0},{"$f":"'Операционные затраты'!T193","v":0},{"$f":"'Операционные затраты'!U193","v":0},{"$f":"'Операционные затраты'!V193","v":0},{"$f":"'Операционные затраты'!W193","v":0},{"$f":"'Операционные затраты'!X193","v":0},{"$f":"'Операционные затраты'!Y193","v":0},{"$f":"'Операционные затраты'!Z193","v":0},{"$f":"'Операционные затраты'!AA193","v":0}]
[null,null,"Итого:","тыс. руб.",null,null,null,{"$f":"SUM(H132:H138)","v":0},{"$f":"SUM(I132:I138)","v":0},0,0,0,0,0,0,0,0,0,0,0,0,0,0,0,0,0,0]
[]
[null,"Расчеты с разными дебиторами и кредиторами"]
[null,null,"Кредиторская задолженность на конец периода по оплате процентов по кредитам и займам (Со СПИК)","тыс. руб.","Лист: Финансирование",null,null,{"$f":"Финансирование!H112","v":0},{"$f":"Финансирование!I112","v":0},{"$f":"Финансирование!J112","v":0},{"$f":"Финансирование!K112","v":0},{"$f":"Финансирование!L112","v":0},{"$f":"Финансирование!M112","v":0},{"$f":"Финансирование!N112","v":0},{"$f":"Финансирование!O112","v":0},{"$f":"Финансирование!P112","v":0},{"$f":"Финансирование!Q112","v":0},{"$f":"Финансирование!R112","v":0},{"$f":"Финансирование!S112","v":0},{"$f":"Финансирование!T112","v":0},{"$f":"Финансирование!U112","v":0},{"$f":"Финансирование!V112","v":0},{"$f":"Финансирование!W112","v":0},{"$f":"Финансирование!X112","v":0},{"$f":"Финансирование!Y112","v":0},{"$f":"Финансирование!Z112","v":0},{"$f":"Финансирование!AA112","v":0}]
[null,null,"Кредиторская задолженность на конец периода по оплате процентов по кредитам и займам (Без СПИК)","тыс. руб.","Лист: Финансирование",null,null,{"$f":"Финансирование!H119","v":0},{"$f":"Финансирование!I119","v":0},{"$f":"Финансирование!J119","v":0},{"$f":"Финансирование!K119","v":0},{"$f":"Финансирование!L119","v":0},{"$f":"Финансирование!M119","v":0},{"$f":"Финансирование!N119","v":0},{"$f":"Финансирование!O119","v":0},{"$f":"Финансирование!P119","v":0},{"$f":"Финансирование!Q119","v":0},{"$f":"Финансирование!R119","v":0},{"$f":"Финансирование!S119","v":0},{"$f":"Финансирование!T119","v":0},{"$f":"Финансирование!U119","v":0},{"$f":"Финансирование!V119","v":0},{"$f":"Финансирование!W119","v":0},{"$f":"Финансирование!X119","v":0},{"$f":"Финансирование!Y119","v":0},{"$f":"Финансирование!Z119","v":0},{"$f":"Финансирование!AA119","v":0}]
[]
[null,"Итого Кредиторская задолженность на конец периода (Со СПИК)",null,null,null,null,null,{"$f":"SUM(H112,H115,H128,H142)","v":0},0,0,0,0,0,0,0,0,0,0,0,0,0,0,0,0,0,0,0]
[null,"Итого Кредиторская задолженность на конец периода (Без СПИК)",null,null,null,null,null,{"$f":"SUM(H112,H115,H139,H143)","v":0},{"$f":"SUM(I112,I115,I139,I143)","v":0},0,0,0,0,0,0,0,0,0,0,0,0,0,0,0,0,0,0]

{"sheet":"Налоги","index":9,"n_rows":202,"n_cols":27,"rows_kept":202,"cut":false,"hidden":false,"merged":[[1,2,2,2],[1,3,2,3],[1,4,2,4],[1,5,2,5]]}
[null,null,null,null,{"$f":"\"Лист:  \" & RIGHT(CELL(\"filename\",A1),LEN(CELL(\"filename\",A1))-SEARCH(\"]\",CELL(\"filename\",A1)))","v":"Лист:  Налоги"}]
[null,null,"Параметр","Ед. изм.","Источник","Текущее значение",null,{"$f":"Предпосылки!H2","v":2023},{"$f":"Предпосылки!I2","v":2024},{"$f":"Предпосылки!J2","v":2025},{"$f":"Предпосылки!K2","v":2026},{"$f":"Предпосылки!L2","v":2027},{"$f":"Предпосылки!M2","v":2028},{"$f":"Предпосылки!N2","v":2029},{"$f":"Предпосылки!O2","v":2030},{"$f":"Предпосылки!P2","v":2031},{"$f":"Предпосылки!Q2","v":2032},{"$f":"Предпосылки!R2","v":2033},{"$f":"Предпосылки!S2","v":2034},{"$f":"Предпосылки!T2","v":2035},{"$f":"Предпосылки!U2","v":2036},{"$f":"Предпосылки!V2","v":2037},{"$f":"Предпосылки!W2","v":2038},{"$f":"Предпосылки!X2","v":2039},{"$f":"Предпосылки!Y2","v":2040},{"$f":"Предпосылки!Z2","v":2041},{"$f":"Предпосылки!AA2","v":2042}]
[null,null,null,null,null,null,null,1,2,3,4,5,6,7,8,9,10,11,12,13,14,15,16,17,18,19,20]
[]
[null,"НДС"]
[]
[null,"Входящий НДС"]
[null,null,"НДС по капитальным затратам","тыс. руб.","Лист: Капитальные вложения",null,null,{"$f":"'Капитальные вложения'!H31","v":0},{"$f":"'Капитальные вложения'!I31","v":0},{"$f":"'Капитальные вложения'!J31","v":0},{"$f":"'Капитальные вложения'!K31","v":0},{"$f":"'Капитальные вложения'!L31","v":0},{"$f":"'Капитальные вложения'!M31","v":0},{"$f":"'Капитальные вложения'!N31","v":0},{"$f":"'Капитальные вложения'!O31","v":0},{"$f":"'Капитальные вложения'!P31","v":0},{"$f":"'Капитальные вложения'!Q31","v":0},{"$f":"'Капитальные вложения'!R31","v":0},{"$f":"'Капитальные вложения'!S31","v":0},{"$f":"'Капитальные вложения'!T31","v":0},{"$f":"'Капитальные вложения'!U31","v":0},{"$f":"'Капитальные вложения'!V31","v":0},{"$f":"'Капитальные вложения'!W31","v":0},{"$f":"'Капитальные вложения'!X31","v":0},{"$f":"'Капитальные вложения'!Y31","v":0},{"$f":"'Капитальные вложения'!Z31","v":0},{"$f":"'Капитальные вложения'!AA31","v":0}]
[null,null,"НДС по запасам","тыс. руб.",null,null,null,{"$f":"'Оборотный капитал'!H44*НДС_общая","v":0},{"$f":"'Оборотный капитал'!I44*НДС_общая","v":0},{"$f":"'Оборотный капитал'!J44*НДС_общая","v":0},{"$f":"'Оборотный капитал'!K44*НДС_общая","v":0},{"$f":"'Оборотный капитал'!L44*НДС_общая","v":0},{"$f":"'Оборотный капитал'!M44*НДС_общая","v":0},{"$f":"'Оборотный капитал'!N44*НДС_общая","v":0},{"$f":"'Оборотный капитал'!O44*НДС_общая","v":0},{"$f":"'Оборотный капитал'!P44*НДС_общая","v":0},{"$f":"'Оборотный капитал'!Q44*НДС_общая","v":0},{"$f":"'Оборотный капитал'!R44*НДС_общая","v":0},{"$f":"'Оборотный капитал'!S44*НДС_общая","v":0},{"$f":"'Оборотный капитал'!T44*НДС_общая","v":0},{"$f":"'Оборотный капитал'!U44*НДС_общая","v":0},{"$f":"'Оборотный капитал'!V44*НДС_общая","v":0},{"$f":"'Оборотный капитал'!W44*НДС_общая","v":0},{"$f":"'Оборотный капитал'!X44*НДС_общая","v":0},{"$f":"'Оборотный капитал'!Y44*НДС_общая","v":0},{"$f":"'Оборотный капитал'!Z44*НДС_общая","v":0},{"$f":"'Оборотный капитал'!AA44*НДС_общая","v":0}]
[null,null,"НДС по общехозяйственным затратам","тыс. руб.",null,null,null,{"$f":"'Операционные затраты'!H39*НДС_общая","v":0},{"$f":"'Операционные затраты'!I39*НДС_общая","v":0},{"$f":"'Операционные затраты'!J39*НДС_общая","v":0},{"$f":"'Операционные затраты'!K39*НДС_общая","v":0},{"$f":"'Операционные затраты'!L39*НДС_общая","v":0},{"$f":"'Операционные затраты'!M39*НДС_общая","v":0},{"$f":"'Операционные затраты'!N39*НДС_общая","v":0},{"$f":"'Операционные затраты'!O39*НДС_общая","v":0},{"$f":"'Операционные затраты'!P39*НДС_общая","v":0},{"$f":"'Операционные затраты'!Q39*НДС_общая","v":0},{"$f":"'Операционные затраты'!R39*НДС_общая","v":0},{"$f":"'Операционные затраты'!S39*НДС_общая","v":0},{"$f":"'Операционные затраты'!T39*НДС_общая","v":0},{"$f":"'Операционные затраты'!U39*НДС_общая","v":0},{"$f":"'Операционные затраты'!V39*НДС_общая","v":0},{"$f":"'Операционные затраты'!W39*НДС_общая","v":0},{"$f":"'Операционные затраты'!X39*НДС_общая","v":0},{"$f":"'Операционные затраты'!Y39*НДС_общая","v":0},{"$f":"'Операционные затраты'!Z39*НДС_общая","v":0},{"$f":"'Операционные затраты'!AA39*НДС_общая","v":0}]
[null,null,"НДС по прочим расходам","тыс. руб.",null,null,null,{"$f":"'Операционные затраты'!H46*НДС_общая","v":0},{"$f":"'Операционные затраты'!I46*НДС_общая","v":0},{"$f":"'Операционные затраты'!J46*НДС_общая","v":0},{"$f":"'Операционные затраты'!K46*НДС_общая","v":0},{"$f":"'Операционные затраты'!L46*НДС_общая","v":0},{"$f":"'Операционные затраты'!M46*НДС_общая","v":0},{"$f":"'Операционные затраты'!N46*НДС_общая","v":0},{"$f":"'Операционные затраты'!O46*НДС_общая","v":0},{"$f":"'Операционные затраты'!P46*НДС_общая","v":0},{"$f":"'Операционные затраты'!Q46*НДС_общая","v":0},{"$f":"'Операционные затраты'!R46*НДС_общая","v":0},{"$f":"'Операционные затраты'!S46*НДС_общая","v":0},{"$f":"'Операционные затраты'!T46*НДС_общая","v":0},{"$f":"'Операционные затраты'!U46*НДС_общая","v":0},{"$f":"'Операционные затраты'!V46*НДС_общая","v":0},{"$f":"'Операционные затраты'!W46*НДС_общая","v":0},{"$f":"'Операционные затраты'!X46*НДС_общая","v":0},{"$f":"'Операционные затраты'!Y46*НДС_общая","v":0},{"$f":"'Операционные затраты'!Z46*НДС_общая","v":0},{"$f":"'Операционные затраты'!AA46*НДС_общая","v":0}]
[null,null,"Итого:","тыс. руб.",null,null,null,{"$f":"SUM(H8:H11)","v":0},{"$f":"SUM(I8:I11)","v":0},0,0,0,0,0,0,0,0,0,0,0,0,0,0,0,0,0,0]
[]
[null,"Исходящий НДС"]
[null,null,"НДС по выручке","тыс. руб.","Лист: Выручка и себестоимость",null,null,{"$f":"'Выручка и себестоимость'!H22","v":0},{"$f":"'Выручка и себестоимость'!I22","v":0},{"$f":"'Выручка и себестоимость'!J22","v":0},{"$f":"'Выручка и себестоимость'!K22","v":0},{"$f":"'Выручка и себестоимость'!L22","v":0},{"$f":"'Выручка и себестоимость'!M22","v":0},{"$f":"'Выручка и себестоимость'!N22","v":0},{"$f":"'Выручка и себестоимость'!O22","v":0},{"$f":"'Выручка и себестоимость'!P22","v":0},{"$f":"'Выручка и себестоимость'!Q22","v":0},{"$f":"'Выручка и себестоимость'!R22","v":0},{"$f":"'Выручка и себестоимость'!S22","v":0},{"$f":"'Выручка и себестоимость'!T22","v":0},{"$f":"'Выручка и себестоимость'!U22","v":0},{"$f":"'Выручка и себестоимость'!V22","v":0},{"$f":"'Выручка и себестоимость'!W22","v":0},{"$f":"'Выручка и себестоимость'!X22","v":0},{"$f":"'Выручка и себестоимость'!Y22","v":0},{"$f":"'Выручка и себестоимость'!Z22","v":0},{"$f":"'Выручка и себестоимость'!AA22","v":0}]
[null,null,"Итого:","тыс. руб.",null,null,null,{"$f":"H15","v":0},{"$f":"I15","v":0},{"$f":"J15","v":0},0,0,0,0,0,0,0,0,0,0,0,0,0,0,0,0,0]
[]
[null," Расчеты по НДС"]
[]
[null,null,"НДС по приобретенным ценностям на начало периода","тыс. руб.",null,null,null,{"$f":"G23","v":0},{"$f":"H23","v":0},0,0,0,0,0,0,0,0,0,0,0,0,0,{"$f":"V23","v":0},0,0,0,0]
[null,null,"НДС к возмещению","тыс. руб.",null,null,null,{"$f":"-MIN(H16-H12,0)","v":0},{"$f":"-MIN(I16-I12,0)","v":0},0,0,0,0,0,0,0,0,0,0,0,0,0,0,0,0,0,0]
[null,null,"Возмещение НДС ","тыс. руб.",null,null,null,{"$f":"(G21*(One-Предпосылки!$F$301)+H21*Предпосылки!$F$301)","v":0},{"$f":"(H21*(One-Предпосылки!$F$301)+I21*Предпосылки!$F$301)","v":0},{"$f":"(I21*(One-Предпосылки!$F$301)+J21*Предпосылки!$F$301)","v":0},{"$f":"(J21*(One-Предпосылки!$F$301)+K21*Предпосылки!$F$301)","v":0},{"$f":"(K21*(One-Предпосылки!$F$301)+L21*Предпосылки!$F$301)","v":0},{"$f":"(L21*(One-Предпосылки!$F$301)+M21*Предпосылки!$F$301)","v":0},{"$f":"(M21*(One-Предпосылки!$F$301)+N21*Предпосылки!$F$301)","v":0},{"$f":"(N21*(One-Предпосылки!$F$301)+O21*Предпосылки!$F$301)","v":0},{"$f":"(O21*(One-Предпосылки!$F$301)+P21*Предпосылки!$F$301)","v":0},{"$f":"(P21*(One-Предпосылки!$F$301)+Q21*Предпосылки!$F$301)","v":0},{"$f":"(Q21*(One-Предпосылки!$F$301)+R21*Предпосылки!$F$301)","v":0},{"$f":"(R21*(One-Предпосылки!$F$301)+S21*Предпосылки!$F$301)","v":0},{"$f":"(S21*(One-Предпосылки!$F$301)+T21*Предпосылки!$F$301)","v":0},{"$f":"(T21*(One-Предпосылки!$F$301)+U21*Предпосылки!$F$301)","v":0},{"$f":"(U21*(One-Предпосылки!$F$301)+V21*Предпосылки!$F$301)","v":0},{"$f":"(V21*(One-Предпосылки!$F$301)+W21*Предпосылки!$F$301)","v":0},{"$f":"(W21*(One-Предпосылки!$F$301)+X21*Предпосылки!$F$301)","v":0},{"$f":"(X21*(One-Предпосылки!$F$301)+Y21*Предпосылки!$F$301)","v":0},{"$f":"(Y21*(One-Предпосылки!$F$301)+Z21*Предпосылки!$F$301)","v":0},{"$f":"(Z21*(One-Предпосылки!$F$301)+AA21*Предпосылки!$F$301)","v":0}]
[null,null,"НДС по приобретенным ценностям на конец периода","тыс. руб.",null,null,null,{"$f":"H20+H21-H22","v":0},{"$f":"I20+I21-I22","v":0},0,0,0,0,0,0,0,0,0,0,0,0,0,0,0,0,0,0]
[]
[null,null,"Задолженность по НДС перед бюджетом на начало периода","тыс. руб.",null,null,null,{"$f":"G28","v":0},{"$f":"H28","v":0},0,0,0,0,0,0,0,0,0,0,0,{"$f":"T28","v":0},0,{"$f":"V28","v":0},0,0,0,0]
[null,null,"НДС к уплате","тыс. руб.",null,null,null,{"$f":"MAX(H16-H12,0)","v":0},{"$f":"MAX(I16-I12,0)","v":0},0,0,0,0,0,0,0,0,0,0,0,0,0,0,0,0,0,0]
[null,null,"Уплата НДС (-)","тыс. руб.",null,null,null,{"$f":"-H26*Предпосылки!$F$302-H25","v":0},{"$f":"-I26*Предпосылки!$F$302-I25","v":0},{"$f":"-J26*Предпосылки!$F$302-J25","v":0},{"$f":"-K26*Предпосылки!$F$302-K25","v":0},{"$f":"-L26*Предпосылки!$F$302-L25","v":0},{"$f":"-M26*Предпосылки!$F$302-M25","v":0},{"$f":"-N26*Предпосылки!$F$302-N25","v":0},{"$f":"-O26*Предпосылки!$F$302-O25","v":0},{"$f":"-P26*Предпосылки!$F$302-P25","v":0},{"$f":"-Q26*Предпосылки!$F$302-Q25","v":0},{"$f":"-R26*Предпосылки!$F$302-R25","v":0},{"$f":"-S26*Предпосылки!$F$302-S25","v":0},{"$f":"-T26*Предпосылки!$F$302-T25","v":0},{"$f":"-U26*Предпосылки!$F$302-U25","v":0},{"$f":"-V26*Предпосылки!$F$302-V25","v":0},{"$f":"-W26*Предпосылки!$F$302-W25","v":0},{"$f":"-X26*Предпосылки!$F$302-X25","v":0},{"$f":"-Y26*Предпосылки!$F$302-Y25","v":0},{"$f":"-Z26*Предпосылки!$F$302-Z25","v":0},{"$f":"-AA26*Предпосылки!$F$302-AA25","v":0}]
[null,null,"Задолженность перед бюджетом на конец периода","тыс. руб.",null,null,null,{"$f":"SUM(H25:H27)","v":0},{"$f":"SUM(I25:I27)","v":0},0,0,0,0,0,0,0,0,0,0,0,0,0,0,0,0,0,0]
[]
[null,"НДФЛ"]
[]
[null,null,"Задолженность  на  начало периода","тыс. руб.",null,null,null,{"$f":"G35","v":0},{"$f":"H35","v":0},0,0,0,0,0,0,0,0,0,0,0,0,0,{"$f":"V35","v":0},0,0,0,0]
[null,null,"Начисление НДФЛ","тыс. руб.",null,null,null,{"$f":"'Операционные затраты'!H81*Предпосылки!$F$248","v":0},{"$f":"'Операционные затраты'!I81*Предпосылки!$F$248","v":0},{"$f":"'Операционные затраты'!J81*Предпосылки!$F$248","v":0},{"$f":"'Операционные затраты'!K81*Предпосылки!$F$248","v":0},{"$f":"'Операционные затраты'!L81*Предпосылки!$F$248","v":0},{"$f":"'Операционные затраты'!M81*Предпосылки!$F$248","v":0},{"$f":"'Операционные затраты'!N81*Предпосылки!$F$248","v":0},{"$f":"'Операционные затраты'!O81*Предпосылки!$F$248","v":0},{"$f":"'Операционные затраты'!P81*Предпосылки!$F$248","v":0},{"$f":"'Операционные затраты'!Q81*Предпосылки!$F$248","v":0},{"$f":"'Операционные затраты'!R81*Предпосылки!$F$248","v":0},{"$f":"'Операционные затраты'!S81*Предпосылки!$F$248","v":0},{"$f":"'Операционные затраты'!T81*Предпосылки!$F$248","v":0},{"$f":"'Операционные затраты'!U81*Предпосылки!$F$248","v":0},{"$f":"'Операционные затраты'!V81*Предпосылки!$F$248","v":0},{"$f":"'Операционные затраты'!W81*Предпосылки!$F$248","v":0},{"$f":"'Операционные затраты'!X81*Предпосылки!$F$248","v":0},{"$f":"'Операционные затраты'!Y81*Предпосылки!$F$248","v":0},{"$f":"'Операционные затраты'!Z81*Предпосылки!$F$248","v":0},{"$f":"'Операционные затраты'!AA81*Предпосылки!$F$248","v":0}]
[null,null,"Уплата НДФЛ (-)","тыс. руб.",null,null,null,{"$f":"-(H33*Предпосылки!$F$308+H32)","v":0},{"$f":"-(I33*Предпосылки!$F$308+I32)","v":0},{"$f":"-(J33*Предпосылки!$F$308+J32)","v":0},{"$f":"-(K33*Предпосылки!$F$308+K32)","v":0},{"$f":"-(L33*Предпосылки!$F$308+L32)","v":0},{"$f":"-(M33*Предпосылки!$F$308+M32)","v":0},{"$f":"-(N33*Предпосылки!$F$308+N32)","v":0},{"$f":"-(O33*Предпосылки!$F$308+O32)","v":0},{"$f":"-(P33*Предпосылки!$F$308+P32)","v":0},{"$f":"-(Q33*Предпосылки!$F$308+Q32)","v":0},{"$f":"-(R33*Предпосылки!$F$308+R32)","v":0},{"$f":"-(S33*Предпосылки!$F$308+S32)","v":0},{"$f":"-(T33*Предпосылки!$F$308+T32)","v":0},{"$f":"-(U33*Предпосылки!$F$308+U32)","v":0},{"$f":"-(V33*Предпосылки!$F$308+V32)","v":0},{"$f":"-(W33*Предпосылки!$F$308+W32)","v":0},{"$f":"-(X33*Предпосылки!$F$308+X32)","v":0},{"$f":"-(Y33*Предпосылки!$F$308+Y32)","v":0},{"$f":"-(Z33*Предпосылки!$F$308+Z32)","v":0},{"$f":"-(AA33*Предпосылки!$F$308+AA32)","v":0}]
[null,null,"Задолженность на конец периода","тыс. руб.",null,null,null,{"$f":"SUM(H32:H34)","v":0},{"$f":"SUM(I32:I34)","v":0},0,0,0,0,0,0,0,0,0,0,0,0,0,0,0,0,0,0]
[]
[null,"Налог на прибыль"]
[]
[null,"Со СПИК"]
[]
[null,null,"Прибыль (убыток) до налогообложения ","тыс. руб.","Лист: Отчетность (СПИК)",null,null,{"$f":"'Отчетность (СПИК)'!H69","v":0},{"$f":"'Отчетность (СПИК)'!I69","v":0},{"$f":"'Отчетность (СПИК)'!J69","v":0},{"$f":"'Отчетность (СПИК)'!K69","v":0},{"$f":"'Отчетность (СПИК)'!L69","v":0},{"$f":"'Отчетность (СПИК)'!M69","v":0},{"$f":"'Отчетность (СПИК)'!N69","v":0},{"$f":"'Отчетность (СПИК)'!O69","v":0},{"$f":"'Отчетность (СПИК)'!P69","v":0},{"$f":"'Отчетность (СПИК)'!Q69","v":0},{"$f":"'Отчетность (СПИК)'!R69","v":0},{"$f":"'Отчетность (СПИК)'!S69","v":0},{"$f":"'Отчетность (СПИК)'!T69","v":0},{"$f":"'Отчетность (СПИК)'!U69","v":0},{"$f":"'Отчетность (СПИК)'!V69","v":0},{"$f":"'Отчетность (СПИК)'!W69","v":0},{"$f":"'Отчетность (СПИК)'!X69","v":0},{"$f":"'Отчетность (СПИК)'!Y69","v":0},{"$f":"'Отчетность (СПИК)'!Z69","v":0},{"$f":"'Отчетность (СПИК)'!AA69","v":0}]
[null,null,"Получение государственных субсидий (не включаемых в налогооблагаемую базу)","тыс. руб.","Лист: Предпосылки",null,null,{"$f":"Предпосылки!H234","v":0},{"$f":"Предпосылки!I234","v":0},{"$f":"Предпосылки!J234","v":0},{"$f":"Предпосылки!K234","v":0},{"$f":"Предпосылки!L234","v":0},{"$f":"Предпосылки!M234","v":0},{"$f":"Предпосылки!N234","v":0},{"$f":"Предпосылки!O234","v":0},{"$f":"Предпосылки!P234","v":0},{"$f":"Предпосылки!Q234","v":0},{"$f":"Предпосылки!R234","v":0},{"$f":"Предпосылки!S234","v":0},{"$f":"Предпосылки!T234","v":0},{"$f":"Предпосылки!U234","v":0},{"$f":"Предпосылки!V234","v":0},{"$f":"Предпосылки!W234","v":0},{"$f":"Предпосылки!X234","v":0},{"$f":"Предпосылки!Y234","v":0},{"$f":"Предпосылки!Z234","v":0},{"$f":"Предпосылки!AA234","v":0}]
[]
[null,"Налоговая база (исходная)",null,"тыс. руб.",null,null,null,{"$f":"H41-H42","v":0},{"$f":"I41-I42","v":0},0,0,{"$f":"L41-L42","v":0},0,0,0,0,0,0,0,0,0,0,0,0,0,0,0]
[null,null,"Допустимое уменьшение налоговой базы для налогоплательщика - участника СПИК","тыс. руб.",null,null,null,{"$f":"MAX(Предпосылки!H259*H44,0)","v":0},{"$f":"MAX(Предпосылки!I259*I44,0)","v":0},{"$f":"MAX(Предпосылки!J259*J44,0)","v":0},{"$f":"MAX(Предпосылки!K259*K44,0)","v":0},{"$f":"MAX(Предпосылки!L259*L44,0)","v":0},{"$f":"MAX(Предпосылки!M259*M44,0)","v":0},{"$f":"MAX(Предпосылки!N259*N44,0)","v":0},{"$f":"MAX(Предпосылки!O259*O44,0)","v":0},{"$f":"MAX(Предпосылки!P259*P44,0)","v":0},{"$f":"MAX(Предпосылки!Q259*Q44,0)","v":0},{"$f":"MAX(Предпосылки!R259*R44,0)","v":0},{"$f":"MAX(Предпосылки!S259*S44,0)","v":0},{"$f":"MAX(Предпосылки!T259*T44,0)","v":0},{"$f":"MAX(Предпосылки!U259*U44,0)","v":0},{"$f":"MAX(Предпосылки!V259*V44,0)","v":0},{"$f":"MAX(Предпосылки!W259*W44,0)","v":0},{"$f":"MAX(Предпосылки!X259*X44,0)","v":0},{"$f":"MAX(Предпосылки!Y259*Y44,0)","v":0},{"$f":"MAX(Предпосылки!Z259*Z44,0)","v":0},{"$f":"MAX(Предпосылки!AA259*AA44,0)","v":0}]
[]
[null,"Убытки прошлых лет"]
[null,null,"Накопленный убыток на начало периода","тыс. руб.",null,null,null,{"$f":"G50","v":0},{"$f":"H50","v":0},0,0,0,0,0,0,0,0,0,0,0,0,0,{"$f":"V50","v":0},0,0,0,0]
[null,null,"Использование убытка (-)","тыс. руб.",null,null,null,{"$f":"-MIN(H45,H48)","v":0},0,0,0,0,0,0,0,0,0,0,0,0,0,0,0,0,0,0,0]
[null,null,"Накопленный убыток на конец периода","тыс. руб.",null,null,null,{"$f":"MAX(IF(H44>0,G50-H45,G50-H44),0)","v":0},{"$f":"MAX(IF(I44>0,H50-I45,H50-I44),0)","v":0},0,0,0,0,0,0,0,0,0,0,0,0,0,0,0,0,0,0]
[]
[null,null,"База для уплаты налога на прибыль (после списания убытков прошлых лет)","тыс. руб.",null,null,null,{"$f":"SUM(H44,H49)","v":0},0,0,0,0,0,0,0,0,0,0,0,0,0,0,0,0,0,0,0]
[]
[null,"Начисление налога на прибыль"]
[null,"Налог на прибыль (общий)",null,"тыс. руб.",null,null,null,{"$f":"SUM(H56:H57)","v":0},{"$f":"SUM(I56:I57)","v":0},0,0,0,0,0,0,0,0,0,0,0,0,0,0,0,0,0,0]
[null,null,"Налог на прибыль (федеральная часть)","тыс. руб.",null,null,null,{"$f":"MAX(H$52*Предпосылки!H252,0)","v":0},{"$f":"MAX(I$52*Предпосылки!I252,0)","v":0},{"$f":"MAX(J$52*Предпосылки!J252,0)","v":0},{"$f":"MAX(K$52*Предпосылки!K252,0)","v":0},{"$f":"MAX(L$52*Предпосылки!L252,0)","v":0},{"$f":"MAX(M$52*Предпосылки!M252,0)","v":0},{"$f":"MAX(N$52*Предпосылки!N252,0)","v":0},{"$f":"MAX(O$52*Предпосылки!O252,0)","v":0},{"$f":"MAX(P$52*Предпосылки!P252,0)","v":0},{"$f":"MAX(Q$52*Предпосылки!Q252,0)","v":0},{"$f":"MAX(R$52*Предпосылки!R252,0)","v":0},{"$f":"MAX(S$52*Предпосылки!S252,0)","v":0},{"$f":"MAX(T$52*Предпосылки!T252,0)","v":0},{"$f":"MAX(U$52*Предпосылки!U252,0)","v":0},{"$f":"MAX(V$52*Предпосылки!V252,0)","v":0},{"$f":"MAX(W$52*Предпосылки!W252,0)","v":0},{"$f":"MAX(X$52*Предпосылки!X252,0)","v":0},{"$f":"MAX(Y$52*Предпосылки!Y252,0)","v":0},{"$f":"MAX(Z$52*Предпосылки!Z252,0)","v":0},{"$f":"MAX(AA$52*Предпосылки!AA252,0)","v":0}]
[null,null,"Налог на прибыль (региональная часть)","тыс. руб.",null,null,null,{"$f":"MAX(H$52*Предпосылки!H253,0)","v":0},{"$f":"MAX(I$52*Предпосылки!I253,0)","v":0},{"$f":"MAX(J$52*Предпосылки!J253,0)","v":0},{"$f":"MAX(K$52*Предпосылки!K253,0)","v":0},{"$f":"MAX(L$52*Предпосылки!L253,0)","v":0},{"$f":"MAX(M$52*Предпосылки!M253,0)","v":0},{"$f":"MAX(N$52*Предпосылки!N253,0)","v":0},{"$f":"MAX(O$52*Предпосылки!O253,0)","v":0},{"$f":"MAX(P$52*Предпосылки!P253,0)","v":0},{"$f":"MAX(Q$52*Предпосылки!Q253,0)","v":0},{"$f":"MAX(R$52*Предпосылки!R253,0)","v":0},{"$f":"MAX(S$52*Предпосылки!S253,0)","v":0},{"$f":"MAX(T$52*Предпосылки!T253,0)","v":0},{"$f":"MAX(U$52*Предпосылки!U253,0)","v":0},{"$f":"MAX(V$52*Предпосылки!V253,0)","v":0},{"$f":"MAX(W$52*Предпосылки!W253,0)","v":0},{"$f":"MAX(X$52*Предпосылки!X253,0)","v":0},{"$f":"MAX(Y$52*Предпосылки!Y253,0)","v":0},{"$f":"MAX(Z$52*Предпосылки!Z253,0)","v":0},{"$f":"MAX(AA$52*Предпосылки!AA253,0)","v":0}]
[]
[null," Расчеты по налогу на прибыль"]
[null,null,"Задолженность по налогу на прибыль перед бюджетом на начало периода","тыс. руб.",null,null,null,{"$f":"G65","v":0},{"$f":"H65","v":0},0,0,0,0,0,0,0,0,0,0,0,0,0,{"$f":"V65","v":0},0,0,0,0]
[null,null,"Налог на прибыль к уплате","тыс. руб.",null,null,null,{"$f":"H55","v":0},0,0,0,0,0,0,0,0,0,0,0,0,0,0,0,0,0,0,0]
[null,null,"Уплата налога на прибыль (-)","тыс. руб.",null,null,null,{"$f":"-H61*IF('Отчетность (СПИК)'!H53>Количество_кварталов*Предпосылки!$F$304,Предпосылки!$F$306,Предпосылки!$F$305)-Налоги!H60","v":0},{"$f":"-I61*IF('Отчетность (СПИК)'!I53>Количество_кварталов*Предпосылки!$F$304,Предпосылки!$F$306,Предпосылки!$F$305)-Налоги!I60","v":0},{"$f":"-J61*IF('Отчетность (СПИК)'!J53>Количество_кварталов*Предпосылки!$F$304,Предпосылки!$F$306,Предпосылки!$F$305)-Налоги!J60","v":0},{"$f":"-K61*IF('Отчетность (СПИК)'!K53>Количество_кварталов*Предпосылки!$F$304,Предпосылки!$F$306,Предпосылки!$F$305)-Налоги!K60","v":0},{"$f":"-L61*IF('Отчетность (СПИК)'!L53>Количество_кварталов*Предпосылки!$F$304,Предпосылки!$F$306,Предпосылки!$F$305)-Налоги!L60","v":0},{"$f":"-M61*IF('Отчетность (СПИК)'!M53>Количество_кварталов*Предпосылки!$F$304,Предпосылки!$F$306,Предпосылки!$F$305)-Налоги!M60","v":0},{"$f":"-N61*IF('Отчетность (СПИК)'!N53>Количество_кварталов*Предпосылки!$F$304,Предпосылки!$F$306,Предпосылки!$F$305)-Налоги!N60","v":0},{"$f":"-O61*IF('Отчетность (СПИК)'!O53>Количество_кварталов*Предпосылки!$F$304,Предпосылки!$F$306,Предпосылки!$F$305)-Налоги!O60","v":0},{"$f":"-P61*IF('Отчетность (СПИК)'!P53>Количество_кварталов*Предпосылки!$F$304,Предпосылки!$F$306,Предпосылки!$F$305)-Налоги!P60","v":0},{"$f":"-Q61*IF('Отчетность (СПИК)'!Q53>Количество_кварталов*Предпосылки!$F$304,Предпосылки!$F$306,Предпосылки!$F$305)-Налоги!Q60","v":0},{"$f":"-R61*IF('Отчетность (СПИК)'!R53>Количество_кварталов*Предпосылки!$F$304,Предпосылки!$F$306,Предпосылки!$F$305)-Налоги!R60","v":0},{"$f":"-S61*IF('Отчетность (СПИК)'!S53>Количество_кварталов*Предпосылки!$F$304,Предпосылки!$F$306,Предпосылки!$F$305)-Налоги!S60","v":0},{"$f":"-T61*IF('Отчетность (СПИК)'!T53>Количество_кварталов*Предпосылки!$F$304,Предпосылки!$F$306,Предпосылки!$F$305)-Налоги!T60","v":0},{"$f":"-U61*IF('Отчетность (СПИК)'!U53>Количество_кварталов*Предпосылки!$F$304,Предпосылки!$F$306,Предпосылки!$F$305)-Налоги!U60","v":0},{"$f":"-V61*IF('Отчетность (СПИК)'!V53>Количество_кварталов*Предпосылки!$F$304,Предпосылки!$F$306,Предпосылки!$F$305)-Налоги!V60","v":0},{"$f":"-W61*IF('Отчетность (СПИК)'!W53>Количество_кварталов*Предпосылки!$F$304,Предпосылки!$F$306,Предпосылки!$F$305)-Налоги!W60","v":0},{"$f":"-X61*IF('Отчетность (СПИК)'!X53>Количество_кварталов*Предпосылки!$F$304,Предпосылки!$F$306,Предпосылки!$F$305)-Налоги!X60","v":0},{"$f":"-Y61*IF('Отчетность (СПИК)'!Y53>Количество_кварталов*Предпосылки!$F$304,Предпосылки!$F$306,Предпосылки!$F$305)-Налоги!Y60","v":0},{"$f":"-Z61*IF('Отчетность (СПИК)'!Z53>Количество_кварталов*Предпосылки!$F$304,Предпосылки!$F$306,Предпосылки!$F$305)-Налоги!Z60","v":0},{"$f":"-AA61*IF('Отчетность (СПИК)'!AA53>Количество_кварталов*Предпосылки!$F$304,Предпосылки!$F$306,Предпосылки!$F$305)-Налоги!AA60","v":0}]
[null,null,"в федеральный бюджет  (-)","тыс. руб.",null,null,null,{"$f":"-H56*IF('Отчетность (СПИК)'!H53>Количество_кварталов*Предпосылки!$F$304,Предпосылки!$F$306,Предпосылки!$F$305)\n-G56*IF('Отчетность (СПИК)'!G53>Количество_кварталов*Предпосылки!$F$304,One-Предпосылки!$F$306,One-Предпосылки!$F$305)","v":0},{"$f":"-I56*IF('Отчетность (СПИК)'!I53>Количество_кварталов*Предпосылки!$F$304,Предпосылки!$F$306,Предпосылки!$F$305)\n-H56*IF('Отчетность (СПИК)'!H53>Количество_кварталов*Предпосылки!$F$304,One-Предпосылки!$F$306,One-Предпосылки!$F$305)","v":0},{"$f":"-J56*IF('Отчетность (СПИК)'!J53>Количество_кварталов*Предпосылки!$F$304,Предпосылки!$F$306,Предпосылки!$F$305)\n-I56*IF('Отчетность (СПИК)'!I53>Количество_кварталов*Предпосылки!$F$304,One-Предпосылки!$F$306,One-Предпосылки!$F$305)","v":0},{"$f":"-K56*IF('Отчетность (СПИК)'!K53>Количество_кварталов*Предпосылки!$F$304,Предпосылки!$F$306,Предпосылки!$F$305)\n-J56*IF('Отчетность (СПИК)'!J53>Количество_кварталов*Предпосылки!$F$304,One-Предпосылки!$F$306,One-Предпосылки!$F$305)","v":0},{"$f":"-L56*IF('Отчетность (СПИК)'!L53>Количество_кварталов*Предпосылки!$F$304,Предпосылки!$F$306,Предпосылки!$F$305)\n-K56*IF('Отчетность (СПИК)'!K53>Количество_кварталов*Предпосылки!$F$304,One-Предпосылки!$F$306,One-Предпосылки!$F$305)","v":0},{"$f":"-M56*IF('Отчетность (СПИК)'!M53>Количество_кварталов*Предпосылки!$F$304,Предпосылки!$F$306,Предпосылки!$F$305)\n-L56*IF('Отчетность (СПИК)'!L53>Количество_кварталов*Предпосылки!$F$304,One-Предпосылки!$F$306,One-Предпосылки!$F$305)","v":0},{"$f":"-N56*IF('Отчетность (СПИК)'!N53>Количество_кварталов*Предпосылки!$F$304,Предпосылки!$F$306,Предпосылки!$F$305)\n-M56*IF('Отчетность (СПИК)'!M53>Количество_кварталов*Предпосылки!$F$304,One-Предпосылки!$F$306,One-Предпосылки!$F$305)","v":0},{"$f":"-O56*IF('Отчетность (СПИК)'!O53>Количество_кварталов*Предпосылки!$F$304,Предпосылки!$F$306,Предпосылки!$F$305)\n-N56*IF('Отчетность (СПИК)'!N53>Количество_кварталов*Предпосылки!$F$304,One-Предпосылки!$F$306,One-Предпосылки!$F$305)","v":0},{"$f":"-P56*IF('Отчетность (СПИК)'!P53>Количество_кварталов*Предпосылки!$F$304,Предпосылки!$F$306,Предпосылки!$F$305)\n-O56*IF('Отчетность (СПИК)'!O53>Количество_кварталов*Предпосылки!$F$304,One-Предпосылки!$F$306,One-Предпосылки!$F$305)","v":0},{"$f":"-Q56*IF('Отчетность (СПИК)'!Q53>Количество_кварталов*Предпосылки!$F$304,Предпосылки!$F$306,Предпосылки!$F$305)\n-P56*IF('Отчетность (СПИК)'!P53>Количество_кварталов*Предпосылки!$F$304,One-Предпосылки!$F$306,One-Предпосылки!$F$305)","v":0},{"$f":"-R56*IF('Отчетность (СПИК)'!R53>Количество_кварталов*Предпосылки!$F$304,Предпосылки!$F$306,Предпосылки!$F$305)\n-Q56*IF('Отчетность (СПИК)'!Q53>Количество_кварталов*Предпосылки!$F$304,One-Предпосылки!$F$306,One-Предпосылки!$F$305)","v":0},{"$f":"-S56*IF('Отчетность (СПИК)'!S53>Количество_кварталов*Предпосылки!$F$304,Предпосылки!$F$306,Предпосылки!$F$305)\n-R56*IF('Отчетность (СПИК)'!R53>Количество_кварталов*Предпосылки!$F$304,One-Предпосылки!$F$306,One-Предпосылки!$F$305)","v":0},{"$f":"-T56*IF('Отчетность (СПИК)'!T53>Количество_кварталов*Предпосылки!$F$304,Предпосылки!$F$306,Предпосылки!$F$305)\n-S56*IF('Отчетность (СПИК)'!S53>Количество_кварталов*Предпосылки!$F$304,One-Предпосылки!$F$306,One-Предпосылки!$F$305)","v":0},{"$f":"-U56*IF('Отчетность (СПИК)'!U53>Количество_кварталов*Предпосылки!$F$304,Предпосылки!$F$306,Предпосылки!$F$305)\n-T56*IF('Отчетность (СПИК)'!T53>Количество_кварталов*Предпосылки!$F$304,One-Предпосылки!$F$306,One-Предпосылки!$F$305)","v":0},{"$f":"-V56*IF('Отчетность (СПИК)'!V53>Количество_кварталов*Предпосылки!$F$304,Предпосылки!$F$306,Предпосылки!$F$305)\n-U56*IF('Отчетность (СПИК)'!U53>Количество_кварталов*Предпосылки!$F$304,One-Предпосылки!$F$306,One-Предпосылки!$F$305)","v":0},{"$f":"-W56*IF('Отчетность (СПИК)'!W53>Количество_кварталов*Предпосылки!$F$304,Предпосылки!$F$306,Предпосылки!$F$305)\n-V56*IF('Отчетность (СПИК)'!V53>Количество_кварталов*Предпосылки!$F$304,One-Предпосылки!$F$306,One-Предпосылки!$F$305)","v":0},{"$f":"-X56*IF('Отчетность (СПИК)'!X53>Количество_кварталов*Предпосылки!$F$304,Предпосылки!$F$306,Предпосылки!$F$305)\n-W56*IF('Отчетность (СПИК)'!W53>Количество_кварталов*Предпосылки!$F$304,One-Предпосылки!$F$306,One-Предпосылки!$F$305)","v":0},{"$f":"-Y56*IF('Отчетность (СПИК)'!Y53>Количество_кварталов*Предпосылки!$F$304,Предпосылки!$F$306,Предпосылки!$F$305)\n-X56*IF('Отчетность (СПИК)'!X53>Количество_кварталов*Предпосылки!$F$304,One-Предпосылки!$F$306,One-Предпосылки!$F$305)","v":0},{"$f":"-Z56*IF('Отчетность (СПИК)'!Z53>Количество_кварталов*Предпосылки!$F$304,Предпосылки!$F$306,Предпосылки!$F$305)\n-Y56*IF('Отчетность (СПИК)'!Y53>Количество_кварталов*Предпосылки!$F$304,One-Предпосылки!$F$306,One-Предпосылки!$F$305)","v":0},{"$f":"-AA56*IF('Отчетность (СПИК)'!AA53>Количество_кварталов*Предпосылки!$F$304,Предпосылки!$F$306,Предпосылки!$F$305)\n-Z56*IF('Отчетность (СПИК)'!Z53>Количество_кварталов*Предпосылки!$F$304,One-Предпосылки!$F$306,One-Предпосылки!$F$305)","v":0}]
[null,null,"в региональный бюджет  (-)","тыс. руб.",null,null,null,{"$f":"-H57*IF('Отчетность (СПИК)'!H53>Количество_кварталов*Предпосылки!$F$304,Предпосылки!$F$306,Предпосылки!$F$305)\n-G57*IF('Отчетность (СПИК)'!G53>Количество_кварталов*Предпосылки!$F$304,One-Предпосылки!$F$306,One-Предпосылки!$F$305)","v":0},{"$f":"-I57*IF('Отчетность (СПИК)'!I53>Количество_кварталов*Предпосылки!$F$304,Предпосылки!$F$306,Предпосылки!$F$305)\n-H57*IF('Отчетность (СПИК)'!H53>Количество_кварталов*Предпосылки!$F$304,One-Предпосылки!$F$306,One-Предпосылки!$F$305)","v":0},{"$f":"-J57*IF('Отчетность (СПИК)'!J53>Количество_кварталов*Предпосылки!$F$304,Предпосылки!$F$306,Предпосылки!$F$305)\n-I57*IF('Отчетность (СПИК)'!I53>Количество_кварталов*Предпосылки!$F$304,One-Предпосылки!$F$306,One-Предпосылки!$F$305)","v":0},{"$f":"-K57*IF('Отчетность (СПИК)'!K53>Количество_кварталов*Предпосылки!$F$304,Предпосылки!$F$306,Предпосылки!$F$305)\n-J57*IF('Отчетность (СПИК)'!J53>Количество_кварталов*Предпосылки!$F$304,One-Предпосылки!$F$306,One-Предпосылки!$F$305)","v":0},{"$f":"-L57*IF('Отчетность (СПИК)'!L53>Количество_кварталов*Предпосылки!$F$304,Предпосылки!$F$306,Предпосылки!$F$305)\n-K57*IF('Отчетность (СПИК)'!K53>Количество_кварталов*Предпосылки!$F$304,One-Предпосылки!$F$306,One-Предпосылки!$F$305)","v":0},{"$f":"-M57*IF('Отчетность (СПИК)'!M53>Количество_кварталов*Предпосылки!$F$304,Предпосылки!$F$306,Предпосылки!$F$305)\n-L57*IF('Отчетность (СПИК)'!L53>Количество_кварталов*Предпосылки!$F$304,One-Предпосылки!$F$306,One-Предпосылки!$F$305)","v":0},{"$f":"-N57*IF('Отчетность (СПИК)'!N53>Количество_кварталов*Предпосылки!$F$304,Предпосылки!$F$306,Предпосылки!$F$305)\n-M57*IF('Отчетность (СПИК)'!M53>Количество_кварталов*Предпосылки!$F$304,One-Предпосылки!$F$306,One-Предпосылки!$F$305)","v":0},{"$f":"-O57*IF('Отчетность (СПИК)'!O53>Количество_кварталов*Предпосылки!$F$304,Предпосылки!$F$306,Предпосылки!$F$305)\n-N57*IF('Отчетность (СПИК)'!N53>Количество_кварталов*Предпосылки!$F$304,One-Предпосылки!$F$306,One-Предпосылки!$F$305)","v":0},{"$f":"-P57*IF('Отчетность (СПИК)'!P53>Количество_кварталов*Предпосылки!$F$304,Предпосылки!$F$306,Предпосылки!$F$305)\n-O57*IF('Отчетность (СПИК)'!O53>Количество_кварталов*Предпосылки!$F$304,One-Предпосылки!$F$306,One-Предпосылки!$F$305)","v":0},{"$f":"-Q57*IF('Отчетность (СПИК)'!Q53>Количество_кварталов*Предпосылки!$F$304,Предпосылки!$F$306,Предпосылки!$F$305)\n-P57*IF('Отчетность (СПИК)'!P53>Количество_кварталов*Предпосылки!$F$304,One-Предпосылки!$F$306,One-Предпосылки!$F$305)","v":0},{"$f":"-R57*IF('Отчетность (СПИК)'!R53>Количество_кварталов*Предпосылки!$F$304,Предпосылки!$F$306,Предпосылки!$F$305)\n-Q57*IF('Отчетность (СПИК)'!Q53>Количество_кварталов*Предпосылки!$F$304,One-Предпосылки!$F$306,One-Предпосылки!$F$305)","v":0},{"$f":"-S57*IF('Отчетность (СПИК)'!S53>Количество_кварталов*Предпосылки!$F$304,Предпосылки!$F$306,Предпосылки!$F$305)\n-R57*IF('Отчетность (СПИК)'!R53>Количество_кварталов*Предпосылки!$F$304,One-Предпосылки!$F$306,One-Предпосылки!$F$305)","v":0},{"$f":"-T57*IF('Отчетность (СПИК)'!T53>Количество_кварталов*Предпосылки!$F$304,Предпосылки!$F$306,Предпосылки!$F$305)\n-S57*IF('Отчетность (СПИК)'!S53>Количество_кварталов*Предпосылки!$F$304,One-Предпосылки!$F$306,One-Предпосылки!$F$305)","v":0},{"$f":"-U57*IF('Отчетность (СПИК)'!U53>Количество_кварталов*Предпосылки!$F$304,Предпосылки!$F$306,Предпосылки!$F$305)\n-T57*IF('Отчетность (СПИК)'!T53>Количество_кварталов*Предпосылки!$F$304,One-Предпосылки!$F$306,One-Предпосылки!$F$305)","v":0},{"$f":"-V57*IF('Отчетность (СПИК)'!V53>Количество_кварталов*Предпосылки!$F$304,Предпосылки!$F$306,Предпосылки!$F$305)\n-U57*IF('Отчетность (СПИК)'!U53>Количество_кварталов*Предпосылки!$F$304,One-Предпосылки!$F$306,One-Предпосылки!$F$305)","v":0},{"$f":"-W57*IF('Отчетность (СПИК)'!W53>Количество_кварталов*Предпосылки!$F$304,Предпосылки!$F$306,Предпосылки!$F$305)\n-V57*IF('Отчетность (СПИК)'!V53>Количество_кварталов*Предпосылки!$F$304,One-Предпосылки!$F$306,One-Предпосылки!$F$305)","v":0},{"$f":"-X57*IF('Отчетность (СПИК)'!X53>Количество_кварталов*Предпосылки!$F$304,Предпосылки!$F$306,Предпосылки!$F$305)\n-W57*IF('Отчетность (СПИК)'!W53>Количество_кварталов*Предпосылки!$F$304,One-Предпосылки!$F$306,One-Предпосылки!$F$305)","v":0},{"$f":"-Y57*IF('Отчетность (СПИК)'!Y53>Количество_кварталов*Предпосылки!$F$304,Предпосылки!$F$306,Предпосылки!$F$305)\n-X57*IF('Отчетность (СПИК)'!X53>Количество_кварталов*Предпосылки!$F$304,One-Предпосылки!$F$306,One-Предпосылки!$F$305)","v":0},{"$f":"-Z57*IF('Отчетность (СПИК)'!Z53>Количество_кварталов*Предпосылки!$F$304,Предпосылки!$F$306,Предпосылки!$F$305)\n-Y57*IF('Отчетность (СПИК)'!Y53>Количество_кварталов*Предпосылки!$F$304,One-Предпосылки!$F$306,One-Предпосылки!$F$305)","v":0},{"$f":"-AA57*IF('Отчетность (СПИК)'!AA53>Количество_кварталов*Предпосылки!$F$304,Предпосылки!$F$306,Предпосылки!$F$305)\n-Z57*IF('Отчетность (СПИК)'!Z53>Количество_кварталов*Предпосылки!$F$304,One-Предпосылки!$F$306,One-Предпосылки!$F$305)","v":0}]
[null,null,"Задолженность перед бюджетом на конец периода","тыс. руб.",null,null,null,{"$f":"SUM(H60:H62)","v":0},{"$f":"SUM(I60:I62)","v":0},0,0,0,0,0,0,0,0,0,0,0,0,0,0,0,0,0,0]
[]
[null,"Без СПИК"]
[]
[null,null,"Прибыль (убыток) до налогообложения ","тыс. руб.","Лист: Отчетность (Без СПИК)",null,null,{"$f":"'Отчетность (Без СПИК)'!H69","v":0},{"$f":"'Отчетность (Без СПИК)'!I69","v":0},{"$f":"'Отчетность (Без СПИК)'!J69","v":0},{"$f":"'Отчетность (Без СПИК)'!K69","v":0},{"$f":"'Отчетность (Без СПИК)'!L69","v":0},{"$f":"'Отчетность (Без СПИК)'!M69","v":0},{"$f":"'Отчетность (Без СПИК)'!N69","v":0},{"$f":"'Отчетность (Без СПИК)'!O69","v":0},{"$f":"'Отчетность (Без СПИК)'!P69","v":0},{"$f":"'Отчетность (Без СПИК)'!Q69","v":0},{"$f":"'Отчетность (Без СПИК)'!R69","v":0},{"$f":"'Отчетность (Без СПИК)'!S69","v":0},{"$f":"'Отчетность (Без СПИК)'!T69","v":0},{"$f":"'Отчетность (Без СПИК)'!U69","v":0},{"$f":"'Отчетность (Без СПИК)'!V69","v":0},{"$f":"'Отчетность (Без СПИК)'!W69","v":0},{"$f":"'Отчетность (Без СПИК)'!X69","v":0},{"$f":"'Отчетность (Без СПИК)'!Y69","v":0},{"$f":"'Отчетность (Без СПИК)'!Z69","v":0},{"$f":"'Отчетность (Без СПИК)'!AA69","v":0}]
[null,null,"Получение государственных субсидий (не включаемых в налогооблагаемую базу)","тыс. руб.","Лист: Предпосылки",null,null,{"$f":"Предпосылки!H234","v":0},{"$f":"Предпосылки!I234","v":0},{"$f":"Предпосылки!J234","v":0},{"$f":"Предпосылки!K234","v":0},{"$f":"Предпосылки!L234","v":0},{"$f":"Предпосылки!M234","v":0},{"$f":"Предпосылки!N234","v":0},{"$f":"Предпосылки!O234","v":0},{"$f":"Предпосылки!P234","v":0},{"$f":"Предпосылки!Q234","v":0},{"$f":"Предпосылки!R234","v":0},{"$f":"Предпосылки!S234","v":0},{"$f":"Предпосылки!T234","v":0},{"$f":"Предпосылки!U234","v":0},{"$f":"Предпосылки!V234","v":0},{"$f":"Предпосылки!W234","v":0},{"$f":"Предпосылки!X234","v":0},{"$f":"Предпосылки!Y234","v":0},{"$f":"Предпосылки!Z234","v":0},{"$f":"Предпосылки!AA234","v":0}]
[]
[null,"Налоговая база (исходная)",null,"тыс. руб.",null,null,null,{"$f":"H69-H70","v":0},{"$f":"I69-I70","v":0},0,0,0,0,0,0,0,0,0,0,0,0,0,0,0,0,0,0]
[null,null,"Допустимое уменьшение налоговой базы ","тыс. руб.",null,null,null,{"$f":"MAX(Предпосылки!H260*H72,0)","v":0},{"$f":"MAX(Предпосылки!I260*I72,0)","v":0},{"$f":"MAX(Предпосылки!J260*J72,0)","v":0},{"$f":"MAX(Предпосылки!K260*K72,0)","v":0},{"$f":"MAX(Предпосылки!L260*L72,0)","v":0},{"$f":"MAX(Предпосылки!M260*M72,0)","v":0},{"$f":"MAX(Предпосылки!N260*N72,0)","v":0},{"$f":"MAX(Предпосылки!O260*O72,0)","v":0},{"$f":"MAX(Предпосылки!P260*P72,0)","v":0},{"$f":"MAX(Предпосылки!Q260*Q72,0)","v":0},{"$f":"MAX(Предпосылки!R260*R72,0)","v":0},{"$f":"MAX(Предпосылки!S260*S72,0)","v":0},{"$f":"MAX(Предпосылки!T260*T72,0)","v":0},{"$f":"MAX(Предпосылки!U260*U72,0)","v":0},{"$f":"MAX(Предпосылки!V260*V72,0)","v":0},{"$f":"MAX(Предпосылки!W260*W72,0)","v":0},{"$f":"MAX(Предпосылки!X260*X72,0)","v":0},{"$f":"MAX(Предпосылки!Y260*Y72,0)","v":0},{"$f":"MAX(Предпосылки!Z260*Z72,0)","v":0},{"$f":"MAX(Предпосылки!AA260*AA72,0)","v":0}]
[]
[null,"Убытки прошлых лет"]
[null,null,"Накопленный убыток на начало периода","тыс. руб.",null,null,null,{"$f":"G78","v":0},0,{"$f":"I78","v":0},0,0,0,0,0,0,0,0,0,0,0,0,0,0,0,0,0]
[null,null,"Использование убытка (-)","тыс. руб.",null,null,null,{"$f":"-MIN(H73,H76)","v":0},0,0,0,0,0,0,0,0,0,0,0,0,0,0,0,0,0,0,0]
[null,null,"Накопленный убыток на конец периода","тыс. руб.",null,null,null,{"$f":"MAX(IF(H72>0,G78-H73,G78-H72),0)","v":0},{"$f":"MAX(IF(I72>0,H78-I73,H78-I72),0)","v":0},0,0,0,0,0,0,0,0,0,0,0,0,0,0,0,0,0,0]
[]
[null,null,"База для уплаты налога на прибыль (после списания убытков прошлых лет)","тыс. руб.",null,null,null,{"$f":"SUM(H72,H77)","v":0},0,{"$f":"SUM(J72,J77)","v":0},0,0,0,0,0,0,0,0,0,0,0,0,0,0,0,0,0]
[]
[null,"Начисление налога на прибыль"]
[null,"Налог на прибыль (общий)",null,"тыс. руб.",null,null,null,{"$f":"SUM(H84:H85)","v":0},{"$f":"SUM(I84:I85)","v":0},0,0,0,0,0,0,0,0,0,0,0,0,0,0,0,0,0,0]
[null,null,"Налог на прибыль (федеральная часть)","тыс. руб.",null,null,null,{"$f":"MAX(H$80*Предпосылки!H243,0)","v":0},{"$f":"MAX(I$80*Предпосылки!I243,0)","v":0},{"$f":"MAX(J$80*Предпосылки!J243,0)","v":0},{"$f":"MAX(K$80*Предпосылки!K243,0)","v":0},{"$f":"MAX(L$80*Предпосылки!L243,0)","v":0},{"$f":"MAX(M$80*Предпосылки!M243,0)","v":0},{"$f":"MAX(N$80*Предпосылки!N243,0)","v":0},{"$f":"MAX(O$80*Предпосылки!O243,0)","v":0},{"$f":"MAX(P$80*Предпосылки!P243,0)","v":0},{"$f":"MAX(Q$80*Предпосылки!Q243,0)","v":0},{"$f":"MAX(R$80*Предпосылки!R243,0)","v":0},{"$f":"MAX(S$80*Предпосылки!S243,0)","v":0},{"$f":"MAX(T$80*Предпосылки!T243,0)","v":0},{"$f":"MAX(U$80*Предпосылки!U243,0)","v":0},{"$f":"MAX(V$80*Предпосылки!V243,0)","v":0},{"$f":"MAX(W$80*Предпосылки!W243,0)","v":0},{"$f":"MAX(X$80*Предпосылки!X243,0)","v":0},{"$f":"MAX(Y$80*Предпосылки!Y243,0)","v":0},{"$f":"MAX(Z$80*Предпосылки!Z243,0)","v":0},{"$f":"MAX(AA$80*Предпосылки!AA243,0)","v":0}]
[null,null,"Налог на прибыль (региональная часть)","тыс. руб.",null,null,null,{"$f":"MAX(H$80*Предпосылки!H244,0)","v":0},{"$f":"MAX(I$80*Предпосылки!I244,0)","v":0},{"$f":"MAX(J$80*Предпосылки!J244,0)","v":0},{"$f":"MAX(K$80*Предпосылки!K244,0)","v":0},{"$f":"MAX(L$80*Предпосылки!L244,0)","v":0},{"$f":"MAX(M$80*Предпосылки!M244,0)","v":0},{"$f":"MAX(N$80*Предпосылки!N244,0)","v":0},{"$f":"MAX(O$80*Предпосылки!O244,0)","v":0},{"$f":"MAX(P$80*Предпосылки!P244,0)","v":0},{"$f":"MAX(Q$80*Предпосылки!Q244,0)","v":0},{"$f":"MAX(R$80*Предпосылки!R244,0)","v":0},{"$f":"MAX(S$80*Предпосылки!S244,0)","v":0},{"$f":"MAX(T$80*Предпосылки!T244,0)","v":0},{"$f":"MAX(U$80*Предпосылки!U244,0)","v":0},{"$f":"MAX(V$80*Предпосылки!V244,0)","v":0},{"$f":"MAX(W$80*Предпосылки!W244,0)","v":0},{"$f":"MAX(X$80*Предпосылки!X244,0)","v":0},{"$f":"MAX(Y$80*Предпосылки!Y244,0)","v":0},{"$f":"MAX(Z$80*Предпосылки!Z244,0)","v":0},{"$f":"MAX(AA$80*Предпосылки!AA244,0)","v":0}]
[]
[null," Расчеты по налогу на прибыль"]
[null,null,"Задолженность по налогу на прибыль перед бюджетом на начало периода","тыс. руб.",null,null,null,{"$f":"G93","v":0},{"$f":"H93","v":0},0,0,0,0,0,0,0,0,0,0,0,0,0,{"$f":"V93","v":0},0,0,0,0]
[null,null,"Налог на прибыль к уплате","тыс. руб.",null,null,null,{"$f":"H83","v":0},0,0,0,0,0,0,0,0,0,0,0,0,0,0,0,0,0,0,0]
[null,null,"Уплата налога на прибыль (-)","тыс. руб.",null,null,null,{"$f":"-H89*IF('Отчетность (Без СПИК)'!H53>Количество_кварталов*Предпосылки!$F$304,Предпосылки!$F$306,Предпосылки!$F$305)-Налоги!H88","v":0},{"$f":"-I89*IF('Отчетность (Без СПИК)'!I53>Количество_кварталов*Предпосылки!$F$304,Предпосылки!$F$306,Предпосылки!$F$305)-Налоги!I88","v":0},{"$f":"-J89*IF('Отчетность (Без СПИК)'!J53>Количество_кварталов*Предпосылки!$F$304,Предпосылки!$F$306,Предпосылки!$F$305)-Налоги!J88","v":0},{"$f":"-K89*IF('Отчетность (Без СПИК)'!K53>Количество_кварталов*Предпосылки!$F$304,Предпосылки!$F$306,Предпосылки!$F$305)-Налоги!K88","v":0},{"$f":"-L89*IF('Отчетность (Без СПИК)'!L53>Количество_кварталов*Предпосылки!$F$304,Предпосылки!$F$306,Предпосылки!$F$305)-Налоги!L88","v":0},{"$f":"-M89*IF('Отчетность (Без СПИК)'!M53>Количество_кварталов*Предпосылки!$F$304,Предпосылки!$F$306,Предпосылки!$F$305)-Налоги!M88","v":0},{"$f":"-N89*IF('Отчетность (Без СПИК)'!N53>Количество_кварталов*Предпосылки!$F$304,Предпосылки!$F$306,Предпосылки!$F$305)-Налоги!N88","v":0},{"$f":"-O89*IF('Отчетность (Без СПИК)'!O53>Количество_кварталов*Предпосылки!$F$304,Предпосылки!$F$306,Предпосылки!$F$305)-Налоги!O88","v":0},{"$f":"-P89*IF('Отчетность (Без СПИК)'!P53>Количество_кварталов*Предпосылки!$F$304,Предпосылки!$F$306,Предпосылки!$F$305)-Налоги!P88","v":0},{"$f":"-Q89*IF('Отчетность (Без СПИК)'!Q53>Количество_кварталов*Предпосылки!$F$304,Предпосылки!$F$306,Предпосылки!$F$305)-Налоги!Q88","v":0},{"$f":"-R89*IF('Отчетность (Без СПИК)'!R53>Количество_кварталов*Предпосылки!$F$304,Предпосылки!$F$306,Предпосылки!$F$305)-Налоги!R88","v":0},{"$f":"-S89*IF('Отчетность (Без СПИК)'!S53>Количество_кварталов*Предпосылки!$F$304,Предпосылки!$F$306,Предпосылки!$F$305)-Налоги!S88","v":0},{"$f":"-T89*IF('Отчетность (Без СПИК)'!T53>Количество_кварталов*Предпосылки!$F$304,Предпосылки!$F$306,Предпосылки!$F$305)-Налоги!T88","v":0},{"$f":"-U89*IF('Отчетность (Без СПИК)'!U53>Количество_кварталов*Предпосылки!$F$304,Предпосылки!$F$306,Предпосылки!$F$305)-Налоги!U88","v":0},{"$f":"-V89*IF('Отчетность (Без СПИК)'!V53>Количество_кварталов*Предпосылки!$F$304,Предпосылки!$F$306,Предпосылки!$F$305)-Налоги!V88","v":0},{"$f":"-W89*IF('Отчетность (Без СПИК)'!W53>Количество_кварталов*Предпосылки!$F$304,Предпосылки!$F$306,Предпосылки!$F$305)-Налоги!W88","v":0},{"$f":"-X89*IF('Отчетность (Без СПИК)'!X53>Количество_кварталов*Предпосылки!$F$304,Предпосылки!$F$306,Предпосылки!$F$305)-Налоги!X88","v":0},{"$f":"-Y89*IF('Отчетность (Без СПИК)'!Y53>Количество_кварталов*Предпосылки!$F$304,Предпосылки!$F$306,Предпосылки!$F$305)-Налоги!Y88","v":0},{"$f":"-Z89*IF('Отчетность (Без СПИК)'!Z53>Количество_кварталов*Предпосылки!$F$304,Предпосылки!$F$306,Предпосылки!$F$305)-Налоги!Z88","v":0},{"$f":"-AA89*IF('Отчетность (Без СПИК)'!AA53>Количество_кварталов*Предпосылки!$F$304,Предпосылки!$F$306,Предпосылки!$F$305)-Налоги!AA88","v":0}]
[null,null,"в федеральный бюджет  (-)","тыс. руб.",null,null,null,{"$f":"-H84*IF('Отчетность (Без СПИК)'!H53>Количество_кварталов*Предпосылки!$F$304,Предпосылки!$F$306,Предпосылки!$F$305)\n-G84*IF('Отчетность (Без СПИК)'!G53>Количество_кварталов*Предпосылки!$F$304,One-Предпосылки!$F$306,One-Предпосылки!$F$305)","v":0},{"$f":"-I84*IF('Отчетность (Без СПИК)'!I53>Количество_кварталов*Предпосылки!$F$304,Предпосылки!$F$306,Предпосылки!$F$305)\n-H84*IF('Отчетность (Без СПИК)'!H53>Количество_кварталов*Предпосылки!$F$304,One-Предпосылки!$F$306,One-Предпосылки!$F$305)","v":0},{"$f":"-J84*IF('Отчетность (Без СПИК)'!J53>Количество_кварталов*Предпосылки!$F$304,Предпосылки!$F$306,Предпосылки!$F$305)\n-I84*IF('Отчетность (Без СПИК)'!I53>Количество_кварталов*Предпосылки!$F$304,One-Предпосылки!$F$306,One-Предпосылки!$F$305)","v":0},{"$f":"-K84*IF('Отчетность (Без СПИК)'!K53>Количество_кварталов*Предпосылки!$F$304,Предпосылки!$F$306,Предпосылки!$F$305)\n-J84*IF('Отчетность (Без СПИК)'!J53>Количество_кварталов*Предпосылки!$F$304,One-Предпосылки!$F$306,One-Предпосылки!$F$305)","v":0},{"$f":"-L84*IF('Отчетность (Без СПИК)'!L53>Количество_кварталов*Предпосылки!$F$304,Предпосылки!$F$306,Предпосылки!$F$305)\n-K84*IF('Отчетность (Без СПИК)'!K53>Количество_кварталов*Предпосылки!$F$304,One-Предпосылки!$F$306,One-Предпосылки!$F$305)","v":0},{"$f":"-M84*IF('Отчетность (Без СПИК)'!M53>Количество_кварталов*Предпосылки!$F$304,Предпосылки!$F$306,Предпосылки!$F$305)\n-L84*IF('Отчетность (Без СПИК)'!L53>Количество_кварталов*Предпосылки!$F$304,One-Предпосылки!$F$306,One-Предпосылки!$F$305)","v":0},{"$f":"-N84*IF('Отчетность (Без СПИК)'!N53>Количество_кварталов*Предпосылки!$F$304,Предпосылки!$F$306,Предпосылки!$F$305)\n-M84*IF('Отчетность (Без СПИК)'!M53>Количество_кварталов*Предпосылки!$F$304,One-Предпосылки!$F$306,One-Предпосылки!$F$305)","v":0},{"$f":"-O84*IF('Отчетность (Без СПИК)'!O53>Количество_кварталов*Предпосылки!$F$304,Предпосылки!$F$306,Предпосылки!$F$305)\n-N84*IF('Отчетность (Без СПИК)'!N53>Количество_кварталов*Предпосылки!$F$304,One-Предпосылки!$F$306,One-Предпосылки!$F$305)","v":0},{"$f":"-P84*IF('Отчетность (Без СПИК)'!P53>Количество_кварталов*Предпосылки!$F$304,Предпосылки!$F$306,Предпосылки!$F$305)\n-O84*IF('Отчетность (Без СПИК)'!O53>Количество_кварталов*Предпосылки!$F$304,One-Предпосылки!$F$306,One-Предпосылки!$F$305)","v":0},{"$f":"-Q84*IF('Отчетность (Без СПИК)'!Q53>Количество_кварталов*Предпосылки!$F$304,Предпосылки!$F$306,Предпосылки!$F$305)\n-P84*IF('Отчетность (Без СПИК)'!P53>Количество_кварталов*Предпосылки!$F$304,One-Предпосылки!$F$306,One-Предпосылки!$F$305)","v":0},{"$f":"-R84*IF('Отчетность (Без СПИК)'!R53>Количество_кварталов*Предпосылки!$F$304,Предпосылки!$F$306,Предпосылки!$F$305)\n-Q84*IF('Отчетность (Без СПИК)'!Q53>Количество_кварталов*Предпосылки!$F$304,One-Предпосылки!$F$306,One-Предпосылки!$F$305)","v":0},{"$f":"-S84*IF('Отчетность (Без СПИК)'!S53>Количество_кварталов*Предпосылки!$F$304,Предпосылки!$F$306,Предпосылки!$F$305)\n-R84*IF('Отчетность (Без СПИК)'!R53>Количество_кварталов*Предпосылки!$F$304,One-Предпосылки!$F$306,One-Предпосылки!$F$305)","v":0},{"$f":"-T84*IF('Отчетность (Без СПИК)'!T53>Количество_кварталов*Предпосылки!$F$304,Предпосылки!$F$306,Предпосылки!$F$305)\n-S84*IF('Отчетность (Без СПИК)'!S53>Количество_кварталов*Предпосылки!$F$304,One-Предпосылки!$F$306,One-Предпосылки!$F$305)","v":0},{"$f":"-U84*IF('Отчетность (Без СПИК)'!U53>Количество_кварталов*Предпосылки!$F$304,Предпосылки!$F$306,Предпосылки!$F$305)\n-T84*IF('Отчетность (Без СПИК)'!T53>Количество_кварталов*Предпосылки!$F$304,One-Предпосылки!$F$306,One-Предпосылки!$F$305)","v":0},{"$f":"-V84*IF('Отчетность (Без СПИК)'!V53>Количество_кварталов*Предпосылки!$F$304,Предпосылки!$F$306,Предпосылки!$F$305)\n-U84*IF('Отчетность (Без СПИК)'!U53>Количество_кварталов*Предпосылки!$F$304,One-Предпосылки!$F$306,One-Предпосылки!$F$305)","v":0},{"$f":"-W84*IF('Отчетность (Без СПИК)'!W53>Количество_кварталов*Предпосылки!$F$304,Предпосылки!$F$306,Предпосылки!$F$305)\n-V84*IF('Отчетность (Без СПИК)'!V53>Количество_кварталов*Предпосылки!$F$304,One-Предпосылки!$F$306,One-Предпосылки!$F$305)","v":0},{"$f":"-X84*IF('Отчетность (Без СПИК)'!X53>Количество_кварталов*Предпосылки!$F$304,Предпосылки!$F$306,Предпосылки!$F$305)\n-W84*IF('Отчетность (Без СПИК)'!W53>Количество_кварталов*Предпосылки!$F$304,One-Предпосылки!$F$306,One-Предпосылки!$F$305)","v":0},{"$f":"-Y84*IF('Отчетность (Без СПИК)'!Y53>Количество_кварталов*Предпосылки!$F$304,Предпосылки!$F$306,Предпосылки!$F$305)\n-X84*IF('Отчетность (Без СПИК)'!X53>Количество_кварталов*Предпосылки!$F$304,One-Предпосылки!$F$306,One-Предпосылки!$F$305)","v":0},{"$f":"-Z84*IF('Отчетность (Без СПИК)'!Z53>Количество_кварталов*Предпосылки!$F$304,Предпосылки!$F$306,Предпосылки!$F$305)\n-Y84*IF('Отчетность (Без СПИК)'!Y53>Количество_кварталов*Предпосылки!$F$304,One-Предпосылки!$F$306,One-Предпосылки!$F$305)","v":0},{"$f":"-AA84*IF('Отчетность (Без СПИК)'!AA53>Количество_кварталов*Предпосылки!$F$304,Предпосылки!$F$306,Предпосылки!$F$305)\n-Z84*IF('Отчетность (Без СПИК)'!Z53>Количество_кварталов*Предпосылки!$F$304,One-Предпосылки!$F$306,One-Предпосылки!$F$305)","v":0}]
[null,null,"в региональный бюджет  (-)","тыс. руб.",null,null,null,{"$f":"-H85*IF('Отчетность (Без СПИК)'!H53>Количество_кварталов*Предпосылки!$F$304,Предпосылки!$F$306,Предпосылки!$F$305)\n-G85*IF('Отчетность (Без СПИК)'!G53>Количество_кварталов*Предпосылки!$F$304,One-Предпосылки!$F$306,One-Предпосылки!$F$305)","v":0},{"$f":"-I85*IF('Отчетность (Без СПИК)'!I53>Количество_кварталов*Предпосылки!$F$304,Предпосылки!$F$306,Предпосылки!$F$305)\n-H85*IF('Отчетность (Без СПИК)'!H53>Количество_кварталов*Предпосылки!$F$304,One-Предпосылки!$F$306,One-Предпосылки!$F$305)","v":0},{"$f":"-J85*IF('Отчетность (Без СПИК)'!J53>Количество_кварталов*Предпосылки!$F$304,Предпосылки!$F$306,Предпосылки!$F$305)\n-I85*IF('Отчетность (Без СПИК)'!I53>Количество_кварталов*Предпосылки!$F$304,One-Предпосылки!$F$306,One-Предпосылки!$F$305)","v":0},{"$f":"-K85*IF('Отчетность (Без СПИК)'!K53>Количество_кварталов*Предпосылки!$F$304,Предпосылки!$F$306,Предпосылки!$F$305)\n-J85*IF('Отчетность (Без СПИК)'!J53>Количество_кварталов*Предпосылки!$F$304,One-Предпосылки!$F$306,One-Предпосылки!$F$305)","v":0},{"$f":"-L85*IF('Отчетность (Без СПИК)'!L53>Количество_кварталов*Предпосылки!$F$304,Предпосылки!$F$306,Предпосылки!$F$305)\n-K85*IF('Отчетность (Без СПИК)'!K53>Количество_кварталов*Предпосылки!$F$304,One-Предпосылки!$F$306,One-Предпосылки!$F$305)","v":0},{"$f":"-M85*IF('Отчетность (Без СПИК)'!M53>Количество_кварталов*Предпосылки!$F$304,Предпосылки!$F$306,Предпосылки!$F$305)\n-L85*IF('Отчетность (Без СПИК)'!L53>Количество_кварталов*Предпосылки!$F$304,One-Предпосылки!$F$306,One-Предпосылки!$F$305)","v":0},{"$f":"-N85*IF('Отчетность (Без СПИК)'!N53>Количество_кварталов*Предпосылки!$F$304,Предпосылки!$F$306,Предпосылки!$F$305)\n-M85*IF('Отчетность (Без СПИК)'!M53>Количество_кварталов*Предпосылки!$F$304,One-Предпосылки!$F$306,One-Предпосылки!$F$305)","v":0},{"$f":"-O85*IF('Отчетность (Без СПИК)'!O53>Количество_кварталов*Предпосылки!$F$304,Предпосылки!$F$306,Предпосылки!$F$305)\n-N85*IF('Отчетность (Без СПИК)'!N53>Количество_кварталов*Предпосылки!$F$304,One-Предпосылки!$F$306,One-Предпосылки!$F$305)","v":0},{"$f":"-P85*IF('Отчетность (Без СПИК)'!P53>Количество_кварталов*Предпосылки!$F$304,Предпосылки!$F$306,Предпосылки!$F$305)\n-O85*IF('Отчетность (Без СПИК)'!O53>Количество_кварталов*Предпосылки!$F$304,One-Предпосылки!$F$306,One-Предпосылки!$F$305)","v":0},{"$f":"-Q85*IF('Отчетность (Без СПИК)'!Q53>Количество_кварталов*Предпосылки!$F$304,Предпосылки!$F$306,Предпосылки!$F$305)\n-P85*IF('Отчетность (Без СПИК)'!P53>Количество_кварталов*Предпосылки!$F$304,One-Предпосылки!$F$306,One-Предпосылки!$F$305)","v":0},{"$f":"-R85*IF('Отчетность (Без СПИК)'!R53>Количество_кварталов*Предпосылки!$F$304,Предпосылки!$F$306,Предпосылки!$F$305)\n-Q85*IF('Отчетность (Без СПИК)'!Q53>Количество_кварталов*Предпосылки!$F$304,One-Предпосылки!$F$306,One-Предпосылки!$F$305)","v":0},{"$f":"-S85*IF('Отчетность (Без СПИК)'!S53>Количество_кварталов*Предпосылки!$F$304,Предпосылки!$F$306,Предпосылки!$F$305)\n-R85*IF('Отчетность (Без СПИК)'!R53>Количество_кварталов*Предпосылки!$F$304,One-Предпосылки!$F$306,One-Предпосылки!$F$305)","v":0},{"$f":"-T85*IF('Отчетность (Без СПИК)'!T53>Количество_кварталов*Предпосылки!$F$304,Предпосылки!$F$306,Предпосылки!$F$305)\n-S85*IF('Отчетность (Без СПИК)'!S53>Количество_кварталов*Предпосылки!$F$304,One-Предпосылки!$F$306,One-Предпосылки!$F$305)","v":0},{"$f":"-U85*IF('Отчетность (Без СПИК)'!U53>Количество_кварталов*Предпосылки!$F$304,Предпосылки!$F$306,Предпосылки!$F$305)\n-T85*IF('Отчетность (Без СПИК)'!T53>Количество_кварталов*Предпосылки!$F$304,One-Предпосылки!$F$306,One-Предпосылки!$F$305)","v":0},{"$f":"-V85*IF('Отчетность (Без СПИК)'!V53>Количество_кварталов*Предпосылки!$F$304,Предпосылки!$F$306,Предпосылки!$F$305)\n-U85*IF('Отчетность (Без СПИК)'!U53>Количество_кварталов*Предпосылки!$F$304,One-Предпосылки!$F$306,One-Предпосылки!$F$305)","v":0},{"$f":"-W85*IF('Отчетность (Без СПИК)'!W53>Количество_кварталов*Предпосылки!$F$304,Предпосылки!$F$306,Предпосылки!$F$305)\n-V85*IF('Отчетность (Без СПИК)'!V53>Количество_кварталов*Предпосылки!$F$304,One-Предпосылки!$F$306,One-Предпосылки!$F$305)","v":0},{"$f":"-X85*IF('Отчетность (Без СПИК)'!X53>Количество_кварталов*Предпосылки!$F$304,Предпосылки!$F$306,Предпосылки!$F$305)\n-W85*IF('Отчетность (Без СПИК)'!W53>Количество_кварталов*Предпосылки!$F$304,One-Предпосылки!$F$306,One-Предпосылки!$F$305)","v":0},{"$f":"-Y85*IF('Отчетность (Без СПИК)'!Y53>Количество_кварталов*Предпосылки!$F$304,Предпосылки!$F$306,Предпосылки!$F$305)\n-X85*IF('Отчетность (Без СПИК)'!X53>Количество_кварталов*Предпосылки!$F$304,One-Предпосылки!$F$306,One-Предпосылки!$F$305)","v":0},{"$f":"-Z85*IF('Отчетность (Без СПИК)'!Z53>Количество_кварталов*Предпосылки!$F$304,Предпосылки!$F$306,Предпосылки!$F$305)\n-Y85*IF('Отчетность (Без СПИК)'!Y53>Количество_кварталов*Предпосылки!$F$304,One-Предпосылки!$F$306,One-Предпосылки!$F$305)","v":0},{"$f":"-AA85*IF('Отчетность (Без СПИК)'!AA53>Количество_кварталов*Предпосылки!$F$304,Предпосылки!$F$306,Предпосылки!$F$305)\n-Z85*IF('Отчетность (Без СПИК)'!Z53>Количество_кварталов*Предпосылки!$F$304,One-Предпосылки!$F$306,One-Предпосылки!$F$305)","v":0}]
[null,null,"Задолженность перед бюджетом на конец периода","тыс. руб.",null,null,null,{"$f":"SUM(H88:H90)","v":0},{"$f":"SUM(I88:I90)","v":0},0,0,0,0,0,0,0,0,0,0,0,0,0,0,0,0,0,0]
[]
[null,"Налог на имущество организаций"]
[]
[null,"С учетом СПИК"]
[null,null,"Задолженность  на  начало периода","тыс. руб.",null,null,null,{"$f":"G101","v":0},{"$f":"H101","v":0},0,0,0,0,0,0,0,0,0,0,0,0,0,{"$f":"V101","v":0},0,0,0,0]
[null,null,"Начисление налога на имущество организаций","тыс. руб.",null,null,null,{"$f":"AVERAGE('Отчетность (СПИК)'!G11:H11)*Предпосылки!H254","v":0},{"$f":"AVERAGE('Отчетность (СПИК)'!H11:I11)*Предпосылки!I254","v":0},{"$f":"AVERAGE('Отчетность (СПИК)'!I11:J11)*Предпосылки!J254","v":0},{"$f":"AVERAGE('Отчетность (СПИК)'!J11:K11)*Предпосылки!K254","v":0},{"$f":"AVERAGE('Отчетность (СПИК)'!K11:L11)*Предпосылки!L254","v":0},{"$f":"AVERAGE('Отчетность (СПИК)'!L11:M11)*Предпосылки!M254","v":0},{"$f":"AVERAGE('Отчетность (СПИК)'!M11:N11)*Предпосылки!N254","v":0},{"$f":"AVERAGE('Отчетность (СПИК)'!N11:O11)*Предпосылки!O254","v":0},{"$f":"AVERAGE('Отчетность (СПИК)'!O11:P11)*Предпосылки!P254","v":0},{"$f":"AVERAGE('Отчетность (СПИК)'!P11:Q11)*Предпосылки!Q254","v":0},{"$f":"AVERAGE('Отчетность (СПИК)'!Q11:R11)*Предпосылки!R254","v":0},{"$f":"AVERAGE('Отчетность (СПИК)'!R11:S11)*Предпосылки!S254","v":0},{"$f":"AVERAGE('Отчетность (СПИК)'!S11:T11)*Предпосылки!T254","v":0},{"$f":"AVERAGE('Отчетность (СПИК)'!T11:U11)*Предпосылки!U254","v":0},{"$f":"AVERAGE('Отчетность (СПИК)'!U11:V11)*Предпосылки!V254","v":0},{"$f":"AVERAGE('Отчетность (СПИК)'!V11:W11)*Предпосылки!W254","v":0},{"$f":"AVERAGE('Отчетность (СПИК)'!W11:X11)*Предпосылки!X254","v":0},{"$f":"AVERAGE('Отчетность (СПИК)'!X11:Y11)*Предпосылки!Y254","v":0},{"$f":"AVERAGE('Отчетность (СПИК)'!Y11:Z11)*Предпосылки!Z254","v":0},{"$f":"AVERAGE('Отчетность (СПИК)'!Z11:AA11)*Предпосылки!AA254","v":0}]
[null,null,"Уплата налога на имущество организаций (-)","тыс. руб.",null,null,null,{"$f":"-H98","v":0},{"$f":"-I98","v":0},0,0,0,0,0,0,0,0,0,0,0,0,0,0,0,0,0,0]
[null,null,"Задолженность на конец периода","тыс. руб.",null,null,null,{"$f":"SUM(H98:H100)","v":0},{"$f":"SUM(I98:I100)","v":0},0,0,0,0,0,0,0,0,0,0,0,0,0,0,0,0,0,0]
[]
[null,"Без СПИК"]
[null,null,"Задолженность  на  начало периода","тыс. руб.",null,null,null,{"$f":"G107","v":0},{"$f":"H107","v":0},0,0,0,0,0,0,0,0,0,0,0,0,0,{"$f":"V107","v":0},0,0,0,0]
[null,null,"Начисление налога на имущество организаций","тыс. руб.",null,null,null,{"$f":"AVERAGE('Отчетность (СПИК)'!G11:H11)*Предпосылки!$F$245","v":0},{"$f":"AVERAGE('Отчетность (СПИК)'!H11:I11)*Предпосылки!$F$245","v":0},{"$f":"AVERAGE('Отчетность (СПИК)'!I11:J11)*Предпосылки!$F$245","v":0},{"$f":"AVERAGE('Отчетность (СПИК)'!J11:K11)*Предпосылки!$F$245","v":0},{"$f":"AVERAGE('Отчетность (СПИК)'!K11:L11)*Предпосылки!$F$245","v":0},{"$f":"AVERAGE('Отчетность (СПИК)'!L11:M11)*Предпосылки!$F$245","v":0},{"$f":"AVERAGE('Отчетность (СПИК)'!M11:N11)*Предпосылки!$F$245","v":0},{"$f":"AVERAGE('Отчетность (СПИК)'!N11:O11)*Предпосылки!$F$245","v":0},{"$f":"AVERAGE('Отчетность (СПИК)'!O11:P11)*Предпосылки!$F$245","v":0},{"$f":"AVERAGE('Отчетность (СПИК)'!P11:Q11)*Предпосылки!$F$245","v":0},{"$f":"AVERAGE('Отчетность (СПИК)'!Q11:R11)*Предпосылки!$F$245","v":0},{"$f":"AVERAGE('Отчетность (СПИК)'!R11:S11)*Предпосылки!$F$245","v":0},{"$f":"AVERAGE('Отчетность (СПИК)'!S11:T11)*Предпосылки!$F$245","v":0},{"$f":"AVERAGE('Отчетность (СПИК)'!T11:U11)*Предпосылки!$F$245","v":0},{"$f":"AVERAGE('Отчетность (СПИК)'!U11:V11)*Предпосылки!$F$245","v":0},{"$f":"AVERAGE('Отчетность (СПИК)'!V11:W11)*Предпосылки!$F$245","v":0},{"$f":"AVERAGE('Отчетность (СПИК)'!W11:X11)*Предпосылки!$F$245","v":0},{"$f":"AVERAGE('Отчетность (СПИК)'!X11:Y11)*Предпосылки!$F$245","v":0},{"$f":"AVERAGE('Отчетность (СПИК)'!Y11:Z11)*Предпосылки!$F$245","v":0},{"$f":"AVERAGE('Отчетность (СПИК)'!Z11:AA11)*Предпосылки!$F$245","v":0}]
[null,null,"Уплата налога на имущество организаций (-)","тыс. руб.",null,null,null,{"$f":"-H104","v":0},{"$f":"-I104","v":0},0,0,0,0,0,0,0,0,0,0,0,0,0,0,0,0,0,0]
[null,null,"Задолженность на конец периода","тыс. руб.",null,null,null,{"$f":"SUM(H104:H106)","v":0},{"$f":"SUM(I104:I106)","v":0},0,0,0,0,0,0,0,0,0,0,0,0,0,0,0,0,0,0]
[]
[null,"Транспортный налог"]
[]
[null,"Налоговая база"]
[null,null,null,"Количество","Мощность двигателя, л.с."]
[null,null,"Транспортное средство 1"]
[null,null,"Транспортное средство 2"]
[null,null,"…"]
[]
[null,"С учетом СПИК"]
[null,null,"Задолженность  на  начало периода","тыс. руб.",null,null,null,{"$f":"G121","v":0},{"$f":"H121","v":0},0,0,0,0,0,0,0,0,0,0,0,0,0,{"$f":"V121","v":0},0,0,0,0]
[null,null,"Начисление транспортного налога","тыс. руб.",null,null,null,{"$f":"SUMPRODUCT($D$113:$D$115,$E$113:$E$115)*Предпосылки!H255/Thousand","v":0},{"$f":"SUMPRODUCT($D$113:$D$115,$E$113:$E$115)*Предпосылки!I255/Thousand","v":0},{"$f":"SUMPRODUCT($D$113:$D$115,$E$113:$E$115)*Предпосылки!J255/Thousand","v":0},{"$f":"SUMPRODUCT($D$113:$D$115,$E$113:$E$115)*Предпосылки!K255/Thousand","v":0},{"$f":"SUMPRODUCT($D$113:$D$115,$E$113:$E$115)*Предпосылки!L255/Thousand","v":0},{"$f":"SUMPRODUCT($D$113:$D$115,$E$113:$E$115)*Предпосылки!M255/Thousand","v":0},{"$f":"SUMPRODUCT($D$113:$D$115,$E$113:$E$115)*Предпосылки!N255/Thousand","v":0},{"$f":"SUMPRODUCT($D$113:$D$115,$E$113:$E$115)*Предпосылки!O255/Thousand","v":0},{"$f":"SUMPRODUCT($D$113:$D$115,$E$113:$E$115)*Предпосылки!P255/Thousand","v":0},{"$f":"SUMPRODUCT($D$113:$D$115,$E$113:$E$115)*Предпосылки!Q255/Thousand","v":0},{"$f":"SUMPRODUCT($D$113:$D$115,$E$113:$E$115)*Предпосылки!R255/Thousand","v":0},{"$f":"SUMPRODUCT($D$113:$D$115,$E$113:$E$115)*Предпосылки!S255/Thousand","v":0},{"$f":"SUMPRODUCT($D$113:$D$115,$E$113:$E$115)*Предпосылки!T255/Thousand","v":0},{"$f":"SUMPRODUCT($D$113:$D$115,$E$113:$E$115)*Предпосылки!U255/Thousand","v":0},{"$f":"SUMPRODUCT($D$113:$D$115,$E$113:$E$115)*Предпосылки!V255/Thousand","v":0},{"$f":"SUMPRODUCT($D$113:$D$115,$E$113:$E$115)*Предпосылки!W255/Thousand","v":0},{"$f":"SUMPRODUCT($D$113:$D$115,$E$113:$E$115)*Предпосылки!X255/Thousand","v":0},{"$f":"SUMPRODUCT($D$113:$D$115,$E$113:$E$115)*Предпосылки!Y255/Thousand","v":0},{"$f":"SUMPRODUCT($D$113:$D$115,$E$113:$E$115)*Предпосылки!Z255/Thousand","v":0},{"$f":"SUMPRODUCT($D$113:$D$115,$E$113:$E$115)*Предпосылки!AA255/Thousand","v":0}]
[null,null,"Уплата транспортного налога (-)","тыс. руб.",null,null,null,{"$f":"-H118","v":0},{"$f":"-I118","v":0},0,0,0,0,0,0,0,0,0,0,0,0,0,0,0,0,0,0]
[null,null,"Задолженность на конец периода","тыс. руб.",null,null,null,{"$f":"SUM(H118:H120)","v":0},0,0,0,0,0,0,0,0,0,0,0,0,0,{"$f":"SUM(V118:V120)","v":0},0,0,0,0,0]
[]
[null,"Без СПИК"]
[null,null,"Задолженность  на  начало периода","тыс. руб.",null,null,null,{"$f":"G127","v":0},{"$f":"H127","v":0},0,0,0,0,0,0,0,0,0,0,0,0,0,{"$f":"V127","v":0},0,0,0,0]
[null,null,"Начисление транспортного налога","тыс. руб.",null,null,null,{"$f":"SUMPRODUCT($D$113:$D$115,$E$113:$E$115)*Предпосылки!$F$246/Thousand","v":0},{"$f":"SUMPRODUCT($D$113:$D$115,$E$113:$E$115)*Предпосылки!$F$246/Thousand","v":0},{"$f":"SUMPRODUCT($D$113:$D$115,$E$113:$E$115)*Предпосылки!$F$246/Thousand","v":0},{"$f":"SUMPRODUCT($D$113:$D$115,$E$113:$E$115)*Предпосылки!$F$246/Thousand","v":0},{"$f":"SUMPRODUCT($D$113:$D$115,$E$113:$E$115)*Предпосылки!$F$246/Thousand","v":0},{"$f":"SUMPRODUCT($D$113:$D$115,$E$113:$E$115)*Предпосылки!$F$246/Thousand","v":0},{"$f":"SUMPRODUCT($D$113:$D$115,$E$113:$E$115)*Предпосылки!$F$246/Thousand","v":0},{"$f":"SUMPRODUCT($D$113:$D$115,$E$113:$E$115)*Предпосылки!$F$246/Thousand","v":0},{"$f":"SUMPRODUCT($D$113:$D$115,$E$113:$E$115)*Предпосылки!$F$246/Thousand","v":0},{"$f":"SUMPRODUCT($D$113:$D$115,$E$113:$E$115)*Предпосылки!$F$246/Thousand","v":0},{"$f":"SUMPRODUCT($D$113:$D$115,$E$113:$E$115)*Предпосылки!$F$246/Thousand","v":0},{"$f":"SUMPRODUCT($D$113:$D$115,$E$113:$E$115)*Предпосылки!$F$246/Thousand","v":0},{"$f":"SUMPRODUCT($D$113:$D$115,$E$113:$E$115)*Предпосылки!$F$246/Thousand","v":0},{"$f":"SUMPRODUCT($D$113:$D$115,$E$113:$E$115)*Предпосылки!$F$246/Thousand","v":0},{"$f":"SUMPRODUCT($D$113:$D$115,$E$113:$E$115)*Предпосылки!$F$246/Thousand","v":0},{"$f":"SUMPRODUCT($D$113:$D$115,$E$113:$E$115)*Предпосылки!$F$246/Thousand","v":0},{"$f":"SUMPRODUCT($D$113:$D$115,$E$113:$E$115)*Предпосылки!$F$246/Thousand","v":0},{"$f":"SUMPRODUCT($D$113:$D$115,$E$113:$E$115)*Предпосылки!$F$246/Thousand","v":0},{"$f":"SUMPRODUCT($D$113:$D$115,$E$113:$E$115)*Предпосылки!$F$246/Thousand","v":0},{"$f":"SUMPRODUCT($D$113:$D$115,$E$113:$E$115)*Предпосылки!$F$246/Thousand","v":0}]
[null,null,"Уплата транспортного налога (-)","тыс. руб.",null,null,null,{"$f":"-H124","v":0},{"$f":"-I124","v":0},0,0,0,0,0,0,0,0,0,0,0,0,0,0,0,0,0,0]
[null,null,"Задолженность на конец периода","тыс. руб.",null,null,null,{"$f":"SUM(H124:H126)","v":0},0,0,0,0,0,0,0,0,0,0,0,0,0,{"$f":"SUM(V124:V126)","v":0},0,0,0,0,0]
[]
[null,"Земельный налог"]
[]
[null,"С учетом СПИК"]
[null,null,"Задолженность  на  начало периода","тыс. руб.",null,null,null,{"$f":"G135","v":0},{"$f":"H135","v":0},0,0,0,0,0,0,0,0,0,0,0,0,0,{"$f":"V135","v":0},0,0,0,0]
[null,null,"Начисление земельного налога","тыс. руб.",null,null,null,{"$f":"AVERAGE('Отчетность (СПИК)'!G13:H13)*Предпосылки!H256","v":0},{"$f":"AVERAGE('Отчетность (СПИК)'!H13:I13)*Предпосылки!I256","v":0},{"$f":"AVERAGE('Отчетность (СПИК)'!I13:J13)*Предпосылки!J256","v":0},{"$f":"AVERAGE('Отчетность (СПИК)'!J13:K13)*Предпосылки!K256","v":0},{"$f":"AVERAGE('Отчетность (СПИК)'!K13:L13)*Предпосылки!L256","v":0},{"$f":"AVERAGE('Отчетность (СПИК)'!L13:M13)*Предпосылки!M256","v":0},{"$f":"AVERAGE('Отчетность (СПИК)'!M13:N13)*Предпосылки!N256","v":0},{"$f":"AVERAGE('Отчетность (СПИК)'!N13:O13)*Предпосылки!O256","v":0},{"$f":"AVERAGE('Отчетность (СПИК)'!O13:P13)*Предпосылки!P256","v":0},{"$f":"AVERAGE('Отчетность (СПИК)'!P13:Q13)*Предпосылки!Q256","v":0},{"$f":"AVERAGE('Отчетность (СПИК)'!Q13:R13)*Предпосылки!R256","v":0},{"$f":"AVERAGE('Отчетность (СПИК)'!R13:S13)*Предпосылки!S256","v":0},{"$f":"AVERAGE('Отчетность (СПИК)'!S13:T13)*Предпосылки!T256","v":0},{"$f":"AVERAGE('Отчетность (СПИК)'!T13:U13)*Предпосылки!U256","v":0},{"$f":"AVERAGE('Отчетность (СПИК)'!U13:V13)*Предпосылки!V256","v":0},{"$f":"AVERAGE('Отчетность (СПИК)'!V13:W13)*Предпосылки!W256","v":0},{"$f":"AVERAGE('Отчетность (СПИК)'!W13:X13)*Предпосылки!X256","v":0},{"$f":"AVERAGE('Отчетность (СПИК)'!X13:Y13)*Предпосылки!Y256","v":0},{"$f":"AVERAGE('Отчетность (СПИК)'!Y13:Z13)*Предпосылки!Z256","v":0},{"$f":"AVERAGE('Отчетность (СПИК)'!Z13:AA13)*Предпосылки!AA256","v":0}]
[null,null,"Уплата земельного налога (-)","тыс. руб.",null,null,null,{"$f":"-H132","v":0},{"$f":"-I132","v":0},0,0,0,0,0,0,0,0,0,0,0,0,0,0,0,0,0,0]
[null,null,"Задолженность на конец периода","тыс. руб.",null,null,null,{"$f":"SUM(H132:H134)","v":0},0,0,0,0,0,0,0,0,0,0,0,0,0,{"$f":"SUM(V132:V134)","v":0},0,0,0,0,0]
[]
[null,"Без СПИК"]
[null,null,"Задолженность  на  начало периода","тыс. руб.",null,null,null,{"$f":"G141","v":0},{"$f":"H141","v":0},0,0,0,0,0,0,0,0,0,0,0,0,0,{"$f":"V141","v":0},0,0,0,0]
[null,null,"Начисление земельного налога","тыс. руб.",null,null,null,{"$f":"AVERAGE('Отчетность (СПИК)'!G13:H13)*Предпосылки!$F$247","v":0},{"$f":"AVERAGE('Отчетность (СПИК)'!H13:I13)*Предпосылки!$F$247","v":0},{"$f":"AVERAGE('Отчетность (СПИК)'!I13:J13)*Предпосылки!$F$247","v":0},{"$f":"AVERAGE('Отчетность (СПИК)'!J13:K13)*Предпосылки!$F$247","v":0},{"$f":"AVERAGE('Отчетность (СПИК)'!K13:L13)*Предпосылки!$F$247","v":0},{"$f":"AVERAGE('Отчетность (СПИК)'!L13:M13)*Предпосылки!$F$247","v":0},{"$f":"AVERAGE('Отчетность (СПИК)'!M13:N13)*Предпосылки!$F$247","v":0},{"$f":"AVERAGE('Отчетность (СПИК)'!N13:O13)*Предпосылки!$F$247","v":0},{"$f":"AVERAGE('Отчетность (СПИК)'!O13:P13)*Предпосылки!$F$247","v":0},{"$f":"AVERAGE('Отчетность (СПИК)'!P13:Q13)*Предпосылки!$F$247","v":0},{"$f":"AVERAGE('Отчетность (СПИК)'!Q13:R13)*Предпосылки!$F$247","v":0},{"$f":"AVERAGE('Отчетность (СПИК)'!R13:S13)*Предпосылки!$F$247","v":0},{"$f":"AVERAGE('Отчетность (СПИК)'!S13:T13)*Предпосылки!$F$247","v":0},{"$f":"AVERAGE('Отчетность (СПИК)'!T13:U13)*Предпосылки!$F$247","v":0},{"$f":"AVERAGE('Отчетность (СПИК)'!U13:V13)*Предпосылки!$F$247","v":0},{"$f":"AVERAGE('Отчетность (СПИК)'!V13:W13)*Предпосылки!$F$247","v":0},{"$f":"AVERAGE('Отчетность (СПИК)'!W13:X13)*Предпосылки!$F$247","v":0},{"$f":"AVERAGE('Отчетность (СПИК)'!X13:Y13)*Предпосылки!$F$247","v":0},{"$f":"AVERAGE('Отчетность (СПИК)'!Y13:Z13)*Предпосылки!$F$247","v":0},{"$f":"AVERAGE('Отчетность (СПИК)'!Z13:AA13)*Предпосылки!$F$247","v":0}]
[null,null,"Уплата земельного налога (-)","тыс. руб.",null,null,null,{"$f":"-H138","v":0},{"$f":"-I138","v":0},0,0,0,0,0,0,0,0,0,0,0,0,0,0,0,0,0,0]
[null,null,"Задолженность на конец периода","тыс. руб.",null,null,null,{"$f":"SUM(H138:H140)","v":0},0,0,0,0,0,0,0,0,0,0,0,0,0,{"$f":"SUM(V138:V140)","v":0},0,0,0,0,0]
[]
[null,"Целевой показатель: "]
[null,"Минимальный объем налогов, сборов, страховых взносов, которые будут уплачены инвестором с учетом применения мер стимулирования деятельности в сфере промышленности, предусмотренных СПИК"]
[]
[null,"Со СПИК"]
[]
[null,null,"В федеральный бюджет","тыс. руб.",null,null,null,{"$f":"SUM(H149:H149)","v":0},0,0,0,0,0,0,0,0,0,0,0,0,0,0,0,0,0,0,0]
[null,null,"Налог на прибыль организаций","тыс. руб.",null,null,null,{"$f":"H63","v":0},{"$f":"I63","v":0},0,0,0,0,0,0,0,0,0,0,0,0,0,0,0,0,0,0]
[null,null,"В региональный бюджет","тыс. руб.",null,null,null,{"$f":"SUM(H151:H154)","v":0},{"$f":"SUM(I151:I154)","v":0},0,0,0,0,0,0,0,0,0,{"$f":"SUM(S151:S154)","v":0},0,0,0,0,0,0,0,0]
[null,null,"Налог на прибыль организаций","тыс. руб.",null,null,null,{"$f":"H64","v":0},{"$f":"I64","v":0},0,0,0,0,0,0,0,0,0,0,0,0,0,0,0,0,0,0]
[null,null,"Налог на имущество организаций","тыс. руб.",null,null,null,{"$f":"H100","v":0},{"$f":"I100","v":0},0,0,0,0,0,0,0,0,0,0,0,0,0,0,0,0,0,0]
[null,null,"НДФЛ","тыс. руб.",null,null,null,{"$f":"H34*Предпосылки!$E$288","v":0},{"$f":"I34*Предпосылки!$E$288","v":0},{"$f":"J34*Предпосылки!$E$288","v":0},{"$f":"K34*Предпосылки!$E$288","v":0},{"$f":"L34*Предпосылки!$E$288","v":0},{"$f":"M34*Предпосылки!$E$288","v":0},{"$f":"N34*Предпосылки!$E$288","v":0},{"$f":"O34*Предпосылки!$E$288","v":0},{"$f":"P34*Предпосылки!$E$288","v":0},{"$f":"Q34*Предпосылки!$E$288","v":0},{"$f":"R34*Предпосылки!$E$288","v":0},{"$f":"S34*Предпосылки!$E$288","v":0},{"$f":"T34*Предпосылки!$E$288","v":0},{"$f":"U34*Предпосылки!$E$288","v":0},{"$f":"V34*Предпосылки!$E$288","v":0},{"$f":"W34*Предпосылки!$E$288","v":0},{"$f":"X34*Предпосылки!$E$288","v":0},{"$f":"Y34*Предпосылки!$E$288","v":0},{"$f":"Z34*Предпосылки!$E$288","v":0},{"$f":"AA34*Предпосылки!$E$288","v":0}]
[null,null,"Транспортный налог","тыс. руб.",null,null,null,{"$f":"H120","v":0},{"$f":"I120","v":0},0,0,0,0,0,0,0,0,0,0,0,0,0,0,0,0,0,0]
[null,null,"В местный бюджет","тыс. руб.",null,null,null,{"$f":"SUM(H156:H157)","v":0},{"$f":"SUM(I156:I157)","v":0},0,0,0,0,0,0,0,0,0,0,0,0,0,0,0,0,0,0]
[null,null,"НДФЛ","тыс. руб.",null,null,null,{"$f":"H34*Предпосылки!$F$288","v":0},{"$f":"I34*Предпосылки!$F$288","v":0},{"$f":"J34*Предпосылки!$F$288","v":0},{"$f":"K34*Предпосылки!$F$288","v":0},{"$f":"L34*Предпосылки!$F$288","v":0},{"$f":"M34*Предпосылки!$F$288","v":0},{"$f":"N34*Предпосылки!$F$288","v":0},{"$f":"O34*Предпосылки!$F$288","v":0},{"$f":"P34*Предпосылки!$F$288","v":0},{"$f":"Q34*Предпосылки!$F$288","v":0},{"$f":"R34*Предпосылки!$F$288","v":0},{"$f":"S34*Предпосылки!$F$288","v":0},{"$f":"T34*Предпосылки!$F$288","v":0},{"$f":"U34*Предпосылки!$F$288","v":0},{"$f":"V34*Предпосылки!$F$288","v":0},{"$f":"W34*Предпосылки!$F$288","v":0},{"$f":"X34*Предпосылки!$F$288","v":0},{"$f":"Y34*Предпосылки!$F$288","v":0},{"$f":"Z34*Предпосылки!$F$288","v":0},{"$f":"AA34*Предпосылки!$F$288","v":0}]
[null,null,"Земельный налог","тыс. руб.",null,null,null,{"$f":"H134","v":0},{"$f":"I134","v":0},0,0,0,0,0,0,0,0,0,0,0,0,0,0,0,0,0,0]
[null,null,"Страховые взносы","тыс. руб.","Лист: Операционные затраты",null,null,{"$f":"IF(Предпосылки!$F$280=1,'Операционные затраты'!H166,'Операционные затраты'!H192)","v":0},{"$f":"IF(Предпосылки!$F$280=1,'Операционные затраты'!I166,'Операционные затраты'!I192)","v":0},{"$f":"IF(Предпосылки!$F$280=1,'Операционные затраты'!J166,'Операционные затраты'!J192)","v":0},{"$f":"IF(Предпосылки!$F$280=1,'Операционные затраты'!K166,'Операционные затраты'!K192)","v":0},{"$f":"IF(Предпосылки!$F$280=1,'Операционные затраты'!L166,'Операционные затраты'!L192)","v":0},{"$f":"IF(Предпосылки!$F$280=1,'Операционные затраты'!M166,'Операционные затраты'!M192)","v":0},{"$f":"IF(Предпосылки!$F$280=1,'Операционные затраты'!N166,'Операционные затраты'!N192)","v":0},{"$f":"IF(Предпосылки!$F$280=1,'Операционные затраты'!O166,'Операционные затраты'!O192)","v":0},{"$f":"IF(Предпосылки!$F$280=1,'Операционные затраты'!P166,'Операционные затраты'!P192)","v":0},{"$f":"IF(Предпосылки!$F$280=1,'Операционные затраты'!Q166,'Операционные затраты'!Q192)","v":0},{"$f":"IF(Предпосылки!$F$280=1,'Операционные затраты'!R166,'Операционные затраты'!R192)","v":0},{"$f":"IF(Предпосылки!$F$280=1,'Операционные затраты'!S166,'Операционные затраты'!S192)","v":0},{"$f":"IF(Предпосылки!$F$280=1,'Операционные затраты'!T166,'Операционные затраты'!T192)","v":0},{"$f":"IF(Предпосылки!$F$280=1,'Операционные затраты'!U166,'Операционные затраты'!U192)","v":0},{"$f":"IF(Предпосылки!$F$280=1,'Операционные затраты'!V166,'Операционные затраты'!V192)","v":0},{"$f":"IF(Предпосылки!$F$280=1,'Операционные затраты'!W166,'Операционные затраты'!W192)","v":0},{"$f":"IF(Предпосылки!$F$280=1,'Операционные затраты'!X166,'Операционные затраты'!X192)","v":0},{"$f":"IF(Предпосылки!$F$280=1,'Операционные затраты'!Y166,'Операционные затраты'!Y192)","v":0},{"$f":"IF(Предпосылки!$F$280=1,'Операционные затраты'!Z166,'Операционные затраты'!Z192)","v":0},{"$f":"IF(Предпосылки!$F$280=1,'Операционные затраты'!AA166,'Операционные затраты'!AA192)","v":0}]
[null,null,"Итого:","тыс. руб.",null,null,null,{"$f":"SUM(H148,H150,H155,H158)","v":0},0,0,0,0,0,0,0,0,0,0,0,0,0,0,0,0,0,0,0]
[]
[]
[null,"Без СПИК"]
[]
[null,null,"В федеральный бюджет","тыс. руб.",null,null,null,{"$f":"SUM(H165:H165)","v":0},0,0,0,0,0,0,0,0,0,0,0,0,0,0,0,0,0,0,0]
[null,null,"Налог на прибыль организаций","тыс. руб.",null,null,null,{"$f":"H91","v":0},{"$f":"I91","v":0},0,0,0,0,0,0,0,0,0,0,0,0,0,0,0,0,0,0]
[null,null,"В региональный бюджет","тыс. руб.",null,null,null,{"$f":"SUM(H167:H170)","v":0},{"$f":"SUM(I167:I170)","v":0},0,0,0,0,0,0,0,0,0,0,0,0,0,0,0,0,0,0]
[null,null,"Налог на прибыль организаций","тыс. руб.",null,null,null,{"$f":"H92","v":0},{"$f":"I92","v":0},0,0,0,0,0,0,0,0,0,0,0,0,0,0,0,0,0,0]
[null,null,"Налог на имущество организаций","тыс. руб.",null,null,null,{"$f":"H106","v":0},{"$f":"I106","v":0},0,0,0,0,0,0,0,0,0,0,0,0,0,0,0,0,0,0]
[null,null,"НДФЛ","тыс. руб.",null,null,null,{"$f":"H34*Предпосылки!$E$288","v":0},{"$f":"I34*Предпосылки!$E$288","v":0},{"$f":"J34*Предпосылки!$E$288","v":0},{"$f":"K34*Предпосылки!$E$288","v":0},{"$f":"L34*Предпосылки!$E$288","v":0},{"$f":"M34*Предпосылки!$E$288","v":0},{"$f":"N34*Предпосылки!$E$288","v":0},{"$f":"O34*Предпосылки!$E$288","v":0},{"$f":"P34*Предпосылки!$E$288","v":0},{"$f":"Q34*Предпосылки!$E$288","v":0},{"$f":"R34*Предпосылки!$E$288","v":0},{"$f":"S34*Предпосылки!$E$288","v":0},{"$f":"T34*Предпосылки!$E$288","v":0},{"$f":"U34*Предпосылки!$E$288","v":0},{"$f":"V34*Предпосылки!$E$288","v":0},{"$f":"W34*Предпосылки!$E$288","v":0},{"$f":"X34*Предпосылки!$E$288","v":0},{"$f":"Y34*Предпосылки!$E$288","v":0},{"$f":"Z34*Предпосылки!$E$288","v":0},{"$f":"AA34*Предпосылки!$E$288","v":0}]
[null,null,"Транспортный налог","тыс. руб.",null,null,null,{"$f":"H126","v":0},{"$f":"I126","v":0},0,0,0,0,0,0,0,0,0,0,0,0,0,0,0,0,0,0]
[null,null,"В местный бюджет","тыс. руб.",null,null,null,{"$f":"SUM(H172:H173)","v":0},{"$f":"SUM(I172:I173)","v":0},0,0,0,0,0,0,0,0,0,0,0,0,0,0,0,0,0,0]
[null,null,"НДФЛ","тыс. руб.",null,null,null,{"$f":"H34*Предпосылки!$F$288","v":0},{"$f":"I34*Предпосылки!$F$288","v":0},{"$f":"J34*Предпосылки!$F$288","v":0},{"$f":"K34*Предпосылки!$F$288","v":0},{"$f":"L34*Предпосылки!$F$288","v":0},{"$f":"M34*Предпосылки!$F$288","v":0},{"$f":"N34*Предпосылки!$F$288","v":0},{"$f":"O34*Предпосылки!$F$288","v":0},{"$f":"P34*Предпосылки!$F$288","v":0},{"$f":"Q34*Предпосылки!$F$288","v":0},{"$f":"R34*Предпосылки!$F$288","v":0},{"$f":"S34*Предпосылки!$F$288","v":0},{"$f":"T34*Предпосылки!$F$288","v":0},{"$f":"U34*Предпосылки!$F$288","v":0},{"$f":"V34*Предпосылки!$F$288","v":0},{"$f":"W34*Предпосылки!$F$288","v":0},{"$f":"X34*Предпосылки!$F$288","v":0},{"$f":"Y34*Предпосылки!$F$288","v":0},{"$f":"Z34*Предпосылки!$F$288","v":0},{"$f":"AA34*Предпосылки!$F$288","v":0}]
[null,null,"Земельный налог","тыс. руб.",null,null,null,{"$f":"H140","v":0},{"$f":"I140","v":0},0,0,0,0,0,0,0,0,0,0,0,0,0,0,0,0,0,0]
[null,null,"Страховые взносы","тыс. руб.","Лист: Операционные затраты",null,null,{"$f":"'Операционные затраты'!H192","v":0},{"$f":"'Операционные затраты'!I192","v":0},{"$f":"'Операционные затраты'!J192","v":0},{"$f":"'Операционные затраты'!K192","v":0},{"$f":"'Операционные затраты'!L192","v":0},{"$f":"'Операционные затраты'!M192","v":0},{"$f":"'Операционные затраты'!N192","v":0},{"$f":"'Операционные затраты'!O192","v":0},{"$f":"'Операционные затраты'!P192","v":0},{"$f":"'Операционные затраты'!Q192","v":0},{"$f":"'Операционные затраты'!R192","v":0},{"$f":"'Операционные затраты'!S192","v":0},{"$f":"'Операционные затраты'!T192","v":0},{"$f":"'Операционные затраты'!U192","v":0},{"$f":"'Операционные затраты'!V192","v":0},{"$f":"'Операционные затраты'!W192","v":0},{"$f":"'Операционные затраты'!X192","v":0},{"$f":"'Операционные затраты'!Y192","v":0},{"$f":"'Операционные затраты'!Z192","v":0},{"$f":"'Операционные затраты'!AA192","v":0}]
[null,null,"Итого:","тыс. руб.",null,null,null,{"$f":"SUM(H164,H166,H171,H174)","v":0},0,0,0,0,0,0,0,0,0,0,0,0,0,0,0,0,0,0,0]
[]
[]
[null,"Объем недополученный доходов и расходов бюджета бюджетной системы РФ"]
[]
[null,null,"Расходы бюджета","тыс. руб.","Лист: Предпосылки",null,null,{"$f":"SUM(Предпосылки!H233:H234)","v":0},{"$f":"SUM(Предпосылки!I233:I234)","v":0},{"$f":"SUM(Предпосылки!J233:J234)","v":0},{"$f":"SUM(Предпосылки!K233:K234)","v":0},{"$f":"SUM(Предпосылки!L233:L234)","v":0},{"$f":"SUM(Предпосылки!M233:M234)","v":0},{"$f":"SUM(Предпосылки!N233:N234)","v":0},{"$f":"SUM(Предпосылки!O233:O234)","v":0},{"$f":"SUM(Предпосылки!P233:P234)","v":0},{"$f":"SUM(Предпосылки!Q233:Q234)","v":0},{"$f":"SUM(Предпосылки!R233:R234)","v":0},{"$f":"SUM(Предпосылки!S233:S234)","v":0},{"$f":"SUM(Предпосылки!T233:T234)","v":0},{"$f":"SUM(Предпосылки!U233:U234)","v":0},{"$f":"SUM(Предпосылки!V233:V234)","v":0},{"$f":"SUM(Предпосылки!W233:W234)","v":0},{"$f":"SUM(Предпосылки!X233:X234)","v":0},{"$f":"SUM(Предпосылки!Y233:Y234)","v":0},{"$f":"SUM(Предпосылки!Z233:Z234)","v":0},{"$f":"SUM(Предпосылки!AA233:AA234)","v":0}]
[null,null,"Недополученные доходы бюджета","тыс. руб.",null,null,null,{"$f":"-(H175-H159)","v":0},{"$f":"-(I175-I159)","v":0},0,0,0,0,0,0,0,0,0,{"$f":"-(S175-S159)","v":0},0,0,{"$f":"-(V175-V159)","v":0},0,0,0,0,0]
[null,null,"Итого:","тыс. руб.",null,null,null,{"$f":"SUM(H180:H181)","v":0},0,0,0,0,0,0,0,0,0,0,{"$f":"SUM(S180:S181)","v":0},0,0,0,0,0,0,0,0]
[null,null,"( в т.ч. накопительным итогом)","тыс. руб.",null,null,null,{"$f":"SUM($H182:H182)","v":0},{"$f":"SUM($H182:I182)","v":0},{"$f":"SUM($H182:J182)","v":0},{"$f":"SUM($H182:K182)","v":0},{"$f":"SUM($H182:L182)","v":0},{"$f":"SUM($H182:M182)","v":0},{"$f":"SUM($H182:N182)","v":0},{"$f":"SUM($H182:O182)","v":0},{"$f":"SUM($H182:P182)","v":0},{"$f":"SUM($H182:Q182)","v":0},{"$f":"SUM($H182:R182)","v":0},{"$f":"SUM($H182:S182)","v":0},{"$f":"SUM($H182:T182)","v":0},{"$f":"SUM($H182:U182)","v":0},{"$f":"SUM($H182:V182)","v":0},{"$f":"SUM($H182:W182)","v":0},{"$f":"SUM($H182:X182)","v":0},{"$f":"SUM($H182:Y182)","v":0},{"$f":"SUM($H182:Z182)","v":0},{"$f":"SUM($H182:AA182)","v":0}]
[]
[null,null,"Объем капитальных вложений","тыс. руб.","Лист: Капитальные вложения",null,null,{"$f":"'Капитальные вложения'!F13+Предпосылки!F153","v":0}]
[null,null,"50% от объема капитальных вложений","тыс. руб.",null,null,null,{"$f":"H185*50%","v":0}]
[]
[null,"Расчет срока действия налоговых льгот"]
[]
[null,null,"Соотношение расходов и недополученных доходов бюджета к объему капитальных вложений в соответствии с Методикой приложения 4 к ПП РФ № 1048","%",null,null,null,{"$f":"H183/$H$185","v":{"$error":"#DIV/0!"}},{"$error":"#DIV/0!"},{"$error":"#DIV/0!"},{"$error":"#DIV/0!"},{"$error":"#DIV/0!"},{"$error":"#DIV/0!"},{"$error":"#DIV/0!"},{"$error":"#DIV/0!"},{"$error":"#DIV/0!"},{"$error":"#DIV/0!"},{"$f":"R183/$H$185","v":{"$error":"#DIV/0!"}},{"$error":"#DIV/0!"},{"$error":"#DIV/0!"},{"$error":"#DIV/0!"},{"$error":"#DIV/0!"},{"$error":"#DIV/0!"},{"$error":"#DIV/0!"},{"$error":"#DIV/0!"},{"$error":"#DIV/0!"},{"$error":"#DIV/0!"}]
[null,null,"Действие налоговых льгот","лет",null,{"$f":"SUM(H191:AA191)","v":15},null,{"$f":"IF(OR(G183>$H$186,H3>Предпосылки!$F$8),0,1)","v":1},{"$f":"IF(OR(H183>$H$186,I3>Предпосылки!$F$8),0,1)","v":1},{"$f":"IF(OR(I183>$H$186,J3>Предпосылки!$F$8),0,1)","v":1},{"$f":"IF(OR(J183>$H$186,K3>Предпосылки!$F$8),0,1)","v":1},{"$f":"IF(OR(K183>$H$186,L3>Предпосылки!$F$8),0,1)","v":1},{"$f":"IF(OR(L183>$H$186,M3>Предпосылки!$F$8),0,1)","v":1},{"$f":"IF(OR(M183>$H$186,N3>Предпосылки!$F$8),0,1)","v":1},{"$f":"IF(OR(N183>$H$186,O3>Предпосылки!$F$8),0,1)","v":1},{"$f":"IF(OR(O183>$H$186,P3>Предпосылки!$F$8),0,1)","v":1},{"$f":"IF(OR(P183>$H$186,Q3>Предпосылки!$F$8),0,1)","v":1},{"$f":"IF(OR(Q183>$H$186,R3>Предпосылки!$F$8),0,1)","v":1},{"$f":"IF(OR(R183>$H$186,S3>Предпосылки!$F$8),0,1)","v":1},{"$f":"IF(OR(S183>$H$186,T3>Предпосылки!$F$8),0,1)","v":1},{"$f":"IF(OR(T183>$H$186,U3>Предпосылки!$F$8),0,1)","v":1},{"$f":"IF(OR(U183>$H$186,V3>Предпосылки!$F$8),0,1)","v":1},{"$f":"IF(OR(V183>$H$186,W3>Предпосылки!$F$8),0,1)","v":0},{"$f":"IF(OR(W183>$H$186,X3>Предпосылки!$F$8),0,1)","v":0},{"$f":"IF(OR(X183>$H$186,Y3>Предпосылки!$F$8),0,1)","v":0},{"$f":"IF(OR(Y183>$H$186,Z3>Предпосылки!$F$8),0,1)","v":0},{"$f":"IF(OR(Z183>$H$186,AA3>Предпосылки!$F$8),0,1)","v":0}]
[]
[]
[null,"Поквартальный расчет действия налоговых льгот (упрощенно):"]
[null,null,"Номер квартала",null,null,null,null,{"$f":"H2","v":2023},{"$f":"I2","v":2024},2025,2026,2027,2028,2029,2030,2031,2032,2033,2034,2035,2036,2037,2038,2039,2040,2041,2042]
[null,null,1,null,null,null,null,{"$f":"($C196*H$182/Количество_кварталов  + G$183)/$H$185","v":{"$error":"#DIV/0!"}},{"$error":"#DIV/0!"},{"$error":"#DIV/0!"},{"$error":"#DIV/0!"},{"$error":"#DIV/0!"},{"$error":"#DIV/0!"},{"$error":"#DIV/0!"},{"$error":"#DIV/0!"},{"$error":"#DIV/0!"},{"$error":"#DIV/0!"},{"$error":"#DIV/0!"},{"$error":"#DIV/0!"},{"$error":"#DIV/0!"},{"$error":"#DIV/0!"},{"$error":"#DIV/0!"},{"$error":"#DIV/0!"},{"$error":"#DIV/0!"},{"$error":"#DIV/0!"},{"$error":"#DIV/0!"},{"$error":"#DIV/0!"}]
[null,null,2,null,null,null,null,{"$f":"($C197*H$182/Количество_кварталов  + G$183)/$H$185","v":{"$error":"#DIV/0!"}},{"$error":"#DIV/0!"},{"$error":"#DIV/0!"},{"$error":"#DIV/0!"},{"$error":"#DIV/0!"},{"$error":"#DIV/0!"},{"$error":"#DIV/0!"},{"$error":"#DIV/0!"},{"$error":"#DIV/0!"},{"$error":"#DIV/0!"},{"$f":"($C197*R$182/Количество_кварталов  + Q$183)/$H$185","v":{"$error":"#DIV/0!"}},{"$error":"#DIV/0!"},{"$error":"#DIV/0!"},{"$error":"#DIV/0!"},{"$error":"#DIV/0!"},{"$error":"#DIV/0!"},{"$error":"#DIV/0!"},{"$error":"#DIV/0!"},{"$error":"#DIV/0!"},{"$error":"#DIV/0!"}]
[null,null,3,null,null,null,null,{"$f":"($C198*H$182/Количество_кварталов  + G$183)/$H$185","v":{"$error":"#DIV/0!"}},{"$error":"#DIV/0!"},{"$error":"#DIV/0!"},{"$error":"#DIV/0!"},{"$error":"#DIV/0!"},{"$error":"#DIV/0!"},{"$error":"#DIV/0!"},{"$error":"#DIV/0!"},{"$error":"#DIV/0!"},{"$error":"#DIV/0!"},{"$f":"($C198*R$182/Количество_кварталов  + Q$183)/$H$185","v":{"$error":"#DIV/0!"}},{"$error":"#DIV/0!"},{"$error":"#DIV/0!"},{"$error":"#DIV/0!"},{"$error":"#DIV/0!"},{"$error":"#DIV/0!"},{"$error":"#DIV/0!"},{"$error":"#DIV/0!"},{"$error":"#DIV/0!"},{"$error":"#DIV/0!"}]
[null,null,4,null,null,null,null,{"$f":"($C199*H$182/Количество_кварталов  + G$183)/$H$185","v":{"$error":"#DIV/0!"}},{"$error":"#DIV/0!"},{"$error":"#DIV/0!"},{"$error":"#DIV/0!"},{"$error":"#DIV/0!"},{"$error":"#DIV/0!"},{"$error":"#DIV/0!"},{"$error":"#DIV/0!"},{"$error":"#DIV/0!"},{"$error":"#DIV/0!"},{"$error":"#DIV/0!"},{"$error":"#DIV/0!"},{"$error":"#DIV/0!"},{"$error":"#DIV/0!"},{"$error":"#DIV/0!"},{"$error":"#DIV/0!"},{"$error":"#DIV/0!"},{"$error":"#DIV/0!"},{"$error":"#DIV/0!"},{"$error":"#DIV/0!"}]
[]
[null,null,"Примечание:"]
[null,null,"Во избежание циклических ссылок в финансовой модели необходимо вручную завести льготные налоговые ставки в строки 251-256 листа \" Предпосылки\" в соответствии с сроком действия налоговых льгот"]

{"sheet":"Финансирование","index":10,"n_rows":119,"n_cols":27,"rows_kept":119,"cut":false,"hidden":false,"merged":[[0,11,0,16],[1,2,2,2],[1,3,2,3],[1,4,2,4],[1,5,2,5],[0,9,0,10]]}
[null,null,null,null,{"$f":"\"Лист:  \" & RIGHT(CELL(\"filename\",A1),LEN(CELL(\"filename\",A1))-SEARCH(\"]\",CELL(\"filename\",A1)))","v":"Лист:  Финансирование"},null,null,null,null,"Проверка:",null,{"$f":"IF(AND(F24=\"Верно\",F39=\"Верно\",F89=\"Верно\",F102=\"Верно\"), \"Верно\", \"Имеются некорректные данные\")","v":"Верно"}]
[null,null,"Параметр","Ед. изм.","Источник","Текущее значение",null,{"$f":"Предпосылки!H2","v":2023},{"$f":"Предпосылки!I2","v":2024},{"$f":"Предпосылки!J2","v":2025},{"$f":"Предпосылки!K2","v":2026},{"$f":"Предпосылки!L2","v":2027},{"$f":"Предпосылки!M2","v":2028},{"$f":"Предпосылки!N2","v":2029},{"$f":"Предпосылки!O2","v":2030},{"$f":"Предпосылки!P2","v":2031},{"$f":"Предпосылки!Q2","v":2032},{"$f":"Предпосылки!R2","v":2033},{"$f":"Предпосылки!S2","v":2034},{"$f":"Предпосылки!T2","v":2035},{"$f":"Предпосылки!U2","v":2036},{"$f":"Предпосылки!V2","v":2037},{"$f":"Предпосылки!W2","v":2038},{"$f":"Предпосылки!X2","v":2039},{"$f":"Предпосылки!Y2","v":2040},{"$f":"Предпосылки!Z2","v":2041},{"$f":"Предпосылки!AA2","v":2042}]
[null,null,null,null,null,null,null,1,2,3,4,5,6,7,8,9,10,11,12,13,14,15,16,17,18,19,20]
[]
[null,null,"Дней в отчетном периоде","дн","Лист: Предпосылки",null,null,{"$f":"Предпосылки!H12","v":365},{"$f":"Предпосылки!I12","v":366},{"$f":"Предпосылки!J12","v":365},{"$f":"Предпосылки!K12","v":365},{"$f":"Предпосылки!L12","v":365},{"$f":"Предпосылки!M12","v":366},{"$f":"Предпосылки!N12","v":365},{"$f":"Предпосылки!O12","v":365},{"$f":"Предпосылки!P12","v":365},{"$f":"Предпосылки!Q12","v":366},{"$f":"Предпосылки!R12","v":365},{"$f":"Предпосылки!S12","v":365},{"$f":"Предпосылки!T12","v":365},{"$f":"Предпосылки!U12","v":366},{"$f":"Предпосылки!V12","v":365},{"$f":"Предпосылки!W12","v":365},{"$f":"Предпосылки!X12","v":365},{"$f":"Предпосылки!Y12","v":366},{"$f":"Предпосылки!Z12","v":365},{"$f":"Предпосылки!AA12","v":365}]
[]
[null,null,"Процентная ставка по краткосрочному займу","%","Лист: Предпосылки",null,null,{"$f":"Предпосылки!H225","v":0},{"$f":"Предпосылки!I225","v":0},{"$f":"Предпосылки!J225","v":0},{"$f":"Предпосылки!K225","v":0},{"$f":"Предпосылки!L225","v":0},{"$f":"Предпосылки!M225","v":0},{"$f":"Предпосылки!N225","v":0},{"$f":"Предпосылки!O225","v":0},{"$f":"Предпосылки!P225","v":0},{"$f":"Предпосылки!Q225","v":0},{"$f":"Предпосылки!R225","v":0},{"$f":"Предпосылки!S225","v":0},{"$f":"Предпосылки!T225","v":0},{"$f":"Предпосылки!U225","v":0},{"$f":"Предпосылки!V225","v":0},{"$f":"Предпосылки!W225","v":0},{"$f":"Предпосылки!X225","v":0},{"$f":"Предпосылки!Y225","v":0},{"$f":"Предпосылки!Z225","v":0},{"$f":"Предпосылки!AA225","v":0}]
[]
[null,"Долгосрочные кредиты и займы"]
[]
[null,"Заём 1"]
[null,null,"Срок","мес."]
[null,null,"Сумма займа 1 ","тыс. руб."]
[null,null,"Дата получения займа 1","х"]
[null,null,"Дата погашения займа 1 ","х",null,{"$f":"EDATE(F14,F12)","v":"00:00:00"}]
[null,null,"Процентная ставка по займу 1","%","Лист: Предпосылки",null,null,{"$f":"Предпосылки!H222","v":0},{"$f":"Предпосылки!I222","v":0},{"$f":"Предпосылки!J222","v":0},{"$f":"Предпосылки!K222","v":0},{"$f":"Предпосылки!L222","v":0},{"$f":"Предпосылки!M222","v":0},{"$f":"Предпосылки!N222","v":0},{"$f":"Предпосылки!O222","v":0},{"$f":"Предпосылки!P222","v":0},{"$f":"Предпосылки!Q222","v":0},{"$f":"Предпосылки!R222","v":0},{"$f":"Предпосылки!S222","v":0},{"$f":"Предпосылки!T222","v":0},{"$f":"Предпосылки!U222","v":0},{"$f":"Предпосылки!V222","v":0},{"$f":"Предпосылки!W222","v":0},{"$f":"Предпосылки!X222","v":0},{"$f":"Предпосылки!Y222","v":0},{"$f":"Предпосылки!Z222","v":0},{"$f":"Предпосылки!AA222","v":0}]
[]
[null,null,"Задолженность на начало периода","тыс. руб.",null,null,null,{"$f":"G22","v":0},{"$f":"H22","v":0},0,0,0,0,0,0,0,0,0,0,0,0,0,{"$f":"V22","v":0},0,0,0,0]
[null,null,"Привлечение займа","тыс. руб.",null,{"$f":"SUM(H19:AA19)","v":0},null,{"$f":"IF(YEAR($F14)=H$2,$F13,0)","v":0},0,0,0,0,0,0,0,0,0,0,0,0,0,0,0,0,0,0,0]
[null,null,"Выплата тела долга (-)","тыс. руб.",null,{"$f":"SUM(H20:AA20)","v":0}]
[null,null,"Выплата процентов по долгу (-)","тыс. руб.",null,{"$f":"SUM(H21:AA21)","v":0},null,{"$f":"-AVERAGE(H18,H22)*H16","v":0},0,0,0,0,0,0,0,0,0,0,0,0,0,0,0,0,0,0,0]
[null,null,"Задолженность на конец периода","тыс. руб.",null,null,null,{"$f":"SUM(H18:H20)","v":0},{"$f":"SUM(I18:I20)","v":0},0,0,0,0,0,0,0,0,0,0,0,0,{"$f":"SUM(V18:V20)","v":0},{"$f":"SUM(W18:W20)","v":0},0,0,0,0]
[]
[null,null,"Проверка своевременности погашения тела долга",null,null,{"$f":"IF(F13=0,\"Верно\",IF(INDEX(H22:Z22,,MATCH(YEAR($F15),H$2:Z$2,0)) = 0, \"Верно\", \"Ошибка\"))","v":"Верно"}]
[]
[null,"Заём 2"]
[null,null,"Срок","мес."]
[null,null,"Сумма займа 2","тыс. руб."]
[null,null,"Дата получения займа 2","х"]
[null,null,"Дата погашения займа 2","х",null,{"$f":"EDATE(F29,F27)","v":"00:00:00"}]
[null,null,"Процентная ставка по займу 2","%","Лист: Предпосылки",null,null,{"$f":"Предпосылки!H223","v":0},{"$f":"Предпосылки!I223","v":0},{"$f":"Предпосылки!J223","v":0},{"$f":"Предпосылки!K223","v":0},{"$f":"Предпосылки!L223","v":0},{"$f":"Предпосылки!M223","v":0},{"$f":"Предпосылки!N223","v":0},{"$f":"Предпосылки!O223","v":0},{"$f":"Предпосылки!P223","v":0},{"$f":"Предпосылки!Q223","v":0},{"$f":"Предпосылки!R223","v":0},{"$f":"Предпосылки!S223","v":0},{"$f":"Предпосылки!T223","v":0},{"$f":"Предпосылки!U223","v":0},{"$f":"Предпосылки!V223","v":0},{"$f":"Предпосылки!W223","v":0},{"$f":"Предпосылки!X223","v":0},{"$f":"Предпосылки!Y223","v":0},{"$f":"Предпосылки!Z223","v":0},{"$f":"Предпосылки!AA223","v":0}]
[]
[null,null,"Задолженность на начало периода","тыс. руб.",null,null,null,{"$f":"G37","v":0},{"$f":"H37","v":0},0,0,0,0,0,0,0,0,0,0,0,0,0,{"$f":"V37","v":0},0,0,0,0]
[null,null,"Привлечение займа","тыс. руб.",null,{"$f":"SUM(H34:AA34)","v":0},null,{"$f":"IF(YEAR($F29)=H$2,$F28,0)","v":0},0,0,0,0,0,0,0,0,0,0,0,0,0,0,0,0,0,0,0]
[null,null,"Выплата тела долга (-)","тыс. руб.",null,{"$f":"SUM(H35:AA35)","v":0}]
[null,null,"Выплата процентов по долгу (-)","тыс. руб.",null,{"$f":"SUM(H36:AA36)","v":0},null,{"$f":"-AVERAGE(H33,H37)*H31","v":0},0,0,0,0,0,0,0,0,0,0,0,0,0,0,0,0,0,0,0]
[null,null,"Задолженность на конец периода","тыс. руб.",null,null,null,{"$f":"SUM(H33:H35)","v":0},{"$f":"SUM(I33:I35)","v":0},0,0,0,0,0,0,0,0,0,0,0,0,0,0,0,0,0,0]
[]
[null,null,"Проверка своевременности погашения тела долга",null,null,{"$f":"IF(F28=0,\"Верно\",IF(INDEX(H37:Z37,,MATCH(YEAR($F30),H$2:Z$2,0)) = 0, \"Верно\", \"Ошибка\"))","v":"Верно"}]
[null,"…"]
[]
[null,"Свод по долгосрочным кредитам и займам"]
[]
[null,null,"Привлечение заемного финансирования","тыс. руб.",null,{"$f":"SUM(H44:AA44)","v":0},null,{"$f":"SUM(H19,H34)","v":0},0,0,0,0,0,0,0,0,0,0,0,0,0,0,0,0,0,0,0]
[null,null,"Выплата тела долга (-)","тыс. руб.",null,{"$f":"SUM(H45:AA45)","v":0},null,{"$f":"SUM(H20,H35)","v":0},0,0,0,0,0,0,0,0,0,0,0,0,0,0,0,0,0,0,0]
[null,null,"Начисление процентов по долгу (-)","тыс. руб.",null,{"$f":"SUM(H46:AA46)","v":0},null,{"$f":"SUM(H21,H36)","v":0},0,0,0,0,0,0,0,0,0,0,0,0,0,0,0,0,0,0,0]
[null,null,"Задолженность на конец периода","тыс. руб.",null,null,null,{"$f":"SUM(H22,H37)","v":0},0,0,0,0,0,0,0,0,0,0,0,0,0,0,0,0,0,0,0]
[]
[null,"Потребность в финансировании"]
[]
[null,"Сценарий \"Со СПИК\""]
[]
[null,null,"Денежные средства на начало периода","тыс. руб.","Лист: Отчетность",null,null,{"$f":"'Отчетность (СПИК)'!H133","v":0},{"$f":"'Отчетность (СПИК)'!I133","v":0},{"$f":"'Отчетность (СПИК)'!J133","v":0},{"$f":"'Отчетность (СПИК)'!K133","v":0},{"$f":"'Отчетность (СПИК)'!L133","v":0},{"$f":"'Отчетность (СПИК)'!M133","v":0},{"$f":"'Отчетность (СПИК)'!N133","v":0},{"$f":"'Отчетность (СПИК)'!O133","v":0},{"$f":"'Отчетность (СПИК)'!P133","v":0},{"$f":"'Отчетность (СПИК)'!Q133","v":0},{"$f":"'Отчетность (СПИК)'!R133","v":0},{"$f":"'Отчетность (СПИК)'!S133","v":0},{"$f":"'Отчетность (СПИК)'!T133","v":0},{"$f":"'Отчетность (СПИК)'!U133","v":0},{"$f":"'Отчетность (СПИК)'!V133","v":0},{"$f":"'Отчетность (СПИК)'!W133","v":0},{"$f":"'Отчетность (СПИК)'!X133","v":0},{"$f":"'Отчетность (СПИК)'!Y133","v":0},{"$f":"'Отчетность (СПИК)'!Z133","v":0},{"$f":"'Отчетность (СПИК)'!AA133","v":0}]
[null,null,"Денежный поток от операционной деятельности","тыс. руб.","Лист: Отчетность",null,null,{"$f":"'Отчетность (СПИК)'!H112","v":0},{"$f":"'Отчетность (СПИК)'!I112","v":0},{"$f":"'Отчетность (СПИК)'!J112","v":0},{"$f":"'Отчетность (СПИК)'!K112","v":0},{"$f":"'Отчетность (СПИК)'!L112","v":0},{"$f":"'Отчетность (СПИК)'!M112","v":0},{"$f":"'Отчетность (СПИК)'!N112","v":0},{"$f":"'Отчетность (СПИК)'!O112","v":0},{"$f":"'Отчетность (СПИК)'!P112","v":0},{"$f":"'Отчетность (СПИК)'!Q112","v":0},{"$f":"'Отчетность (СПИК)'!R112","v":0},{"$f":"'Отчетность (СПИК)'!S112","v":0},{"$f":"'Отчетность (СПИК)'!T112","v":0},{"$f":"'Отчетность (СПИК)'!U112","v":0},{"$f":"'Отчетность (СПИК)'!V112","v":0},{"$f":"'Отчетность (СПИК)'!W112","v":0},{"$f":"'Отчетность (СПИК)'!X112","v":0},{"$f":"'Отчетность (СПИК)'!Y112","v":0},{"$f":"'Отчетность (СПИК)'!Z112","v":0},{"$f":"'Отчетность (СПИК)'!AA112","v":0}]
[null,null,"Денежный поток от инветиционной деятельности","тыс. руб.","Лист: Отчетность",null,null,{"$f":"'Отчетность (СПИК)'!H121","v":0},{"$f":"'Отчетность (СПИК)'!I121","v":0},{"$f":"'Отчетность (СПИК)'!J121","v":0},{"$f":"'Отчетность (СПИК)'!K121","v":0},{"$f":"'Отчетность (СПИК)'!L121","v":0},{"$f":"'Отчетность (СПИК)'!M121","v":0},{"$f":"'Отчетность (СПИК)'!N121","v":0},{"$f":"'Отчетность (СПИК)'!O121","v":0},{"$f":"'Отчетность (СПИК)'!P121","v":0},{"$f":"'Отчетность (СПИК)'!Q121","v":0},{"$f":"'Отчетность (СПИК)'!R121","v":0},{"$f":"'Отчетность (СПИК)'!S121","v":0},{"$f":"'Отчетность (СПИК)'!T121","v":0},{"$f":"'Отчетность (СПИК)'!U121","v":0},{"$f":"'Отчетность (СПИК)'!V121","v":0},{"$f":"'Отчетность (СПИК)'!W121","v":0},{"$f":"'Отчетность (СПИК)'!X121","v":0},{"$f":"'Отчетность (СПИК)'!Y121","v":0},{"$f":"'Отчетность (СПИК)'!Z121","v":0},{"$f":"'Отчетность (СПИК)'!AA121","v":0}]
[null,null,"Взнос в уставный капитал и добавочный капитал","тыс. руб.","Лист: Отчетность",null,null,{"$f":"'Отчетность (СПИК)'!H127","v":0},{"$f":"'Отчетность (СПИК)'!I127","v":0},{"$f":"'Отчетность (СПИК)'!J127","v":0},{"$f":"'Отчетность (СПИК)'!K127","v":0},{"$f":"'Отчетность (СПИК)'!L127","v":0},{"$f":"'Отчетность (СПИК)'!M127","v":0},{"$f":"'Отчетность (СПИК)'!N127","v":0},{"$f":"'Отчетность (СПИК)'!O127","v":0},{"$f":"'Отчетность (СПИК)'!P127","v":0},{"$f":"'Отчетность (СПИК)'!Q127","v":0},{"$f":"'Отчетность (СПИК)'!R127","v":0},{"$f":"'Отчетность (СПИК)'!S127","v":0},{"$f":"'Отчетность (СПИК)'!T127","v":0},{"$f":"'Отчетность (СПИК)'!U127","v":0},{"$f":"'Отчетность (СПИК)'!V127","v":0},{"$f":"'Отчетность (СПИК)'!W127","v":0},{"$f":"'Отчетность (СПИК)'!X127","v":0},{"$f":"'Отчетность (СПИК)'!Y127","v":0},{"$f":"'Отчетность (СПИК)'!Z127","v":0},{"$f":"'Отчетность (СПИК)'!AA127","v":0}]
[null,null,"Получение долгосрочного займа","тыс. руб.","Лист: Отчетность",null,null,{"$f":"H44","v":0},0,0,0,0,0,0,0,0,0,0,0,0,0,0,0,0,0,0,0]
[null,null,"Выплата тела долгосрочного и краткосрочного займа","тыс. руб.","Лист: Отчетность",null,null,{"$f":"'Отчетность (СПИК)'!H130","v":0},{"$f":"'Отчетность (СПИК)'!I130","v":0},{"$f":"'Отчетность (СПИК)'!J130","v":0},{"$f":"'Отчетность (СПИК)'!K130","v":0},{"$f":"'Отчетность (СПИК)'!L130","v":0},{"$f":"'Отчетность (СПИК)'!M130","v":0},{"$f":"'Отчетность (СПИК)'!N130","v":0},{"$f":"'Отчетность (СПИК)'!O130","v":0},{"$f":"'Отчетность (СПИК)'!P130","v":0},{"$f":"'Отчетность (СПИК)'!Q130","v":0},{"$f":"'Отчетность (СПИК)'!R130","v":0},{"$f":"'Отчетность (СПИК)'!S130","v":0},{"$f":"'Отчетность (СПИК)'!T130","v":0},{"$f":"'Отчетность (СПИК)'!U130","v":0},{"$f":"'Отчетность (СПИК)'!V130","v":0},{"$f":"'Отчетность (СПИК)'!W130","v":0},{"$f":"'Отчетность (СПИК)'!X130","v":0},{"$f":"'Отчетность (СПИК)'!Y130","v":0},{"$f":"'Отчетность (СПИК)'!Z130","v":0},{"$f":"'Отчетность (СПИК)'!AA130","v":0}]
[]
[null,null,"Итоговая потребность в денежных средствах","тыс. руб.",null,null,null,{"$f":"-MIN(SUM(H53:H58),0)","v":0},{"$f":"-MIN(SUM(I53:I58),0)","v":0},0,0,0,0,0,0,0,0,0,0,0,0,0,0,0,0,0,0]
[]
[null,"Сценарий \"Без СПИК\""]
[]
[null,"Потребность в финансировании"]
[]
[null,null,"Денежные средства на начало периода","тыс. руб.","Лист: Отчетность",null,null,{"$f":"'Отчетность (Без СПИК)'!H133","v":0},{"$f":"'Отчетность (Без СПИК)'!I133","v":0},{"$f":"'Отчетность (Без СПИК)'!J133","v":0},{"$f":"'Отчетность (Без СПИК)'!K133","v":0},{"$f":"'Отчетность (Без СПИК)'!L133","v":0},{"$f":"'Отчетность (Без СПИК)'!M133","v":0},{"$f":"'Отчетность (Без СПИК)'!N133","v":0},{"$f":"'Отчетность (Без СПИК)'!O133","v":0},{"$f":"'Отчетность (Без СПИК)'!P133","v":0},{"$f":"'Отчетность (Без СПИК)'!Q133","v":0},{"$f":"'Отчетность (Без СПИК)'!R133","v":0},{"$f":"'Отчетность (Без СПИК)'!S133","v":0},{"$f":"'Отчетность (Без СПИК)'!T133","v":0},{"$f":"'Отчетность (Без СПИК)'!U133","v":0},{"$f":"'Отчетность (Без СПИК)'!V133","v":0},{"$f":"'Отчетность (Без СПИК)'!W133","v":0},{"$f":"'Отчетность (Без СПИК)'!X133","v":0},{"$f":"'Отчетность (Без СПИК)'!Y133","v":0},{"$f":"'Отчетность (Без СПИК)'!Z133","v":0},{"$f":"'Отчетность (Без СПИК)'!AA133","v":0}]
[null,null,"Денежный поток от операционной деятельности","тыс. руб.","Лист: Отчетность",null,null,{"$f":"'Отчетность (Без СПИК)'!H112","v":0},{"$f":"'Отчетность (Без СПИК)'!I112","v":0},{"$f":"'Отчетность (Без СПИК)'!J112","v":0},{"$f":"'Отчетность (Без СПИК)'!K112","v":0},{"$f":"'Отчетность (Без СПИК)'!L112","v":0},{"$f":"'Отчетность (Без СПИК)'!M112","v":0},{"$f":"'Отчетность (Без СПИК)'!N112","v":0},{"$f":"'Отчетность (Без СПИК)'!O112","v":0},{"$f":"'Отчетность (Без СПИК)'!P112","v":0},{"$f":"'Отчетность (Без СПИК)'!Q112","v":0},{"$f":"'Отчетность (Без СПИК)'!R112","v":0},{"$f":"'Отчетность (Без СПИК)'!S112","v":0},{"$f":"'Отчетность (Без СПИК)'!T112","v":0},{"$f":"'Отчетность (Без СПИК)'!U112","v":0},{"$f":"'Отчетность (Без СПИК)'!V112","v":0},{"$f":"'Отчетность (Без СПИК)'!W112","v":0},{"$f":"'Отчетность (Без СПИК)'!X112","v":0},{"$f":"'Отчетность (Без СПИК)'!Y112","v":0},{"$f":"'Отчетность (Без СПИК)'!Z112","v":0},{"$f":"'Отчетность (Без СПИК)'!AA112","v":0}]
[null,null,"Денежный поток от инветиционной деятельности","тыс. руб.","Лист: Отчетность",null,null,{"$f":"'Отчетность (Без СПИК)'!H121","v":0},{"$f":"'Отчетность (Без СПИК)'!I121","v":0},{"$f":"'Отчетность (Без СПИК)'!J121","v":0},{"$f":"'Отчетность (Без СПИК)'!K121","v":0},{"$f":"'Отчетность (Без СПИК)'!L121","v":0},{"$f":"'Отчетность (Без СПИК)'!M121","v":0},{"$f":"'Отчетность (Без СПИК)'!N121","v":0},{"$f":"'Отчетность (Без СПИК)'!O121","v":0},{"$f":"'Отчетность (Без СПИК)'!P121","v":0},{"$f":"'Отчетность (Без СПИК)'!Q121","v":0},{"$f":"'Отчетность (Без СПИК)'!R121","v":0},{"$f":"'Отчетность (Без СПИК)'!S121","v":0},{"$f":"'Отчетность (Без СПИК)'!T121","v":0},{"$f":"'Отчетность (Без СПИК)'!U121","v":0},{"$f":"'Отчетность (Без СПИК)'!V121","v":0},{"$f":"'Отчетность (Без СПИК)'!W121","v":0},{"$f":"'Отчетность (Без СПИК)'!X121","v":0},{"$f":"'Отчетность (Без СПИК)'!Y121","v":0},{"$f":"'Отчетность (Без СПИК)'!Z121","v":0},{"$f":"'Отчетность (Без СПИК)'!AA121","v":0}]
[null,null,"Взнос в уставный капитал и добавочный капитал","тыс. руб.","Лист: Отчетность",null,null,{"$f":"'Отчетность (Без СПИК)'!H127","v":0},{"$f":"'Отчетность (Без СПИК)'!I127","v":0},{"$f":"'Отчетность (Без СПИК)'!J127","v":0},{"$f":"'Отчетность (Без СПИК)'!K127","v":0},{"$f":"'Отчетность (Без СПИК)'!L127","v":0},{"$f":"'Отчетность (Без СПИК)'!M127","v":0},{"$f":"'Отчетность (Без СПИК)'!N127","v":0},{"$f":"'Отчетность (Без СПИК)'!O127","v":0},{"$f":"'Отчетность (Без СПИК)'!P127","v":0},{"$f":"'Отчетность (Без СПИК)'!Q127","v":0},{"$f":"'Отчетность (Без СПИК)'!R127","v":0},{"$f":"'Отчетность (Без СПИК)'!S127","v":0},{"$f":"'Отчетность (Без СПИК)'!T127","v":0},{"$f":"'Отчетность (Без СПИК)'!U127","v":0},{"$f":"'Отчетность (Без СПИК)'!V127","v":0},{"$f":"'Отчетность (Без СПИК)'!W127","v":0},{"$f":"'Отчетность (Без СПИК)'!X127","v":0},{"$f":"'Отчетность (Без СПИК)'!Y127","v":0},{"$f":"'Отчетность (Без СПИК)'!Z127","v":0},{"$f":"'Отчетность (Без СПИК)'!AA127","v":0}]
[null,null,"Получение долгосрочного займа","тыс. руб.","Лист: Отчетность",null,null,{"$f":"H44","v":0},0,0,0,0,0,0,0,0,0,0,0,0,0,0,0,0,0,0,0]
[null,null,"Выплата тела долгосрочного и краткосрочного займа","тыс. руб.","Лист: Отчетность",null,null,{"$f":"'Отчетность (Без СПИК)'!H130","v":0},{"$f":"'Отчетность (Без СПИК)'!I130","v":0},{"$f":"'Отчетность (Без СПИК)'!J130","v":0},{"$f":"'Отчетность (Без СПИК)'!K130","v":0},{"$f":"'Отчетность (Без СПИК)'!L130","v":0},{"$f":"'Отчетность (Без СПИК)'!M130","v":0},{"$f":"'Отчетность (Без СПИК)'!N130","v":0},{"$f":"'Отчетность (Без СПИК)'!O130","v":0},{"$f":"'Отчетность (Без СПИК)'!P130","v":0},{"$f":"'Отчетность (Без СПИК)'!Q130","v":0},{"$f":"'Отчетность (Без СПИК)'!R130","v":0},{"$f":"'Отчетность (Без СПИК)'!S130","v":0},{"$f":"'Отчетность (Без СПИК)'!T130","v":0},{"$f":"'Отчетность (Без СПИК)'!U130","v":0},{"$f":"'Отчетность (Без СПИК)'!V130","v":0},{"$f":"'Отчетность (Без СПИК)'!W130","v":0},{"$f":"'Отчетность (Без СПИК)'!X130","v":0},{"$f":"'Отчетность (Без СПИК)'!Y130","v":0},{"$f":"'Отчетность (Без СПИК)'!Z130","v":0},{"$f":"'Отчетность (Без СПИК)'!AA130","v":0}]
[]
[null,null,"Итоговая потребность в денежных средствах","тыс. руб.",null,null,null,{"$f":"-MIN(SUM(H66:H71),0)","v":0},{"$f":"-MIN(SUM(I66:I71),0)","v":0},0,0,0,0,0,0,0,0,0,0,0,0,0,0,0,0,0,0]
[]
[null,null,"В случае дополнительной потребности в финансировании операционной деятельности в строках ниже настроен механизм подбора размера краткосрочного заемного финансирования"]
[null,null,"В модели реализована возможность подбора параметра \"Привлеченние займа\"  при помощи нажатия на кнопку в столбце Е "]
[]
[null,"Краткосрочные кредиты и займы"]
[]
[null,"Сценарий \"Со СПИК\""]
[]
[null,null,"Задолженность на начало периода","тыс. руб.",null,null,null,{"$f":"G85","v":0},{"$f":"H85","v":0},0,0,0,0,0,0,0,0,0,0,0,0,0,{"$f":"V85","v":0},0,0,0,0]
[null,null,"Привлечение займа","тыс. руб.",null,{"$f":"SUM(H83:AA83)","v":0},null,null,null,null,null,null,null,null,null,null,null,0,0,0,0,0,0,0,0,0,0]
[null,null,"Выплата тела долга (-)","тыс. руб.",null,{"$f":"SUM(H84:AA84)","v":0},null,{"$f":"-MAX(H82,0)","v":0},{"$f":"-MAX(I82,0)","v":0},0,0,0,0,0,0,0,0,0,0,0,0,0,0,0,0,0,0]
[null,null,"Задолженность на конец периода","тыс. руб.",null,null,null,{"$f":"SUM(H82:H84)","v":0},{"$f":"SUM(I82:I84)","v":0},0,0,0,0,0,0,0,0,0,0,0,0,0,0,0,0,0,0]
[]
[null,null,"Начисление процентов по долгу (-)","тыс. руб.",null,null,null,{"$f":"-H83*H7","v":0},0,0,0,0,0,0,0,0,0,0,0,0,0,0,0,0,0,0,0]
[]
[null,null,"Проверка положительности ДС",null,null,{"$f":"IF(COUNTIF(H89:AA89, \"Ошибка\") = 0, \"Верно\", \"Ошибка\")","v":"Верно"},null,{"$f":"IF(H53<0,\"Ошибка\", \"Верно\")","v":"Верно"},"Верно","Верно","Верно","Верно","Верно","Верно","Верно","Верно","Верно","Верно","Верно","Верно","Верно","Верно","Верно","Верно","Верно","Верно","Верно"]
[null,null,"Разница между потребностью в ДС и привлечением краткосрочных кредитов и займов (для макроса)",null,null,{"$f":"SUM(H90:AA90)","v":0},null,{"$f":"ABS(H60-H83)","v":0},0,0,0,0,0,0,0,0,0,0,0,0,0,0,0,0,0,0,0]
[]
[]
[null,"Сценарий \"Без СПИК\""]
[]
[null,null,"Задолженность на начало периода","тыс. руб.",null,null,null,{"$f":"G98","v":0},{"$f":"H98","v":0},{"$f":"I98","v":0},{"$f":"J98","v":0},{"$f":"K98","v":0},{"$f":"L98","v":0},{"$f":"M98","v":0},{"$f":"N98","v":0},{"$f":"O98","v":0},{"$f":"P98","v":0},{"$f":"Q98","v":0},{"$f":"R98","v":0},{"$f":"S98","v":0},{"$f":"T98","v":0},{"$f":"U98","v":0},{"$f":"V98","v":0},{"$f":"W98","v":0},{"$f":"X98","v":0},{"$f":"Y98","v":0},{"$f":"Z98","v":0}]
[null,null,"Привлечение займа","тыс. руб.",null,{"$f":"SUM(H96:AA96)","v":0},null,null,null,null,null,null,null,null,null,null,null,null,null,0,0,0,0,0,0,0,0]
[null,null,"Выплата тела долга (-)","тыс. руб.",null,{"$f":"SUM(H97:AA97)","v":0},null,{"$f":"-MAX(H95,0)","v":0},{"$f":"-MAX(I95,0)","v":0},0,0,0,{"$f":"-MAX(M95,0)","v":0},0,0,0,0,0,0,0,0,0,0,0,0,0,0]
[null,null,"Задолженность на конец периода","тыс. руб.",null,null,null,{"$f":"SUM(H95:H97)","v":0},{"$f":"SUM(I95:I97)","v":0},0,0,0,0,0,0,0,0,0,0,0,0,0,0,0,0,0,0]
[]
[null,null,"Начисление процентов по долгу (-)","тыс. руб.",null,null,null,{"$f":"-H96*H7","v":0},0,0,0,0,0,0,0,0,0,0,0,0,0,0,0,0,0,0,0]
[]
[null,null,"Проверка положительности ДС",null,null,{"$f":"IF(COUNTIF(H102:AA102, \"Ошибка\") = 0, \"Верно\", \"Ошибка\")","v":"Верно"},null,{"$f":"IF(H66<0,\"Ошибка\", \"Верно\")","v":"Верно"},"Верно","Верно","Верно","Верно","Верно","Верно","Верно","Верно","Верно","Верно","Верно","Верно","Верно","Верно","Верно","Верно","Верно","Верно","Верно"]
[null,null,"Разница между потребностью в ДС и привлечением краткосрочных кредитов и займов (для макроса)",null,null,{"$f":"SUM(H103:AA103)","v":0},null,{"$f":"ABS(H73-H96)","v":0},0,0,0,0,0,0,0,0,0,0,0,0,0,0,0,0,0,0,0]
[]
[null,"Расчеты по кредитам и займам"]
[]
[null,"Сценарий \"Со СПИК\""]
[]
[null,null,"Задолженность на начало периода","тыс. руб.",null,null,null,{"$f":"G112","v":0},{"$f":"H112","v":0},0,0,0,0,0,0,0,0,0,0,0,0,0,0,0,0,0,0]
[null,null,"Начисление процентнов","тыс. руб.",null,null,null,{"$f":"-(H46+H87)","v":0},0,0,0,0,0,0,0,0,0,0,0,0,0,0,0,0,0,0,0]
[null,null,"Уплата процентов (-)","тыс. руб.",null,null,null,{"$f":"-H110*Предпосылки!H326-H109","v":0},{"$f":"-I110*Предпосылки!I326-I109","v":0},{"$f":"-J110*Предпосылки!J326-J109","v":0},{"$f":"-K110*Предпосылки!K326-K109","v":0},{"$f":"-L110*Предпосылки!L326-L109","v":0},{"$f":"-M110*Предпосылки!M326-M109","v":0},{"$f":"-N110*Предпосылки!N326-N109","v":0},{"$f":"-O110*Предпосылки!O326-O109","v":0},{"$f":"-P110*Предпосылки!P326-P109","v":0},{"$f":"-Q110*Предпосылки!Q326-Q109","v":0},{"$f":"-R110*Предпосылки!R326-R109","v":0},{"$f":"-S110*Предпосылки!S326-S109","v":0},{"$f":"-T110*Предпосылки!T326-T109","v":0},{"$f":"-U110*Предпосылки!U326-U109","v":0},{"$f":"-V110*Предпосылки!V326-V109","v":0},{"$f":"-W110*Предпосылки!W326-W109","v":0},{"$f":"-X110*Предпосылки!X326-X109","v":0},{"$f":"-Y110*Предпосылки!Y326-Y109","v":0},{"$f":"-Z110*Предпосылки!Z326-Z109","v":0},{"$f":"-AA110*Предпосылки!AA326-AA109","v":0}]
[null,null,"Задолженность на конец периода","тыс. руб.",null,null,null,{"$f":"SUM(H109:H111)","v":0},{"$f":"SUM(I109:I111)","v":0},0,0,0,0,0,0,0,0,0,0,0,0,0,0,0,0,0,0]
[]
[null,"Сценарий \"Без СПИК\""]
[]
[null,null,"Задолженность на начало периода","тыс. руб.",null,null,null,{"$f":"G119","v":0},{"$f":"H119","v":0},{"$f":"I119","v":0},{"$f":"J119","v":0},{"$f":"K119","v":0},{"$f":"L119","v":0},{"$f":"M119","v":0},{"$f":"N119","v":0},{"$f":"O119","v":0},{"$f":"P119","v":0},{"$f":"Q119","v":0},{"$f":"R119","v":0},{"$f":"S119","v":0},{"$f":"T119","v":0},{"$f":"U119","v":0},{"$f":"V119","v":0},{"$f":"W119","v":0},{"$f":"X119","v":0},{"$f":"Y119","v":0},{"$f":"Z119","v":0}]
[null,null,"Начисление процентнов","тыс. руб.",null,null,null,{"$f":"-(H46+H100)","v":0},0,0,0,0,0,0,0,0,0,0,0,0,0,0,0,0,0,0,0]
[null,null,"Уплата процентов (-)","тыс. руб.",null,null,null,{"$f":"-H117*Предпосылки!H326-H116","v":0},{"$f":"-I117*Предпосылки!I326-I116","v":0},{"$f":"-J117*Предпосылки!J326-J116","v":0},{"$f":"-K117*Предпосылки!K326-K116","v":0},{"$f":"-L117*Предпосылки!L326-L116","v":0},{"$f":"-M117*Предпосылки!M326-M116","v":0},{"$f":"-N117*Предпосылки!N326-N116","v":0},{"$f":"-O117*Предпосылки!O326-O116","v":0},{"$f":"-P117*Предпосылки!P326-P116","v":0},{"$f":"-Q117*Предпосылки!Q326-Q116","v":0},{"$f":"-R117*Предпосылки!R326-R116","v":0},{"$f":"-S117*Предпосылки!S326-S116","v":0},{"$f":"-T117*Предпосылки!T326-T116","v":0},{"$f":"-U117*Предпосылки!U326-U116","v":0},{"$f":"-V117*Предпосылки!V326-V116","v":0},{"$f":"-W117*Предпосылки!W326-W116","v":0},{"$f":"-X117*Предпосылки!X326-X116","v":0},{"$f":"-Y117*Предпосылки!Y326-Y116","v":0},{"$f":"-Z117*Предпосылки!Z326-Z116","v":0},{"$f":"-AA117*Предпосылки!AA326-AA116","v":0}]
[null,null,"Задолженность на конец периода","тыс. руб.",null,null,null,{"$f":"SUM(H116:H118)","v":0},{"$f":"SUM(I116:I118)","v":0},0,0,0,0,0,0,0,0,0,0,0,0,0,0,0,0,0,0]

{"sheet":"Отчетность (СПИК)","index":11,"n_rows":137,"n_cols":27,"rows_kept":137,"cut":false,"hidden":false,"merged":[[0,11,0,16],[1,2,2,2],[1,3,2,3],[1,4,2,4],[1,5,2,5],[0,9,0,10]]}
[null,null,null,null,{"$f":"\"Лист:  \" & RIGHT(CELL(\"filename\",A1),LEN(CELL(\"filename\",A1))-SEARCH(\"]\",CELL(\"filename\",A1)))","v":"Лист:  Отчетность (СПИК)"},null,null,null,null,"Проверка:",null,{"$f":"IF(AND(F43=\"Верно\",F87=\"Верно\",F137=\"Верно\"), \"Верно\", \"Имеются некорректные данные\")","v":"Имеются некорректные данные"}]
[null,null,"Параметр","Ед. изм.","Источник","Текущее значение",null,{"$f":"Предпосылки!H2","v":2023},{"$f":"Предпосылки!I2","v":2024},{"$f":"Предпосылки!J2","v":2025},{"$f":"Предпосылки!K2","v":2026},{"$f":"Предпосылки!L2","v":2027},{"$f":"Предпосылки!M2","v":2028},{"$f":"Предпосылки!N2","v":2029},{"$f":"Предпосылки!O2","v":2030},{"$f":"Предпосылки!P2","v":2031},{"$f":"Предпосылки!Q2","v":2032},{"$f":"Предпосылки!R2","v":2033},{"$f":"Предпосылки!S2","v":2034},{"$f":"Предпосылки!T2","v":2035},{"$f":"Предпосылки!U2","v":2036},{"$f":"Предпосылки!V2","v":2037},{"$f":"Предпосылки!W2","v":2038},{"$f":"Предпосылки!X2","v":2039},{"$f":"Предпосылки!Y2","v":2040},{"$f":"Предпосылки!Z2","v":2041},{"$f":"Предпосылки!AA2","v":2042}]
[null,null,null,null,null,null,null,1,2,3,4,5,6,7,8,9,10,11,12,13,14,15,16,17,18,19,20]
[]
[null,"Бухгалтерский баланс"]
[]
[null,"АКТИВЫ"]
[null,"I. Внеоборотные активы",null,"тыс. руб.",null,null,null,{"$f":"SUM(H9:H10,H15)","v":0},0,0,0,0,0,0,0,0,0,0,0,0,0,0,0,0,0,0,0]
[null,null,"Нематериальные активы","тыс. руб.","Лист: Капитальные вложения",null,null,{"$f":"SUM('Капитальные вложения'!$H42:H42,'Капитальные вложения'!H177)","v":0},{"$f":"SUM('Капитальные вложения'!$H42:I42,'Капитальные вложения'!I177)","v":0},{"$f":"SUM('Капитальные вложения'!$H42:J42,'Капитальные вложения'!J177)","v":0},{"$f":"SUM('Капитальные вложения'!$H42:K42,'Капитальные вложения'!K177)","v":0},{"$f":"SUM('Капитальные вложения'!$H42:L42,'Капитальные вложения'!L177)","v":0},{"$f":"SUM('Капитальные вложения'!$H42:M42,'Капитальные вложения'!M177)","v":0},{"$f":"SUM('Капитальные вложения'!$H42:N42,'Капитальные вложения'!N177)","v":0},{"$f":"SUM('Капитальные вложения'!$H42:O42,'Капитальные вложения'!O177)","v":0},{"$f":"SUM('Капитальные вложения'!$H42:P42,'Капитальные вложения'!P177)","v":0},{"$f":"SUM('Капитальные вложения'!$H42:Q42,'Капитальные вложения'!Q177)","v":0},{"$f":"SUM('Капитальные вложения'!$H42:R42,'Капитальные вложения'!R177)","v":0},{"$f":"SUM('Капитальные вложения'!$H42:S42,'Капитальные вложения'!S177)","v":0},{"$f":"SUM('Капитальные вложения'!$H42:T42,'Капитальные вложения'!T177)","v":0},{"$f":"SUM('Капитальные вложения'!$H42:U42,'Капитальные вложения'!U177)","v":0},{"$f":"SUM('Капитальные вложения'!$H42:V42,'Капитальные вложения'!V177)","v":0},{"$f":"SUM('Капитальные вложения'!$H42:W42,'Капитальные вложения'!W177)","v":0},{"$f":"SUM('Капитальные вложения'!$H42:X42,'Капитальные вложения'!X177)","v":0},{"$f":"SUM('Капитальные вложения'!$H42:Y42,'Капитальные вложения'!Y177)","v":0},{"$f":"SUM('Капитальные вложения'!$H42:Z42,'Капитальные вложения'!Z177)","v":0},{"$f":"SUM('Капитальные вложения'!$H42:AA42,'Капитальные вложения'!AA177)","v":0}]
[null,null,"Основные средства:","тыс. руб.",null,null,null,{"$f":"SUM(H11:H14)","v":0},{"$f":"SUM(I11:I14)","v":0},0,0,0,0,0,0,0,0,0,0,0,0,0,0,0,0,0,0]
[null,null,"здания и сооружения","тыс. руб.","Лист: Капитальные вложения",null,null,{"$f":"'Капитальные вложения'!H84","v":0},{"$f":"'Капитальные вложения'!I84","v":0},{"$f":"'Капитальные вложения'!J84","v":0},{"$f":"'Капитальные вложения'!K84","v":0},{"$f":"'Капитальные вложения'!L84","v":0},{"$f":"'Капитальные вложения'!M84","v":0},{"$f":"'Капитальные вложения'!N84","v":0},{"$f":"'Капитальные вложения'!O84","v":0},{"$f":"'Капитальные вложения'!P84","v":0},{"$f":"'Капитальные вложения'!Q84","v":0},{"$f":"'Капитальные вложения'!R84","v":0},{"$f":"'Капитальные вложения'!S84","v":0},{"$f":"'Капитальные вложения'!T84","v":0},{"$f":"'Капитальные вложения'!U84","v":0},{"$f":"'Капитальные вложения'!V84","v":0},{"$f":"'Капитальные вложения'!W84","v":0},{"$f":"'Капитальные вложения'!X84","v":0},{"$f":"'Капитальные вложения'!Y84","v":0},{"$f":"'Капитальные вложения'!Z84","v":0},{"$f":"'Капитальные вложения'!AA84","v":0}]
[null,null,"машины и оборудование","тыс. руб.","Лист: Капитальные вложения",null,null,{"$f":"'Капитальные вложения'!H115","v":0},{"$f":"'Капитальные вложения'!I115","v":0},{"$f":"'Капитальные вложения'!J115","v":0},{"$f":"'Капитальные вложения'!K115","v":0},{"$f":"'Капитальные вложения'!L115","v":0},{"$f":"'Капитальные вложения'!M115","v":0},{"$f":"'Капитальные вложения'!N115","v":0},{"$f":"'Капитальные вложения'!O115","v":0},{"$f":"'Капитальные вложения'!P115","v":0},{"$f":"'Капитальные вложения'!Q115","v":0},{"$f":"'Капитальные вложения'!R115","v":0},{"$f":"'Капитальные вложения'!S115","v":0},{"$f":"'Капитальные вложения'!T115","v":0},{"$f":"'Капитальные вложения'!U115","v":0},{"$f":"'Капитальные вложения'!V115","v":0},{"$f":"'Капитальные вложения'!W115","v":0},{"$f":"'Капитальные вложения'!X115","v":0},{"$f":"'Капитальные вложения'!Y115","v":0},{"$f":"'Капитальные вложения'!Z115","v":0},{"$f":"'Капитальные вложения'!AA115","v":0}]
[null,null,"земля","тыс. руб.","Лист: Капитальные вложения",null,null,{"$f":"SUM('Капитальные вложения'!$H39:H39)","v":0},{"$f":"SUM('Капитальные вложения'!$H39:I39)","v":0},{"$f":"SUM('Капитальные вложения'!$H39:J39)","v":0},{"$f":"SUM('Капитальные вложения'!$H39:K39)","v":0},{"$f":"SUM('Капитальные вложения'!$H39:L39)","v":0},{"$f":"SUM('Капитальные вложения'!$H39:M39)","v":0},{"$f":"SUM('Капитальные вложения'!$H39:N39)","v":0},{"$f":"SUM('Капитальные вложения'!$H39:O39)","v":0},{"$f":"SUM('Капитальные вложения'!$H39:P39)","v":0},{"$f":"SUM('Капитальные вложения'!$H39:Q39)","v":0},{"$f":"SUM('Капитальные вложения'!$H39:R39)","v":0},{"$f":"SUM('Капитальные вложения'!$H39:S39)","v":0},{"$f":"SUM('Капитальные вложения'!$H39:T39)","v":0},{"$f":"SUM('Капитальные вложения'!$H39:U39)","v":0},{"$f":"SUM('Капитальные вложения'!$H39:V39)","v":0},{"$f":"SUM('Капитальные вложения'!$H39:W39)","v":0},{"$f":"SUM('Капитальные вложения'!$H39:X39)","v":0},{"$f":"SUM('Капитальные вложения'!$H39:Y39)","v":0},{"$f":"SUM('Капитальные вложения'!$H39:Z39)","v":0},{"$f":"SUM('Капитальные вложения'!$H39:AA39)","v":0}]
[null,null,"транспортные средства","тыс. руб.","Лист: Капитальные вложения",null,null,{"$f":"'Капитальные вложения'!H146","v":0},{"$f":"'Капитальные вложения'!I146","v":0},{"$f":"'Капитальные вложения'!J146","v":0},{"$f":"'Капитальные вложения'!K146","v":0},{"$f":"'Капитальные вложения'!L146","v":0},{"$f":"'Капитальные вложения'!M146","v":0},{"$f":"'Капитальные вложения'!N146","v":0},{"$f":"'Капитальные вложения'!O146","v":0},{"$f":"'Капитальные вложения'!P146","v":0},{"$f":"'Капитальные вложения'!Q146","v":0},{"$f":"'Капитальные вложения'!R146","v":0},{"$f":"'Капитальные вложения'!S146","v":0},{"$f":"'Капитальные вложения'!T146","v":0},{"$f":"'Капитальные вложения'!U146","v":0},{"$f":"'Капитальные вложения'!V146","v":0},{"$f":"'Капитальные вложения'!W146","v":0},{"$f":"'Капитальные вложения'!X146","v":0},{"$f":"'Капитальные вложения'!Y146","v":0},{"$f":"'Капитальные вложения'!Z146","v":0},{"$f":"'Капитальные вложения'!AA146","v":0}]
[null,null,"Прочие внеоборотные активы:","тыс. руб.",null,null,null,{"$f":"H16","v":0},{"$f":"I16","v":0},0,0,0,0,0,0,0,0,0,0,0,0,0,0,0,0,0,0]
[null,null,"незавершенное строительство","тыс. руб.","Лист: Капитальные вложения",null,null,{"$f":"'Капитальные вложения'!H49","v":0},{"$f":"'Капитальные вложения'!I49","v":0},{"$f":"'Капитальные вложения'!J49","v":0},{"$f":"'Капитальные вложения'!K49","v":0},{"$f":"'Капитальные вложения'!L49","v":0},{"$f":"'Капитальные вложения'!M49","v":0},{"$f":"'Капитальные вложения'!N49","v":0},{"$f":"'Капитальные вложения'!O49","v":0},{"$f":"'Капитальные вложения'!P49","v":0},{"$f":"'Капитальные вложения'!Q49","v":0},{"$f":"'Капитальные вложения'!R49","v":0},{"$f":"'Капитальные вложения'!S49","v":0},{"$f":"'Капитальные вложения'!T49","v":0},{"$f":"'Капитальные вложения'!U49","v":0},{"$f":"'Капитальные вложения'!V49","v":0},{"$f":"'Капитальные вложения'!W49","v":0},{"$f":"'Капитальные вложения'!X49","v":0},{"$f":"'Капитальные вложения'!Y49","v":0},{"$f":"'Капитальные вложения'!Z49","v":0},{"$f":"'Капитальные вложения'!AA49","v":0}]
[]
[null,"II. Оборотные активы",null,"тыс. руб.",null,null,null,{"$f":"SUM(H19:H22)","v":0},{"$f":"SUM(I19:I22)","v":0},0,0,0,0,0,0,0,0,0,0,0,0,0,0,0,0,0,0]
[null,null,"Запасы","тыс. руб.","Лист: Оборотный капитал",null,null,{"$f":"'Оборотный капитал'!H45","v":0},{"$f":"'Оборотный капитал'!I45","v":0},{"$f":"'Оборотный капитал'!J45","v":0},{"$f":"'Оборотный капитал'!K45","v":0},{"$f":"'Оборотный капитал'!L45","v":0},{"$f":"'Оборотный капитал'!M45","v":0},{"$f":"'Оборотный капитал'!N45","v":0},{"$f":"'Оборотный капитал'!O45","v":0},{"$f":"'Оборотный капитал'!P45","v":0},{"$f":"'Оборотный капитал'!Q45","v":0},{"$f":"'Оборотный капитал'!R45","v":0},{"$f":"'Оборотный капитал'!S45","v":0},{"$f":"'Оборотный капитал'!T45","v":0},{"$f":"'Оборотный капитал'!U45","v":0},{"$f":"'Оборотный капитал'!V45","v":0},{"$f":"'Оборотный капитал'!W45","v":0},{"$f":"'Оборотный капитал'!X45","v":0},{"$f":"'Оборотный капитал'!Y45","v":0},{"$f":"'Оборотный капитал'!Z45","v":0},{"$f":"'Оборотный капитал'!AA45","v":0}]
[null,null,"Налог на добавленную стоимость по приобретенным ценностям","тыс. руб.","Лист: Налоги",null,null,{"$f":"Налоги!H23","v":0},{"$f":"Налоги!I23","v":0},{"$f":"Налоги!J23","v":0},{"$f":"Налоги!K23","v":0},{"$f":"Налоги!L23","v":0},{"$f":"Налоги!M23","v":0},{"$f":"Налоги!N23","v":0},{"$f":"Налоги!O23","v":0},{"$f":"Налоги!P23","v":0},{"$f":"Налоги!Q23","v":0},{"$f":"Налоги!R23","v":0},{"$f":"Налоги!S23","v":0},{"$f":"Налоги!T23","v":0},{"$f":"Налоги!U23","v":0},{"$f":"Налоги!V23","v":0},{"$f":"Налоги!W23","v":0},{"$f":"Налоги!X23","v":0},{"$f":"Налоги!Y23","v":0},{"$f":"Налоги!Z23","v":0},{"$f":"Налоги!AA23","v":0}]
[null,null,"Дебиторская задолженность","тыс. руб.","Лист: Оборотный капитал",null,null,{"$f":"'Оборотный капитал'!H103","v":0},{"$f":"'Оборотный капитал'!I103","v":0},{"$f":"'Оборотный капитал'!J103","v":0},{"$f":"'Оборотный капитал'!K103","v":0},{"$f":"'Оборотный капитал'!L103","v":0},{"$f":"'Оборотный капитал'!M103","v":0},{"$f":"'Оборотный капитал'!N103","v":0},{"$f":"'Оборотный капитал'!O103","v":0},{"$f":"'Оборотный капитал'!P103","v":0},{"$f":"'Оборотный капитал'!Q103","v":0},{"$f":"'Оборотный капитал'!R103","v":0},{"$f":"'Оборотный капитал'!S103","v":0},{"$f":"'Оборотный капитал'!T103","v":0},{"$f":"'Оборотный капитал'!U103","v":0},{"$f":"'Оборотный капитал'!V103","v":0},{"$f":"'Оборотный капитал'!W103","v":0},{"$f":"'Оборотный капитал'!X103","v":0},{"$f":"'Оборотный капитал'!Y103","v":0},{"$f":"'Оборотный капитал'!Z103","v":0},{"$f":"'Оборотный капитал'!AA103","v":0}]
[null,null,"Денежные средства и их эквиваленты","тыс. руб.","Расчет",null,null,{"$f":"H135","v":0},{"$f":"I135","v":0},0,0,0,0,0,0,0,0,0,0,0,0,0,0,0,0,0,0]
[null,"ИТОГО АКТИВЫ",null,"тыс. руб.",null,null,null,{"$f":"SUM(H8,H18)","v":0},0,0,0,0,0,0,0,0,0,0,0,0,0,0,0,0,0,0,0]
[]
[null,"ПАССИВЫ"]
[null,"III. Капитал и резервы",null,"тыс. руб.",null,null,null,{"$f":"SUM(H27:H29)","v":0},{"$f":"SUM(I27:I29)","v":0},0,0,0,0,0,0,0,0,0,0,0,0,0,0,0,0,0,0]
[null,null,"Уставный капитал","тыс. руб.","Лист: Предпосылки",null,null,{"$f":"SUM(Предпосылки!$H217:H217)","v":0},{"$f":"SUM(Предпосылки!$H217:I217)","v":0},{"$f":"SUM(Предпосылки!$H217:J217)","v":0},{"$f":"SUM(Предпосылки!$H217:K217)","v":0},{"$f":"SUM(Предпосылки!$H217:L217)","v":0},{"$f":"SUM(Предпосылки!$H217:M217)","v":0},{"$f":"SUM(Предпосылки!$H217:N217)","v":0},{"$f":"SUM(Предпосылки!$H217:O217)","v":0},{"$f":"SUM(Предпосылки!$H217:P217)","v":0},{"$f":"SUM(Предпосылки!$H217:Q217)","v":0},{"$f":"SUM(Предпосылки!$H217:R217)","v":0},{"$f":"SUM(Предпосылки!$H217:S217)","v":0},{"$f":"SUM(Предпосылки!$H217:T217)","v":0},{"$f":"SUM(Предпосылки!$H217:U217)","v":0},{"$f":"SUM(Предпосылки!$H217:V217)","v":0},{"$f":"SUM(Предпосылки!$H217:W217)","v":0},{"$f":"SUM(Предпосылки!$H217:X217)","v":0},{"$f":"SUM(Предпосылки!$H217:Y217)","v":0},{"$f":"SUM(Предпосылки!$H217:Z217)","v":0},{"$f":"SUM(Предпосылки!$H217:AA217)","v":0}]
[null,null,"Добавочный капитал","тыс. руб.","Лист: Предпосылки",null,null,{"$f":"SUM(Предпосылки!$H218:H218)","v":0},{"$f":"SUM(Предпосылки!$H218:I218)","v":0},{"$f":"SUM(Предпосылки!$H218:J218)","v":0},{"$f":"SUM(Предпосылки!$H218:K218)","v":0},{"$f":"SUM(Предпосылки!$H218:L218)","v":0},{"$f":"SUM(Предпосылки!$H218:M218)","v":0},{"$f":"SUM(Предпосылки!$H218:N218)","v":0},{"$f":"SUM(Предпосылки!$H218:O218)","v":0},{"$f":"SUM(Предпосылки!$H218:P218)","v":0},{"$f":"SUM(Предпосылки!$H218:Q218)","v":0},{"$f":"SUM(Предпосылки!$H218:R218)","v":0},{"$f":"SUM(Предпосылки!$H218:S218)","v":0},{"$f":"SUM(Предпосылки!$H218:T218)","v":0},{"$f":"SUM(Предпосылки!$H218:U218)","v":0},{"$f":"SUM(Предпосылки!$H218:V218)","v":0},{"$f":"SUM(Предпосылки!$H218:W218)","v":0},{"$f":"SUM(Предпосылки!$H218:X218)","v":0},{"$f":"SUM(Предпосылки!$H218:Y218)","v":0},{"$f":"SUM(Предпосылки!$H218:Z218)","v":0},{"$f":"SUM(Предпосылки!$H218:AA218)","v":0}]
[null,null,"Нераспределенная прибыль","тыс. руб.","Расчет",null,null,{"$f":"G29+H71","v":0},0,0,0,0,0,0,0,0,0,0,0,0,0,0,0,0,0,0,0]
[]
[null,"IV. Долгосрочные обязательства",null,"тыс. руб.",null,null,null,{"$f":"H32","v":0},{"$f":"I32","v":0},0,0,0,0,0,0,0,0,0,0,0,0,0,0,0,0,0,0]
[null,null,"Кредиты и займы","тыс. руб.","Лист: Финансирование",null,null,{"$f":"Финансирование!H47","v":0},{"$f":"Финансирование!I47","v":0},{"$f":"Финансирование!J47","v":0},{"$f":"Финансирование!K47","v":0},{"$f":"Финансирование!L47","v":0},{"$f":"Финансирование!M47","v":0},{"$f":"Финансирование!N47","v":0},{"$f":"Финансирование!O47","v":0},{"$f":"Финансирование!P47","v":0},{"$f":"Финансирование!Q47","v":0},{"$f":"Финансирование!R47","v":0},{"$f":"Финансирование!S47","v":0},{"$f":"Финансирование!T47","v":0},{"$f":"Финансирование!U47","v":0},{"$f":"Финансирование!V47","v":0},{"$f":"Финансирование!W47","v":0},{"$f":"Финансирование!X47","v":0},{"$f":"Финансирование!Y47","v":0},{"$f":"Финансирование!Z47","v":0},{"$f":"Финансирование!AA47","v":0}]
[]
[null,"V. Краткосрочные обязательства",null,"тыс. руб.",null,null,null,{"$f":"SUM(H35:H36)","v":0},{"$f":"SUM(I35:I36)","v":0},0,0,0,0,0,0,0,0,0,0,0,0,0,{"$f":"SUM(W35:W36)","v":0},0,0,0,0]
[null,null,"Кредиты и займы","тыс. руб.","Лист: Финансирование",null,null,{"$f":"Финансирование!H85","v":0},{"$f":"Финансирование!I85","v":0},{"$f":"Финансирование!J85","v":0},{"$f":"Финансирование!K85","v":0},{"$f":"Финансирование!L85","v":0},{"$f":"Финансирование!M85","v":0},{"$f":"Финансирование!N85","v":0},{"$f":"Финансирование!O85","v":0},{"$f":"Финансирование!P85","v":0},{"$f":"Финансирование!Q85","v":0},{"$f":"Финансирование!R85","v":0},{"$f":"Финансирование!S85","v":0},{"$f":"Финансирование!T85","v":0},{"$f":"Финансирование!U85","v":0},{"$f":"Финансирование!V85","v":0},{"$f":"Финансирование!W85","v":0},{"$f":"Финансирование!X85","v":0},{"$f":"Финансирование!Y85","v":0},{"$f":"Финансирование!Z85","v":0},{"$f":"Финансирование!AA85","v":0}]
[null,null,"Кредиторская задолженность","тыс. руб.",null,null,null,{"$f":"SUM(H37:H40)","v":0},{"$f":"SUM(I37:I40)","v":0},{"$f":"SUM(J37:J40)","v":0},0,0,0,0,0,0,0,0,0,0,0,0,0,0,0,0,0]
[null,null,"Задолженность перед покупателями, поставщиками и подрядчиками","тыс. руб.","Лист: Оборотный капитал",null,null,{"$f":"'Оборотный капитал'!H112","v":0},{"$f":"'Оборотный капитал'!I112","v":0},{"$f":"'Оборотный капитал'!J112","v":0},{"$f":"'Оборотный капитал'!K112","v":0},{"$f":"'Оборотный капитал'!L112","v":0},{"$f":"'Оборотный капитал'!M112","v":0},{"$f":"'Оборотный капитал'!N112","v":0},{"$f":"'Оборотный капитал'!O112","v":0},{"$f":"'Оборотный капитал'!P112","v":0},{"$f":"'Оборотный капитал'!Q112","v":0},{"$f":"'Оборотный капитал'!R112","v":0},{"$f":"'Оборотный капитал'!S112","v":0},{"$f":"'Оборотный капитал'!T112","v":0},{"$f":"'Оборотный капитал'!U112","v":0},{"$f":"'Оборотный капитал'!V112","v":0},{"$f":"'Оборотный капитал'!W112","v":0},{"$f":"'Оборотный капитал'!X112","v":0},{"$f":"'Оборотный капитал'!Y112","v":0},{"$f":"'Оборотный капитал'!Z112","v":0},{"$f":"'Оборотный капитал'!AA112","v":0}]
[null,null,"Задолженность по налогам и сборам","тыс. руб.","Лист: Оборотный капитал",null,null,{"$f":"'Оборотный капитал'!H128","v":0},{"$f":"'Оборотный капитал'!I128","v":0},{"$f":"'Оборотный капитал'!J128","v":0},{"$f":"'Оборотный капитал'!K128","v":0},{"$f":"'Оборотный капитал'!L128","v":0},{"$f":"'Оборотный капитал'!M128","v":0},{"$f":"'Оборотный капитал'!N128","v":0},{"$f":"'Оборотный капитал'!O128","v":0},{"$f":"'Оборотный капитал'!P128","v":0},{"$f":"'Оборотный капитал'!Q128","v":0},{"$f":"'Оборотный капитал'!R128","v":0},{"$f":"'Оборотный капитал'!S128","v":0},{"$f":"'Оборотный капитал'!T128","v":0},{"$f":"'Оборотный капитал'!U128","v":0},{"$f":"'Оборотный капитал'!V128","v":0},{"$f":"'Оборотный капитал'!W128","v":0},{"$f":"'Оборотный капитал'!X128","v":0},{"$f":"'Оборотный капитал'!Y128","v":0},{"$f":"'Оборотный капитал'!Z128","v":0},{"$f":"'Оборотный капитал'!AA128","v":0}]
[null,null,"Задолженность по оплате труда","тыс. руб.","Лист: Оборотный капитал",null,null,{"$f":"'Оборотный капитал'!H115","v":0},{"$f":"'Оборотный капитал'!I115","v":0},{"$f":"'Оборотный капитал'!J115","v":0},{"$f":"'Оборотный капитал'!K115","v":0},{"$f":"'Оборотный капитал'!L115","v":0},{"$f":"'Оборотный капитал'!M115","v":0},{"$f":"'Оборотный капитал'!N115","v":0},{"$f":"'Оборотный капитал'!O115","v":0},{"$f":"'Оборотный капитал'!P115","v":0},{"$f":"'Оборотный капитал'!Q115","v":0},{"$f":"'Оборотный капитал'!R115","v":0},{"$f":"'Оборотный капитал'!S115","v":0},{"$f":"'Оборотный капитал'!T115","v":0},{"$f":"'Оборотный капитал'!U115","v":0},{"$f":"'Оборотный капитал'!V115","v":0},{"$f":"'Оборотный капитал'!W115","v":0},{"$f":"'Оборотный капитал'!X115","v":0},{"$f":"'Оборотный капитал'!Y115","v":0},{"$f":"'Оборотный капитал'!Z115","v":0},{"$f":"'Оборотный капитал'!AA115","v":0}]
[null,null,"Задолженность по оплате процентов","тыс. руб.","Лист: Оборотный капитал",null,null,{"$f":"'Оборотный капитал'!H142","v":0},{"$f":"'Оборотный капитал'!I142","v":0},{"$f":"'Оборотный капитал'!J142","v":0},{"$f":"'Оборотный капитал'!K142","v":0},{"$f":"'Оборотный капитал'!L142","v":0},{"$f":"'Оборотный капитал'!M142","v":0},{"$f":"'Оборотный капитал'!N142","v":0},{"$f":"'Оборотный капитал'!O142","v":0},{"$f":"'Оборотный капитал'!P142","v":0},{"$f":"'Оборотный капитал'!Q142","v":0},{"$f":"'Оборотный капитал'!R142","v":0},{"$f":"'Оборотный капитал'!S142","v":0},{"$f":"'Оборотный капитал'!T142","v":0},{"$f":"'Оборотный капитал'!U142","v":0},{"$f":"'Оборотный капитал'!V142","v":0},{"$f":"'Оборотный капитал'!W142","v":0},{"$f":"'Оборотный капитал'!X142","v":0},{"$f":"'Оборотный капитал'!Y142","v":0},{"$f":"'Оборотный капитал'!Z142","v":0},{"$f":"'Оборотный капитал'!AA142","v":0}]
[null,"ИТОГО ПАССИВЫ",null,"тыс. руб.",null,null,null,{"$f":"SUM(H26,H31,H34)","v":0},0,0,0,0,0,0,0,0,0,0,0,0,0,0,0,0,0,0,0]
[]
[null,null,"Проверка: равенство активов и пассивов",null,null,{"$f":"IF(COUNTIF(H43:AA43, \"Ошибка\") = 0, \"Верно\", \"Ошибка\")","v":"Верно"},null,{"$f":"IF(ROUND(H23-H41,2)=0, \"Верно\", \"Ошибка\")","v":"Верно"},"Верно","Верно","Верно","Верно","Верно","Верно","Верно","Верно","Верно","Верно","Верно","Верно","Верно","Верно","Верно","Верно","Верно","Верно","Верно"]
[null,null,null,null,null,null,null,{"$f":"H23-H41","v":0},0,0,0,0,0,0,0,0,0,0,0,0,0,0,0,0,0,0,0]
[null,"Приложение к балансу"]
[]
[null,null,"Чистый оборотный капитал","тыс. руб.",null,null,null,{"$f":"H19+H21-H36","v":0},{"$f":"I19+I21-I36","v":0},0,0,0,0,0,0,0,0,0,0,0,0,0,0,0,0,0,0]
[null,null,"Долг","тыс. руб.",null,null,null,{"$f":"H32+H35","v":0},0,0,0,0,0,0,0,0,0,0,0,0,0,0,0,0,0,0,0]
[null,null,"Чистый долг","тыс. руб.",null,null,null,{"$f":"H48-H22","v":0},0,0,0,0,0,0,0,0,0,0,0,0,0,0,0,0,0,0,0]
[]
[null,"Отчет о финансовых результатах"]
[]
[null,"Выручка",null,"тыс. руб.","Лист: Выручка и себестоимость",null,null,{"$f":"'Выручка и себестоимость'!H10","v":0},{"$f":"'Выручка и себестоимость'!I10","v":0},{"$f":"'Выручка и себестоимость'!J10","v":0},{"$f":"'Выручка и себестоимость'!K10","v":0},{"$f":"'Выручка и себестоимость'!L10","v":0},{"$f":"'Выручка и себестоимость'!M10","v":0},{"$f":"'Выручка и себестоимость'!N10","v":0},{"$f":"'Выручка и себестоимость'!O10","v":0},{"$f":"'Выручка и себестоимость'!P10","v":0},{"$f":"'Выручка и себестоимость'!Q10","v":0},{"$f":"'Выручка и себестоимость'!R10","v":0},{"$f":"'Выручка и себестоимость'!S10","v":0},{"$f":"'Выручка и себестоимость'!T10","v":0},{"$f":"'Выручка и себестоимость'!U10","v":0},{"$f":"'Выручка и себестоимость'!V10","v":0},{"$f":"'Выручка и себестоимость'!W10","v":0},{"$f":"'Выручка и себестоимость'!X10","v":0},{"$f":"'Выручка и себестоимость'!Y10","v":0},{"$f":"'Выручка и себестоимость'!Z10","v":0},{"$f":"'Выручка и себестоимость'!AA10","v":0}]
[null,null,"Себестоимость продаж (-)","тыс. руб.","Лист: Выручка и себестоимость",null,null,{"$f":"-IF(Предпосылки!$F$280=1,'Выручка и себестоимость'!H38,'Выручка и себестоимость'!H45)","v":0},{"$f":"-IF(Предпосылки!$F$280=1,'Выручка и себестоимость'!I38,'Выручка и себестоимость'!I45)","v":0},{"$f":"-IF(Предпосылки!$F$280=1,'Выручка и себестоимость'!J38,'Выручка и себестоимость'!J45)","v":0},{"$f":"-IF(Предпосылки!$F$280=1,'Выручка и себестоимость'!K38,'Выручка и себестоимость'!K45)","v":0},{"$f":"-IF(Предпосылки!$F$280=1,'Выручка и себестоимость'!L38,'Выручка и себестоимость'!L45)","v":0},{"$f":"-IF(Предпосылки!$F$280=1,'Выручка и себестоимость'!M38,'Выручка и себестоимость'!M45)","v":0},{"$f":"-IF(Предпосылки!$F$280=1,'Выручка и себестоимость'!N38,'Выручка и себестоимость'!N45)","v":0},{"$f":"-IF(Предпосылки!$F$280=1,'Выручка и себестоимость'!O38,'Выручка и себестоимость'!O45)","v":0},{"$f":"-IF(Предпосылки!$F$280=1,'Выручка и себестоимость'!P38,'Выручка и себестоимость'!P45)","v":0},{"$f":"-IF(Предпосылки!$F$280=1,'Выручка и себестоимость'!Q38,'Выручка и себестоимость'!Q45)","v":0},{"$f":"-IF(Предпосылки!$F$280=1,'Выручка и себестоимость'!R38,'Выручка и себестоимость'!R45)","v":0},{"$f":"-IF(Предпосылки!$F$280=1,'Выручка и себестоимость'!S38,'Выручка и себестоимость'!S45)","v":0},{"$f":"-IF(Предпосылки!$F$280=1,'Выручка и себестоимость'!T38,'Выручка и себестоимость'!T45)","v":0},{"$f":"-IF(Предпосылки!$F$280=1,'Выручка и себестоимость'!U38,'Выручка и себестоимость'!U45)","v":0},{"$f":"-IF(Предпосылки!$F$280=1,'Выручка и себестоимость'!V38,'Выручка и себестоимость'!V45)","v":0},{"$f":"-IF(Предпосылки!$F$280=1,'Выручка и себестоимость'!W38,'Выручка и себестоимость'!W45)","v":0},{"$f":"-IF(Предпосылки!$F$280=1,'Выручка и себестоимость'!X38,'Выручка и себестоимость'!X45)","v":0},{"$f":"-IF(Предпосылки!$F$280=1,'Выручка и себестоимость'!Y38,'Выручка и себестоимость'!Y45)","v":0},{"$f":"-IF(Предпосылки!$F$280=1,'Выручка и себестоимость'!Z38,'Выручка и себестоимость'!Z45)","v":0},{"$f":"-IF(Предпосылки!$F$280=1,'Выручка и себестоимость'!AA38,'Выручка и себестоимость'!AA45)","v":0}]
[null,"Валовая прибыль (убыток)",null,"тыс. руб.",null,null,null,{"$f":"SUM(H53:H54)","v":0},{"$f":"SUM(I53:I54)","v":0},0,0,0,0,0,0,0,0,0,0,0,0,0,0,0,0,0,0]
[null,null,"Коммерческие расходы (-)","тыс. руб.","Лист: Операционные затраты",null,null,{"$f":"-'Операционные затраты'!H31","v":0},{"$f":"-'Операционные затраты'!I31","v":0},{"$f":"-'Операционные затраты'!J31","v":0},{"$f":"-'Операционные затраты'!K31","v":0},{"$f":"-'Операционные затраты'!L31","v":0},{"$f":"-'Операционные затраты'!M31","v":0},{"$f":"-'Операционные затраты'!N31","v":0},{"$f":"-'Операционные затраты'!O31","v":0},{"$f":"-'Операционные затраты'!P31","v":0},{"$f":"-'Операционные затраты'!Q31","v":0},{"$f":"-'Операционные затраты'!R31","v":0},{"$f":"-'Операционные затраты'!S31","v":0},{"$f":"-'Операционные затраты'!T31","v":0},{"$f":"-'Операционные затраты'!U31","v":0},{"$f":"-'Операционные затраты'!V31","v":0},{"$f":"-'Операционные затраты'!W31","v":0},{"$f":"-'Операционные затраты'!X31","v":0},{"$f":"-'Операционные затраты'!Y31","v":0},{"$f":"-'Операционные затраты'!Z31","v":0},{"$f":"-'Операционные затраты'!AA31","v":0}]
[null,null,"Управленческие расходы (-)","тыс. руб.","Лист: Операционные затраты",null,null,{"$f":"SUM(H58:H63)","v":0},{"$f":"SUM(I58:I63)","v":0},0,0,0,0,0,0,0,0,0,0,0,0,0,0,0,0,0,0]
[null,null,"Управленческие расходы (-)","тыс. руб.","Лист: Операционные затраты",null,null,{"$f":"-'Операционные затраты'!H37","v":0},{"$f":"-'Операционные затраты'!I37","v":0},{"$f":"-'Операционные затраты'!J37","v":0},{"$f":"-'Операционные затраты'!K37","v":0},{"$f":"-'Операционные затраты'!L37","v":0},{"$f":"-'Операционные затраты'!M37","v":0},{"$f":"-'Операционные затраты'!N37","v":0},{"$f":"-'Операционные затраты'!O37","v":0},{"$f":"-'Операционные затраты'!P37","v":0},{"$f":"-'Операционные затраты'!Q37","v":0},{"$f":"-'Операционные затраты'!R37","v":0},{"$f":"-'Операционные затраты'!S37","v":0},{"$f":"-'Операционные затраты'!T37","v":0},{"$f":"-'Операционные затраты'!U37","v":0},{"$f":"-'Операционные затраты'!V37","v":0},{"$f":"-'Операционные затраты'!W37","v":0},{"$f":"-'Операционные затраты'!X37","v":0},{"$f":"-'Операционные затраты'!Y37","v":0},{"$f":"-'Операционные затраты'!Z37","v":0},{"$f":"-'Операционные затраты'!AA37","v":0}]
[null,null,"Оплата труда административного персонала (-)","тыс. руб.","Лист: Операционные затраты",null,null,{"$f":"-IF(Предпосылки!$F$280=1,'Операционные затраты'!H105,'Операционные затраты'!H149)","v":0},{"$f":"-IF(Предпосылки!$F$280=1,'Операционные затраты'!I105,'Операционные затраты'!I149)","v":0},{"$f":"-IF(Предпосылки!$F$280=1,'Операционные затраты'!J105,'Операционные затраты'!J149)","v":0},{"$f":"-IF(Предпосылки!$F$280=1,'Операционные затраты'!K105,'Операционные затраты'!K149)","v":0},{"$f":"-IF(Предпосылки!$F$280=1,'Операционные затраты'!L105,'Операционные затраты'!L149)","v":0},{"$f":"-IF(Предпосылки!$F$280=1,'Операционные затраты'!M105,'Операционные затраты'!M149)","v":0},{"$f":"-IF(Предпосылки!$F$280=1,'Операционные затраты'!N105,'Операционные затраты'!N149)","v":0},{"$f":"-IF(Предпосылки!$F$280=1,'Операционные затраты'!O105,'Операционные затраты'!O149)","v":0},{"$f":"-IF(Предпосылки!$F$280=1,'Операционные затраты'!P105,'Операционные затраты'!P149)","v":0},{"$f":"-IF(Предпосылки!$F$280=1,'Операционные затраты'!Q105,'Операционные затраты'!Q149)","v":0},{"$f":"-IF(Предпосылки!$F$280=1,'Операционные затраты'!R105,'Операционные затраты'!R149)","v":0},{"$f":"-IF(Предпосылки!$F$280=1,'Операционные затраты'!S105,'Операционные затраты'!S149)","v":0},{"$f":"-IF(Предпосылки!$F$280=1,'Операционные затраты'!T105,'Операционные затраты'!T149)","v":0},{"$f":"-IF(Предпосылки!$F$280=1,'Операционные затраты'!U105,'Операционные затраты'!U149)","v":0},{"$f":"-IF(Предпосылки!$F$280=1,'Операционные затраты'!V105,'Операционные затраты'!V149)","v":0},{"$f":"-IF(Предпосылки!$F$280=1,'Операционные затраты'!W105,'Операционные затраты'!W149)","v":0},{"$f":"-IF(Предпосылки!$F$280=1,'Операционные затраты'!X105,'Операционные затраты'!X149)","v":0},{"$f":"-IF(Предпосылки!$F$280=1,'Операционные затраты'!Y105,'Операционные затраты'!Y149)","v":0},{"$f":"-IF(Предпосылки!$F$280=1,'Операционные затраты'!Z105,'Операционные затраты'!Z149)","v":0},{"$f":"-IF(Предпосылки!$F$280=1,'Операционные затраты'!AA105,'Операционные затраты'!AA149)","v":0}]
[null,null,"Амортизация непроизводственных основных средств (-)","тыс. руб.","Лист: Капитальные вложения",null,null,{"$f":"-'Капитальные вложения'!H53","v":0},{"$f":"-'Капитальные вложения'!I53","v":0},{"$f":"-'Капитальные вложения'!J53","v":0},{"$f":"-'Капитальные вложения'!K53","v":0},{"$f":"-'Капитальные вложения'!L53","v":0},{"$f":"-'Капитальные вложения'!M53","v":0},{"$f":"-'Капитальные вложения'!N53","v":0},{"$f":"-'Капитальные вложения'!O53","v":0},{"$f":"-'Капитальные вложения'!P53","v":0},{"$f":"-'Капитальные вложения'!Q53","v":0},{"$f":"-'Капитальные вложения'!R53","v":0},{"$f":"-'Капитальные вложения'!S53","v":0},{"$f":"-'Капитальные вложения'!T53","v":0},{"$f":"-'Капитальные вложения'!U53","v":0},{"$f":"-'Капитальные вложения'!V53","v":0},{"$f":"-'Капитальные вложения'!W53","v":0},{"$f":"-'Капитальные вложения'!X53","v":0},{"$f":"-'Капитальные вложения'!Y53","v":0},{"$f":"-'Капитальные вложения'!Z53","v":0},{"$f":"-'Капитальные вложения'!AA53","v":0}]
[null,null,"Налог на имущество организаций (-)","тыс. руб.","Лист: Налоги",null,null,{"$f":"-Налоги!H99","v":0},{"$f":"-Налоги!I99","v":0},{"$f":"-Налоги!J99","v":0},{"$f":"-Налоги!K99","v":0},{"$f":"-Налоги!L99","v":0},{"$f":"-Налоги!M99","v":0},{"$f":"-Налоги!N99","v":0},{"$f":"-Налоги!O99","v":0},{"$f":"-Налоги!P99","v":0},{"$f":"-Налоги!Q99","v":0},{"$f":"-Налоги!R99","v":0},{"$f":"-Налоги!S99","v":0},{"$f":"-Налоги!T99","v":0},{"$f":"-Налоги!U99","v":0},{"$f":"-Налоги!V99","v":0},{"$f":"-Налоги!W99","v":0},{"$f":"-Налоги!X99","v":0},{"$f":"-Налоги!Y99","v":0},{"$f":"-Налоги!Z99","v":0},{"$f":"-Налоги!AA99","v":0}]
[null,null,"Транспортный налог (-)","тыс. руб.","Лист: Налоги",null,null,{"$f":"-Налоги!H119","v":0},{"$f":"-Налоги!I119","v":0},{"$f":"-Налоги!J119","v":0},{"$f":"-Налоги!K119","v":0},{"$f":"-Налоги!L119","v":0},{"$f":"-Налоги!M119","v":0},{"$f":"-Налоги!N119","v":0},{"$f":"-Налоги!O119","v":0},{"$f":"-Налоги!P119","v":0},{"$f":"-Налоги!Q119","v":0},{"$f":"-Налоги!R119","v":0},{"$f":"-Налоги!S119","v":0},{"$f":"-Налоги!T119","v":0},{"$f":"-Налоги!U119","v":0},{"$f":"-Налоги!V119","v":0},{"$f":"-Налоги!W119","v":0},{"$f":"-Налоги!X119","v":0},{"$f":"-Налоги!Y119","v":0},{"$f":"-Налоги!Z119","v":0},{"$f":"-Налоги!AA119","v":0}]
[null,null,"Земельный налог (-)","тыс. руб.","Лист: Налоги",null,null,{"$f":"-Налоги!H133","v":0},{"$f":"-Налоги!I133","v":0},{"$f":"-Налоги!J133","v":0},{"$f":"-Налоги!K133","v":0},{"$f":"-Налоги!L133","v":0},{"$f":"-Налоги!M133","v":0},{"$f":"-Налоги!N133","v":0},{"$f":"-Налоги!O133","v":0},{"$f":"-Налоги!P133","v":0},{"$f":"-Налоги!Q133","v":0},{"$f":"-Налоги!R133","v":0},{"$f":"-Налоги!S133","v":0},{"$f":"-Налоги!T133","v":0},{"$f":"-Налоги!U133","v":0},{"$f":"-Налоги!V133","v":0},{"$f":"-Налоги!W133","v":0},{"$f":"-Налоги!X133","v":0},{"$f":"-Налоги!Y133","v":0},{"$f":"-Налоги!Z133","v":0},{"$f":"-Налоги!AA133","v":0}]
[null,"Прибыль (убыток) от продаж",null,"тыс. руб.",null,null,null,{"$f":"SUM(H55:H57)","v":0},0,0,0,0,0,0,0,0,0,0,0,0,0,0,0,0,0,0,0]
[null,null,"Проценты к получению","тыс. руб."]
[null,null,"Проценты к уплате (-)","тыс. руб.","Лист: Финансирование",null,null,{"$f":"Финансирование!H46+Финансирование!H87","v":0},{"$f":"Финансирование!I46+Финансирование!I87","v":0},{"$f":"Финансирование!J46+Финансирование!J87","v":0},{"$f":"Финансирование!K46+Финансирование!K87","v":0},{"$f":"Финансирование!L46+Финансирование!L87","v":0},{"$f":"Финансирование!M46+Финансирование!M87","v":0},{"$f":"Финансирование!N46+Финансирование!N87","v":0},{"$f":"Финансирование!O46+Финансирование!O87","v":0},{"$f":"Финансирование!P46+Финансирование!P87","v":0},{"$f":"Финансирование!Q46+Финансирование!Q87","v":0},{"$f":"Финансирование!R46+Финансирование!R87","v":0},{"$f":"Финансирование!S46+Финансирование!S87","v":0},{"$f":"Финансирование!T46+Финансирование!T87","v":0},{"$f":"Финансирование!U46+Финансирование!U87","v":0},{"$f":"Финансирование!V46+Финансирование!V87","v":0},{"$f":"Финансирование!W46+Финансирование!W87","v":0},{"$f":"Финансирование!X46+Финансирование!X87","v":0},{"$f":"Финансирование!Y46+Финансирование!Y87","v":0},{"$f":"Финансирование!Z46+Финансирование!Z87","v":0},{"$f":"Финансирование!AA46+Финансирование!AA87","v":0}]
[null,null,"Прочие доходы (в т.ч. получение государственных субсидий)","тыс. руб.","Лист: Предпосылки",null,null,{"$f":"SUM(Предпосылки!H233:H234)","v":0},{"$f":"SUM(Предпосылки!I233:I234)","v":0},{"$f":"SUM(Предпосылки!J233:J234)","v":0},{"$f":"SUM(Предпосылки!K233:K234)","v":0},{"$f":"SUM(Предпосылки!L233:L234)","v":0},{"$f":"SUM(Предпосылки!M233:M234)","v":0},{"$f":"SUM(Предпосылки!N233:N234)","v":0},{"$f":"SUM(Предпосылки!O233:O234)","v":0},{"$f":"SUM(Предпосылки!P233:P234)","v":0},{"$f":"SUM(Предпосылки!Q233:Q234)","v":0},{"$f":"SUM(Предпосылки!R233:R234)","v":0},{"$f":"SUM(Предпосылки!S233:S234)","v":0},{"$f":"SUM(Предпосылки!T233:T234)","v":0},{"$f":"SUM(Предпосылки!U233:U234)","v":0},{"$f":"SUM(Предпосылки!V233:V234)","v":0},{"$f":"SUM(Предпосылки!W233:W234)","v":0},{"$f":"SUM(Предпосылки!X233:X234)","v":0},{"$f":"SUM(Предпосылки!Y233:Y234)","v":0},{"$f":"SUM(Предпосылки!Z233:Z234)","v":0},{"$f":"SUM(Предпосылки!AA233:AA234)","v":0}]
[null,null,"Прочие расходы (-)","тыс. руб.","Лист: Операционные затраты",null,null,{"$f":"-'Операционные затраты'!H46","v":0},{"$f":"-'Операционные затраты'!I46","v":0},{"$f":"-'Операционные затраты'!J46","v":0},{"$f":"-'Операционные затраты'!K46","v":0},{"$f":"-'Операционные затраты'!L46","v":0},{"$f":"-'Операционные затраты'!M46","v":0},{"$f":"-'Операционные затраты'!N46","v":0},{"$f":"-'Операционные затраты'!O46","v":0},{"$f":"-'Операционные затраты'!P46","v":0},{"$f":"-'Операционные затраты'!Q46","v":0},{"$f":"-'Операционные затраты'!R46","v":0},{"$f":"-'Операционные затраты'!S46","v":0},{"$f":"-'Операционные затраты'!T46","v":0},{"$f":"-'Операционные затраты'!U46","v":0},{"$f":"-'Операционные затраты'!V46","v":0},{"$f":"-'Операционные затраты'!W46","v":0},{"$f":"-'Операционные затраты'!X46","v":0},{"$f":"-'Операционные затраты'!Y46","v":0},{"$f":"-'Операционные затраты'!Z46","v":0},{"$f":"-'Операционные затраты'!AA46","v":0}]
[null,"Прибыль  (убыток) до налогообложения",null,"тыс. руб.",null,null,null,{"$f":"SUM(H64:H68)","v":0},0,0,0,0,0,0,0,0,0,0,0,0,0,0,0,0,0,0,0]
[null,null,"Налог на прибыль (-)","тыс. руб.","Лист: Налоги",null,null,{"$f":"-Налоги!H61","v":0},{"$f":"-Налоги!I61","v":0},{"$f":"-Налоги!J61","v":0},{"$f":"-Налоги!K61","v":0},{"$f":"-Налоги!L61","v":0},{"$f":"-Налоги!M61","v":0},{"$f":"-Налоги!N61","v":0},{"$f":"-Налоги!O61","v":0},{"$f":"-Налоги!P61","v":0},{"$f":"-Налоги!Q61","v":0},{"$f":"-Налоги!R61","v":0},{"$f":"-Налоги!S61","v":0},{"$f":"-Налоги!T61","v":0},{"$f":"-Налоги!U61","v":0},{"$f":"-Налоги!V61","v":0},{"$f":"-Налоги!W61","v":0},{"$f":"-Налоги!X61","v":0},{"$f":"-Налоги!Y61","v":0},{"$f":"-Налоги!Z61","v":0},{"$f":"-Налоги!AA61","v":0}]
[null,"Чистая прибыль (убыток)",null,"тыс. руб.",null,null,null,{"$f":"SUM(H69:H70)","v":0},{"$f":"SUM(I69:I70)","v":0},0,0,0,0,0,0,0,0,0,0,0,0,0,0,0,0,0,0]
[]
[null,"Приложение к отчету о финансовых результатах"]
[]
[null,"Проектная операционная прибыль",null,"тыс. руб.",null,null,null,{"$f":"SUM(H76,H85)-SUM(H77:H78,H80:H83)","v":0},0,0,0,0,0,0,0,0,0,0,0,0,0,0,0,0,0,0,0]
[null,null,"Прибыль (убыток) до налогообложения","тыс. руб.",null,null,null,{"$f":"H69","v":0},{"$f":"I69","v":0},0,0,0,0,0,0,0,0,0,0,0,0,0,0,0,0,0,0]
[null,null,"Проценты к уплате по долговым обязательствам, связанным с реализацией Проекта (-)","тыс. руб.",null,null,null,{"$f":"H66","v":0},{"$f":"I66","v":0},0,0,0,0,0,0,0,0,0,0,0,0,0,0,0,0,0,0]
[null,null,"Проценты к получению по долговым обязательствам, связанным с реализацией Проекта","тыс. руб.",null,null,null,{"$f":"H65","v":0},0,0,0,0,0,0,0,0,0,0,0,0,0,0,0,0,0,0,0]
[null,null,"Корректировка на составляющие строк ОФР \"Прочие доходы\" и \"Прочие расходы\", исключаемые из расчета проектной операционной прибыли (требуют заполнения в случае, если данные статьи отражены в  ОФР данной финансовой модели):"]
[null,null,"Положительные (отрицательные) курсовые разницы","тыс. руб."]
[null,null,"Отчисления в резервы (восстановление резервов)","тыс. руб."]
[null,null,"Доходы (расходы), связанные с обстоятельствами чрезвычайного характера","тыс. руб."]
[null,null,"Иные доходы (расходы) не связанные с реализацией инвестиционного проекта","тыс. руб."]
[]
[null,null,"Ранее понесенные операционные расходы на реализацию проекта (за 12 мес до объявления конкурса по СПИК 2.0 или в календарный год подачи заявк на заключение СПИК 1.0 (-)","тыс. руб.","Лист: Предпосылки",{"$f":"Предпосылки!F152","v":0},null,{"$f":"F85","v":0}]
[]
[null,null,"Проверка: выход на проектую операционную прибыль в течение срока СПИК",null,null,{"$f":"IF(COUNTIF(H87:AA87, 1) > 0, \"Верно\", \"Ошибка\")","v":"Ошибка"},null,{"$f":"IF(H75>0,1,0)","v":0},0,0,0,0,0,0,0,0,0,0,0,0,0,0,0,0,0,0,0]
[]
[null,"EBIT",null,"тыс. руб.",null,null,null,{"$f":"H69- SUM(H65:H66)","v":0},0,0,0,0,0,0,0,0,0,0,0,0,0,0,0,0,0,0,0]
[null,"Амотризация за период",null,"тыс. руб.","Лист: Капитальные вложения",null,null,{"$f":"'Капитальные вложения'!H51","v":0},{"$f":"'Капитальные вложения'!I51","v":0},{"$f":"'Капитальные вложения'!J51","v":0},{"$f":"'Капитальные вложения'!K51","v":0},{"$f":"'Капитальные вложения'!L51","v":0},{"$f":"'Капитальные вложения'!M51","v":0},{"$f":"'Капитальные вложения'!N51","v":0},{"$f":"'Капитальные вложения'!O51","v":0},{"$f":"'Капитальные вложения'!P51","v":0},{"$f":"'Капитальные вложения'!Q51","v":0},{"$f":"'Капитальные вложения'!R51","v":0},{"$f":"'Капитальные вложения'!S51","v":0},{"$f":"'Капитальные вложения'!T51","v":0},{"$f":"'Капитальные вложения'!U51","v":0},{"$f":"'Капитальные вложения'!V51","v":0},{"$f":"'Капитальные вложения'!W51","v":0},{"$f":"'Капитальные вложения'!X51","v":0},{"$f":"'Капитальные вложения'!Y51","v":0},{"$f":"'Капитальные вложения'!Z51","v":0},{"$f":"'Капитальные вложения'!AA51","v":0}]
[null,"EBITDA",null,"тыс. руб.",null,null,null,{"$f":"H89+H90","v":0},{"$f":"I89+I90","v":0},0,0,0,0,0,0,0,0,0,0,0,0,0,0,0,0,0,0]
[]
[null,"Отчет о движении денежных средств"]
[]
[null,"Денежный поток от операционной деятельности:"]
[]
[null,"Поступления - всего:",null,"тыс. руб.",null,null,null,{"$f":"SUM(H98:H100)","v":0},{"$f":"SUM(I98:I100)","v":0},0,0,0,0,0,0,0,0,0,0,0,0,0,0,0,0,0,0]
[null,null,"От продажи продукции, товаров, работ и услуг","тыс. руб.","Лист: Оборотный капитал",null,null,{"$f":"'Оборотный капитал'!H58","v":0},{"$f":"'Оборотный капитал'!I58","v":0},{"$f":"'Оборотный капитал'!J58","v":0},{"$f":"'Оборотный капитал'!K58","v":0},{"$f":"'Оборотный капитал'!L58","v":0},{"$f":"'Оборотный капитал'!M58","v":0},{"$f":"'Оборотный капитал'!N58","v":0},{"$f":"'Оборотный капитал'!O58","v":0},{"$f":"'Оборотный капитал'!P58","v":0},{"$f":"'Оборотный капитал'!Q58","v":0},{"$f":"'Оборотный капитал'!R58","v":0},{"$f":"'Оборотный капитал'!S58","v":0},{"$f":"'Оборотный капитал'!T58","v":0},{"$f":"'Оборотный капитал'!U58","v":0},{"$f":"'Оборотный капитал'!V58","v":0},{"$f":"'Оборотный капитал'!W58","v":0},{"$f":"'Оборотный капитал'!X58","v":0},{"$f":"'Оборотный капитал'!Y58","v":0},{"$f":"'Оборотный капитал'!Z58","v":0},{"$f":"'Оборотный капитал'!AA58","v":0}]
[null,null,"Возмещение НДС","тыс. руб.","Лист: Налоги",null,null,{"$f":"Налоги!H22","v":0},{"$f":"Налоги!I22","v":0},{"$f":"Налоги!J22","v":0},{"$f":"Налоги!K22","v":0},{"$f":"Налоги!L22","v":0},{"$f":"Налоги!M22","v":0},{"$f":"Налоги!N22","v":0},{"$f":"Налоги!O22","v":0},{"$f":"Налоги!P22","v":0},{"$f":"Налоги!Q22","v":0},{"$f":"Налоги!R22","v":0},{"$f":"Налоги!S22","v":0},{"$f":"Налоги!T22","v":0},{"$f":"Налоги!U22","v":0},{"$f":"Налоги!V22","v":0},{"$f":"Налоги!W22","v":0},{"$f":"Налоги!X22","v":0},{"$f":"Налоги!Y22","v":0},{"$f":"Налоги!Z22","v":0},{"$f":"Налоги!AA22","v":0}]
[null,null,"Получение государственных субсидий (на покрытие операционных расходов)","тыс. руб.","Лист: Предпосылки",null,null,{"$f":"Предпосылки!H233","v":0},{"$f":"Предпосылки!I233","v":0},{"$f":"Предпосылки!J233","v":0},{"$f":"Предпосылки!K233","v":0},{"$f":"Предпосылки!L233","v":0},{"$f":"Предпосылки!M233","v":0},{"$f":"Предпосылки!N233","v":0},{"$f":"Предпосылки!O233","v":0},{"$f":"Предпосылки!P233","v":0},{"$f":"Предпосылки!Q233","v":0},{"$f":"Предпосылки!R233","v":0},{"$f":"Предпосылки!S233","v":0},{"$f":"Предпосылки!T233","v":0},{"$f":"Предпосылки!U233","v":0},{"$f":"Предпосылки!V233","v":0},{"$f":"Предпосылки!W233","v":0},{"$f":"Предпосылки!X233","v":0},{"$f":"Предпосылки!Y233","v":0},{"$f":"Предпосылки!Z233","v":0},{"$f":"Предпосылки!AA233","v":0}]
[]
[null,"Платежи - всего:",null,"тыс. руб.",null,null,null,{"$f":"SUM(H103:H111)","v":0},0,0,0,0,0,0,0,0,0,0,0,0,0,0,0,0,0,0,0]
[null,null,"Платежи поставщикам (подрядчикам) за сырье, материалы, работы, услуги  (-)","тыс. руб.","Лист: Оборотный капитал",null,null,{"$f":"-('Оборотный капитал'!H74+'Оборотный капитал'!H88+'Оборотный капитал'!H95)","v":0},{"$f":"-('Оборотный капитал'!I74+'Оборотный капитал'!I88+'Оборотный капитал'!I95)","v":0},{"$f":"-('Оборотный капитал'!J74+'Оборотный капитал'!J88+'Оборотный капитал'!J95)","v":0},{"$f":"-('Оборотный капитал'!K74+'Оборотный капитал'!K88+'Оборотный капитал'!K95)","v":0},{"$f":"-('Оборотный капитал'!L74+'Оборотный капитал'!L88+'Оборотный капитал'!L95)","v":0},{"$f":"-('Оборотный капитал'!M74+'Оборотный капитал'!M88+'Оборотный капитал'!M95)","v":0},{"$f":"-('Оборотный капитал'!N74+'Оборотный капитал'!N88+'Оборотный капитал'!N95)","v":0},{"$f":"-('Оборотный капитал'!O74+'Оборотный капитал'!O88+'Оборотный капитал'!O95)","v":0},{"$f":"-('Оборотный капитал'!P74+'Оборотный капитал'!P88+'Оборотный капитал'!P95)","v":0},{"$f":"-('Оборотный капитал'!Q74+'Оборотный капитал'!Q88+'Оборотный капитал'!Q95)","v":0},{"$f":"-('Оборотный капитал'!R74+'Оборотный капитал'!R88+'Оборотный капитал'!R95)","v":0},{"$f":"-('Оборотный капитал'!S74+'Оборотный капитал'!S88+'Оборотный капитал'!S95)","v":0},{"$f":"-('Оборотный капитал'!T74+'Оборотный капитал'!T88+'Оборотный капитал'!T95)","v":0},{"$f":"-('Оборотный капитал'!U74+'Оборотный капитал'!U88+'Оборотный капитал'!U95)","v":0},{"$f":"-('Оборотный капитал'!V74+'Оборотный капитал'!V88+'Оборотный капитал'!V95)","v":0},{"$f":"-('Оборотный капитал'!W74+'Оборотный капитал'!W88+'Оборотный капитал'!W95)","v":0},{"$f":"-('Оборотный капитал'!X74+'Оборотный капитал'!X88+'Оборотный капитал'!X95)","v":0},{"$f":"-('Оборотный капитал'!Y74+'Оборотный капитал'!Y88+'Оборотный капитал'!Y95)","v":0},{"$f":"-('Оборотный капитал'!Z74+'Оборотный капитал'!Z88+'Оборотный капитал'!Z95)","v":0},{"$f":"-('Оборотный капитал'!AA74+'Оборотный капитал'!AA88+'Оборотный капитал'!AA95)","v":0}]
[null,null,"Оплата труда работников в том числе НДФЛ (-)","тыс. руб.","Лист: Операционные затраты",null,null,{"$f":"'Операционные затраты'!H156","v":0},{"$f":"'Операционные затраты'!I156","v":0},{"$f":"'Операционные затраты'!J156","v":0},{"$f":"'Операционные затраты'!K156","v":0},{"$f":"'Операционные затраты'!L156","v":0},{"$f":"'Операционные затраты'!M156","v":0},{"$f":"'Операционные затраты'!N156","v":0},{"$f":"'Операционные затраты'!O156","v":0},{"$f":"'Операционные затраты'!P156","v":0},{"$f":"'Операционные затраты'!Q156","v":0},{"$f":"'Операционные затраты'!R156","v":0},{"$f":"'Операционные затраты'!S156","v":0},{"$f":"'Операционные затраты'!T156","v":0},{"$f":"'Операционные затраты'!U156","v":0},{"$f":"'Операционные затраты'!V156","v":0},{"$f":"'Операционные затраты'!W156","v":0},{"$f":"'Операционные затраты'!X156","v":0},{"$f":"'Операционные затраты'!Y156","v":0},{"$f":"'Операционные затраты'!Z156","v":0},{"$f":"'Операционные затраты'!AA156","v":0}]
[null,null,"Погашение процентов по долговым обязательствам  (-)","тыс. руб.","Лист: Финансирование",null,null,{"$f":"Финансирование!H111","v":0},{"$f":"Финансирование!I111","v":0},{"$f":"Финансирование!J111","v":0},{"$f":"Финансирование!K111","v":0},{"$f":"Финансирование!L111","v":0},{"$f":"Финансирование!M111","v":0},{"$f":"Финансирование!N111","v":0},{"$f":"Финансирование!O111","v":0},{"$f":"Финансирование!P111","v":0},{"$f":"Финансирование!Q111","v":0},{"$f":"Финансирование!R111","v":0},{"$f":"Финансирование!S111","v":0},{"$f":"Финансирование!T111","v":0},{"$f":"Финансирование!U111","v":0},{"$f":"Финансирование!V111","v":0},{"$f":"Финансирование!W111","v":0},{"$f":"Финансирование!X111","v":0},{"$f":"Финансирование!Y111","v":0},{"$f":"Финансирование!Z111","v":0},{"$f":"Финансирование!AA111","v":0}]
[null,null,"Уплата НДС  (-)","тыс. руб.","Лист: Налоги",null,null,{"$f":"Налоги!H27","v":0},{"$f":"Налоги!I27","v":0},{"$f":"Налоги!J27","v":0},{"$f":"Налоги!K27","v":0},{"$f":"Налоги!L27","v":0},{"$f":"Налоги!M27","v":0},{"$f":"Налоги!N27","v":0},{"$f":"Налоги!O27","v":0},{"$f":"Налоги!P27","v":0},{"$f":"Налоги!Q27","v":0},{"$f":"Налоги!R27","v":0},{"$f":"Налоги!S27","v":0},{"$f":"Налоги!T27","v":0},{"$f":"Налоги!U27","v":0},{"$f":"Налоги!V27","v":0},{"$f":"Налоги!W27","v":0},{"$f":"Налоги!X27","v":0},{"$f":"Налоги!Y27","v":0},{"$f":"Налоги!Z27","v":0},{"$f":"Налоги!AA27","v":0}]
[null,null,"Уплата налога на имущество  (-)","тыс. руб.","Лист: Налоги",null,null,{"$f":"Налоги!H152","v":0},{"$f":"Налоги!I152","v":0},{"$f":"Налоги!J152","v":0},{"$f":"Налоги!K152","v":0},{"$f":"Налоги!L152","v":0},{"$f":"Налоги!M152","v":0},{"$f":"Налоги!N152","v":0},{"$f":"Налоги!O152","v":0},{"$f":"Налоги!P152","v":0},{"$f":"Налоги!Q152","v":0},{"$f":"Налоги!R152","v":0},{"$f":"Налоги!S152","v":0},{"$f":"Налоги!T152","v":0},{"$f":"Налоги!U152","v":0},{"$f":"Налоги!V152","v":0},{"$f":"Налоги!W152","v":0},{"$f":"Налоги!X152","v":0},{"$f":"Налоги!Y152","v":0},{"$f":"Налоги!Z152","v":0},{"$f":"Налоги!AA152","v":0}]
[null,null,"Уплата налога на прибыль  (-)","тыс. руб.","Лист: Налоги",null,null,{"$f":"Налоги!H149+Налоги!H151","v":0},{"$f":"Налоги!I149+Налоги!I151","v":0},{"$f":"Налоги!J149+Налоги!J151","v":0},{"$f":"Налоги!K149+Налоги!K151","v":0},{"$f":"Налоги!L149+Налоги!L151","v":0},{"$f":"Налоги!M149+Налоги!M151","v":0},{"$f":"Налоги!N149+Налоги!N151","v":0},{"$f":"Налоги!O149+Налоги!O151","v":0},{"$f":"Налоги!P149+Налоги!P151","v":0},{"$f":"Налоги!Q149+Налоги!Q151","v":0},{"$f":"Налоги!R149+Налоги!R151","v":0},{"$f":"Налоги!S149+Налоги!S151","v":0},{"$f":"Налоги!T149+Налоги!T151","v":0},{"$f":"Налоги!U149+Налоги!U151","v":0},{"$f":"Налоги!V149+Налоги!V151","v":0},{"$f":"Налоги!W149+Налоги!W151","v":0},{"$f":"Налоги!X149+Налоги!X151","v":0},{"$f":"Налоги!Y149+Налоги!Y151","v":0},{"$f":"Налоги!Z149+Налоги!Z151","v":0},{"$f":"Налоги!AA149+Налоги!AA151","v":0}]
[null,null,"Уплата транспортного налога (-)","тыс. руб.","Лист: Налоги",null,null,{"$f":"Налоги!H154","v":0},{"$f":"Налоги!I154","v":0},{"$f":"Налоги!J154","v":0},{"$f":"Налоги!K154","v":0},{"$f":"Налоги!L154","v":0},{"$f":"Налоги!M154","v":0},{"$f":"Налоги!N154","v":0},{"$f":"Налоги!O154","v":0},{"$f":"Налоги!P154","v":0},{"$f":"Налоги!Q154","v":0},{"$f":"Налоги!R154","v":0},{"$f":"Налоги!S154","v":0},{"$f":"Налоги!T154","v":0},{"$f":"Налоги!U154","v":0},{"$f":"Налоги!V154","v":0},{"$f":"Налоги!W154","v":0},{"$f":"Налоги!X154","v":0},{"$f":"Налоги!Y154","v":0},{"$f":"Налоги!Z154","v":0},{"$f":"Налоги!AA154","v":0}]
[null,null,"Уплата земельного налога (-)","тыс. руб.","Лист: Налоги",null,null,{"$f":"Налоги!H157","v":0},{"$f":"Налоги!I157","v":0},{"$f":"Налоги!J157","v":0},{"$f":"Налоги!K157","v":0},{"$f":"Налоги!L157","v":0},{"$f":"Налоги!M157","v":0},{"$f":"Налоги!N157","v":0},{"$f":"Налоги!O157","v":0},{"$f":"Налоги!P157","v":0},{"$f":"Налоги!Q157","v":0},{"$f":"Налоги!R157","v":0},{"$f":"Налоги!S157","v":0},{"$f":"Налоги!T157","v":0},{"$f":"Налоги!U157","v":0},{"$f":"Налоги!V157","v":0},{"$f":"Налоги!W157","v":0},{"$f":"Налоги!X157","v":0},{"$f":"Налоги!Y157","v":0},{"$f":"Налоги!Z157","v":0},{"$f":"Налоги!AA157","v":0}]
[null,null,"Уплата страховых взносов  (-)","тыс. руб.","Лист: Операционные затраты",null,null,{"$f":"IF(Предпосылки!$F$280=1,'Операционные затраты'!H166,'Операционные затраты'!H192)","v":0},{"$f":"IF(Предпосылки!$F$280=1,'Операционные затраты'!I166,'Операционные затраты'!I192)","v":0},{"$f":"IF(Предпосылки!$F$280=1,'Операционные затраты'!J166,'Операционные затраты'!J192)","v":0},{"$f":"IF(Предпосылки!$F$280=1,'Операционные затраты'!K166,'Операционные затраты'!K192)","v":0},{"$f":"IF(Предпосылки!$F$280=1,'Операционные затраты'!L166,'Операционные затраты'!L192)","v":0},{"$f":"IF(Предпосылки!$F$280=1,'Операционные затраты'!M166,'Операционные затраты'!M192)","v":0},{"$f":"IF(Предпосылки!$F$280=1,'Операционные затраты'!N166,'Операционные затраты'!N192)","v":0},{"$f":"IF(Предпосылки!$F$280=1,'Операционные затраты'!O166,'Операционные затраты'!O192)","v":0},{"$f":"IF(Предпосылки!$F$280=1,'Операционные затраты'!P166,'Операционные затраты'!P192)","v":0},{"$f":"IF(Предпосылки!$F$280=1,'Операционные затраты'!Q166,'Операционные затраты'!Q192)","v":0},{"$f":"IF(Предпосылки!$F$280=1,'Операционные затраты'!R166,'Операционные затраты'!R192)","v":0},{"$f":"IF(Предпосылки!$F$280=1,'Операционные затраты'!S166,'Операционные затраты'!S192)","v":0},{"$f":"IF(Предпосылки!$F$280=1,'Операционные затраты'!T166,'Операционные затраты'!T192)","v":0},{"$f":"IF(Предпосылки!$F$280=1,'Операционные затраты'!U166,'Операционные затраты'!U192)","v":0},{"$f":"IF(Предпосылки!$F$280=1,'Операционные затраты'!V166,'Операционные затраты'!V192)","v":0},{"$f":"IF(Предпосылки!$F$280=1,'Операционные затраты'!W166,'Операционные затраты'!W192)","v":0},{"$f":"IF(Предпосылки!$F$280=1,'Операционные затраты'!X166,'Операционные затраты'!X192)","v":0},{"$f":"IF(Предпосылки!$F$280=1,'Операционные затраты'!Y166,'Операционные затраты'!Y192)","v":0},{"$f":"IF(Предпосылки!$F$280=1,'Операционные затраты'!Z166,'Операционные затраты'!Z192)","v":0},{"$f":"IF(Предпосылки!$F$280=1,'Операционные затраты'!AA166,'Операционные затраты'!AA192)","v":0}]
[null,"Итого операционный денежный поток",null,"тыс. руб.",null,null,null,{"$f":"H97+H102","v":0},0,0,0,0,0,0,0,0,0,0,0,0,0,0,0,0,0,0,0]
[]
[null,"Денежный поток от инвестиционной деятельности:"]
[]
[null,"Поступления  -всего:",null,"тыс. руб.",null,null,null,{"$f":"H117","v":0},{"$f":"I117","v":0},0,0,0,0,0,0,0,0,0,0,0,0,0,0,0,0,0,0]
[null,null,"Получение государственных субсидий (на покрытие инвестиционных расходов)","тыс. руб.","Лист: Предпосылки",null,null,{"$f":"Предпосылки!H234","v":0},{"$f":"Предпосылки!I234","v":0},{"$f":"Предпосылки!J234","v":0},{"$f":"Предпосылки!K234","v":0},{"$f":"Предпосылки!L234","v":0},{"$f":"Предпосылки!M234","v":0},{"$f":"Предпосылки!N234","v":0},{"$f":"Предпосылки!O234","v":0},{"$f":"Предпосылки!P234","v":0},{"$f":"Предпосылки!Q234","v":0},{"$f":"Предпосылки!R234","v":0},{"$f":"Предпосылки!S234","v":0},{"$f":"Предпосылки!T234","v":0},{"$f":"Предпосылки!U234","v":0},{"$f":"Предпосылки!V234","v":0},{"$f":"Предпосылки!W234","v":0},{"$f":"Предпосылки!X234","v":0},{"$f":"Предпосылки!Y234","v":0},{"$f":"Предпосылки!Z234","v":0},{"$f":"Предпосылки!AA234","v":0}]
[]
[null,"Платежи - всего:",null,"тыс. руб.",null,null,null,{"$f":"H120","v":0},{"$f":"I120","v":0},0,0,0,0,0,0,0,0,0,0,0,0,0,0,0,0,0,0]
[null,null,"Платежи в связи с приобретением, созданием, модернизацией, реконструкцией и подготовкой к использованию внеоборотных активов   (-)","тыс. руб.","Лист: Оборотный капитал",null,null,{"$f":"-'Капитальные вложения'!H27","v":0},{"$f":"-'Капитальные вложения'!I27","v":0},{"$f":"-'Капитальные вложения'!J27","v":0},{"$f":"-'Капитальные вложения'!K27","v":0},{"$f":"-'Капитальные вложения'!L27","v":0},{"$f":"-'Капитальные вложения'!M27","v":0},{"$f":"-'Капитальные вложения'!N27","v":0},{"$f":"-'Капитальные вложения'!O27","v":0},{"$f":"-'Капитальные вложения'!P27","v":0},{"$f":"-'Капитальные вложения'!Q27","v":0},{"$f":"-'Капитальные вложения'!R27","v":0},{"$f":"-'Капитальные вложения'!S27","v":0},{"$f":"-'Капитальные вложения'!T27","v":0},{"$f":"-'Капитальные вложения'!U27","v":0},{"$f":"-'Капитальные вложения'!V27","v":0},{"$f":"-'Капитальные вложения'!W27","v":0},{"$f":"-'Капитальные вложения'!X27","v":0},{"$f":"-'Капитальные вложения'!Y27","v":0},{"$f":"-'Капитальные вложения'!Z27","v":0},{"$f":"-'Капитальные вложения'!AA27","v":0}]
[null,"Итого инвестиционный денежный поток",null,"тыс. руб.",null,null,null,{"$f":"SUM(H116,H119)","v":0},{"$f":"SUM(I116,I119)","v":0},0,0,0,0,0,0,0,0,0,0,0,0,0,0,0,0,0,0]
[]
[null,"Денежный поток от финансовой деятельности"]
[]
[null,"Поступления - всего:",null,"тыс. руб.",null,null,null,{"$f":"SUM(H126:H127)","v":0},{"$f":"SUM(I126:I127)","v":0},0,0,0,0,0,0,0,0,0,0,0,0,0,0,0,0,0,0]
[null,null,"Получение кредитов и займов","тыс. руб.","Лист: Финансирование",null,null,{"$f":"Финансирование!H44+Финансирование!H83","v":0},{"$f":"Финансирование!I44+Финансирование!I83","v":0},{"$f":"Финансирование!J44+Финансирование!J83","v":0},{"$f":"Финансирование!K44+Финансирование!K83","v":0},{"$f":"Финансирование!L44+Финансирование!L83","v":0},{"$f":"Финансирование!M44+Финансирование!M83","v":0},{"$f":"Финансирование!N44+Финансирование!N83","v":0},{"$f":"Финансирование!O44+Финансирование!O83","v":0},{"$f":"Финансирование!P44+Финансирование!P83","v":0},{"$f":"Финансирование!Q44+Финансирование!Q83","v":0},{"$f":"Финансирование!R44+Финансирование!R83","v":0},{"$f":"Финансирование!S44+Финансирование!S83","v":0},{"$f":"Финансирование!T44+Финансирование!T83","v":0},{"$f":"Финансирование!U44+Финансирование!U83","v":0},{"$f":"Финансирование!V44+Финансирование!V83","v":0},{"$f":"Финансирование!W44+Финансирование!W83","v":0},{"$f":"Финансирование!X44+Финансирование!X83","v":0},{"$f":"Финансирование!Y44+Финансирование!Y83","v":0},{"$f":"Финансирование!Z44+Финансирование!Z83","v":0},{"$f":"Финансирование!AA44+Финансирование!AA83","v":0}]
[null,null,"Получение денежных вкладов от собственников (участников)","тыс. руб.","Лист: Предпосылки",null,null,{"$f":"SUM(Предпосылки!H217:H218)","v":0},{"$f":"SUM(Предпосылки!I217:I218)","v":0},{"$f":"SUM(Предпосылки!J217:J218)","v":0},{"$f":"SUM(Предпосылки!K217:K218)","v":0},{"$f":"SUM(Предпосылки!L217:L218)","v":0},{"$f":"SUM(Предпосылки!M217:M218)","v":0},{"$f":"SUM(Предпосылки!N217:N218)","v":0},{"$f":"SUM(Предпосылки!O217:O218)","v":0},{"$f":"SUM(Предпосылки!P217:P218)","v":0},{"$f":"SUM(Предпосылки!Q217:Q218)","v":0},{"$f":"SUM(Предпосылки!R217:R218)","v":0},{"$f":"SUM(Предпосылки!S217:S218)","v":0},{"$f":"SUM(Предпосылки!T217:T218)","v":0},{"$f":"SUM(Предпосылки!U217:U218)","v":0},{"$f":"SUM(Предпосылки!V217:V218)","v":0},{"$f":"SUM(Предпосылки!W217:W218)","v":0},{"$f":"SUM(Предпосылки!X217:X218)","v":0},{"$f":"SUM(Предпосылки!Y217:Y218)","v":0},{"$f":"SUM(Предпосылки!Z217:Z218)","v":0},{"$f":"SUM(Предпосылки!AA217:AA218)","v":0}]
[]
[null,"Платежи - всего:",null,"тыс. руб.",null,null,null,{"$f":"H130","v":0},{"$f":"I130","v":0},0,0,0,0,0,0,0,0,0,0,0,0,0,0,0,0,0,0]
[null,null,"Погашение кредитов и займов  (-)","тыс. руб.","Лист: Финансирование",null,null,{"$f":"Финансирование!H45+Финансирование!H84","v":0},{"$f":"Финансирование!I45+Финансирование!I84","v":0},{"$f":"Финансирование!J45+Финансирование!J84","v":0},{"$f":"Финансирование!K45+Финансирование!K84","v":0},{"$f":"Финансирование!L45+Финансирование!L84","v":0},{"$f":"Финансирование!M45+Финансирование!M84","v":0},{"$f":"Финансирование!N45+Финансирование!N84","v":0},{"$f":"Финансирование!O45+Финансирование!O84","v":0},{"$f":"Финансирование!P45+Финансирование!P84","v":0},{"$f":"Финансирование!Q45+Финансирование!Q84","v":0},{"$f":"Финансирование!R45+Финансирование!R84","v":0},{"$f":"Финансирование!S45+Финансирование!S84","v":0},{"$f":"Финансирование!T45+Финансирование!T84","v":0},{"$f":"Финансирование!U45+Финансирование!U84","v":0},{"$f":"Финансирование!V45+Финансирование!V84","v":0},{"$f":"Финансирование!W45+Финансирование!W84","v":0},{"$f":"Финансирование!X45+Финансирование!X84","v":0},{"$f":"Финансирование!Y45+Финансирование!Y84","v":0},{"$f":"Финансирование!Z45+Финансирование!Z84","v":0},{"$f":"Финансирование!AA45+Финансирование!AA84","v":0}]
[null,"Итого финансовый денежный поток",null,"тыс. руб.",null,null,null,{"$f":"SUM(H125,H129)","v":0},{"$f":"SUM(I125,I129)","v":0},0,0,0,0,0,0,0,0,0,0,0,0,0,0,0,0,0,0]
[]
[null,null,"Остаток денежных средств на начало периода","тыс. руб.",null,null,null,{"$f":"Предпосылки!F212","v":0},{"$f":"H135","v":0},{"$f":"I135","v":0},{"$f":"J135","v":0},0,0,0,0,0,0,0,0,0,0,0,{"$f":"V135","v":0},{"$f":"W135","v":0},{"$f":"X135","v":0},{"$f":"Y135","v":0},{"$f":"Z135","v":0}]
[null,null,"Изменение денежных средств за период","тыс. руб.",null,null,null,{"$f":"ROUND(SUM(H112,H121,H131),3)","v":0},{"$f":"ROUND(SUM(I112,I121,I131),3)","v":0},0,0,0,0,0,0,0,0,0,0,0,0,0,0,0,0,0,0]
[null,null,"Остаток денежных средств на конец периода","тыс. руб.",null,null,null,{"$f":"SUM(H133:H134)","v":0},{"$f":"SUM(I133:I134)","v":0},{"$f":"SUM(J133:J134)","v":0},0,0,0,0,0,0,0,0,0,0,0,0,0,0,0,0,0]
[]
[null,null,"Проверка: положительные остатки денежных средств",null,null,{"$f":"IF(COUNTIF(H137:AA137, \"Ошибка\") = 0, \"Верно\", \"Ошибка\")","v":"Верно"},null,{"$f":"IF(H135<0,\"Ошибка\", \"Верно\")","v":"Верно"},{"$f":"IF(I135<0,\"Ошибка\", \"Верно\")","v":"Верно"},"Верно","Верно","Верно","Верно","Верно","Верно","Верно","Верно","Верно","Верно","Верно","Верно","Верно","Верно","Верно","Верно","Верно","Верно"]

{"sheet":"Эффективность (СПИК)","index":12,"n_rows":108,"n_cols":27,"rows_kept":108,"cut":false,"hidden":false,"merged":[[1,2,2,2],[1,3,2,3],[1,4,2,4],[1,5,2,5]]}
[null,null,null,null,{"$f":"\"Лист:  \" & RIGHT(CELL(\"filename\",A1),LEN(CELL(\"filename\",A1))-SEARCH(\"]\",CELL(\"filename\",A1)))","v":"Лист:  Эффективность (СПИК)"}]
[null,null,"Параметр","Ед. изм.","Источник","Итоговое значение",null,{"$f":"Предпосылки!H2","v":2023},{"$f":"Предпосылки!I2","v":2024},{"$f":"Предпосылки!J2","v":2025},{"$f":"Предпосылки!K2","v":2026},{"$f":"Предпосылки!L2","v":2027},{"$f":"Предпосылки!M2","v":2028},{"$f":"Предпосылки!N2","v":2029},{"$f":"Предпосылки!O2","v":2030},{"$f":"Предпосылки!P2","v":2031},{"$f":"Предпосылки!Q2","v":2032},{"$f":"Предпосылки!R2","v":2033},{"$f":"Предпосылки!S2","v":2034},{"$f":"Предпосылки!T2","v":2035},{"$f":"Предпосылки!U2","v":2036},{"$f":"Предпосылки!V2","v":2037},{"$f":"Предпосылки!W2","v":2038},{"$f":"Предпосылки!X2","v":2039},{"$f":"Предпосылки!Y2","v":2040},{"$f":"Предпосылки!Z2","v":2041},{"$f":"Предпосылки!AA2","v":2042}]
[null,null,null,null,null,null,null,1,2,3,4,5,6,7,8,9,10,11,12,13,14,15,16,17,18,19,20]
[]
[null,null,"Дата оценки",null,"Лист: Предпосылки",{"$f":"Предпосылки!F7","v":"2023-08-30"}]
[]
[null,"Дисконтирование"]
[]
[null,null,"Ставка дисконтирования для проекта","%","Лист: WACC",{"$f":"WACC!D20","v":0.22129706066895843}]
[null,null,"Корректировка с учетом даты оценки","х",null,null,null,{"$f":"IF(H2>YEAR($F$5),One, (DATE(H2,12,31)-F5)/Предпосылки!H12)","v":0.33698630136986302},{"$f":"IF(I2>YEAR($F$5),One, (DATE(I2,12,31)-G5)/Предпосылки!I12)","v":1},{"$f":"IF(J2>YEAR($F$5),One, (DATE(J2,12,31)-H5)/Предпосылки!J12)","v":1},{"$f":"IF(K2>YEAR($F$5),One, (DATE(K2,12,31)-I5)/Предпосылки!K12)","v":1},{"$f":"IF(L2>YEAR($F$5),One, (DATE(L2,12,31)-J5)/Предпосылки!L12)","v":1},{"$f":"IF(M2>YEAR($F$5),One, (DATE(M2,12,31)-K5)/Предпосылки!M12)","v":1},{"$f":"IF(N2>YEAR($F$5),One, (DATE(N2,12,31)-L5)/Предпосылки!N12)","v":1},{"$f":"IF(O2>YEAR($F$5),One, (DATE(O2,12,31)-M5)/Предпосылки!O12)","v":1},{"$f":"IF(P2>YEAR($F$5),One, (DATE(P2,12,31)-N5)/Предпосылки!P12)","v":1},{"$f":"IF(Q2>YEAR($F$5),One, (DATE(Q2,12,31)-O5)/Предпосылки!Q12)","v":1},{"$f":"IF(R2>YEAR($F$5),One, (DATE(R2,12,31)-P5)/Предпосылки!R12)","v":1},{"$f":"IF(S2>YEAR($F$5),One, (DATE(S2,12,31)-Q5)/Предпосылки!S12)","v":1},{"$f":"IF(T2>YEAR($F$5),One, (DATE(T2,12,31)-R5)/Предпосылки!T12)","v":1},{"$f":"IF(U2>YEAR($F$5),One, (DATE(U2,12,31)-S5)/Предпосылки!U12)","v":1},{"$f":"IF(V2>YEAR($F$5),One, (DATE(V2,12,31)-T5)/Предпосылки!V12)","v":1},{"$f":"IF(W2>YEAR($F$5),One, (DATE(W2,12,31)-U5)/Предпосылки!W12)","v":1},{"$f":"IF(X2>YEAR($F$5),One, (DATE(X2,12,31)-V5)/Предпосылки!X12)","v":1},{"$f":"IF(Y2>YEAR($F$5),One, (DATE(Y2,12,31)-W5)/Предпосылки!Y12)","v":1},{"$f":"IF(Z2>YEAR($F$5),One, (DATE(Z2,12,31)-X5)/Предпосылки!Z12)","v":1},{"$f":"IF(AA2>YEAR($F$5),One, (DATE(AA2,12,31)-Y5)/Предпосылки!AA12)","v":1}]
[null,null,"Ставка дисконтирования с учетом корректировки","%",null,null,null,{"$f":"$F$9*H10","v":7.4574077978854486E-2},{"$f":"$F$9*I10","v":0.22129706066895843},0.22129706066895843,0.22129706066895843,0.22129706066895843,0.22129706066895843,0.22129706066895843,0.22129706066895843,0.22129706066895843,0.22129706066895843,0.22129706066895843,0.22129706066895843,0.22129706066895843,0.22129706066895843,0.22129706066895843,0.22129706066895843,0.22129706066895843,0.22129706066895843,0.22129706066895843,0.22129706066895843]
[]
[null,null,"Дисконт-фактор за период","х",null,null,null,{"$f":"One/ (One+H11)","v":0.93060126844012525},0.81880161035698862,0.81880161035698862,0.81880161035698862,0.81880161035698862,0.81880161035698862,0.81880161035698862,0.81880161035698862,0.81880161035698862,0.81880161035698862,0.81880161035698862,0.81880161035698862,0.81880161035698862,0.81880161035698862,0.81880161035698862,0.81880161035698862,0.81880161035698862,0.81880161035698862,0.81880161035698862,0.81880161035698862]
[null,null,"Дисконт-фактор накопленный","х",null,null,null,{"$f":"H13^($H3-0.5)","v":0.96467676889211196},{"$f":"PRODUCT($H$13:H$13)*I13^($H3-0.5)","v":0.84207928558340395},{"$f":"PRODUCT($H$13:I$13)*J13^($H3-0.5)","v":0.68949587508395371},{"$f":"PRODUCT($H$13:J$13)*K13^($H3-0.5)","v":0.56456033285324236},{"$f":"PRODUCT($H$13:K$13)*L13^($H3-0.5)","v":0.46226290968391243},{"$f":"PRODUCT($H$13:L$13)*M13^($H3-0.5)","v":0.37850161485749467},{"$f":"PRODUCT($H$13:M$13)*N13^($H3-0.5)","v":0.30991773176803727},{"$f":"PRODUCT($H$13:N$13)*O13^($H3-0.5)","v":0.25376113784985421},{"$f":"PRODUCT($H$13:O$13)*P13^($H3-0.5)","v":0.20778002831748238},{"$f":"PRODUCT($H$13:P$13)*Q13^($H3-0.5)","v":0.17013062178637528},{"$f":"PRODUCT($H$13:Q$13)*R13^($H3-0.5)","v":0.13930322708971984},{"$f":"PRODUCT($H$13:R$13)*S13^($H3-0.5)","v":0.11406170666898791},{"$f":"PRODUCT($H$13:S$13)*T13^($H3-0.5)","v":9.3393909100633762E-2},{"$f":"PRODUCT($H$13:T$13)*U13^($H3-0.5)","v":7.6471083169133147E-2},{"$f":"PRODUCT($H$13:U$13)*V13^($H3-0.5)","v":6.2614646044629421E-2},{"$f":"PRODUCT($H$13:V$13)*W13^($H3-0.5)","v":5.1268973013275418E-2},{"$f":"PRODUCT($H$13:W$13)*X13^($H3-0.5)","v":4.1979117664618905E-2},{"$f":"PRODUCT($H$13:X$13)*Y13^($H3-0.5)","v":3.4372569145155463E-2},{"$f":"PRODUCT($H$13:Y$13)*Z13^($H3-0.5)","v":2.8144314968160236E-2},{"$f":"PRODUCT($H$13:Z$13)*AA13^($H3-0.5)","v":2.30446104183239E-2}]
[]
[null,null,"Справочно: расчет дисконт-фактора при фиксированной ставке дисконтирования"]
[null,null,"Дисконт-фактор ","х",null,null,null,{"$f":"One/(One+H11)^(H$3-0.5)","v":0.96467676889211207},0.74091439423856298,0.60666189913920809,0.49673573995741266,0.4067280237989998,0.3330295608639367,0.27268514073187211,0.22327503235167898,0.18281795604206347,0.14969163680941475,0.12256775327652229,0.10035867376065452,8.2173843688515574E-2,6.7284075541380009E-2,5.5092309404663246E-2,4.5109671658823736E-2,3.6935871796919879E-2,3.0243151307257275E-2,2.4763140992652331E-2,2.0276099722280887E-2]
[]
[null,null,"Ставка дисконтирования для расчета LLCR (средневзвшенная стоимость долга)",null,"Лист: WACC",{"$f":"WACC!D18","v":0}]
[]
[null,null,"Ставка дисконтирования для расчета бюджетной эффективности","%","Лист: Предпосылки",{"$f":"Предпосылки!F15","v":7.4999999999999997E-2}]
[null,null,"Ставка дисконтирования с учетом корректировки на дату оценки","%",null,null,null,{"$f":"$F$21*H10","v":2.5273972602739725E-2},7.4999999999999997E-2,7.4999999999999997E-2,7.4999999999999997E-2,7.4999999999999997E-2,7.4999999999999997E-2,7.4999999999999997E-2,7.4999999999999997E-2,7.4999999999999997E-2,7.4999999999999997E-2,7.4999999999999997E-2,7.4999999999999997E-2,7.4999999999999997E-2,7.4999999999999997E-2,7.4999999999999997E-2,7.4999999999999997E-2,7.4999999999999997E-2,7.4999999999999997E-2,7.4999999999999997E-2,7.4999999999999997E-2]
[]
[null,null,"Дисконт-фактор за период","х",null,null,null,{"$f":"One/ (One+H22)","v":0.97534905471307365},0.93023255813953487,0.93023255813953487,0.93023255813953487,0.93023255813953487,0.93023255813953487,0.93023255813953487,0.93023255813953487,0.93023255813953487,0.93023255813953487,0.93023255813953487,0.93023255813953487,0.93023255813953487,0.93023255813953487,0.93023255813953487,0.93023255813953487,0.93023255813953487,0.93023255813953487,0.93023255813953487,0.93023255813953487]
[null,null,"Дисконт-фактор накопленный","х",null,null,null,{"$f":"H24^($H3-0.5)","v":0.98759761781460043},{"$f":"PRODUCT($H$24:H$24)*I24^($H3-0.5)","v":0.94071016149215259},{"$f":"PRODUCT($H$24:I$24)*J24^($H3-0.5)","v":0.87507921999270011},{"$f":"PRODUCT($H$24:J$24)*K24^($H3-0.5)","v":0.81402718138855823},{"$f":"PRODUCT($H$24:K$24)*L24^($H3-0.5)","v":0.7572345873381936},{"$f":"PRODUCT($H$24:L$24)*M24^($H3-0.5)","v":0.70440426729134298},{"$f":"PRODUCT($H$24:M$24)*N24^($H3-0.5)","v":0.65525978352683067},{"$f":"PRODUCT($H$24:N$24)*O24^($H3-0.5)","v":0.60954398467612159},{"$f":"PRODUCT($H$24:O$24)*P24^($H3-0.5)","v":0.56701766016383404},{"$f":"PRODUCT($H$24:P$24)*Q24^($H3-0.5)","v":0.52745828852449683},{"$f":"PRODUCT($H$24:Q$24)*R24^($H3-0.5)","v":0.49065887304604355},{"$f":"PRODUCT($H$24:R$24)*S24^($H3-0.5)","v":0.45642685864748239},{"$f":"PRODUCT($H$24:S$24)*T24^($H3-0.5)","v":0.42458312432323941},{"$f":"PRODUCT($H$24:T$24)*U24^($H3-0.5)","v":0.39496104588208314},{"$f":"PRODUCT($H$24:U$24)*V24^($H3-0.5)","v":0.36740562407635646},{"$f":"PRODUCT($H$24:V$24)*W24^($H3-0.5)","v":0.34177267355940133},{"$f":"PRODUCT($H$24:W$24)*X24^($H3-0.5)","v":0.31792806842735005},{"$f":"PRODUCT($H$24:X$24)*Y24^($H3-0.5)","v":0.29574704039753497},{"$f":"PRODUCT($H$24:Y$24)*Z24^($H3-0.5)","v":0.27511352595119526},{"$f":"PRODUCT($H$24:Z$24)*AA24^($H3-0.5)","v":0.25591955902436769}]
[]
[null,null,"Справочно: расчет дисконт-фактора при фиксированной ставке дисконтирования"]
[null,null,"Дисконт-фактор","х",null,null,null,{"$f":"One/(One+H22)^(H$3-0.5)","v":0.98759761781460054},0.8971959482240226,0.8346008820688583,0.77637291355242632,0.72220736144411757,0.67182080134336519,0.6249495826449909,0.5813484489720846,0.54078925485775309,0.50305977196070062,0.46796257856809359,0.43531402657497087,0.40494328053485662,0.37669142375335496,0.350410626747307,0.3259633737184251,0.30322174299388382,0.28206673766872914,0.26238766294765509,0.2440815469280512]
[]
[null,"Расчет свободного денежного потока"]
[]
[null,null,"Эффективная ставка налога на прибыль","%",null,null,null,{"$f":"-'Отчетность (СПИК)'!H70/'Отчетность (СПИК)'!H69","v":{"$error":"#DIV/0!"}},{"$f":"-'Отчетность (СПИК)'!I70/'Отчетность (СПИК)'!I69","v":{"$error":"#DIV/0!"}},{"$f":"-'Отчетность (СПИК)'!J70/'Отчетность (СПИК)'!J69","v":{"$error":"#DIV/0!"}},{"$f":"-'Отчетность (СПИК)'!K70/'Отчетность (СПИК)'!K69","v":{"$error":"#DIV/0!"}},{"$f":"-'Отчетность (СПИК)'!L70/'Отчетность (СПИК)'!L69","v":{"$error":"#DIV/0!"}},{"$f":"-'Отчетность (СПИК)'!M70/'Отчетность (СПИК)'!M69","v":{"$error":"#DIV/0!"}},{"$f":"-'Отчетность (СПИК)'!N70/'Отчетность (СПИК)'!N69","v":{"$error":"#DIV/0!"}},{"$f":"-'Отчетность (СПИК)'!O70/'Отчетность (СПИК)'!O69","v":{"$error":"#DIV/0!"}},{"$f":"-'Отчетность (СПИК)'!P70/'Отчетность (СПИК)'!P69","v":{"$error":"#DIV/0!"}},{"$f":"-'Отчетность (СПИК)'!Q70/'Отчетность (СПИК)'!Q69","v":{"$error":"#DIV/0!"}},{"$f":"-'Отчетность (СПИК)'!R70/'Отчетность (СПИК)'!R69","v":{"$error":"#DIV/0!"}},{"$f":"-'Отчетность (СПИК)'!S70/'Отчетность (СПИК)'!S69","v":{"$error":"#DIV/0!"}},{"$f":"-'Отчетность (СПИК)'!T70/'Отчетность (СПИК)'!T69","v":{"$error":"#DIV/0!"}},{"$f":"-'Отчетность (СПИК)'!U70/'Отчетность (СПИК)'!U69","v":{"$error":"#DIV/0!"}},{"$f":"-'Отчетность (СПИК)'!V70/'Отчетность (СПИК)'!V69","v":{"$error":"#DIV/0!"}},{"$f":"-'Отчетность (СПИК)'!W70/'Отчетность (СПИК)'!W69","v":{"$error":"#DIV/0!"}},{"$f":"-'Отчетность (СПИК)'!X70/'Отчетность (СПИК)'!X69","v":{"$error":"#DIV/0!"}},{"$f":"-'Отчетность (СПИК)'!Y70/'Отчетность (СПИК)'!Y69","v":{"$error":"#DIV/0!"}},{"$f":"-'Отчетность (СПИК)'!Z70/'Отчетность (СПИК)'!Z69","v":{"$error":"#DIV/0!"}},{"$f":"-'Отчетность (СПИК)'!AA70/'Отчетность (СПИК)'!AA69","v":{"$error":"#DIV/0!"}}]
[]
[null,null,"EBIT","тыс. руб.","Лист: Отчетность (СПИК)",null,null,{"$f":"'Отчетность (СПИК)'!H89","v":0},{"$f":"'Отчетность (СПИК)'!I89","v":0},{"$f":"'Отчетность (СПИК)'!J89","v":0},{"$f":"'Отчетность (СПИК)'!K89","v":0},{"$f":"'Отчетность (СПИК)'!L89","v":0},{"$f":"'Отчетность (СПИК)'!M89","v":0},{"$f":"'Отчетность (СПИК)'!N89","v":0},{"$f":"'Отчетность (СПИК)'!O89","v":0},{"$f":"'Отчетность (СПИК)'!P89","v":0},{"$f":"'Отчетность (СПИК)'!Q89","v":0},{"$f":"'Отчетность (СПИК)'!R89","v":0},{"$f":"'Отчетность (СПИК)'!S89","v":0},{"$f":"'Отчетность (СПИК)'!T89","v":0},{"$f":"'Отчетность (СПИК)'!U89","v":0},{"$f":"'Отчетность (СПИК)'!V89","v":0},{"$f":"'Отчетность (СПИК)'!W89","v":0},{"$f":"'Отчетность (СПИК)'!X89","v":0},{"$f":"'Отчетность (СПИК)'!Y89","v":0},{"$f":"'Отчетность (СПИК)'!Z89","v":0},{"$f":"'Отчетность (СПИК)'!AA89","v":0}]
[null,null,"Амортизация","тыс. руб.","Лист: Отчетность (СПИК)",null,null,{"$f":"'Отчетность (СПИК)'!H90","v":0},{"$f":"'Отчетность (СПИК)'!I90","v":0},{"$f":"'Отчетность (СПИК)'!J90","v":0},{"$f":"'Отчетность (СПИК)'!K90","v":0},{"$f":"'Отчетность (СПИК)'!L90","v":0},{"$f":"'Отчетность (СПИК)'!M90","v":0},{"$f":"'Отчетность (СПИК)'!N90","v":0},{"$f":"'Отчетность (СПИК)'!O90","v":0},{"$f":"'Отчетность (СПИК)'!P90","v":0},{"$f":"'Отчетность (СПИК)'!Q90","v":0},{"$f":"'Отчетность (СПИК)'!R90","v":0},{"$f":"'Отчетность (СПИК)'!S90","v":0},{"$f":"'Отчетность (СПИК)'!T90","v":0},{"$f":"'Отчетность (СПИК)'!U90","v":0},{"$f":"'Отчетность (СПИК)'!V90","v":0},{"$f":"'Отчетность (СПИК)'!W90","v":0},{"$f":"'Отчетность (СПИК)'!X90","v":0},{"$f":"'Отчетность (СПИК)'!Y90","v":0},{"$f":"'Отчетность (СПИК)'!Z90","v":0},{"$f":"'Отчетность (СПИК)'!AA90","v":0}]
[null,null,"Капитальные вложения (-)","тыс. руб.","Лист: Отчетность (СПИК)",null,null,{"$f":"'Отчетность (СПИК)'!H120","v":0},{"$f":"'Отчетность (СПИК)'!I120","v":0},{"$f":"'Отчетность (СПИК)'!J120","v":0},{"$f":"'Отчетность (СПИК)'!K120","v":0},{"$f":"'Отчетность (СПИК)'!L120","v":0},{"$f":"'Отчетность (СПИК)'!M120","v":0},{"$f":"'Отчетность (СПИК)'!N120","v":0},{"$f":"'Отчетность (СПИК)'!O120","v":0},{"$f":"'Отчетность (СПИК)'!P120","v":0},{"$f":"'Отчетность (СПИК)'!Q120","v":0},{"$f":"'Отчетность (СПИК)'!R120","v":0},{"$f":"'Отчетность (СПИК)'!S120","v":0},{"$f":"'Отчетность (СПИК)'!T120","v":0},{"$f":"'Отчетность (СПИК)'!U120","v":0},{"$f":"'Отчетность (СПИК)'!V120","v":0},{"$f":"'Отчетность (СПИК)'!W120","v":0},{"$f":"'Отчетность (СПИК)'!X120","v":0},{"$f":"'Отчетность (СПИК)'!Y120","v":0},{"$f":"'Отчетность (СПИК)'!Z120","v":0},{"$f":"'Отчетность (СПИК)'!AA120","v":0}]
[null,null,"Изменение в чистом оборотном капитале (-)","тыс. руб.","Лист: Отчетность (СПИК)",null,null,{"$f":"-('Отчетность (СПИК)'!H47-'Отчетность (СПИК)'!G47)","v":0},{"$f":"-('Отчетность (СПИК)'!I47-'Отчетность (СПИК)'!H47)","v":0},{"$f":"-('Отчетность (СПИК)'!J47-'Отчетность (СПИК)'!I47)","v":0},{"$f":"-('Отчетность (СПИК)'!K47-'Отчетность (СПИК)'!J47)","v":0},{"$f":"-('Отчетность (СПИК)'!L47-'Отчетность (СПИК)'!K47)","v":0},{"$f":"-('Отчетность (СПИК)'!M47-'Отчетность (СПИК)'!L47)","v":0},{"$f":"-('Отчетность (СПИК)'!N47-'Отчетность (СПИК)'!M47)","v":0},{"$f":"-('Отчетность (СПИК)'!O47-'Отчетность (СПИК)'!N47)","v":0},{"$f":"-('Отчетность (СПИК)'!P47-'Отчетность (СПИК)'!O47)","v":0},{"$f":"-('Отчетность (СПИК)'!Q47-'Отчетность (СПИК)'!P47)","v":0},{"$f":"-('Отчетность (СПИК)'!R47-'Отчетность (СПИК)'!Q47)","v":0},{"$f":"-('Отчетность (СПИК)'!S47-'Отчетность (СПИК)'!R47)","v":0},{"$f":"-('Отчетность (СПИК)'!T47-'Отчетность (СПИК)'!S47)","v":0},{"$f":"-('Отчетность (СПИК)'!U47-'Отчетность (СПИК)'!T47)","v":0},{"$f":"-('Отчетность (СПИК)'!V47-'Отчетность (СПИК)'!U47)","v":0},{"$f":"-('Отчетность (СПИК)'!W47-'Отчетность (СПИК)'!V47)","v":0},{"$f":"-('Отчетность (СПИК)'!X47-'Отчетность (СПИК)'!W47)","v":0},{"$f":"-('Отчетность (СПИК)'!Y47-'Отчетность (СПИК)'!X47)","v":0},{"$f":"-('Отчетность (СПИК)'!Z47-'Отчетность (СПИК)'!Y47)","v":0},{"$f":"-('Отчетность (СПИК)'!AA47-'Отчетность (СПИК)'!Z47)","v":0}]
[]
[null,null,"FCFF","тыс. руб.",null,null,null,{"$f":"H34*(One-H32)+SUM(H35:H37)","v":{"$error":"#DIV/0!"}},{"$error":"#DIV/0!"},{"$error":"#DIV/0!"},{"$error":"#DIV/0!"},{"$error":"#DIV/0!"},{"$error":"#DIV/0!"},{"$error":"#DIV/0!"},{"$error":"#DIV/0!"},{"$error":"#DIV/0!"},{"$error":"#DIV/0!"},{"$error":"#DIV/0!"},{"$error":"#DIV/0!"},{"$error":"#DIV/0!"},{"$error":"#DIV/0!"},{"$error":"#DIV/0!"},{"$error":"#DIV/0!"},{"$error":"#DIV/0!"},{"$error":"#DIV/0!"},{"$error":"#DIV/0!"},{"$error":"#DIV/0!"}]
[null,null,"FCFF накопительным итогом","тыс. руб.",null,null,null,{"$f":"SUM($H39:H39)","v":{"$error":"#DIV/0!"}},{"$f":"SUM($H39:I39)","v":{"$error":"#DIV/0!"}},{"$f":"SUM($H39:J39)","v":{"$error":"#DIV/0!"}},{"$f":"SUM($H39:K39)","v":{"$error":"#DIV/0!"}},{"$f":"SUM($H39:L39)","v":{"$error":"#DIV/0!"}},{"$f":"SUM($H39:M39)","v":{"$error":"#DIV/0!"}},{"$f":"SUM($H39:N39)","v":{"$error":"#DIV/0!"}},{"$f":"SUM($H39:O39)","v":{"$error":"#DIV/0!"}},{"$f":"SUM($H39:P39)","v":{"$error":"#DIV/0!"}},{"$f":"SUM($H39:Q39)","v":{"$error":"#DIV/0!"}},{"$f":"SUM($H39:R39)","v":{"$error":"#DIV/0!"}},{"$f":"SUM($H39:S39)","v":{"$error":"#DIV/0!"}},{"$f":"SUM($H39:T39)","v":{"$error":"#DIV/0!"}},{"$f":"SUM($H39:U39)","v":{"$error":"#DIV/0!"}},{"$f":"SUM($H39:V39)","v":{"$error":"#DIV/0!"}},{"$f":"SUM($H39:W39)","v":{"$error":"#DIV/0!"}},{"$f":"SUM($H39:X39)","v":{"$error":"#DIV/0!"}},{"$f":"SUM($H39:Y39)","v":{"$error":"#DIV/0!"}},{"$f":"SUM($H39:Z39)","v":{"$error":"#DIV/0!"}},{"$f":"SUM($H39:AA39)","v":{"$error":"#DIV/0!"}}]
[]
[null,"Показатели эффективности инвестиционного проекта"]
[]
[null,null,"Дисконтированные потоки проекта","тыс. руб.",null,null,null,{"$f":"H39*H14","v":{"$error":"#DIV/0!"}},{"$f":"I39*I14","v":{"$error":"#DIV/0!"}},{"$error":"#DIV/0!"},{"$error":"#DIV/0!"},{"$error":"#DIV/0!"},{"$error":"#DIV/0!"},{"$error":"#DIV/0!"},{"$error":"#DIV/0!"},{"$error":"#DIV/0!"},{"$error":"#DIV/0!"},{"$error":"#DIV/0!"},{"$error":"#DIV/0!"},{"$error":"#DIV/0!"},{"$error":"#DIV/0!"},{"$error":"#DIV/0!"},{"$error":"#DIV/0!"},{"$error":"#DIV/0!"},{"$error":"#DIV/0!"},{"$error":"#DIV/0!"},{"$error":"#DIV/0!"}]
[null,null,"Дисконтированные потоки прогнозного периода (в течение срока действия СПИК)","тыс. руб.",null,null,null,{"$f":"H44*Предпосылки!H8","v":{"$error":"#DIV/0!"}},{"$f":"I44*Предпосылки!I8","v":{"$error":"#DIV/0!"}},{"$f":"J44*Предпосылки!J8","v":{"$error":"#DIV/0!"}},{"$f":"K44*Предпосылки!K8","v":{"$error":"#DIV/0!"}},{"$f":"L44*Предпосылки!L8","v":{"$error":"#DIV/0!"}},{"$f":"M44*Предпосылки!M8","v":{"$error":"#DIV/0!"}},{"$f":"N44*Предпосылки!N8","v":{"$error":"#DIV/0!"}},{"$f":"O44*Предпосылки!O8","v":{"$error":"#DIV/0!"}},{"$f":"P44*Предпосылки!P8","v":{"$error":"#DIV/0!"}},{"$f":"Q44*Предпосылки!Q8","v":{"$error":"#DIV/0!"}},{"$f":"R44*Предпосылки!R8","v":{"$error":"#DIV/0!"}},{"$f":"S44*Предпосылки!S8","v":{"$error":"#DIV/0!"}},{"$f":"T44*Предпосылки!T8","v":{"$error":"#DIV/0!"}},{"$f":"U44*Предпосылки!U8","v":{"$error":"#DIV/0!"}},{"$f":"V44*Предпосылки!V8","v":{"$error":"#DIV/0!"}},{"$f":"W44*Предпосылки!W8","v":{"$error":"#DIV/0!"}},{"$f":"X44*Предпосылки!X8","v":{"$error":"#DIV/0!"}},{"$f":"Y44*Предпосылки!Y8","v":{"$error":"#DIV/0!"}},{"$f":"Z44*Предпосылки!Z8","v":{"$error":"#DIV/0!"}},{"$f":"AA44*Предпосылки!AA8","v":{"$error":"#DIV/0!"}}]
[]
[null,null,"Терминальная стоимость","тыс. руб.",null,{"$f":"INDEX(H39:AA39,,MATCH(Предпосылки!F8,H3:AA3,0))*(One+Предпосылки!F16)/(Предпосылки!F14-Предпосылки!F16)","v":{"$error":"#DIV/0!"}}]
[null,null,"Дисконтированная терминальная стоимость","тыс. руб.",null,{"$f":"F47*INDEX(H14:AA14,,MATCH(Предпосылки!F8,H3:AA3,0))","v":{"$error":"#DIV/0!"}}]
[]
[null,null,"NPV (чистая приведенная стоимость)","тыс. руб.",null,{"$f":"SUM(H45:AA45,F48)","v":{"$error":"#DIV/0!"}}]
[null,null,"NPV (чистая приведенная стоимость) за срок действия СПИК","тыс. руб.",null,{"$f":"SUM(H45:AA45)","v":{"$error":"#DIV/0!"}}]
[null,null,"IRR (внутренняя норма доходности) за срок действия СПИК","%",null,{"$f":"IRR(H39:AA39,F9)","v":{"$error":"#VALUE!"}}]
[null,null,"PBP (простой период окупаемости)","лет",null,{"$f":" SUM(H53:V53)","v":{"$error":"#DIV/0!"}},null,{"$f":"IF(H40>0,0,1)","v":{"$error":"#DIV/0!"}},{"$error":"#DIV/0!"},{"$error":"#DIV/0!"},{"$error":"#DIV/0!"},{"$error":"#DIV/0!"},{"$error":"#DIV/0!"},{"$error":"#DIV/0!"},{"$error":"#DIV/0!"},{"$error":"#DIV/0!"},{"$error":"#DIV/0!"},{"$error":"#DIV/0!"},{"$error":"#DIV/0!"},{"$error":"#DIV/0!"},{"$error":"#DIV/0!"},{"$error":"#DIV/0!"},{"$error":"#DIV/0!"},{"$error":"#DIV/0!"},{"$error":"#DIV/0!"},{"$error":"#DIV/0!"},{"$error":"#DIV/0!"}]
[null,null,"DPBP (дисконтированный период окупаемости)","лет",null,{"$f":" SUM(H54:V54)","v":{"$error":"#DIV/0!"}},null,{"$f":"IF(SUM($H44:H44)>0,0,1)","v":{"$error":"#DIV/0!"}},{"$f":"IF(SUM($H44:I44)>0,0,1)","v":{"$error":"#DIV/0!"}},{"$f":"IF(SUM($H44:J44)>0,0,1)","v":{"$error":"#DIV/0!"}},{"$f":"IF(SUM($H44:K44)>0,0,1)","v":{"$error":"#DIV/0!"}},{"$f":"IF(SUM($H44:L44)>0,0,1)","v":{"$error":"#DIV/0!"}},{"$f":"IF(SUM($H44:M44)>0,0,1)","v":{"$error":"#DIV/0!"}},{"$f":"IF(SUM($H44:N44)>0,0,1)","v":{"$error":"#DIV/0!"}},{"$f":"IF(SUM($H44:O44)>0,0,1)","v":{"$error":"#DIV/0!"}},{"$f":"IF(SUM($H44:P44)>0,0,1)","v":{"$error":"#DIV/0!"}},{"$f":"IF(SUM($H44:Q44)>0,0,1)","v":{"$error":"#DIV/0!"}},{"$f":"IF(SUM($H44:R44)>0,0,1)","v":{"$error":"#DIV/0!"}},{"$f":"IF(SUM($H44:S44)>0,0,1)","v":{"$error":"#DIV/0!"}},{"$f":"IF(SUM($H44:T44)>0,0,1)","v":{"$error":"#DIV/0!"}},{"$f":"IF(SUM($H44:U44)>0,0,1)","v":{"$error":"#DIV/0!"}},{"$f":"IF(SUM($H44:V44)>0,0,1)","v":{"$error":"#DIV/0!"}},{"$f":"IF(SUM($H44:W44)>0,0,1)","v":{"$error":"#DIV/0!"}},{"$f":"IF(SUM($H44:X44)>0,0,1)","v":{"$error":"#DIV/0!"}},{"$f":"IF(SUM($H44:Y44)>0,0,1)","v":{"$error":"#DIV/0!"}},{"$f":"IF(SUM($H44:Z44)>0,0,1)","v":{"$error":"#DIV/0!"}},{"$f":"IF(SUM($H44:AA44)>0,0,1)","v":{"$error":"#DIV/0!"}}]
[]
[]
[null,null,"Инвестиции по проекту","тыс. руб.","Лист: Отчетность (СПИК)",null,null,{"$f":"'Отчетность (СПИК)'!H120","v":0},{"$f":"'Отчетность (СПИК)'!I120","v":0},{"$f":"'Отчетность (СПИК)'!J120","v":0},{"$f":"'Отчетность (СПИК)'!K120","v":0},{"$f":"'Отчетность (СПИК)'!L120","v":0},{"$f":"'Отчетность (СПИК)'!M120","v":0},{"$f":"'Отчетность (СПИК)'!N120","v":0},{"$f":"'Отчетность (СПИК)'!O120","v":0},{"$f":"'Отчетность (СПИК)'!P120","v":0},{"$f":"'Отчетность (СПИК)'!Q120","v":0},{"$f":"'Отчетность (СПИК)'!R120","v":0},{"$f":"'Отчетность (СПИК)'!S120","v":0},{"$f":"'Отчетность (СПИК)'!T120","v":0},{"$f":"'Отчетность (СПИК)'!U120","v":0},{"$f":"'Отчетность (СПИК)'!V120","v":0},{"$f":"'Отчетность (СПИК)'!W120","v":0},{"$f":"'Отчетность (СПИК)'!X120","v":0},{"$f":"'Отчетность (СПИК)'!Y120","v":0},{"$f":"'Отчетность (СПИК)'!Z120","v":0},{"$f":"'Отчетность (СПИК)'!AA120","v":0}]
[null,null,"Дисконтированные инвестиции по проекту","тыс. руб.",null,null,null,{"$f":"H57*H14","v":0},{"$f":"I57*I14","v":0},0,0,0,0,0,0,0,0,0,0,0,0,0,0,0,0,0,0]
[null,null,"PI (индекс прибыльности)","х",null,{"$f":"One+F51/-SUM(H58:AA58)","v":{"$error":"#DIV/0!"}}]
[]
[null,"Показатели бюдженой эффективности инвестиционного проекта"]
[]
[null,null,"Денежный поток бюджета","тыс. руб.","Лист: Налоги",{"$f":"SUM(H63:AA63)","v":0},null,{"$f":"-Налоги!H159-Налоги!H180","v":0},{"$f":"-Налоги!I159-Налоги!I180","v":0},{"$f":"-Налоги!J159-Налоги!J180","v":0},{"$f":"-Налоги!K159-Налоги!K180","v":0},{"$f":"-Налоги!L159-Налоги!L180","v":0},{"$f":"-Налоги!M159-Налоги!M180","v":0},{"$f":"-Налоги!N159-Налоги!N180","v":0},{"$f":"-Налоги!O159-Налоги!O180","v":0},{"$f":"-Налоги!P159-Налоги!P180","v":0},{"$f":"-Налоги!Q159-Налоги!Q180","v":0},{"$f":"-Налоги!R159-Налоги!R180","v":0},{"$f":"-Налоги!S159-Налоги!S180","v":0},{"$f":"-Налоги!T159-Налоги!T180","v":0},{"$f":"-Налоги!U159-Налоги!U180","v":0},{"$f":"-Налоги!V159-Налоги!V180","v":0},{"$f":"-Налоги!W159-Налоги!W180","v":0},{"$f":"-Налоги!X159-Налоги!X180","v":0},{"$f":"-Налоги!Y159-Налоги!Y180","v":0},{"$f":"-Налоги!Z159-Налоги!Z180","v":0},{"$f":"-Налоги!AA159-Налоги!AA180","v":0}]
[null,null,"Дисконтированный денежный поток бюджета","тыс. руб.",null,null,null,{"$f":"H63*H25","v":0},{"$f":"I63*I25","v":0},0,0,0,0,0,0,0,0,0,0,0,0,0,0,0,0,0,0]
[null,null,"Дисконтированные потоки прогнозного периода (в течение срока действия СПИК)","тыс. руб.",null,null,null,{"$f":"H64*Предпосылки!H8","v":0},{"$f":"I64*Предпосылки!I8","v":0},{"$f":"J64*Предпосылки!J8","v":0},{"$f":"K64*Предпосылки!K8","v":0},{"$f":"L64*Предпосылки!L8","v":0},{"$f":"M64*Предпосылки!M8","v":0},{"$f":"N64*Предпосылки!N8","v":0},{"$f":"O64*Предпосылки!O8","v":0},{"$f":"P64*Предпосылки!P8","v":0},{"$f":"Q64*Предпосылки!Q8","v":0},{"$f":"R64*Предпосылки!R8","v":0},{"$f":"S64*Предпосылки!S8","v":0},{"$f":"T64*Предпосылки!T8","v":0},{"$f":"U64*Предпосылки!U8","v":0},{"$f":"V64*Предпосылки!V8","v":0},{"$f":"W64*Предпосылки!W8","v":0},{"$f":"X64*Предпосылки!X8","v":0},{"$f":"Y64*Предпосылки!Y8","v":0},{"$f":"Z64*Предпосылки!Z8","v":0},{"$f":"AA64*Предпосылки!AA8","v":0}]
[]
[null,null,"BNPV (чистая приведенная стоимость) за срок действия СПИК","тыс. руб.",null,{"$f":"SUM(H65:AA65)","v":0}]
[null,null,"Расходы бюджета","тыс. руб.","Лист: Налоги",null,null,{"$f":"Налоги!H180","v":0},{"$f":"Налоги!I180","v":0},{"$f":"Налоги!J180","v":0},{"$f":"Налоги!K180","v":0},{"$f":"Налоги!L180","v":0},{"$f":"Налоги!M180","v":0},{"$f":"Налоги!N180","v":0},{"$f":"Налоги!O180","v":0},{"$f":"Налоги!P180","v":0},{"$f":"Налоги!Q180","v":0},{"$f":"Налоги!R180","v":0},{"$f":"Налоги!S180","v":0},{"$f":"Налоги!T180","v":0},{"$f":"Налоги!U180","v":0},{"$f":"Налоги!V180","v":0},{"$f":"Налоги!W180","v":0},{"$f":"Налоги!X180","v":0},{"$f":"Налоги!Y180","v":0},{"$f":"Налоги!Z180","v":0},{"$f":"Налоги!AA180","v":0}]
[null,null,"Дисконтированные расходы бюджета","тыс. руб.",null,null,null,{"$f":"H68*H25","v":0},{"$f":"I68*I25","v":0},0,0,0,0,0,0,0,0,0,0,0,0,0,0,0,0,0,0]
[null,null,"Дисконтированные расходы бюджета ( в течение срока действия СПИК)","тыс. руб.",null,{"$f":"SUM(H70:AA70)","v":0},null,{"$f":"H69*Предпосылки!H8","v":0},{"$f":"I69*Предпосылки!I8","v":0},{"$f":"J69*Предпосылки!J8","v":0},{"$f":"K69*Предпосылки!K8","v":0},{"$f":"L69*Предпосылки!L8","v":0},{"$f":"M69*Предпосылки!M8","v":0},{"$f":"N69*Предпосылки!N8","v":0},{"$f":"O69*Предпосылки!O8","v":0},{"$f":"P69*Предпосылки!P8","v":0},{"$f":"Q69*Предпосылки!Q8","v":0},{"$f":"R69*Предпосылки!R8","v":0},{"$f":"S69*Предпосылки!S8","v":0},{"$f":"T69*Предпосылки!T8","v":0},{"$f":"U69*Предпосылки!U8","v":0},{"$f":"V69*Предпосылки!V8","v":0},{"$f":"W69*Предпосылки!W8","v":0},{"$f":"X69*Предпосылки!X8","v":0},{"$f":"Y69*Предпосылки!Y8","v":0},{"$f":"Z69*Предпосылки!Z8","v":0},{"$f":"AA69*Предпосылки!AA8","v":0}]
[null,null,"BPI (индекс  бюджетной прибыльности)","тыс. руб.",null,{"$f":"IF(F70=0, \"-\",F67/F70)","v":"-"}]
[]
[null,"Показатели финансовой устойчивости"]
[]
[null,null,"ICR (коэффициент покрытия процентных выплат)","х",null,null,null,{"$f":"IFERROR(-'Отчетность (СПИК)'!H89/'Отчетность (СПИК)'!H105,)","v":0},{"$f":"IFERROR(-'Отчетность (СПИК)'!I89/'Отчетность (СПИК)'!I105,)","v":0},{"$f":"IFERROR(-'Отчетность (СПИК)'!J89/'Отчетность (СПИК)'!J105,)","v":0},{"$f":"IFERROR(-'Отчетность (СПИК)'!K89/'Отчетность (СПИК)'!K105,)","v":0},{"$f":"IFERROR(-'Отчетность (СПИК)'!L89/'Отчетность (СПИК)'!L105,)","v":0},{"$f":"IFERROR(-'Отчетность (СПИК)'!M89/'Отчетность (СПИК)'!M105,)","v":0},{"$f":"IFERROR(-'Отчетность (СПИК)'!N89/'Отчетность (СПИК)'!N105,)","v":0},{"$f":"IFERROR(-'Отчетность (СПИК)'!O89/'Отчетность (СПИК)'!O105,)","v":0},{"$f":"IFERROR(-'Отчетность (СПИК)'!P89/'Отчетность (СПИК)'!P105,)","v":0},{"$f":"IFERROR(-'Отчетность (СПИК)'!Q89/'Отчетность (СПИК)'!Q105,)","v":0},{"$f":"IFERROR(-'Отчетность (СПИК)'!R89/'Отчетность (СПИК)'!R105,)","v":0},{"$f":"IFERROR(-'Отчетность (СПИК)'!S89/'Отчетность (СПИК)'!S105,)","v":0},{"$f":"IFERROR(-'Отчетность (СПИК)'!T89/'Отчетность (СПИК)'!T105,)","v":0},{"$f":"IFERROR(-'Отчетность (СПИК)'!U89/'Отчетность (СПИК)'!U105,)","v":0},{"$f":"IFERROR(-'Отчетность (СПИК)'!V89/'Отчетность (СПИК)'!V105,)","v":0},{"$f":"IFERROR(-'Отчетность (СПИК)'!W89/'Отчетность (СПИК)'!W105,)","v":0},{"$f":"IFERROR(-'Отчетность (СПИК)'!X89/'Отчетность (СПИК)'!X105,)","v":0},{"$f":"IFERROR(-'Отчетность (СПИК)'!Y89/'Отчетность (СПИК)'!Y105,)","v":0},{"$f":"IFERROR(-'Отчетность (СПИК)'!Z89/'Отчетность (СПИК)'!Z105,)","v":0},{"$f":"IFERROR(-'Отчетность (СПИК)'!AA89/'Отчетность (СПИК)'!AA105,)","v":0}]
[]
[null,null,"CFADS (с учетом дофинансирования)","тыс. руб.",null,null,null,{"$f":"H39+H32*'Отчетность (СПИК)'!H66+'Отчетность (СПИК)'!H116+'Отчетность (СПИК)'!H126+'Отчетность (СПИК)'!H127","v":{"$error":"#DIV/0!"}},{"$f":"I39+I32*'Отчетность (СПИК)'!I66+'Отчетность (СПИК)'!I116+'Отчетность (СПИК)'!I126+'Отчетность (СПИК)'!I127","v":{"$error":"#DIV/0!"}},{"$f":"J39+J32*'Отчетность (СПИК)'!J66+'Отчетность (СПИК)'!J116+'Отчетность (СПИК)'!J126+'Отчетность (СПИК)'!J127","v":{"$error":"#DIV/0!"}},{"$f":"K39+K32*'Отчетность (СПИК)'!K66+'Отчетность (СПИК)'!K116+'Отчетность (СПИК)'!K126+'Отчетность (СПИК)'!K127","v":{"$error":"#DIV/0!"}},{"$f":"L39+L32*'Отчетность (СПИК)'!L66+'Отчетность (СПИК)'!L116+'Отчетность (СПИК)'!L126+'Отчетность (СПИК)'!L127","v":{"$error":"#DIV/0!"}},{"$f":"M39+M32*'Отчетность (СПИК)'!M66+'Отчетность (СПИК)'!M116+'Отчетность (СПИК)'!M126+'Отчетность (СПИК)'!M127","v":{"$error":"#DIV/0!"}},{"$f":"N39+N32*'Отчетность (СПИК)'!N66+'Отчетность (СПИК)'!N116+'Отчетность (СПИК)'!N126+'Отчетность (СПИК)'!N127","v":{"$error":"#DIV/0!"}},{"$f":"O39+O32*'Отчетность (СПИК)'!O66+'Отчетность (СПИК)'!O116+'Отчетность (СПИК)'!O126+'Отчетность (СПИК)'!O127","v":{"$error":"#DIV/0!"}},{"$f":"P39+P32*'Отчетность (СПИК)'!P66+'Отчетность (СПИК)'!P116+'Отчетность (СПИК)'!P126+'Отчетность (СПИК)'!P127","v":{"$error":"#DIV/0!"}},{"$f":"Q39+Q32*'Отчетность (СПИК)'!Q66+'Отчетность (СПИК)'!Q116+'Отчетность (СПИК)'!Q126+'Отчетность (СПИК)'!Q127","v":{"$error":"#DIV/0!"}},{"$f":"R39+R32*'Отчетность (СПИК)'!R66+'Отчетность (СПИК)'!R116+'Отчетность (СПИК)'!R126+'Отчетность (СПИК)'!R127","v":{"$error":"#DIV/0!"}},{"$f":"S39+S32*'Отчетность (СПИК)'!S66+'Отчетность (СПИК)'!S116+'Отчетность (СПИК)'!S126+'Отчетность (СПИК)'!S127","v":{"$error":"#DIV/0!"}},{"$f":"T39+T32*'Отчетность (СПИК)'!T66+'Отчетность (СПИК)'!T116+'Отчетность (СПИК)'!T126+'Отчетность (СПИК)'!T127","v":{"$error":"#DIV/0!"}},{"$f":"U39+U32*'Отчетность (СПИК)'!U66+'Отчетность (СПИК)'!U116+'Отчетность (СПИК)'!U126+'Отчетность (СПИК)'!U127","v":{"$error":"#DIV/0!"}},{"$f":"V39+V32*'Отчетность (СПИК)'!V66+'Отчетность (СПИК)'!V116+'Отчетность (СПИК)'!V126+'Отчетность (СПИК)'!V127","v":{"$error":"#DIV/0!"}},{"$f":"W39+W32*'Отчетность (СПИК)'!W66+'Отчетность (СПИК)'!W116+'Отчетность (СПИК)'!W126+'Отчетность (СПИК)'!W127","v":{"$error":"#DIV/0!"}},{"$f":"X39+X32*'Отчетность (СПИК)'!X66+'Отчетность (СПИК)'!X116+'Отчетность (СПИК)'!X126+'Отчетность (СПИК)'!X127","v":{"$error":"#DIV/0!"}},{"$f":"Y39+Y32*'Отчетность (СПИК)'!Y66+'Отчетность (СПИК)'!Y116+'Отчетность (СПИК)'!Y126+'Отчетность (СПИК)'!Y127","v":{"$error":"#DIV/0!"}},{"$f":"Z39+Z32*'Отчетность (СПИК)'!Z66+'Отчетность (СПИК)'!Z116+'Отчетность (СПИК)'!Z126+'Отчетность (СПИК)'!Z127","v":{"$error":"#DIV/0!"}},{"$f":"AA39+AA32*'Отчетность (СПИК)'!AA66+'Отчетность (СПИК)'!AA116+'Отчетность (СПИК)'!AA126+'Отчетность (СПИК)'!AA127","v":{"$error":"#DIV/0!"}}]
[null,null,"NPV(CFADS) упрощенно","тыс. руб.",null,null,null,{"$f":"NPV($F$19,H77:$AA77)","v":{"$error":"#DIV/0!"}},{"$f":"NPV($F$19,I77:$AA77)","v":{"$error":"#DIV/0!"}},{"$f":"NPV($F$19,J77:$AA77)","v":{"$error":"#DIV/0!"}},{"$f":"NPV($F$19,K77:$AA77)","v":{"$error":"#DIV/0!"}},{"$f":"NPV($F$19,L77:$AA77)","v":{"$error":"#DIV/0!"}},{"$f":"NPV($F$19,M77:$AA77)","v":{"$error":"#DIV/0!"}},{"$f":"NPV($F$19,N77:$AA77)","v":{"$error":"#DIV/0!"}},{"$f":"NPV($F$19,O77:$AA77)","v":{"$error":"#DIV/0!"}},{"$f":"NPV($F$19,P77:$AA77)","v":{"$error":"#DIV/0!"}},{"$f":"NPV($F$19,Q77:$AA77)","v":{"$error":"#DIV/0!"}},{"$f":"NPV($F$19,R77:$AA77)","v":{"$error":"#DIV/0!"}},{"$f":"NPV($F$19,S77:$AA77)","v":{"$error":"#DIV/0!"}},{"$f":"NPV($F$19,T77:$AA77)","v":{"$error":"#DIV/0!"}},{"$f":"NPV($F$19,U77:$AA77)","v":{"$error":"#DIV/0!"}},{"$f":"NPV($F$19,V77:$AA77)","v":{"$error":"#DIV/0!"}},{"$f":"NPV($F$19,W77:$AA77)","v":{"$error":"#DIV/0!"}},{"$f":"NPV($F$19,X77:$AA77)","v":{"$error":"#DIV/0!"}},{"$f":"NPV($F$19,Y77:$AA77)","v":{"$error":"#DIV/0!"}},{"$f":"NPV($F$19,Z77:$AA77)","v":{"$error":"#DIV/0!"}},{"$f":"NPV($F$19,AA77:$AA77)","v":{"$error":"#DIV/0!"}}]
[]
[null,null,"DSCR (коэффициент покрытия выплат по обслуживанию долга)","х",null,null,null,{"$f":"IFERROR(-H77/('Отчетность (СПИК)'!H105+'Отчетность (СПИК)'!H130),)","v":0},{"$f":"IFERROR(-I77/('Отчетность (СПИК)'!I105+'Отчетность (СПИК)'!I130),)","v":0},{"$f":"IFERROR(-J77/('Отчетность (СПИК)'!J105+'Отчетность (СПИК)'!J130),)","v":0},{"$f":"IFERROR(-K77/('Отчетность (СПИК)'!K105+'Отчетность (СПИК)'!K130),)","v":0},{"$f":"IFERROR(-L77/('Отчетность (СПИК)'!L105+'Отчетность (СПИК)'!L130),)","v":0},{"$f":"IFERROR(-M77/('Отчетность (СПИК)'!M105+'Отчетность (СПИК)'!M130),)","v":0},{"$f":"IFERROR(-N77/('Отчетность (СПИК)'!N105+'Отчетность (СПИК)'!N130),)","v":0},{"$f":"IFERROR(-O77/('Отчетность (СПИК)'!O105+'Отчетность (СПИК)'!O130),)","v":0},{"$f":"IFERROR(-P77/('Отчетность (СПИК)'!P105+'Отчетность (СПИК)'!P130),)","v":0},{"$f":"IFERROR(-Q77/('Отчетность (СПИК)'!Q105+'Отчетность (СПИК)'!Q130),)","v":0},{"$f":"IFERROR(-R77/('Отчетность (СПИК)'!R105+'Отчетность (СПИК)'!R130),)","v":0},{"$f":"IFERROR(-S77/('Отчетность (СПИК)'!S105+'Отчетность (СПИК)'!S130),)","v":0},{"$f":"IFERROR(-T77/('Отчетность (СПИК)'!T105+'Отчетность (СПИК)'!T130),)","v":0},{"$f":"IFERROR(-U77/('Отчетность (СПИК)'!U105+'Отчетность (СПИК)'!U130),)","v":0},{"$f":"IFERROR(-V77/('Отчетность (СПИК)'!V105+'Отчетность (СПИК)'!V130),)","v":0},{"$f":"IFERROR(-W77/('Отчетность (СПИК)'!W105+'Отчетность (СПИК)'!W130),)","v":0},{"$f":"IFERROR(-X77/('Отчетность (СПИК)'!X105+'Отчетность (СПИК)'!X130),)","v":0},{"$f":"IFERROR(-Y77/('Отчетность (СПИК)'!Y105+'Отчетность (СПИК)'!Y130),)","v":0},{"$f":"IFERROR(-Z77/('Отчетность (СПИК)'!Z105+'Отчетность (СПИК)'!Z130),)","v":0},{"$f":"IFERROR(-AA77/('Отчетность (СПИК)'!AA105+'Отчетность (СПИК)'!AA130),)","v":0}]
[null,null,"LLCR (Коэффициент покрытия долга денежными потоками, доступными для обслуживания долга)","х",null,null,null,{"$f":"IFERROR(H78/('Отчетность (СПИК)'!G48),)","v":0},{"$f":"IFERROR(I78/('Отчетность (СПИК)'!H48),)","v":0},{"$f":"IFERROR(J78/('Отчетность (СПИК)'!I48),)","v":0},{"$f":"IFERROR(K78/('Отчетность (СПИК)'!J48),)","v":0},{"$f":"IFERROR(L78/('Отчетность (СПИК)'!K48),)","v":0},{"$f":"IFERROR(M78/('Отчетность (СПИК)'!L48),)","v":0},{"$f":"IFERROR(N78/('Отчетность (СПИК)'!M48),)","v":0},{"$f":"IFERROR(O78/('Отчетность (СПИК)'!N48),)","v":0},{"$f":"IFERROR(P78/('Отчетность (СПИК)'!O48),)","v":0},{"$f":"IFERROR(Q78/('Отчетность (СПИК)'!P48),)","v":0},{"$f":"IFERROR(R78/('Отчетность (СПИК)'!Q48),)","v":0},{"$f":"IFERROR(S78/('Отчетность (СПИК)'!R48),)","v":0},{"$f":"IFERROR(T78/('Отчетность (СПИК)'!S48),)","v":0},{"$f":"IFERROR(U78/('Отчетность (СПИК)'!T48),)","v":0},{"$f":"IFERROR(V78/('Отчетность (СПИК)'!U48),)","v":0},{"$f":"IFERROR(W78/('Отчетность (СПИК)'!V48),)","v":0},{"$f":"IFERROR(X78/('Отчетность (СПИК)'!W48),)","v":0},{"$f":"IFERROR(Y78/('Отчетность (СПИК)'!X48),)","v":0},{"$f":"IFERROR(Z78/('Отчетность (СПИК)'!Y48),)","v":0},{"$f":"IFERROR(AA78/('Отчетность (СПИК)'!Z48),)","v":0}]
[]
[null," ","Долг / Собственный капитал","х",null,null,null,{"$f":"'Отчетность (СПИК)'!H48/'Отчетность (СПИК)'!H26","v":{"$error":"#DIV/0!"}},{"$f":"'Отчетность (СПИК)'!I48/'Отчетность (СПИК)'!I26","v":{"$error":"#DIV/0!"}},{"$f":"'Отчетность (СПИК)'!J48/'Отчетность (СПИК)'!J26","v":{"$error":"#DIV/0!"}},{"$f":"'Отчетность (СПИК)'!K48/'Отчетность (СПИК)'!K26","v":{"$error":"#DIV/0!"}},{"$f":"'Отчетность (СПИК)'!L48/'Отчетность (СПИК)'!L26","v":{"$error":"#DIV/0!"}},{"$f":"'Отчетность (СПИК)'!M48/'Отчетность (СПИК)'!M26","v":{"$error":"#DIV/0!"}},{"$f":"'Отчетность (СПИК)'!N48/'Отчетность (СПИК)'!N26","v":{"$error":"#DIV/0!"}},{"$f":"'Отчетность (СПИК)'!O48/'Отчетность (СПИК)'!O26","v":{"$error":"#DIV/0!"}},{"$f":"'Отчетность (СПИК)'!P48/'Отчетность (СПИК)'!P26","v":{"$error":"#DIV/0!"}},{"$f":"'Отчетность (СПИК)'!Q48/'Отчетность (СПИК)'!Q26","v":{"$error":"#DIV/0!"}},{"$f":"'Отчетность (СПИК)'!R48/'Отчетность (СПИК)'!R26","v":{"$error":"#DIV/0!"}},{"$f":"'Отчетность (СПИК)'!S48/'Отчетность (СПИК)'!S26","v":{"$error":"#DIV/0!"}},{"$f":"'Отчетность (СПИК)'!T48/'Отчетность (СПИК)'!T26","v":{"$error":"#DIV/0!"}},{"$f":"'Отчетность (СПИК)'!U48/'Отчетность (СПИК)'!U26","v":{"$error":"#DIV/0!"}},{"$f":"'Отчетность (СПИК)'!V48/'Отчетность (СПИК)'!V26","v":{"$error":"#DIV/0!"}},{"$f":"'Отчетность (СПИК)'!W48/'Отчетность (СПИК)'!W26","v":{"$error":"#DIV/0!"}},{"$f":"'Отчетность (СПИК)'!X48/'Отчетность (СПИК)'!X26","v":{"$error":"#DIV/0!"}},{"$f":"'Отчетность (СПИК)'!Y48/'Отчетность (СПИК)'!Y26","v":{"$error":"#DIV/0!"}},{"$f":"'Отчетность (СПИК)'!Z48/'Отчетность (СПИК)'!Z26","v":{"$error":"#DIV/0!"}},{"$f":"'Отчетность (СПИК)'!AA48/'Отчетность (СПИК)'!AA26","v":{"$error":"#DIV/0!"}}]
[null,null,"Долг / EBIT","х",null,null,null,{"$f":"AVERAGE('Отчетность (СПИК)'!G48:H48)/'Отчетность (СПИК)'!H89","v":{"$error":"#DIV/0!"}},{"$f":"AVERAGE('Отчетность (СПИК)'!H48:I48)/'Отчетность (СПИК)'!I89","v":{"$error":"#DIV/0!"}},{"$f":"AVERAGE('Отчетность (СПИК)'!I48:J48)/'Отчетность (СПИК)'!J89","v":{"$error":"#DIV/0!"}},{"$f":"AVERAGE('Отчетность (СПИК)'!J48:K48)/'Отчетность (СПИК)'!K89","v":{"$error":"#DIV/0!"}},{"$f":"AVERAGE('Отчетность (СПИК)'!K48:L48)/'Отчетность (СПИК)'!L89","v":{"$error":"#DIV/0!"}},{"$f":"AVERAGE('Отчетность (СПИК)'!L48:M48)/'Отчетность (СПИК)'!M89","v":{"$error":"#DIV/0!"}},{"$f":"AVERAGE('Отчетность (СПИК)'!M48:N48)/'Отчетность (СПИК)'!N89","v":{"$error":"#DIV/0!"}},{"$f":"AVERAGE('Отчетность (СПИК)'!N48:O48)/'Отчетность (СПИК)'!O89","v":{"$error":"#DIV/0!"}},{"$f":"AVERAGE('Отчетность (СПИК)'!O48:P48)/'Отчетность (СПИК)'!P89","v":{"$error":"#DIV/0!"}},{"$f":"AVERAGE('Отчетность (СПИК)'!P48:Q48)/'Отчетность (СПИК)'!Q89","v":{"$error":"#DIV/0!"}},{"$f":"AVERAGE('Отчетность (СПИК)'!Q48:R48)/'Отчетность (СПИК)'!R89","v":{"$error":"#DIV/0!"}},{"$f":"AVERAGE('Отчетность (СПИК)'!R48:S48)/'Отчетность (СПИК)'!S89","v":{"$error":"#DIV/0!"}},{"$f":"AVERAGE('Отчетность (СПИК)'!S48:T48)/'Отчетность (СПИК)'!T89","v":{"$error":"#DIV/0!"}},{"$f":"AVERAGE('Отчетность (СПИК)'!T48:U48)/'Отчетность (СПИК)'!U89","v":{"$error":"#DIV/0!"}},{"$f":"AVERAGE('Отчетность (СПИК)'!U48:V48)/'Отчетность (СПИК)'!V89","v":{"$error":"#DIV/0!"}},{"$f":"AVERAGE('Отчетность (СПИК)'!V48:W48)/'Отчетность (СПИК)'!W89","v":{"$error":"#DIV/0!"}},{"$f":"AVERAGE('Отчетность (СПИК)'!W48:X48)/'Отчетность (СПИК)'!X89","v":{"$error":"#DIV/0!"}},{"$f":"AVERAGE('Отчетность (СПИК)'!X48:Y48)/'Отчетность (СПИК)'!Y89","v":{"$error":"#DIV/0!"}},{"$f":"AVERAGE('Отчетность (СПИК)'!Y48:Z48)/'Отчетность (СПИК)'!Z89","v":{"$error":"#DIV/0!"}},{"$f":"AVERAGE('Отчетность (СПИК)'!Z48:AA48)/'Отчетность (СПИК)'!AA89","v":{"$error":"#DIV/0!"}}]
[null,null,"Чистый долг / EBITDA","х",null,null,null,{"$f":"AVERAGE('Отчетность (СПИК)'!G49:H49)/'Отчетность (СПИК)'!H91","v":{"$error":"#DIV/0!"}},{"$f":"AVERAGE('Отчетность (СПИК)'!H49:I49)/'Отчетность (СПИК)'!I91","v":{"$error":"#DIV/0!"}},{"$f":"AVERAGE('Отчетность (СПИК)'!I49:J49)/'Отчетность (СПИК)'!J91","v":{"$error":"#DIV/0!"}},{"$f":"AVERAGE('Отчетность (СПИК)'!J49:K49)/'Отчетность (СПИК)'!K91","v":{"$error":"#DIV/0!"}},{"$f":"AVERAGE('Отчетность (СПИК)'!K49:L49)/'Отчетность (СПИК)'!L91","v":{"$error":"#DIV/0!"}},{"$f":"AVERAGE('Отчетность (СПИК)'!L49:M49)/'Отчетность (СПИК)'!M91","v":{"$error":"#DIV/0!"}},{"$f":"AVERAGE('Отчетность (СПИК)'!M49:N49)/'Отчетность (СПИК)'!N91","v":{"$error":"#DIV/0!"}},{"$f":"AVERAGE('Отчетность (СПИК)'!N49:O49)/'Отчетность (СПИК)'!O91","v":{"$error":"#DIV/0!"}},{"$f":"AVERAGE('Отчетность (СПИК)'!O49:P49)/'Отчетность (СПИК)'!P91","v":{"$error":"#DIV/0!"}},{"$f":"AVERAGE('Отчетность (СПИК)'!P49:Q49)/'Отчетность (СПИК)'!Q91","v":{"$error":"#DIV/0!"}},{"$f":"AVERAGE('Отчетность (СПИК)'!Q49:R49)/'Отчетность (СПИК)'!R91","v":{"$error":"#DIV/0!"}},{"$f":"AVERAGE('Отчетность (СПИК)'!R49:S49)/'Отчетность (СПИК)'!S91","v":{"$error":"#DIV/0!"}},{"$f":"AVERAGE('Отчетность (СПИК)'!S49:T49)/'Отчетность (СПИК)'!T91","v":{"$error":"#DIV/0!"}},{"$f":"AVERAGE('Отчетность (СПИК)'!T49:U49)/'Отчетность (СПИК)'!U91","v":{"$error":"#DIV/0!"}},{"$f":"AVERAGE('Отчетность (СПИК)'!U49:V49)/'Отчетность (СПИК)'!V91","v":{"$error":"#DIV/0!"}},{"$f":"AVERAGE('Отчетность (СПИК)'!V49:W49)/'Отчетность (СПИК)'!W91","v":{"$error":"#DIV/0!"}},{"$f":"AVERAGE('Отчетность (СПИК)'!W49:X49)/'Отчетность (СПИК)'!X91","v":{"$error":"#DIV/0!"}},{"$f":"AVERAGE('Отчетность (СПИК)'!X49:Y49)/'Отчетность (СПИК)'!Y91","v":{"$error":"#DIV/0!"}},{"$f":"AVERAGE('Отчетность (СПИК)'!Y49:Z49)/'Отчетность (СПИК)'!Z91","v":{"$error":"#DIV/0!"}},{"$f":"AVERAGE('Отчетность (СПИК)'!Z49:AA49)/'Отчетность (СПИК)'!AA91","v":{"$error":"#DIV/0!"}}]
[]
[null,"Показатели ликвидности (платежеспособности)"]
[]
[null,null,"Коэффициент  текущей ликвидности","х",null,null,null,{"$f":"'Отчетность (СПИК)'!H18/'Отчетность (СПИК)'!H34","v":{"$error":"#DIV/0!"}},{"$f":"'Отчетность (СПИК)'!I18/'Отчетность (СПИК)'!I34","v":{"$error":"#DIV/0!"}},{"$f":"'Отчетность (СПИК)'!J18/'Отчетность (СПИК)'!J34","v":{"$error":"#DIV/0!"}},{"$f":"'Отчетность (СПИК)'!K18/'Отчетность (СПИК)'!K34","v":{"$error":"#DIV/0!"}},{"$f":"'Отчетность (СПИК)'!L18/'Отчетность (СПИК)'!L34","v":{"$error":"#DIV/0!"}},{"$f":"'Отчетность (СПИК)'!M18/'Отчетность (СПИК)'!M34","v":{"$error":"#DIV/0!"}},{"$f":"'Отчетность (СПИК)'!N18/'Отчетность (СПИК)'!N34","v":{"$error":"#DIV/0!"}},{"$f":"'Отчетность (СПИК)'!O18/'Отчетность (СПИК)'!O34","v":{"$error":"#DIV/0!"}},{"$f":"'Отчетность (СПИК)'!P18/'Отчетность (СПИК)'!P34","v":{"$error":"#DIV/0!"}},{"$f":"'Отчетность (СПИК)'!Q18/'Отчетность (СПИК)'!Q34","v":{"$error":"#DIV/0!"}},{"$f":"'Отчетность (СПИК)'!R18/'Отчетность (СПИК)'!R34","v":{"$error":"#DIV/0!"}},{"$f":"'Отчетность (СПИК)'!S18/'Отчетность (СПИК)'!S34","v":{"$error":"#DIV/0!"}},{"$f":"'Отчетность (СПИК)'!T18/'Отчетность (СПИК)'!T34","v":{"$error":"#DIV/0!"}},{"$f":"'Отчетность (СПИК)'!U18/'Отчетность (СПИК)'!U34","v":{"$error":"#DIV/0!"}},{"$f":"'Отчетность (СПИК)'!V18/'Отчетность (СПИК)'!V34","v":{"$error":"#DIV/0!"}},{"$f":"'Отчетность (СПИК)'!W18/'Отчетность (СПИК)'!W34","v":{"$error":"#DIV/0!"}},{"$f":"'Отчетность (СПИК)'!X18/'Отчетность (СПИК)'!X34","v":{"$error":"#DIV/0!"}},{"$f":"'Отчетность (СПИК)'!Y18/'Отчетность (СПИК)'!Y34","v":{"$error":"#DIV/0!"}},{"$f":"'Отчетность (СПИК)'!Z18/'Отчетность (СПИК)'!Z34","v":{"$error":"#DIV/0!"}},{"$f":"'Отчетность (СПИК)'!AA18/'Отчетность (СПИК)'!AA34","v":{"$error":"#DIV/0!"}}]
[null,null,"Коэффициент быстрой ликвидности","х",null,null,null,{"$f":"('Отчетность (СПИК)'!H18-'Отчетность (СПИК)'!H19)/'Отчетность (СПИК)'!H34","v":{"$error":"#DIV/0!"}},{"$f":"('Отчетность (СПИК)'!I18-'Отчетность (СПИК)'!I19)/'Отчетность (СПИК)'!I34","v":{"$error":"#DIV/0!"}},{"$f":"('Отчетность (СПИК)'!J18-'Отчетность (СПИК)'!J19)/'Отчетность (СПИК)'!J34","v":{"$error":"#DIV/0!"}},{"$f":"('Отчетность (СПИК)'!K18-'Отчетность (СПИК)'!K19)/'Отчетность (СПИК)'!K34","v":{"$error":"#DIV/0!"}},{"$f":"('Отчетность (СПИК)'!L18-'Отчетность (СПИК)'!L19)/'Отчетность (СПИК)'!L34","v":{"$error":"#DIV/0!"}},{"$f":"('Отчетность (СПИК)'!M18-'Отчетность (СПИК)'!M19)/'Отчетность (СПИК)'!M34","v":{"$error":"#DIV/0!"}},{"$f":"('Отчетность (СПИК)'!N18-'Отчетность (СПИК)'!N19)/'Отчетность (СПИК)'!N34","v":{"$error":"#DIV/0!"}},{"$f":"('Отчетность (СПИК)'!O18-'Отчетность (СПИК)'!O19)/'Отчетность (СПИК)'!O34","v":{"$error":"#DIV/0!"}},{"$f":"('Отчетность (СПИК)'!P18-'Отчетность (СПИК)'!P19)/'Отчетность (СПИК)'!P34","v":{"$error":"#DIV/0!"}},{"$f":"('Отчетность (СПИК)'!Q18-'Отчетность (СПИК)'!Q19)/'Отчетность (СПИК)'!Q34","v":{"$error":"#DIV/0!"}},{"$f":"('Отчетность (СПИК)'!R18-'Отчетность (СПИК)'!R19)/'Отчетность (СПИК)'!R34","v":{"$error":"#DIV/0!"}},{"$f":"('Отчетность (СПИК)'!S18-'Отчетность (СПИК)'!S19)/'Отчетность (СПИК)'!S34","v":{"$error":"#DIV/0!"}},{"$f":"('Отчетность (СПИК)'!T18-'Отчетность (СПИК)'!T19)/'Отчетность (СПИК)'!T34","v":{"$error":"#DIV/0!"}},{"$f":"('Отчетность (СПИК)'!U18-'Отчетность (СПИК)'!U19)/'Отчетность (СПИК)'!U34","v":{"$error":"#DIV/0!"}},{"$f":"('Отчетность (СПИК)'!V18-'Отчетность (СПИК)'!V19)/'Отчетность (СПИК)'!V34","v":{"$error":"#DIV/0!"}},{"$f":"('Отчетность (СПИК)'!W18-'Отчетность (СПИК)'!W19)/'Отчетность (СПИК)'!W34","v":{"$error":"#DIV/0!"}},{"$f":"('Отчетность (СПИК)'!X18-'Отчетность (СПИК)'!X19)/'Отчетность (СПИК)'!X34","v":{"$error":"#DIV/0!"}},{"$f":"('Отчетность (СПИК)'!Y18-'Отчетность (СПИК)'!Y19)/'Отчетность (СПИК)'!Y34","v":{"$error":"#DIV/0!"}},{"$f":"('Отчетность (СПИК)'!Z18-'Отчетность (СПИК)'!Z19)/'Отчетность (СПИК)'!Z34","v":{"$error":"#DIV/0!"}},{"$f":"('Отчетность (СПИК)'!AA18-'Отчетность (СПИК)'!AA19)/'Отчетность (СПИК)'!AA34","v":{"$error":"#DIV/0!"}}]
[]
[null,"Показатели рентабельности"]
[]
[null,null,"ROA (рентабельность активов)","%",null,null,null,{"$f":"'Отчетность (СПИК)'!H71/AVERAGE('Отчетность (СПИК)'!G23:H23)","v":{"$error":"#DIV/0!"}},{"$f":"'Отчетность (СПИК)'!I71/AVERAGE('Отчетность (СПИК)'!H23:I23)","v":{"$error":"#DIV/0!"}},{"$f":"'Отчетность (СПИК)'!J71/AVERAGE('Отчетность (СПИК)'!I23:J23)","v":{"$error":"#DIV/0!"}},{"$f":"'Отчетность (СПИК)'!K71/AVERAGE('Отчетность (СПИК)'!J23:K23)","v":{"$error":"#DIV/0!"}},{"$f":"'Отчетность (СПИК)'!L71/AVERAGE('Отчетность (СПИК)'!K23:L23)","v":{"$error":"#DIV/0!"}},{"$f":"'Отчетность (СПИК)'!M71/AVERAGE('Отчетность (СПИК)'!L23:M23)","v":{"$error":"#DIV/0!"}},{"$f":"'Отчетность (СПИК)'!N71/AVERAGE('Отчетность (СПИК)'!M23:N23)","v":{"$error":"#DIV/0!"}},{"$f":"'Отчетность (СПИК)'!O71/AVERAGE('Отчетность (СПИК)'!N23:O23)","v":{"$error":"#DIV/0!"}},{"$f":"'Отчетность (СПИК)'!P71/AVERAGE('Отчетность (СПИК)'!O23:P23)","v":{"$error":"#DIV/0!"}},{"$f":"'Отчетность (СПИК)'!Q71/AVERAGE('Отчетность (СПИК)'!P23:Q23)","v":{"$error":"#DIV/0!"}},{"$f":"'Отчетность (СПИК)'!R71/AVERAGE('Отчетность (СПИК)'!Q23:R23)","v":{"$error":"#DIV/0!"}},{"$f":"'Отчетность (СПИК)'!S71/AVERAGE('Отчетность (СПИК)'!R23:S23)","v":{"$error":"#DIV/0!"}},{"$f":"'Отчетность (СПИК)'!T71/AVERAGE('Отчетность (СПИК)'!S23:T23)","v":{"$error":"#DIV/0!"}},{"$f":"'Отчетность (СПИК)'!U71/AVERAGE('Отчетность (СПИК)'!T23:U23)","v":{"$error":"#DIV/0!"}},{"$f":"'Отчетность (СПИК)'!V71/AVERAGE('Отчетность (СПИК)'!U23:V23)","v":{"$error":"#DIV/0!"}},{"$f":"'Отчетность (СПИК)'!W71/AVERAGE('Отчетность (СПИК)'!V23:W23)","v":{"$error":"#DIV/0!"}},{"$f":"'Отчетность (СПИК)'!X71/AVERAGE('Отчетность (СПИК)'!W23:X23)","v":{"$error":"#DIV/0!"}},{"$f":"'Отчетность (СПИК)'!Y71/AVERAGE('Отчетность (СПИК)'!X23:Y23)","v":{"$error":"#DIV/0!"}},{"$f":"'Отчетность (СПИК)'!Z71/AVERAGE('Отчетность (СПИК)'!Y23:Z23)","v":{"$error":"#DIV/0!"}},{"$f":"'Отчетность (СПИК)'!AA71/AVERAGE('Отчетность (СПИК)'!Z23:AA23)","v":{"$error":"#DIV/0!"}}]
[null,null,"ROE (рентабельность собственного капитала)","%",null,null,null,{"$f":"'Отчетность (СПИК)'!H71/AVERAGE('Отчетность (СПИК)'!G26:H26)","v":{"$error":"#DIV/0!"}},{"$f":"'Отчетность (СПИК)'!I71/AVERAGE('Отчетность (СПИК)'!H26:I26)","v":{"$error":"#DIV/0!"}},{"$f":"'Отчетность (СПИК)'!J71/AVERAGE('Отчетность (СПИК)'!I26:J26)","v":{"$error":"#DIV/0!"}},{"$f":"'Отчетность (СПИК)'!K71/AVERAGE('Отчетность (СПИК)'!J26:K26)","v":{"$error":"#DIV/0!"}},{"$f":"'Отчетность (СПИК)'!L71/AVERAGE('Отчетность (СПИК)'!K26:L26)","v":{"$error":"#DIV/0!"}},{"$f":"'Отчетность (СПИК)'!M71/AVERAGE('Отчетность (СПИК)'!L26:M26)","v":{"$error":"#DIV/0!"}},{"$f":"'Отчетность (СПИК)'!N71/AVERAGE('Отчетность (СПИК)'!M26:N26)","v":{"$error":"#DIV/0!"}},{"$f":"'Отчетность (СПИК)'!O71/AVERAGE('Отчетность (СПИК)'!N26:O26)","v":{"$error":"#DIV/0!"}},{"$f":"'Отчетность (СПИК)'!P71/AVERAGE('Отчетность (СПИК)'!O26:P26)","v":{"$error":"#DIV/0!"}},{"$f":"'Отчетность (СПИК)'!Q71/AVERAGE('Отчетность (СПИК)'!P26:Q26)","v":{"$error":"#DIV/0!"}},{"$f":"'Отчетность (СПИК)'!R71/AVERAGE('Отчетность (СПИК)'!Q26:R26)","v":{"$error":"#DIV/0!"}},{"$f":"'Отчетность (СПИК)'!S71/AVERAGE('Отчетность (СПИК)'!R26:S26)","v":{"$error":"#DIV/0!"}},{"$f":"'Отчетность (СПИК)'!T71/AVERAGE('Отчетность (СПИК)'!S26:T26)","v":{"$error":"#DIV/0!"}},{"$f":"'Отчетность (СПИК)'!U71/AVERAGE('Отчетность (СПИК)'!T26:U26)","v":{"$error":"#DIV/0!"}},{"$f":"'Отчетность (СПИК)'!V71/AVERAGE('Отчетность (СПИК)'!U26:V26)","v":{"$error":"#DIV/0!"}},{"$f":"'Отчетность (СПИК)'!W71/AVERAGE('Отчетность (СПИК)'!V26:W26)","v":{"$error":"#DIV/0!"}},{"$f":"'Отчетность (СПИК)'!X71/AVERAGE('Отчетность (СПИК)'!W26:X26)","v":{"$error":"#DIV/0!"}},{"$f":"'Отчетность (СПИК)'!Y71/AVERAGE('Отчетность (СПИК)'!X26:Y26)","v":{"$error":"#DIV/0!"}},{"$f":"'Отчетность (СПИК)'!Z71/AVERAGE('Отчетность (СПИК)'!Y26:Z26)","v":{"$error":"#DIV/0!"}},{"$f":"'Отчетность (СПИК)'!AA71/AVERAGE('Отчетность (СПИК)'!Z26:AA26)","v":{"$error":"#DIV/0!"}}]
[null,null,"ROIC (Рентабельность инвестированного капитала)","%",null,null,null,{"$f":"'Отчетность (СПИК)'!H71/(AVERAGE('Отчетность (СПИК)'!G26:H26)+AVERAGE('Отчетность (СПИК)'!G31:H31))","v":{"$error":"#DIV/0!"}},{"$f":"'Отчетность (СПИК)'!I71/(AVERAGE('Отчетность (СПИК)'!H26:I26)+AVERAGE('Отчетность (СПИК)'!H31:I31))","v":{"$error":"#DIV/0!"}},{"$f":"'Отчетность (СПИК)'!J71/(AVERAGE('Отчетность (СПИК)'!I26:J26)+AVERAGE('Отчетность (СПИК)'!I31:J31))","v":{"$error":"#DIV/0!"}},{"$f":"'Отчетность (СПИК)'!K71/(AVERAGE('Отчетность (СПИК)'!J26:K26)+AVERAGE('Отчетность (СПИК)'!J31:K31))","v":{"$error":"#DIV/0!"}},{"$f":"'Отчетность (СПИК)'!L71/(AVERAGE('Отчетность (СПИК)'!K26:L26)+AVERAGE('Отчетность (СПИК)'!K31:L31))","v":{"$error":"#DIV/0!"}},{"$f":"'Отчетность (СПИК)'!M71/(AVERAGE('Отчетность (СПИК)'!L26:M26)+AVERAGE('Отчетность (СПИК)'!L31:M31))","v":{"$error":"#DIV/0!"}},{"$f":"'Отчетность (СПИК)'!N71/(AVERAGE('Отчетность (СПИК)'!M26:N26)+AVERAGE('Отчетность (СПИК)'!M31:N31))","v":{"$error":"#DIV/0!"}},{"$f":"'Отчетность (СПИК)'!O71/(AVERAGE('Отчетность (СПИК)'!N26:O26)+AVERAGE('Отчетность (СПИК)'!N31:O31))","v":{"$error":"#DIV/0!"}},{"$f":"'Отчетность (СПИК)'!P71/(AVERAGE('Отчетность (СПИК)'!O26:P26)+AVERAGE('Отчетность (СПИК)'!O31:P31))","v":{"$error":"#DIV/0!"}},{"$f":"'Отчетность (СПИК)'!Q71/(AVERAGE('Отчетность (СПИК)'!P26:Q26)+AVERAGE('Отчетность (СПИК)'!P31:Q31))","v":{"$error":"#DIV/0!"}},{"$f":"'Отчетность (СПИК)'!R71/(AVERAGE('Отчетность (СПИК)'!Q26:R26)+AVERAGE('Отчетность (СПИК)'!Q31:R31))","v":{"$error":"#DIV/0!"}},{"$f":"'Отчетность (СПИК)'!S71/(AVERAGE('Отчетность (СПИК)'!R26:S26)+AVERAGE('Отчетность (СПИК)'!R31:S31))","v":{"$error":"#DIV/0!"}},{"$f":"'Отчетность (СПИК)'!T71/(AVERAGE('Отчетность (СПИК)'!S26:T26)+AVERAGE('Отчетность (СПИК)'!S31:T31))","v":{"$error":"#DIV/0!"}},{"$f":"'Отчетность (СПИК)'!U71/(AVERAGE('Отчетность (СПИК)'!T26:U26)+AVERAGE('Отчетность (СПИК)'!T31:U31))","v":{"$error":"#DIV/0!"}},{"$f":"'Отчетность (СПИК)'!V71/(AVERAGE('Отчетность (СПИК)'!U26:V26)+AVERAGE('Отчетность (СПИК)'!U31:V31))","v":{"$error":"#DIV/0!"}},{"$f":"'Отчетность (СПИК)'!W71/(AVERAGE('Отчетность (СПИК)'!V26:W26)+AVERAGE('Отчетность (СПИК)'!V31:W31))","v":{"$error":"#DIV/0!"}},{"$f":"'Отчетность (СПИК)'!X71/(AVERAGE('Отчетность (СПИК)'!W26:X26)+AVERAGE('Отчетность (СПИК)'!W31:X31))","v":{"$error":"#DIV/0!"}},{"$f":"'Отчетность (СПИК)'!Y71/(AVERAGE('Отчетность (СПИК)'!X26:Y26)+AVERAGE('Отчетность (СПИК)'!X31:Y31))","v":{"$error":"#DIV/0!"}},{"$f":"'Отчетность (СПИК)'!Z71/(AVERAGE('Отчетность (СПИК)'!Y26:Z26)+AVERAGE('Отчетность (СПИК)'!Y31:Z31))","v":{"$error":"#DIV/0!"}},{"$f":"'Отчетность (СПИК)'!AA71/(AVERAGE('Отчетность (СПИК)'!Z26:AA26)+AVERAGE('Отчетность (СПИК)'!Z31:AA31))","v":{"$error":"#DIV/0!"}}]
[]
[null,null,"Рентабельность по валовой прибыли","%",null,null,null,{"$f":"IFERROR('Отчетность (СПИК)'!H55/'Отчетность (СПИК)'!H$53,\"-\")","v":"-"},{"$f":"IFERROR('Отчетность (СПИК)'!I55/'Отчетность (СПИК)'!I$53,\"-\")","v":"-"},{"$f":"IFERROR('Отчетность (СПИК)'!J55/'Отчетность (СПИК)'!J$53,\"-\")","v":"-"},{"$f":"IFERROR('Отчетность (СПИК)'!K55/'Отчетность (СПИК)'!K$53,\"-\")","v":"-"},{"$f":"IFERROR('Отчетность (СПИК)'!L55/'Отчетность (СПИК)'!L$53,\"-\")","v":"-"},{"$f":"IFERROR('Отчетность (СПИК)'!M55/'Отчетность (СПИК)'!M$53,\"-\")","v":"-"},{"$f":"IFERROR('Отчетность (СПИК)'!N55/'Отчетность (СПИК)'!N$53,\"-\")","v":"-"},{"$f":"IFERROR('Отчетность (СПИК)'!O55/'Отчетность (СПИК)'!O$53,\"-\")","v":"-"},{"$f":"IFERROR('Отчетность (СПИК)'!P55/'Отчетность (СПИК)'!P$53,\"-\")","v":"-"},{"$f":"IFERROR('Отчетность (СПИК)'!Q55/'Отчетность (СПИК)'!Q$53,\"-\")","v":"-"},{"$f":"IFERROR('Отчетность (СПИК)'!R55/'Отчетность (СПИК)'!R$53,\"-\")","v":"-"},{"$f":"IFERROR('Отчетность (СПИК)'!S55/'Отчетность (СПИК)'!S$53,\"-\")","v":"-"},{"$f":"IFERROR('Отчетность (СПИК)'!T55/'Отчетность (СПИК)'!T$53,\"-\")","v":"-"},{"$f":"IFERROR('Отчетность (СПИК)'!U55/'Отчетность (СПИК)'!U$53,\"-\")","v":"-"},{"$f":"IFERROR('Отчетность (СПИК)'!V55/'Отчетность (СПИК)'!V$53,\"-\")","v":"-"},{"$f":"IFERROR('Отчетность (СПИК)'!W55/'Отчетность (СПИК)'!W$53,\"-\")","v":"-"},{"$f":"IFERROR('Отчетность (СПИК)'!X55/'Отчетность (СПИК)'!X$53,\"-\")","v":"-"},{"$f":"IFERROR('Отчетность (СПИК)'!Y55/'Отчетность (СПИК)'!Y$53,\"-\")","v":"-"},{"$f":"IFERROR('Отчетность (СПИК)'!Z55/'Отчетность (СПИК)'!Z$53,\"-\")","v":"-"},{"$f":"IFERROR('Отчетность (СПИК)'!AA55/'Отчетность (СПИК)'!AA$53,\"-\")","v":"-"}]
[null,null,"ROS (рентабельность продаж)","%",null,null,null,{"$f":"IFERROR('Отчетность (СПИК)'!H64/'Отчетность (СПИК)'!H$53,\"-\")","v":"-"},{"$f":"IFERROR('Отчетность (СПИК)'!I64/'Отчетность (СПИК)'!I$53,\"-\")","v":"-"},{"$f":"IFERROR('Отчетность (СПИК)'!J64/'Отчетность (СПИК)'!J$53,\"-\")","v":"-"},{"$f":"IFERROR('Отчетность (СПИК)'!K64/'Отчетность (СПИК)'!K$53,\"-\")","v":"-"},{"$f":"IFERROR('Отчетность (СПИК)'!L64/'Отчетность (СПИК)'!L$53,\"-\")","v":"-"},{"$f":"IFERROR('Отчетность (СПИК)'!M64/'Отчетность (СПИК)'!M$53,\"-\")","v":"-"},{"$f":"IFERROR('Отчетность (СПИК)'!N64/'Отчетность (СПИК)'!N$53,\"-\")","v":"-"},{"$f":"IFERROR('Отчетность (СПИК)'!O64/'Отчетность (СПИК)'!O$53,\"-\")","v":"-"},{"$f":"IFERROR('Отчетность (СПИК)'!P64/'Отчетность (СПИК)'!P$53,\"-\")","v":"-"},{"$f":"IFERROR('Отчетность (СПИК)'!Q64/'Отчетность (СПИК)'!Q$53,\"-\")","v":"-"},{"$f":"IFERROR('Отчетность (СПИК)'!R64/'Отчетность (СПИК)'!R$53,\"-\")","v":"-"},{"$f":"IFERROR('Отчетность (СПИК)'!S64/'Отчетность (СПИК)'!S$53,\"-\")","v":"-"},{"$f":"IFERROR('Отчетность (СПИК)'!T64/'Отчетность (СПИК)'!T$53,\"-\")","v":"-"},{"$f":"IFERROR('Отчетность (СПИК)'!U64/'Отчетность (СПИК)'!U$53,\"-\")","v":"-"},{"$f":"IFERROR('Отчетность (СПИК)'!V64/'Отчетность (СПИК)'!V$53,\"-\")","v":"-"},{"$f":"IFERROR('Отчетность (СПИК)'!W64/'Отчетность (СПИК)'!W$53,\"-\")","v":"-"},{"$f":"IFERROR('Отчетность (СПИК)'!X64/'Отчетность (СПИК)'!X$53,\"-\")","v":"-"},{"$f":"IFERROR('Отчетность (СПИК)'!Y64/'Отчетность (СПИК)'!Y$53,\"-\")","v":"-"},{"$f":"IFERROR('Отчетность (СПИК)'!Z64/'Отчетность (СПИК)'!Z$53,\"-\")","v":"-"},{"$f":"IFERROR('Отчетность (СПИК)'!AA64/'Отчетность (СПИК)'!AA$53,\"-\")","v":"-"}]
[null,null,"Рентабельность по EBIT","%",null,null,null,{"$f":"IFERROR('Отчетность (СПИК)'!H89/'Отчетность (СПИК)'!H$53,\"-\")","v":"-"},{"$f":"IFERROR('Отчетность (СПИК)'!I89/'Отчетность (СПИК)'!I$53,\"-\")","v":"-"},{"$f":"IFERROR('Отчетность (СПИК)'!J89/'Отчетность (СПИК)'!J$53,\"-\")","v":"-"},{"$f":"IFERROR('Отчетность (СПИК)'!K89/'Отчетность (СПИК)'!K$53,\"-\")","v":"-"},{"$f":"IFERROR('Отчетность (СПИК)'!L89/'Отчетность (СПИК)'!L$53,\"-\")","v":"-"},{"$f":"IFERROR('Отчетность (СПИК)'!M89/'Отчетность (СПИК)'!M$53,\"-\")","v":"-"},{"$f":"IFERROR('Отчетность (СПИК)'!N89/'Отчетность (СПИК)'!N$53,\"-\")","v":"-"},{"$f":"IFERROR('Отчетность (СПИК)'!O89/'Отчетность (СПИК)'!O$53,\"-\")","v":"-"},{"$f":"IFERROR('Отчетность (СПИК)'!P89/'Отчетность (СПИК)'!P$53,\"-\")","v":"-"},{"$f":"IFERROR('Отчетность (СПИК)'!Q89/'Отчетность (СПИК)'!Q$53,\"-\")","v":"-"},{"$f":"IFERROR('Отчетность (СПИК)'!R89/'Отчетность (СПИК)'!R$53,\"-\")","v":"-"},{"$f":"IFERROR('Отчетность (СПИК)'!S89/'Отчетность (СПИК)'!S$53,\"-\")","v":"-"},{"$f":"IFERROR('Отчетность (СПИК)'!T89/'Отчетность (СПИК)'!T$53,\"-\")","v":"-"},{"$f":"IFERROR('Отчетность (СПИК)'!U89/'Отчетность (СПИК)'!U$53,\"-\")","v":"-"},{"$f":"IFERROR('Отчетность (СПИК)'!V89/'Отчетность (СПИК)'!V$53,\"-\")","v":"-"},{"$f":"IFERROR('Отчетность (СПИК)'!W89/'Отчетность (СПИК)'!W$53,\"-\")","v":"-"},{"$f":"IFERROR('Отчетность (СПИК)'!X89/'Отчетность (СПИК)'!X$53,\"-\")","v":"-"},{"$f":"IFERROR('Отчетность (СПИК)'!Y89/'Отчетность (СПИК)'!Y$53,\"-\")","v":"-"},{"$f":"IFERROR('Отчетность (СПИК)'!Z89/'Отчетность (СПИК)'!Z$53,\"-\")","v":"-"},{"$f":"IFERROR('Отчетность (СПИК)'!AA89/'Отчетность (СПИК)'!AA$53,\"-\")","v":"-"}]
[null,null,"Рентабельность по EBITDA","%",null,null,null,{"$f":"IFERROR('Отчетность (СПИК)'!H91/'Отчетность (СПИК)'!H$53,\"-\")","v":"-"},{"$f":"IFERROR('Отчетность (СПИК)'!I91/'Отчетность (СПИК)'!I$53,\"-\")","v":"-"},{"$f":"IFERROR('Отчетность (СПИК)'!J91/'Отчетность (СПИК)'!J$53,\"-\")","v":"-"},{"$f":"IFERROR('Отчетность (СПИК)'!K91/'Отчетность (СПИК)'!K$53,\"-\")","v":"-"},{"$f":"IFERROR('Отчетность (СПИК)'!L91/'Отчетность (СПИК)'!L$53,\"-\")","v":"-"},{"$f":"IFERROR('Отчетность (СПИК)'!M91/'Отчетность (СПИК)'!M$53,\"-\")","v":"-"},{"$f":"IFERROR('Отчетность (СПИК)'!N91/'Отчетность (СПИК)'!N$53,\"-\")","v":"-"},{"$f":"IFERROR('Отчетность (СПИК)'!O91/'Отчетность (СПИК)'!O$53,\"-\")","v":"-"},{"$f":"IFERROR('Отчетность (СПИК)'!P91/'Отчетность (СПИК)'!P$53,\"-\")","v":"-"},{"$f":"IFERROR('Отчетность (СПИК)'!Q91/'Отчетность (СПИК)'!Q$53,\"-\")","v":"-"},{"$f":"IFERROR('Отчетность (СПИК)'!R91/'Отчетность (СПИК)'!R$53,\"-\")","v":"-"},{"$f":"IFERROR('Отчетность (СПИК)'!S91/'Отчетность (СПИК)'!S$53,\"-\")","v":"-"},{"$f":"IFERROR('Отчетность (СПИК)'!T91/'Отчетность (СПИК)'!T$53,\"-\")","v":"-"},{"$f":"IFERROR('Отчетность (СПИК)'!U91/'Отчетность (СПИК)'!U$53,\"-\")","v":"-"},{"$f":"IFERROR('Отчетность (СПИК)'!V91/'Отчетность (СПИК)'!V$53,\"-\")","v":"-"},{"$f":"IFERROR('Отчетность (СПИК)'!W91/'Отчетность (СПИК)'!W$53,\"-\")","v":"-"},{"$f":"IFERROR('Отчетность (СПИК)'!X91/'Отчетность (СПИК)'!X$53,\"-\")","v":"-"},{"$f":"IFERROR('Отчетность (СПИК)'!Y91/'Отчетность (СПИК)'!Y$53,\"-\")","v":"-"},{"$f":"IFERROR('Отчетность (СПИК)'!Z91/'Отчетность (СПИК)'!Z$53,\"-\")","v":"-"},{"$f":"IFERROR('Отчетность (СПИК)'!AA91/'Отчетность (СПИК)'!AA$53,\"-\")","v":"-"}]
[null,null,"Рентабельность по чистой прибыли","%",null,null,null,{"$f":"IFERROR('Отчетность (СПИК)'!H71/'Отчетность (СПИК)'!H$53,\"-\")","v":"-"},{"$f":"IFERROR('Отчетность (СПИК)'!I71/'Отчетность (СПИК)'!I$53,\"-\")","v":"-"},{"$f":"IFERROR('Отчетность (СПИК)'!J71/'Отчетность (СПИК)'!J$53,\"-\")","v":"-"},{"$f":"IFERROR('Отчетность (СПИК)'!K71/'Отчетность (СПИК)'!K$53,\"-\")","v":"-"},{"$f":"IFERROR('Отчетность (СПИК)'!L71/'Отчетность (СПИК)'!L$53,\"-\")","v":"-"},{"$f":"IFERROR('Отчетность (СПИК)'!M71/'Отчетность (СПИК)'!M$53,\"-\")","v":"-"},{"$f":"IFERROR('Отчетность (СПИК)'!N71/'Отчетность (СПИК)'!N$53,\"-\")","v":"-"},{"$f":"IFERROR('Отчетность (СПИК)'!O71/'Отчетность (СПИК)'!O$53,\"-\")","v":"-"},{"$f":"IFERROR('Отчетность (СПИК)'!P71/'Отчетность (СПИК)'!P$53,\"-\")","v":"-"},{"$f":"IFERROR('Отчетность (СПИК)'!Q71/'Отчетность (СПИК)'!Q$53,\"-\")","v":"-"},{"$f":"IFERROR('Отчетность (СПИК)'!R71/'Отчетность (СПИК)'!R$53,\"-\")","v":"-"},{"$f":"IFERROR('Отчетность (СПИК)'!S71/'Отчетность (СПИК)'!S$53,\"-\")","v":"-"},{"$f":"IFERROR('Отчетность (СПИК)'!T71/'Отчетность (СПИК)'!T$53,\"-\")","v":"-"},{"$f":"IFERROR('Отчетность (СПИК)'!U71/'Отчетность (СПИК)'!U$53,\"-\")","v":"-"},{"$f":"IFERROR('Отчетность (СПИК)'!V71/'Отчетность (СПИК)'!V$53,\"-\")","v":"-"},{"$f":"IFERROR('Отчетность (СПИК)'!W71/'Отчетность (СПИК)'!W$53,\"-\")","v":"-"},{"$f":"IFERROR('Отчетность (СПИК)'!X71/'Отчетность (СПИК)'!X$53,\"-\")","v":"-"},{"$f":"IFERROR('Отчетность (СПИК)'!Y71/'Отчетность (СПИК)'!Y$53,\"-\")","v":"-"},{"$f":"IFERROR('Отчетность (СПИК)'!Z71/'Отчетность (СПИК)'!Z$53,\"-\")","v":"-"},{"$f":"IFERROR('Отчетность (СПИК)'!AA71/'Отчетность (СПИК)'!AA$53,\"-\")","v":"-"}]
[]
[null,"Показатели оборачиваемости"]
[]
[null,null,"Оборачиваемость дебиторской задолженности","х",null,null,null,{"$f":"IFERROR('Отчетность (СПИК)'!H53/AVERAGE('Отчетность (СПИК)'!G22:H22),\"-\")","v":"-"},{"$f":"IFERROR('Отчетность (СПИК)'!I53/AVERAGE('Отчетность (СПИК)'!H22:I22),\"-\")","v":"-"},{"$f":"IFERROR('Отчетность (СПИК)'!J53/AVERAGE('Отчетность (СПИК)'!I22:J22),\"-\")","v":"-"},{"$f":"IFERROR('Отчетность (СПИК)'!K53/AVERAGE('Отчетность (СПИК)'!J22:K22),\"-\")","v":"-"},{"$f":"IFERROR('Отчетность (СПИК)'!L53/AVERAGE('Отчетность (СПИК)'!K22:L22),\"-\")","v":"-"},{"$f":"IFERROR('Отчетность (СПИК)'!M53/AVERAGE('Отчетность (СПИК)'!L22:M22),\"-\")","v":"-"},{"$f":"IFERROR('Отчетность (СПИК)'!N53/AVERAGE('Отчетность (СПИК)'!M22:N22),\"-\")","v":"-"},{"$f":"IFERROR('Отчетность (СПИК)'!O53/AVERAGE('Отчетность (СПИК)'!N22:O22),\"-\")","v":"-"},{"$f":"IFERROR('Отчетность (СПИК)'!P53/AVERAGE('Отчетность (СПИК)'!O22:P22),\"-\")","v":"-"},{"$f":"IFERROR('Отчетность (СПИК)'!Q53/AVERAGE('Отчетность (СПИК)'!P22:Q22),\"-\")","v":"-"},{"$f":"IFERROR('Отчетность (СПИК)'!R53/AVERAGE('Отчетность (СПИК)'!Q22:R22),\"-\")","v":"-"},{"$f":"IFERROR('Отчетность (СПИК)'!S53/AVERAGE('Отчетность (СПИК)'!R22:S22),\"-\")","v":"-"},{"$f":"IFERROR('Отчетность (СПИК)'!T53/AVERAGE('Отчетность (СПИК)'!S22:T22),\"-\")","v":"-"},{"$f":"IFERROR('Отчетность (СПИК)'!U53/AVERAGE('Отчетность (СПИК)'!T22:U22),\"-\")","v":"-"},{"$f":"IFERROR('Отчетность (СПИК)'!V53/AVERAGE('Отчетность (СПИК)'!U22:V22),\"-\")","v":"-"},{"$f":"IFERROR('Отчетность (СПИК)'!W53/AVERAGE('Отчетность (СПИК)'!V22:W22),\"-\")","v":"-"},{"$f":"IFERROR('Отчетность (СПИК)'!X53/AVERAGE('Отчетность (СПИК)'!W22:X22),\"-\")","v":"-"},{"$f":"IFERROR('Отчетность (СПИК)'!Y53/AVERAGE('Отчетность (СПИК)'!X22:Y22),\"-\")","v":"-"},{"$f":"IFERROR('Отчетность (СПИК)'!Z53/AVERAGE('Отчетность (СПИК)'!Y22:Z22),\"-\")","v":"-"},{"$f":"IFERROR('Отчетность (СПИК)'!AA53/AVERAGE('Отчетность (СПИК)'!Z22:AA22),\"-\")","v":"-"}]
[null,null,"Оборачиваемость кредиторской задолженности","х",null,null,null,{"$f":"IFERROR(-'Отчетность (СПИК)'!H54/AVERAGE('Отчетность (СПИК)'!G36:H36),\"-\")","v":"-"},{"$f":"IFERROR(-'Отчетность (СПИК)'!I54/AVERAGE('Отчетность (СПИК)'!H36:I36),\"-\")","v":"-"},{"$f":"IFERROR(-'Отчетность (СПИК)'!J54/AVERAGE('Отчетность (СПИК)'!I36:J36),\"-\")","v":"-"},{"$f":"IFERROR(-'Отчетность (СПИК)'!K54/AVERAGE('Отчетность (СПИК)'!J36:K36),\"-\")","v":"-"},{"$f":"IFERROR(-'Отчетность (СПИК)'!L54/AVERAGE('Отчетность (СПИК)'!K36:L36),\"-\")","v":"-"},{"$f":"IFERROR(-'Отчетность (СПИК)'!M54/AVERAGE('Отчетность (СПИК)'!L36:M36),\"-\")","v":"-"},{"$f":"IFERROR(-'Отчетность (СПИК)'!N54/AVERAGE('Отчетность (СПИК)'!M36:N36),\"-\")","v":"-"},{"$f":"IFERROR(-'Отчетность (СПИК)'!O54/AVERAGE('Отчетность (СПИК)'!N36:O36),\"-\")","v":"-"},{"$f":"IFERROR(-'Отчетность (СПИК)'!P54/AVERAGE('Отчетность (СПИК)'!O36:P36),\"-\")","v":"-"},{"$f":"IFERROR(-'Отчетность (СПИК)'!Q54/AVERAGE('Отчетность (СПИК)'!P36:Q36),\"-\")","v":"-"},{"$f":"IFERROR(-'Отчетность (СПИК)'!R54/AVERAGE('Отчетность (СПИК)'!Q36:R36),\"-\")","v":"-"},{"$f":"IFERROR(-'Отчетность (СПИК)'!S54/AVERAGE('Отчетность (СПИК)'!R36:S36),\"-\")","v":"-"},{"$f":"IFERROR(-'Отчетность (СПИК)'!T54/AVERAGE('Отчетность (СПИК)'!S36:T36),\"-\")","v":"-"},{"$f":"IFERROR(-'Отчетность (СПИК)'!U54/AVERAGE('Отчетность (СПИК)'!T36:U36),\"-\")","v":"-"},{"$f":"IFERROR(-'Отчетность (СПИК)'!V54/AVERAGE('Отчетность (СПИК)'!U36:V36),\"-\")","v":"-"},{"$f":"IFERROR(-'Отчетность (СПИК)'!W54/AVERAGE('Отчетность (СПИК)'!V36:W36),\"-\")","v":"-"},{"$f":"IFERROR(-'Отчетность (СПИК)'!X54/AVERAGE('Отчетность (СПИК)'!W36:X36),\"-\")","v":"-"},{"$f":"IFERROR(-'Отчетность (СПИК)'!Y54/AVERAGE('Отчетность (СПИК)'!X36:Y36),\"-\")","v":"-"},{"$f":"IFERROR(-'Отчетность (СПИК)'!Z54/AVERAGE('Отчетность (СПИК)'!Y36:Z36),\"-\")","v":"-"},{"$f":"IFERROR(-'Отчетность (СПИК)'!AA54/AVERAGE('Отчетность (СПИК)'!Z36:AA36),\"-\")","v":"-"}]
[null,null,"Оборачиваемость запасов","х",null,null,null,{"$f":"IFERROR(-'Отчетность (СПИК)'!H54/AVERAGE('Отчетность (СПИК)'!G19:H19),\"-\")","v":"-"},{"$f":"IFERROR(-'Отчетность (СПИК)'!I54/AVERAGE('Отчетность (СПИК)'!H19:I19),\"-\")","v":"-"},{"$f":"IFERROR(-'Отчетность (СПИК)'!J54/AVERAGE('Отчетность (СПИК)'!I19:J19),\"-\")","v":"-"},{"$f":"IFERROR(-'Отчетность (СПИК)'!K54/AVERAGE('Отчетность (СПИК)'!J19:K19),\"-\")","v":"-"},{"$f":"IFERROR(-'Отчетность (СПИК)'!L54/AVERAGE('Отчетность (СПИК)'!K19:L19),\"-\")","v":"-"},{"$f":"IFERROR(-'Отчетность (СПИК)'!M54/AVERAGE('Отчетность (СПИК)'!L19:M19),\"-\")","v":"-"},{"$f":"IFERROR(-'Отчетность (СПИК)'!N54/AVERAGE('Отчетность (СПИК)'!M19:N19),\"-\")","v":"-"},{"$f":"IFERROR(-'Отчетность (СПИК)'!O54/AVERAGE('Отчетность (СПИК)'!N19:O19),\"-\")","v":"-"},{"$f":"IFERROR(-'Отчетность (СПИК)'!P54/AVERAGE('Отчетность (СПИК)'!O19:P19),\"-\")","v":"-"},{"$f":"IFERROR(-'Отчетность (СПИК)'!Q54/AVERAGE('Отчетность (СПИК)'!P19:Q19),\"-\")","v":"-"},{"$f":"IFERROR(-'Отчетность (СПИК)'!R54/AVERAGE('Отчетность (СПИК)'!Q19:R19),\"-\")","v":"-"},{"$f":"IFERROR(-'Отчетность (СПИК)'!S54/AVERAGE('Отчетность (СПИК)'!R19:S19),\"-\")","v":"-"},{"$f":"IFERROR(-'Отчетность (СПИК)'!T54/AVERAGE('Отчетность (СПИК)'!S19:T19),\"-\")","v":"-"},{"$f":"IFERROR(-'Отчетность (СПИК)'!U54/AVERAGE('Отчетность (СПИК)'!T19:U19),\"-\")","v":"-"},{"$f":"IFERROR(-'Отчетность (СПИК)'!V54/AVERAGE('Отчетность (СПИК)'!U19:V19),\"-\")","v":"-"},{"$f":"IFERROR(-'Отчетность (СПИК)'!W54/AVERAGE('Отчетность (СПИК)'!V19:W19),\"-\")","v":"-"},{"$f":"IFERROR(-'Отчетность (СПИК)'!X54/AVERAGE('Отчетность (СПИК)'!W19:X19),\"-\")","v":"-"},{"$f":"IFERROR(-'Отчетность (СПИК)'!Y54/AVERAGE('Отчетность (СПИК)'!X19:Y19),\"-\")","v":"-"},{"$f":"IFERROR(-'Отчетность (СПИК)'!Z54/AVERAGE('Отчетность (СПИК)'!Y19:Z19),\"-\")","v":"-"},{"$f":"IFERROR(-'Отчетность (СПИК)'!AA54/AVERAGE('Отчетность (СПИК)'!Z19:AA19),\"-\")","v":"-"}]

{"sheet":"Анализ чувствительности (СПИК)","index":13,"n_rows":37,"n_cols":11,"rows_kept":37,"cut":false,"hidden":false,"merged":[[11,4,11,10],[17,4,17,10],[23,4,23,10],[29,4,29,10],[3,2,4,2],[3,4,4,4],[3,5,4,5],[3,3,4,3],[5,4,5,10],[3,9,4,9],[3,10,4,10],[3,6,4,6],[3,7,4,7],[3,8,4,8]]}
[null,null,null,null,{"$f":"\"Лист:  \" & RIGHT(CELL(\"filename\",A1),LEN(CELL(\"filename\",A1))-SEARCH(\"]\",CELL(\"filename\",A1)))","v":"Лист:  Анализ чувствительности (СПИК)"},null,null,null,null,"Внимание: анализ чувствительности (однофакторный или двухфакторный - на усмотрение инвестора) необходимо настроить самостоятельно"]
[null,"Однофакторный анализ"]
[]
[null,null,"Изменяемый параметр","Ед. изм.",-0.1,-0.05,-0.01,0,0.01,0.05,0.1]
[]
[]
[null,null,"Изменение цен на готовую продукцию",{"$f":"'Эффективность (СПИК)'!$D$51","v":"тыс. руб."},null,null,null,{"$f":"IFERROR('Эффективность (СПИК)'!$F$51,)","v":0}]
[null,null,"Изменение объёма производства/продаж",{"$f":"'Эффективность (СПИК)'!$D$51","v":"тыс. руб."},null,null,null,{"$f":"IFERROR('Эффективность (СПИК)'!$F$51,)","v":0}]
[null,null,"Изменение цен на ключевые ресурсы",{"$f":"'Эффективность (СПИК)'!$D$51","v":"тыс. руб."},null,null,null,{"$f":"IFERROR('Эффективность (СПИК)'!$F$51,)","v":0}]
[null,null,"Изменение курса валюты (при наличии в модели)",{"$f":"'Эффективность (СПИК)'!$D$51","v":"тыс. руб."},null,null,null,{"$f":"IFERROR('Эффективность (СПИК)'!$F$51,)","v":0}]
[null,null,"Изменение ставки дисконтирования",{"$f":"'Эффективность (СПИК)'!$D$51","v":"тыс. руб."},null,null,null,{"$f":"IFERROR('Эффективность (СПИК)'!$F$51,)","v":0}]
[]
[null,null,"Изменение цен на готовую продукцию",{"$f":"'Эффективность (СПИК)'!$D$52","v":"%"},null,null,null,{"$f":"IFERROR('Эффективность (СПИК)'!$F$52,)","v":0}]
[null,null,"Изменение объёма производства/продаж",{"$f":"'Эффективность (СПИК)'!$D$52","v":"%"},null,null,null,{"$f":"IFERROR('Эффективность (СПИК)'!$F$52,)","v":0}]
[null,null,"Изменение цен на ключевые ресурсы",{"$f":"'Эффективность (СПИК)'!$D$52","v":"%"},null,null,null,{"$f":"IFERROR('Эффективность (СПИК)'!$F$52,)","v":0}]
[null,null,"Изменение курса валюты (при наличии в модели)",{"$f":"'Эффективность (СПИК)'!$D$52","v":"%"},null,null,null,{"$f":"IFERROR('Эффективность (СПИК)'!$F$52,)","v":0}]
[null,null,"Изменение ставки дисконтирования",{"$f":"'Эффективность (СПИК)'!$D$52","v":"%"},null,null,null,{"$f":"IFERROR('Эффективность (СПИК)'!$F$52,)","v":0}]
[]
[null,null,"Изменение цен на готовую продукцию",{"$f":"'Эффективность (СПИК)'!$D$53","v":"лет"},null,null,null,{"$f":"IFERROR('Эффективность (СПИК)'!$F$53,)","v":0}]
[null,null,"Изменение объёма производства/продаж",{"$f":"'Эффективность (СПИК)'!$D$53","v":"лет"},null,null,null,{"$f":"IFERROR('Эффективность (СПИК)'!$F$53,)","v":0}]
[null,null,"Изменение цен на ключевые ресурсы",{"$f":"'Эффективность (СПИК)'!$D$53","v":"лет"},null,null,null,{"$f":"IFERROR('Эффективность (СПИК)'!$F$53,)","v":0}]
[null,null,"Изменение курса валюты (при наличии в модели)",{"$f":"'Эффективность (СПИК)'!$D$53","v":"лет"},null,null,null,{"$f":"IFERROR('Эффективность (СПИК)'!$F$53,)","v":0}]
[null,null,"Изменение ставки дисконтирования",{"$f":"'Эффективность (СПИК)'!$D$53","v":"лет"},null,null,null,{"$f":"IFERROR('Эффективность (СПИК)'!$F$53,)","v":0}]
[]
[null,null,"Изменение цен на готовую продукцию",{"$f":"'Эффективность (СПИК)'!$D$54","v":"лет"},null,null,null,{"$f":"IFERROR('Эффективность (СПИК)'!$F$54,)","v":0}]
[null,null,"Изменение объёма производства/продаж",{"$f":"'Эффективность (СПИК)'!$D$54","v":"лет"},null,null,null,{"$f":"IFERROR('Эффективность (СПИК)'!$F$54,)","v":0}]
[null,null,"Изменение цен на ключевые ресурсы",{"$f":"'Эффективность (СПИК)'!$D$54","v":"лет"},null,null,null,{"$f":"IFERROR('Эффективность (СПИК)'!$F$54,)","v":0}]
[null,null,"Изменение курса валюты (при наличии в модели)",{"$f":"'Эффективность (СПИК)'!$D$54","v":"лет"},null,null,null,{"$f":"IFERROR('Эффективность (СПИК)'!$F$54,)","v":0}]
[null,null,"Изменение ставки дисконтирования",{"$f":"'Эффективность (СПИК)'!$D$54","v":"лет"},null,null,null,{"$f":"IFERROR('Эффективность (СПИК)'!$F$54,)","v":0}]
[]
[null,null,"Изменение цен на готовую продукцию",{"$f":"'Эффективность (СПИК)'!$D$67","v":"тыс. руб."},null,null,null,{"$f":"'Эффективность (СПИК)'!$F$67","v":0}]
[null,null,"Изменение объёма производства/продаж",{"$f":"'Эффективность (СПИК)'!$D$67","v":"тыс. руб."},null,null,null,{"$f":"'Эффективность (СПИК)'!$F$67","v":0}]
[null,null,"Изменение цен на ключевые ресурсы",{"$f":"'Эффективность (СПИК)'!$D$67","v":"тыс. руб."},null,null,null,{"$f":"'Эффективность (СПИК)'!$F$67","v":0}]
[null,null,"Изменение курса валюты (при наличии в модели)",{"$f":"'Эффективность (СПИК)'!$D$67","v":"тыс. руб."},null,null,null,{"$f":"'Эффективность (СПИК)'!$F$67","v":0}]
[null,null,"Изменение ставки дисконтирования",{"$f":"'Эффективность (СПИК)'!$D$67","v":"тыс. руб."},null,null,null,{"$f":"'Эффективность (СПИК)'!$F$67","v":0}]
[]
[null,"Двухфакторный анализ"]

{"sheet":"Отчетность (Без СПИК)","index":14,"n_rows":137,"n_cols":27,"rows_kept":137,"cut":false,"hidden":false,"merged":[[0,9,0,10],[0,11,0,16],[1,2,2,2],[1,3,2,3],[1,4,2,4],[1,5,2,5]]}
[null,null,null,null,{"$f":"\"Лист:  \" & RIGHT(CELL(\"filename\",A1),LEN(CELL(\"filename\",A1))-SEARCH(\"]\",CELL(\"filename\",A1)))","v":"Лист:  Отчетность (Без СПИК)"},null,null,null,null,"Проверка:",null,{"$f":"IF(AND(F43=\"Верно\",F87=\"Верно\",F137=\"Верно\"), \"Верно\", \"Имеются некорректные данные\")","v":"Имеются некорректные данные"}]
[null,null,"Параметр","Ед. изм.","Источник","Текущее значение",null,{"$f":"Предпосылки!H2","v":2023},{"$f":"Предпосылки!I2","v":2024},{"$f":"Предпосылки!J2","v":2025},{"$f":"Предпосылки!K2","v":2026},{"$f":"Предпосылки!L2","v":2027},{"$f":"Предпосылки!M2","v":2028},{"$f":"Предпосылки!N2","v":2029},{"$f":"Предпосылки!O2","v":2030},{"$f":"Предпосылки!P2","v":2031},{"$f":"Предпосылки!Q2","v":2032},{"$f":"Предпосылки!R2","v":2033},{"$f":"Предпосылки!S2","v":2034},{"$f":"Предпосылки!T2","v":2035},{"$f":"Предпосылки!U2","v":2036},{"$f":"Предпосылки!V2","v":2037},{"$f":"Предпосылки!W2","v":2038},{"$f":"Предпосылки!X2","v":2039},{"$f":"Предпосылки!Y2","v":2040},{"$f":"Предпосылки!Z2","v":2041},{"$f":"Предпосылки!AA2","v":2042}]
[null,null,null,null,null,null,null,1,2,3,4,5,6,7,8,9,10,11,12,13,14,15,16,17,18,19,20]
[]
[null,"Бухгалтерский баланс"]
[]
[null,"АКТИВЫ"]
[null,"I. Внеоборотные активы",null,"тыс. руб.",null,null,null,{"$f":"SUM(H9:H10,H15)","v":0},{"$f":"SUM(I9:I10,I15)","v":0},0,0,0,0,0,0,0,0,0,0,0,0,0,0,0,0,0,0]
[null,null,"Нематериальные активы","тыс. руб.","Лист: Капитальные вложения",null,null,{"$f":"SUM('Капитальные вложения'!$H42:H42,'Капитальные вложения'!H177)","v":0},{"$f":"SUM('Капитальные вложения'!$H42:I42,'Капитальные вложения'!I177)","v":0},{"$f":"SUM('Капитальные вложения'!$H42:J42,'Капитальные вложения'!J177)","v":0},{"$f":"SUM('Капитальные вложения'!$H42:K42,'Капитальные вложения'!K177)","v":0},{"$f":"SUM('Капитальные вложения'!$H42:L42,'Капитальные вложения'!L177)","v":0},{"$f":"SUM('Капитальные вложения'!$H42:M42,'Капитальные вложения'!M177)","v":0},{"$f":"SUM('Капитальные вложения'!$H42:N42,'Капитальные вложения'!N177)","v":0},{"$f":"SUM('Капитальные вложения'!$H42:O42,'Капитальные вложения'!O177)","v":0},{"$f":"SUM('Капитальные вложения'!$H42:P42,'Капитальные вложения'!P177)","v":0},{"$f":"SUM('Капитальные вложения'!$H42:Q42,'Капитальные вложения'!Q177)","v":0},{"$f":"SUM('Капитальные вложения'!$H42:R42,'Капитальные вложения'!R177)","v":0},{"$f":"SUM('Капитальные вложения'!$H42:S42,'Капитальные вложения'!S177)","v":0},{"$f":"SUM('Капитальные вложения'!$H42:T42,'Капитальные вложения'!T177)","v":0},{"$f":"SUM('Капитальные вложения'!$H42:U42,'Капитальные вложения'!U177)","v":0},{"$f":"SUM('Капитальные вложения'!$H42:V42,'Капитальные вложения'!V177)","v":0},{"$f":"SUM('Капитальные вложения'!$H42:W42,'Капитальные вложения'!W177)","v":0},{"$f":"SUM('Капитальные вложения'!$H42:X42,'Капитальные вложения'!X177)","v":0},{"$f":"SUM('Капитальные вложения'!$H42:Y42,'Капитальные вложения'!Y177)","v":0},{"$f":"SUM('Капитальные вложения'!$H42:Z42,'Капитальные вложения'!Z177)","v":0},{"$f":"SUM('Капитальные вложения'!$H42:AA42,'Капитальные вложения'!AA177)","v":0}]
[null,null,"Основные средства:","тыс. руб.",null,null,null,{"$f":"SUM(H11:H14)","v":0},{"$f":"SUM(I11:I14)","v":0},0,0,0,0,0,0,0,0,0,0,0,0,0,0,0,0,0,0]
[null,null,"здания и сооружения","тыс. руб.","Лист: Капитальные вложения",null,null,{"$f":"'Капитальные вложения'!H84","v":0},{"$f":"'Капитальные вложения'!I84","v":0},{"$f":"'Капитальные вложения'!J84","v":0},{"$f":"'Капитальные вложения'!K84","v":0},{"$f":"'Капитальные вложения'!L84","v":0},{"$f":"'Капитальные вложения'!M84","v":0},{"$f":"'Капитальные вложения'!N84","v":0},{"$f":"'Капитальные вложения'!O84","v":0},{"$f":"'Капитальные вложения'!P84","v":0},{"$f":"'Капитальные вложения'!Q84","v":0},{"$f":"'Капитальные вложения'!R84","v":0},{"$f":"'Капитальные вложения'!S84","v":0},{"$f":"'Капитальные вложения'!T84","v":0},{"$f":"'Капитальные вложения'!U84","v":0},{"$f":"'Капитальные вложения'!V84","v":0},{"$f":"'Капитальные вложения'!W84","v":0},{"$f":"'Капитальные вложения'!X84","v":0},{"$f":"'Капитальные вложения'!Y84","v":0},{"$f":"'Капитальные вложения'!Z84","v":0},{"$f":"'Капитальные вложения'!AA84","v":0}]
[null,null,"машины и оборудование","тыс. руб.","Лист: Капитальные вложения",null,null,{"$f":"'Капитальные вложения'!H115","v":0},{"$f":"'Капитальные вложения'!I115","v":0},{"$f":"'Капитальные вложения'!J115","v":0},{"$f":"'Капитальные вложения'!K115","v":0},{"$f":"'Капитальные вложения'!L115","v":0},{"$f":"'Капитальные вложения'!M115","v":0},{"$f":"'Капитальные вложения'!N115","v":0},{"$f":"'Капитальные вложения'!O115","v":0},{"$f":"'Капитальные вложения'!P115","v":0},{"$f":"'Капитальные вложения'!Q115","v":0},{"$f":"'Капитальные вложения'!R115","v":0},{"$f":"'Капитальные вложения'!S115","v":0},{"$f":"'Капитальные вложения'!T115","v":0},{"$f":"'Капитальные вложения'!U115","v":0},{"$f":"'Капитальные вложения'!V115","v":0},{"$f":"'Капитальные вложения'!W115","v":0},{"$f":"'Капитальные вложения'!X115","v":0},{"$f":"'Капитальные вложения'!Y115","v":0},{"$f":"'Капитальные вложения'!Z115","v":0},{"$f":"'Капитальные вложения'!AA115","v":0}]
[null,null,"земля","тыс. руб.","Лист: Капитальные вложения",null,null,{"$f":"SUM('Капитальные вложения'!$H39:H39)","v":0},{"$f":"SUM('Капитальные вложения'!$H39:I39)","v":0},{"$f":"SUM('Капитальные вложения'!$H39:J39)","v":0},{"$f":"SUM('Капитальные вложения'!$H39:K39)","v":0},{"$f":"SUM('Капитальные вложения'!$H39:L39)","v":0},{"$f":"SUM('Капитальные вложения'!$H39:M39)","v":0},{"$f":"SUM('Капитальные вложения'!$H39:N39)","v":0},{"$f":"SUM('Капитальные вложения'!$H39:O39)","v":0},{"$f":"SUM('Капитальные вложения'!$H39:P39)","v":0},{"$f":"SUM('Капитальные вложения'!$H39:Q39)","v":0},{"$f":"SUM('Капитальные вложения'!$H39:R39)","v":0},{"$f":"SUM('Капитальные вложения'!$H39:S39)","v":0},{"$f":"SUM('Капитальные вложения'!$H39:T39)","v":0},{"$f":"SUM('Капитальные вложения'!$H39:U39)","v":0},{"$f":"SUM('Капитальные вложения'!$H39:V39)","v":0},{"$f":"SUM('Капитальные вложения'!$H39:W39)","v":0},{"$f":"SUM('Капитальные вложения'!$H39:X39)","v":0},{"$f":"SUM('Капитальные вложения'!$H39:Y39)","v":0},{"$f":"SUM('Капитальные вложения'!$H39:Z39)","v":0},{"$f":"SUM('Капитальные вложения'!$H39:AA39)","v":0}]
[null,null,"транспортные средства","тыс. руб.","Лист: Капитальные вложения",null,null,{"$f":"'Капитальные вложения'!H146","v":0},{"$f":"'Капитальные вложения'!I146","v":0},{"$f":"'Капитальные вложения'!J146","v":0},{"$f":"'Капитальные вложения'!K146","v":0},{"$f":"'Капитальные вложения'!L146","v":0},{"$f":"'Капитальные вложения'!M146","v":0},{"$f":"'Капитальные вложения'!N146","v":0},{"$f":"'Капитальные вложения'!O146","v":0},{"$f":"'Капитальные вложения'!P146","v":0},{"$f":"'Капитальные вложения'!Q146","v":0},{"$f":"'Капитальные вложения'!R146","v":0},{"$f":"'Капитальные вложения'!S146","v":0},{"$f":"'Капитальные вложения'!T146","v":0},{"$f":"'Капитальные вложения'!U146","v":0},{"$f":"'Капитальные вложения'!V146","v":0},{"$f":"'Капитальные вложения'!W146","v":0},{"$f":"'Капитальные вложения'!X146","v":0},{"$f":"'Капитальные вложения'!Y146","v":0},{"$f":"'Капитальные вложения'!Z146","v":0},{"$f":"'Капитальные вложения'!AA146","v":0}]
[null,null,"Прочие внеоборотные активы:","тыс. руб.",null,null,null,{"$f":"H16","v":0},{"$f":"I16","v":0},0,0,0,0,0,0,0,0,0,0,0,0,0,0,0,0,0,0]
[null,null,"незавершенное строительство","тыс. руб.","Лист: Капитальные вложения",null,null,{"$f":"'Капитальные вложения'!H49","v":0},{"$f":"'Капитальные вложения'!I49","v":0},{"$f":"'Капитальные вложения'!J49","v":0},{"$f":"'Капитальные вложения'!K49","v":0},{"$f":"'Капитальные вложения'!L49","v":0},{"$f":"'Капитальные вложения'!M49","v":0},{"$f":"'Капитальные вложения'!N49","v":0},{"$f":"'Капитальные вложения'!O49","v":0},{"$f":"'Капитальные вложения'!P49","v":0},{"$f":"'Капитальные вложения'!Q49","v":0},{"$f":"'Капитальные вложения'!R49","v":0},{"$f":"'Капитальные вложения'!S49","v":0},{"$f":"'Капитальные вложения'!T49","v":0},{"$f":"'Капитальные вложения'!U49","v":0},{"$f":"'Капитальные вложения'!V49","v":0},{"$f":"'Капитальные вложения'!W49","v":0},{"$f":"'Капитальные вложения'!X49","v":0},{"$f":"'Капитальные вложения'!Y49","v":0},{"$f":"'Капитальные вложения'!Z49","v":0},{"$f":"'Капитальные вложения'!AA49","v":0}]
[]
[null,"II. Оборотные активы",null,"тыс. руб.",null,null,null,{"$f":"SUM(H19:H22)","v":0},{"$f":"SUM(I19:I22)","v":0},0,0,0,0,0,0,0,0,0,0,0,0,0,0,0,0,0,0]
[null,null,"Запасы","тыс. руб.","Лист: Оборотный капитал",null,null,{"$f":"'Оборотный капитал'!H45","v":0},{"$f":"'Оборотный капитал'!I45","v":0},{"$f":"'Оборотный капитал'!J45","v":0},{"$f":"'Оборотный капитал'!K45","v":0},{"$f":"'Оборотный капитал'!L45","v":0},{"$f":"'Оборотный капитал'!M45","v":0},{"$f":"'Оборотный капитал'!N45","v":0},{"$f":"'Оборотный капитал'!O45","v":0},{"$f":"'Оборотный капитал'!P45","v":0},{"$f":"'Оборотный капитал'!Q45","v":0},{"$f":"'Оборотный капитал'!R45","v":0},{"$f":"'Оборотный капитал'!S45","v":0},{"$f":"'Оборотный капитал'!T45","v":0},{"$f":"'Оборотный капитал'!U45","v":0},{"$f":"'Оборотный капитал'!V45","v":0},{"$f":"'Оборотный капитал'!W45","v":0},{"$f":"'Оборотный капитал'!X45","v":0},{"$f":"'Оборотный капитал'!Y45","v":0},{"$f":"'Оборотный капитал'!Z45","v":0},{"$f":"'Оборотный капитал'!AA45","v":0}]
[null,null,"Налог на добавленную стоимость по приобретенным ценностям","тыс. руб.","Лист: Налоги",null,null,{"$f":"Налоги!H23","v":0},{"$f":"Налоги!I23","v":0},{"$f":"Налоги!J23","v":0},{"$f":"Налоги!K23","v":0},{"$f":"Налоги!L23","v":0},{"$f":"Налоги!M23","v":0},{"$f":"Налоги!N23","v":0},{"$f":"Налоги!O23","v":0},{"$f":"Налоги!P23","v":0},{"$f":"Налоги!Q23","v":0},{"$f":"Налоги!R23","v":0},{"$f":"Налоги!S23","v":0},{"$f":"Налоги!T23","v":0},{"$f":"Налоги!U23","v":0},{"$f":"Налоги!V23","v":0},{"$f":"Налоги!W23","v":0},{"$f":"Налоги!X23","v":0},{"$f":"Налоги!Y23","v":0},{"$f":"Налоги!Z23","v":0},{"$f":"Налоги!AA23","v":0}]
[null,null,"Дебиторская задолженность","тыс. руб.","Лист: Оборотный капитал",null,null,{"$f":"'Оборотный капитал'!H103","v":0},{"$f":"'Оборотный капитал'!I103","v":0},{"$f":"'Оборотный капитал'!J103","v":0},{"$f":"'Оборотный капитал'!K103","v":0},{"$f":"'Оборотный капитал'!L103","v":0},{"$f":"'Оборотный капитал'!M103","v":0},{"$f":"'Оборотный капитал'!N103","v":0},{"$f":"'Оборотный капитал'!O103","v":0},{"$f":"'Оборотный капитал'!P103","v":0},{"$f":"'Оборотный капитал'!Q103","v":0},{"$f":"'Оборотный капитал'!R103","v":0},{"$f":"'Оборотный капитал'!S103","v":0},{"$f":"'Оборотный капитал'!T103","v":0},{"$f":"'Оборотный капитал'!U103","v":0},{"$f":"'Оборотный капитал'!V103","v":0},{"$f":"'Оборотный капитал'!W103","v":0},{"$f":"'Оборотный капитал'!X103","v":0},{"$f":"'Оборотный капитал'!Y103","v":0},{"$f":"'Оборотный капитал'!Z103","v":0},{"$f":"'Оборотный капитал'!AA103","v":0}]
[null,null,"Денежные средства и их эквиваленты","тыс. руб.","Расчет",null,null,{"$f":"H135","v":0},{"$f":"I135","v":0},0,0,0,0,0,0,0,0,0,0,0,0,0,0,0,0,0,0]
[null,"ИТОГО АКТИВЫ",null,"тыс. руб.",null,null,null,{"$f":"SUM(H8,H18)","v":0},{"$f":"SUM(I8,I18)","v":0},0,0,0,0,0,0,0,0,0,0,0,0,0,0,0,0,0,0]
[]
[null,"ПАССИВЫ"]
[null,"III. Капитал и резервы",null,"тыс. руб.",null,null,null,{"$f":"SUM(H27:H29)","v":0},{"$f":"SUM(I27:I29)","v":0},0,0,0,0,0,0,0,0,0,0,0,0,0,0,0,0,0,0]
[null,null,"Уставный капитал","тыс. руб.","Лист: Предпосылки",null,null,{"$f":"SUM(Предпосылки!$H217:H217)","v":0},{"$f":"SUM(Предпосылки!$H217:I217)","v":0},{"$f":"SUM(Предпосылки!$H217:J217)","v":0},{"$f":"SUM(Предпосылки!$H217:K217)","v":0},{"$f":"SUM(Предпосылки!$H217:L217)","v":0},{"$f":"SUM(Предпосылки!$H217:M217)","v":0},{"$f":"SUM(Предпосылки!$H217:N217)","v":0},{"$f":"SUM(Предпосылки!$H217:O217)","v":0},{"$f":"SUM(Предпосылки!$H217:P217)","v":0},{"$f":"SUM(Предпосылки!$H217:Q217)","v":0},{"$f":"SUM(Предпосылки!$H217:R217)","v":0},{"$f":"SUM(Предпосылки!$H217:S217)","v":0},{"$f":"SUM(Предпосылки!$H217:T217)","v":0},{"$f":"SUM(Предпосылки!$H217:U217)","v":0},{"$f":"SUM(Предпосылки!$H217:V217)","v":0},{"$f":"SUM(Предпосылки!$H217:W217)","v":0},{"$f":"SUM(Предпосылки!$H217:X217)","v":0},{"$f":"SUM(Предпосылки!$H217:Y217)","v":0},{"$f":"SUM(Предпосылки!$H217:Z217)","v":0},{"$f":"SUM(Предпосылки!$H217:AA217)","v":0}]
[null,null,"Добавочный капитал","тыс. руб.","Лист: Предпосылки",null,null,{"$f":"SUM(Предпосылки!$H218:H218)","v":0},{"$f":"SUM(Предпосылки!$H218:I218)","v":0},{"$f":"SUM(Предпосылки!$H218:J218)","v":0},{"$f":"SUM(Предпосылки!$H218:K218)","v":0},{"$f":"SUM(Предпосылки!$H218:L218)","v":0},{"$f":"SUM(Предпосылки!$H218:M218)","v":0},{"$f":"SUM(Предпосылки!$H218:N218)","v":0},{"$f":"SUM(Предпосылки!$H218:O218)","v":0},{"$f":"SUM(Предпосылки!$H218:P218)","v":0},{"$f":"SUM(Предпосылки!$H218:Q218)","v":0},{"$f":"SUM(Предпосылки!$H218:R218)","v":0},{"$f":"SUM(Предпосылки!$H218:S218)","v":0},{"$f":"SUM(Предпосылки!$H218:T218)","v":0},{"$f":"SUM(Предпосылки!$H218:U218)","v":0},{"$f":"SUM(Предпосылки!$H218:V218)","v":0},{"$f":"SUM(Предпосылки!$H218:W218)","v":0},{"$f":"SUM(Предпосылки!$H218:X218)","v":0},{"$f":"SUM(Предпосылки!$H218:Y218)","v":0},{"$f":"SUM(Предпосылки!$H218:Z218)","v":0},{"$f":"SUM(Предпосылки!$H218:AA218)","v":0}]
[null,null,"Нераспределенная прибыль","тыс. руб.","Расчет",null,null,{"$f":"G29+H71","v":0},0,0,0,0,0,0,0,0,0,0,0,0,0,0,0,0,0,0,0]
[]
[null,"IV. Долгосрочные обязательства",null,"тыс. руб.",null,null,null,{"$f":"H32","v":0},{"$f":"I32","v":0},0,0,0,0,0,0,0,0,0,0,0,0,0,0,0,0,0,0]
[null,null,"Кредиты и займы","тыс. руб.","Лист: Финансирование",null,null,{"$f":"Финансирование!H47","v":0},{"$f":"Финансирование!I47","v":0},{"$f":"Финансирование!J47","v":0},{"$f":"Финансирование!K47","v":0},{"$f":"Финансирование!L47","v":0},{"$f":"Финансирование!M47","v":0},{"$f":"Финансирование!N47","v":0},{"$f":"Финансирование!O47","v":0},{"$f":"Финансирование!P47","v":0},{"$f":"Финансирование!Q47","v":0},{"$f":"Финансирование!R47","v":0},{"$f":"Финансирование!S47","v":0},{"$f":"Финансирование!T47","v":0},{"$f":"Финансирование!U47","v":0},{"$f":"Финансирование!V47","v":0},{"$f":"Финансирование!W47","v":0},{"$f":"Финансирование!X47","v":0},{"$f":"Финансирование!Y47","v":0},{"$f":"Финансирование!Z47","v":0},{"$f":"Финансирование!AA47","v":0}]
[]
[null,"V. Краткосрочные обязательства",null,"тыс. руб.",null,null,null,{"$f":"SUM(H35:H36)","v":0},{"$f":"SUM(I35:I36)","v":0},0,0,0,0,0,0,0,0,0,0,0,0,0,0,0,0,0,0]
[null,null,"Кредиты и займы","тыс. руб.","Лист: Финансирование",null,null,{"$f":"Финансирование!H98","v":0},{"$f":"Финансирование!I98","v":0},{"$f":"Финансирование!J98","v":0},{"$f":"Финансирование!K98","v":0},{"$f":"Финансирование!L98","v":0},{"$f":"Финансирование!M98","v":0},{"$f":"Финансирование!N98","v":0},{"$f":"Финансирование!O98","v":0},{"$f":"Финансирование!P98","v":0},{"$f":"Финансирование!Q98","v":0},{"$f":"Финансирование!R98","v":0},{"$f":"Финансирование!S98","v":0},{"$f":"Финансирование!T98","v":0},{"$f":"Финансирование!U98","v":0},{"$f":"Финансирование!V98","v":0},{"$f":"Финансирование!W98","v":0},{"$f":"Финансирование!X98","v":0},{"$f":"Финансирование!Y98","v":0},{"$f":"Финансирование!Z98","v":0},{"$f":"Финансирование!AA98","v":0}]
[null,null,"Кредиторская задолженность","тыс. руб.",null,null,null,{"$f":"SUM(H37:H40)","v":0},{"$f":"SUM(I37:I40)","v":0},{"$f":"SUM(J37:J40)","v":0},0,0,0,0,0,0,0,0,0,0,0,0,0,0,0,0,0]
[null,null,"Задолженность перед покупателями, поставщиками и подрядчиками","тыс. руб.","Лист: Оборотный капитал",null,null,{"$f":"'Оборотный капитал'!H112","v":0},{"$f":"'Оборотный капитал'!I112","v":0},{"$f":"'Оборотный капитал'!J112","v":0},{"$f":"'Оборотный капитал'!K112","v":0},{"$f":"'Оборотный капитал'!L112","v":0},{"$f":"'Оборотный капитал'!M112","v":0},{"$f":"'Оборотный капитал'!N112","v":0},{"$f":"'Оборотный капитал'!O112","v":0},{"$f":"'Оборотный капитал'!P112","v":0},{"$f":"'Оборотный капитал'!Q112","v":0},{"$f":"'Оборотный капитал'!R112","v":0},{"$f":"'Оборотный капитал'!S112","v":0},{"$f":"'Оборотный капитал'!T112","v":0},{"$f":"'Оборотный капитал'!U112","v":0},{"$f":"'Оборотный капитал'!V112","v":0},{"$f":"'Оборотный капитал'!W112","v":0},{"$f":"'Оборотный капитал'!X112","v":0},{"$f":"'Оборотный капитал'!Y112","v":0},{"$f":"'Оборотный капитал'!Z112","v":0},{"$f":"'Оборотный капитал'!AA112","v":0}]
[null,null,"Задолженность по налогам и сборам","тыс. руб.","Лист: Оборотный капитал",null,null,{"$f":"'Оборотный капитал'!H139","v":0},{"$f":"'Оборотный капитал'!I139","v":0},{"$f":"'Оборотный капитал'!J139","v":0},{"$f":"'Оборотный капитал'!K139","v":0},{"$f":"'Оборотный капитал'!L139","v":0},{"$f":"'Оборотный капитал'!M139","v":0},{"$f":"'Оборотный капитал'!N139","v":0},{"$f":"'Оборотный капитал'!O139","v":0},{"$f":"'Оборотный капитал'!P139","v":0},{"$f":"'Оборотный капитал'!Q139","v":0},{"$f":"'Оборотный капитал'!R139","v":0},{"$f":"'Оборотный капитал'!S139","v":0},{"$f":"'Оборотный капитал'!T139","v":0},{"$f":"'Оборотный капитал'!U139","v":0},{"$f":"'Оборотный капитал'!V139","v":0},{"$f":"'Оборотный капитал'!W139","v":0},{"$f":"'Оборотный капитал'!X139","v":0},{"$f":"'Оборотный капитал'!Y139","v":0},{"$f":"'Оборотный капитал'!Z139","v":0},{"$f":"'Оборотный капитал'!AA139","v":0}]
[null,null,"Задолженность по оплате труда","тыс. руб.","Лист: Оборотный капитал",null,null,{"$f":"'Оборотный капитал'!H115","v":0},{"$f":"'Оборотный капитал'!I115","v":0},{"$f":"'Оборотный капитал'!J115","v":0},{"$f":"'Оборотный капитал'!K115","v":0},{"$f":"'Оборотный капитал'!L115","v":0},{"$f":"'Оборотный капитал'!M115","v":0},{"$f":"'Оборотный капитал'!N115","v":0},{"$f":"'Оборотный капитал'!O115","v":0},{"$f":"'Оборотный капитал'!P115","v":0},{"$f":"'Оборотный капитал'!Q115","v":0},{"$f":"'Оборотный капитал'!R115","v":0},{"$f":"'Оборотный капитал'!S115","v":0},{"$f":"'Оборотный капитал'!T115","v":0},{"$f":"'Оборотный капитал'!U115","v":0},{"$f":"'Оборотный капитал'!V115","v":0},{"$f":"'Оборотный капитал'!W115","v":0},{"$f":"'Оборотный капитал'!X115","v":0},{"$f":"'Оборотный капитал'!Y115","v":0},{"$f":"'Оборотный капитал'!Z115","v":0},{"$f":"'Оборотный капитал'!AA115","v":0}]
[null,null,"Задолженность по оплате процентов","тыс. руб.","Лист: Оборотный капитал",null,null,{"$f":"'Оборотный капитал'!H143","v":0},{"$f":"'Оборотный капитал'!I143","v":0},{"$f":"'Оборотный капитал'!J143","v":0},{"$f":"'Оборотный капитал'!K143","v":0},{"$f":"'Оборотный капитал'!L143","v":0},{"$f":"'Оборотный капитал'!M143","v":0},{"$f":"'Оборотный капитал'!N143","v":0},{"$f":"'Оборотный капитал'!O143","v":0},{"$f":"'Оборотный капитал'!P143","v":0},{"$f":"'Оборотный капитал'!Q143","v":0},{"$f":"'Оборотный капитал'!R143","v":0},{"$f":"'Оборотный капитал'!S143","v":0},{"$f":"'Оборотный капитал'!T143","v":0},{"$f":"'Оборотный капитал'!U143","v":0},{"$f":"'Оборотный капитал'!V143","v":0},{"$f":"'Оборотный капитал'!W143","v":0},{"$f":"'Оборотный капитал'!X143","v":0},{"$f":"'Оборотный капитал'!Y143","v":0},{"$f":"'Оборотный капитал'!Z143","v":0},{"$f":"'Оборотный капитал'!AA143","v":0}]
[null,"ИТОГО ПАССИВЫ",null,"тыс. руб.",null,null,null,{"$f":"SUM(H26,H31,H34)","v":0},0,0,0,0,0,0,0,0,0,0,0,0,0,0,0,0,0,0,0]
[]
[null,null,"Проверка: равенство активов и пассивов",null,null,{"$f":"IF(COUNTIF(H43:AA43, \"Ошибка\") = 0, \"Верно\", \"Ошибка\")","v":"Верно"},null,{"$f":"IF(ROUND(H23-H41,2)=0, \"Верно\", \"Ошибка\")","v":"Верно"},"Верно","Верно","Верно","Верно","Верно","Верно","Верно","Верно","Верно","Верно","Верно","Верно","Верно","Верно","Верно","Верно","Верно","Верно","Верно"]
[null,null,null,null,null,null,null,{"$f":"H23-H41","v":0},0,0,0,0,0,0,0,0,0,0,0,0,0,0,0,0,0,0,0]
[null,"Приложение к балансу"]
[]
[null,null,"Чистый оборотный капитал","тыс. руб.",null,null,null,{"$f":"H19+H21-H36","v":0},{"$f":"I19+I21-I36","v":0},0,0,0,0,0,0,0,0,0,0,0,0,0,0,0,0,0,0]
[null,null,"Долг","тыс. руб.",null,null,null,{"$f":"H32+H35","v":0},0,0,0,0,0,0,0,0,0,0,0,0,0,0,0,0,0,0,0]
[null,null,"Чистый долг","тыс. руб.",null,null,null,{"$f":"H48-H22","v":0},0,0,0,0,0,0,0,0,0,0,0,0,0,0,0,0,0,0,0]
[]
[null,"Отчет о финансовых результатах"]
[]
[null,"Выручка",null,"тыс. руб.","Лист: Выручка и себестоимость",null,null,{"$f":"'Выручка и себестоимость'!H10","v":0},{"$f":"'Выручка и себестоимость'!I10","v":0},{"$f":"'Выручка и себестоимость'!J10","v":0},{"$f":"'Выручка и себестоимость'!K10","v":0},{"$f":"'Выручка и себестоимость'!L10","v":0},{"$f":"'Выручка и себестоимость'!M10","v":0},{"$f":"'Выручка и себестоимость'!N10","v":0},{"$f":"'Выручка и себестоимость'!O10","v":0},{"$f":"'Выручка и себестоимость'!P10","v":0},{"$f":"'Выручка и себестоимость'!Q10","v":0},{"$f":"'Выручка и себестоимость'!R10","v":0},{"$f":"'Выручка и себестоимость'!S10","v":0},{"$f":"'Выручка и себестоимость'!T10","v":0},{"$f":"'Выручка и себестоимость'!U10","v":0},{"$f":"'Выручка и себестоимость'!V10","v":0},{"$f":"'Выручка и себестоимость'!W10","v":0},{"$f":"'Выручка и себестоимость'!X10","v":0},{"$f":"'Выручка и себестоимость'!Y10","v":0},{"$f":"'Выручка и себестоимость'!Z10","v":0},{"$f":"'Выручка и себестоимость'!AA10","v":0}]
[null,null,"Себестоимость продаж (-)","тыс. руб.","Лист: Выручка и себестоимость",null,null,{"$f":"-'Выручка и себестоимость'!H45","v":0},{"$f":"-'Выручка и себестоимость'!I45","v":0},{"$f":"-'Выручка и себестоимость'!J45","v":0},{"$f":"-'Выручка и себестоимость'!K45","v":0},{"$f":"-'Выручка и себестоимость'!L45","v":0},{"$f":"-'Выручка и себестоимость'!M45","v":0},{"$f":"-'Выручка и себестоимость'!N45","v":0},{"$f":"-'Выручка и себестоимость'!O45","v":0},{"$f":"-'Выручка и себестоимость'!P45","v":0},{"$f":"-'Выручка и себестоимость'!Q45","v":0},{"$f":"-'Выручка и себестоимость'!R45","v":0},{"$f":"-'Выручка и себестоимость'!S45","v":0},{"$f":"-'Выручка и себестоимость'!T45","v":0},{"$f":"-'Выручка и себестоимость'!U45","v":0},{"$f":"-'Выручка и себестоимость'!V45","v":0},{"$f":"-'Выручка и себестоимость'!W45","v":0},{"$f":"-'Выручка и себестоимость'!X45","v":0},{"$f":"-'Выручка и себестоимость'!Y45","v":0},{"$f":"-'Выручка и себестоимость'!Z45","v":0},{"$f":"-'Выручка и себестоимость'!AA45","v":0}]
[null,"Валовая прибыль (убыток)",null,"тыс. руб.",null,null,null,{"$f":"SUM(H53:H54)","v":0},{"$f":"SUM(I53:I54)","v":0},0,0,0,0,0,0,0,0,0,0,0,0,0,0,0,0,0,0]
[null,null,"Коммерческие расходы (-)","тыс. руб.","Лист: Операционные затраты",null,null,{"$f":"-'Операционные затраты'!H31","v":0},{"$f":"-'Операционные затраты'!I31","v":0},{"$f":"-'Операционные затраты'!J31","v":0},{"$f":"-'Операционные затраты'!K31","v":0},{"$f":"-'Операционные затраты'!L31","v":0},{"$f":"-'Операционные затраты'!M31","v":0},{"$f":"-'Операционные затраты'!N31","v":0},{"$f":"-'Операционные затраты'!O31","v":0},{"$f":"-'Операционные затраты'!P31","v":0},{"$f":"-'Операционные затраты'!Q31","v":0},{"$f":"-'Операционные затраты'!R31","v":0},{"$f":"-'Операционные затраты'!S31","v":0},{"$f":"-'Операционные затраты'!T31","v":0},{"$f":"-'Операционные затраты'!U31","v":0},{"$f":"-'Операционные затраты'!V31","v":0},{"$f":"-'Операционные затраты'!W31","v":0},{"$f":"-'Операционные затраты'!X31","v":0},{"$f":"-'Операционные затраты'!Y31","v":0},{"$f":"-'Операционные затраты'!Z31","v":0},{"$f":"-'Операционные затраты'!AA31","v":0}]
[null,null,"Управленческие расходы (-)","тыс. руб.","Лист: Операционные затраты",null,null,{"$f":"SUM(H58:H63)","v":0},{"$f":"SUM(I58:I63)","v":0},0,0,0,0,0,0,0,0,0,0,0,0,0,0,0,0,0,0]
[null,null,"Управленческие расходы (-)","тыс. руб.","Лист: Операционные затраты",null,null,{"$f":"-'Операционные затраты'!H37","v":0},{"$f":"-'Операционные затраты'!I37","v":0},{"$f":"-'Операционные затраты'!J37","v":0},{"$f":"-'Операционные затраты'!K37","v":0},{"$f":"-'Операционные затраты'!L37","v":0},{"$f":"-'Операционные затраты'!M37","v":0},{"$f":"-'Операционные затраты'!N37","v":0},{"$f":"-'Операционные затраты'!O37","v":0},{"$f":"-'Операционные затраты'!P37","v":0},{"$f":"-'Операционные затраты'!Q37","v":0},{"$f":"-'Операционные затраты'!R37","v":0},{"$f":"-'Операционные затраты'!S37","v":0},{"$f":"-'Операционные затраты'!T37","v":0},{"$f":"-'Операционные затраты'!U37","v":0},{"$f":"-'Операционные затраты'!V37","v":0},{"$f":"-'Операционные затраты'!W37","v":0},{"$f":"-'Операционные затраты'!X37","v":0},{"$f":"-'Операционные затраты'!Y37","v":0},{"$f":"-'Операционные затраты'!Z37","v":0},{"$f":"-'Операционные затраты'!AA37","v":0}]
[null,null,"Оплата труда административного персонала (-)","тыс. руб.","Лист: Операционные затраты",null,null,{"$f":"-'Операционные затраты'!H149","v":0},{"$f":"-'Операционные затраты'!I149","v":0},{"$f":"-'Операционные затраты'!J149","v":0},{"$f":"-'Операционные затраты'!K149","v":0},{"$f":"-'Операционные затраты'!L149","v":0},{"$f":"-'Операционные затраты'!M149","v":0},{"$f":"-'Операционные затраты'!N149","v":0},{"$f":"-'Операционные затраты'!O149","v":0},{"$f":"-'Операционные затраты'!P149","v":0},{"$f":"-'Операционные затраты'!Q149","v":0},{"$f":"-'Операционные затраты'!R149","v":0},{"$f":"-'Операционные затраты'!S149","v":0},{"$f":"-'Операционные затраты'!T149","v":0},{"$f":"-'Операционные затраты'!U149","v":0},{"$f":"-'Операционные затраты'!V149","v":0},{"$f":"-'Операционные затраты'!W149","v":0},{"$f":"-'Операционные затраты'!X149","v":0},{"$f":"-'Операционные затраты'!Y149","v":0},{"$f":"-'Операционные затраты'!Z149","v":0},{"$f":"-'Операционные затраты'!AA149","v":0}]
[null,null,"Амортизация непроизводственных основных средств (-)","тыс. руб.","Лист: Капитальные вложения",null,null,{"$f":"-'Капитальные вложения'!H53","v":0},{"$f":"-'Капитальные вложения'!I53","v":0},{"$f":"-'Капитальные вложения'!J53","v":0},{"$f":"-'Капитальные вложения'!K53","v":0},{"$f":"-'Капитальные вложения'!L53","v":0},{"$f":"-'Капитальные вложения'!M53","v":0},{"$f":"-'Капитальные вложения'!N53","v":0},{"$f":"-'Капитальные вложения'!O53","v":0},{"$f":"-'Капитальные вложения'!P53","v":0},{"$f":"-'Капитальные вложения'!Q53","v":0},{"$f":"-'Капитальные вложения'!R53","v":0},{"$f":"-'Капитальные вложения'!S53","v":0},{"$f":"-'Капитальные вложения'!T53","v":0},{"$f":"-'Капитальные вложения'!U53","v":0},{"$f":"-'Капитальные вложения'!V53","v":0},{"$f":"-'Капитальные вложения'!W53","v":0},{"$f":"-'Капитальные вложения'!X53","v":0},{"$f":"-'Капитальные вложения'!Y53","v":0},{"$f":"-'Капитальные вложения'!Z53","v":0},{"$f":"-'Капитальные вложения'!AA53","v":0}]
[null,null,"Налог на имущество организаций (-)","тыс. руб.","Лист: Налоги",null,null,{"$f":"-Налоги!H105","v":0},{"$f":"-Налоги!I105","v":0},{"$f":"-Налоги!J105","v":0},{"$f":"-Налоги!K105","v":0},{"$f":"-Налоги!L105","v":0},{"$f":"-Налоги!M105","v":0},{"$f":"-Налоги!N105","v":0},{"$f":"-Налоги!O105","v":0},{"$f":"-Налоги!P105","v":0},{"$f":"-Налоги!Q105","v":0},{"$f":"-Налоги!R105","v":0},{"$f":"-Налоги!S105","v":0},{"$f":"-Налоги!T105","v":0},{"$f":"-Налоги!U105","v":0},{"$f":"-Налоги!V105","v":0},{"$f":"-Налоги!W105","v":0},{"$f":"-Налоги!X105","v":0},{"$f":"-Налоги!Y105","v":0},{"$f":"-Налоги!Z105","v":0},{"$f":"-Налоги!AA105","v":0}]
[null,null,"Транспортный налог (-)","тыс. руб.","Лист: Налоги",null,null,{"$f":"-Налоги!H125","v":0},{"$f":"-Налоги!I125","v":0},{"$f":"-Налоги!J125","v":0},{"$f":"-Налоги!K125","v":0},{"$f":"-Налоги!L125","v":0},{"$f":"-Налоги!M125","v":0},{"$f":"-Налоги!N125","v":0},{"$f":"-Налоги!O125","v":0},{"$f":"-Налоги!P125","v":0},{"$f":"-Налоги!Q125","v":0},{"$f":"-Налоги!R125","v":0},{"$f":"-Налоги!S125","v":0},{"$f":"-Налоги!T125","v":0},{"$f":"-Налоги!U125","v":0},{"$f":"-Налоги!V125","v":0},{"$f":"-Налоги!W125","v":0},{"$f":"-Налоги!X125","v":0},{"$f":"-Налоги!Y125","v":0},{"$f":"-Налоги!Z125","v":0},{"$f":"-Налоги!AA125","v":0}]
[null,null,"Земельный налог (-)","тыс. руб.","Лист: Налоги",null,null,{"$f":"-Налоги!H139","v":0},{"$f":"-Налоги!I139","v":0},{"$f":"-Налоги!J139","v":0},{"$f":"-Налоги!K139","v":0},{"$f":"-Налоги!L139","v":0},{"$f":"-Налоги!M139","v":0},{"$f":"-Налоги!N139","v":0},{"$f":"-Налоги!O139","v":0},{"$f":"-Налоги!P139","v":0},{"$f":"-Налоги!Q139","v":0},{"$f":"-Налоги!R139","v":0},{"$f":"-Налоги!S139","v":0},{"$f":"-Налоги!T139","v":0},{"$f":"-Налоги!U139","v":0},{"$f":"-Налоги!V139","v":0},{"$f":"-Налоги!W139","v":0},{"$f":"-Налоги!X139","v":0},{"$f":"-Налоги!Y139","v":0},{"$f":"-Налоги!Z139","v":0},{"$f":"-Налоги!AA139","v":0}]
[null,"Прибыль (убыток) от продаж",null,"тыс. руб.",null,null,null,{"$f":"SUM(H55:H57)","v":0},0,0,0,0,0,0,0,0,0,0,0,0,0,0,0,0,0,0,0]
[null,null,"Проценты к получению","тыс. руб."]
[null,null,"Проценты к уплате (-)","тыс. руб.","Лист: Финансирование",null,null,{"$f":"Финансирование!H46+Финансирование!H100","v":0},{"$f":"Финансирование!I46+Финансирование!I100","v":0},{"$f":"Финансирование!J46+Финансирование!J100","v":0},{"$f":"Финансирование!K46+Финансирование!K100","v":0},{"$f":"Финансирование!L46+Финансирование!L100","v":0},{"$f":"Финансирование!M46+Финансирование!M100","v":0},{"$f":"Финансирование!N46+Финансирование!N100","v":0},{"$f":"Финансирование!O46+Финансирование!O100","v":0},{"$f":"Финансирование!P46+Финансирование!P100","v":0},{"$f":"Финансирование!Q46+Финансирование!Q100","v":0},{"$f":"Финансирование!R46+Финансирование!R100","v":0},{"$f":"Финансирование!S46+Финансирование!S100","v":0},{"$f":"Финансирование!T46+Финансирование!T100","v":0},{"$f":"Финансирование!U46+Финансирование!U100","v":0},{"$f":"Финансирование!V46+Финансирование!V100","v":0},{"$f":"Финансирование!W46+Финансирование!W100","v":0},{"$f":"Финансирование!X46+Финансирование!X100","v":0},{"$f":"Финансирование!Y46+Финансирование!Y100","v":0},{"$f":"Финансирование!Z46+Финансирование!Z100","v":0},{"$f":"Финансирование!AA46+Финансирование!AA100","v":0}]
[null,null,"Прочие доходы (в т.ч. получение государственных субсидий)","тыс. руб.","Лист: Предпосылки",null,null,{"$f":"SUM(Предпосылки!H233:H234)","v":0},{"$f":"SUM(Предпосылки!I233:I234)","v":0},{"$f":"SUM(Предпосылки!J233:J234)","v":0},{"$f":"SUM(Предпосылки!K233:K234)","v":0},{"$f":"SUM(Предпосылки!L233:L234)","v":0},{"$f":"SUM(Предпосылки!M233:M234)","v":0},{"$f":"SUM(Предпосылки!N233:N234)","v":0},{"$f":"SUM(Предпосылки!O233:O234)","v":0},{"$f":"SUM(Предпосылки!P233:P234)","v":0},{"$f":"SUM(Предпосылки!Q233:Q234)","v":0},{"$f":"SUM(Предпосылки!R233:R234)","v":0},{"$f":"SUM(Предпосылки!S233:S234)","v":0},{"$f":"SUM(Предпосылки!T233:T234)","v":0},{"$f":"SUM(Предпосылки!U233:U234)","v":0},{"$f":"SUM(Предпосылки!V233:V234)","v":0},{"$f":"SUM(Предпосылки!W233:W234)","v":0},{"$f":"SUM(Предпосылки!X233:X234)","v":0},{"$f":"SUM(Предпосылки!Y233:Y234)","v":0},{"$f":"SUM(Предпосылки!Z233:Z234)","v":0},{"$f":"SUM(Предпосылки!AA233:AA234)","v":0}]
[null,null,"Прочие расходы (-)","тыс. руб.","Лист: Операционные затраты",null,null,{"$f":"-'Операционные затраты'!H46","v":0},{"$f":"-'Операционные затраты'!I46","v":0},{"$f":"-'Операционные затраты'!J46","v":0},{"$f":"-'Операционные затраты'!K46","v":0},{"$f":"-'Операционные затраты'!L46","v":0},{"$f":"-'Операционные затраты'!M46","v":0},{"$f":"-'Операционные затраты'!N46","v":0},{"$f":"-'Операционные затраты'!O46","v":0},{"$f":"-'Операционные затраты'!P46","v":0},{"$f":"-'Операционные затраты'!Q46","v":0},{"$f":"-'Операционные затраты'!R46","v":0},{"$f":"-'Операционные затраты'!S46","v":0},{"$f":"-'Операционные затраты'!T46","v":0},{"$f":"-'Операционные затраты'!U46","v":0},{"$f":"-'Операционные затраты'!V46","v":0},{"$f":"-'Операционные затраты'!W46","v":0},{"$f":"-'Операционные затраты'!X46","v":0},{"$f":"-'Операционные затраты'!Y46","v":0},{"$f":"-'Операционные затраты'!Z46","v":0},{"$f":"-'Операционные затраты'!AA46","v":0}]
[null,"Прибыль  (убыток) до налогообложения",null,"тыс. руб.",null,null,null,{"$f":"SUM(H64:H68)","v":0},0,0,0,0,0,0,0,0,0,0,0,0,0,0,0,0,0,0,0]
[null,null,"Налог на прибыль (-)","тыс. руб.","Лист: Налоги",null,null,{"$f":"-Налоги!H89","v":0},{"$f":"-Налоги!I89","v":0},{"$f":"-Налоги!J89","v":0},{"$f":"-Налоги!K89","v":0},{"$f":"-Налоги!L89","v":0},{"$f":"-Налоги!M89","v":0},{"$f":"-Налоги!N89","v":0},{"$f":"-Налоги!O89","v":0},{"$f":"-Налоги!P89","v":0},{"$f":"-Налоги!Q89","v":0},{"$f":"-Налоги!R89","v":0},{"$f":"-Налоги!S89","v":0},{"$f":"-Налоги!T89","v":0},{"$f":"-Налоги!U89","v":0},{"$f":"-Налоги!V89","v":0},{"$f":"-Налоги!W89","v":0},{"$f":"-Налоги!X89","v":0},{"$f":"-Налоги!Y89","v":0},{"$f":"-Налоги!Z89","v":0},{"$f":"-Налоги!AA89","v":0}]
[null,"Чистая прибыль (убыток)",null,"тыс. руб.",null,null,null,{"$f":"SUM(H69:H70)","v":0},{"$f":"SUM(I69:I70)","v":0},0,0,0,0,0,0,0,0,0,0,0,0,0,0,0,0,0,0]
[]
[null,"Приложение к отчету о финансовых результатах"]
[]
[null,"Проектная операционная прибыль",null,"тыс. руб.",null,null,null,{"$f":"SUM(H76,H85)-SUM(H77:H78,H80:H83)","v":0},0,0,0,0,0,0,0,0,0,0,0,0,0,0,0,0,0,0,0]
[null,null,"Прибыль (убыток) до налогообложения","тыс. руб.",null,null,null,{"$f":"H69","v":0},{"$f":"I69","v":0},0,0,0,0,0,0,0,0,0,0,0,0,0,0,0,0,0,0]
[null,null,"Проценты к уплате по долговым обязательствам, связанным с реализацией Проекта (-)","тыс. руб.",null,null,null,{"$f":"H66","v":0},{"$f":"I66","v":0},0,0,0,0,0,0,0,0,0,0,0,0,0,0,0,0,0,0]
[null,null,"Проценты к получению по долговым обязательствам, связанным с реализацией Проекта","тыс. руб.",null,null,null,{"$f":"H65","v":0},0,0,0,0,0,0,0,0,0,0,0,0,0,0,0,0,0,0,0]
[null,null,"Корректировка на составляющие строк ОФР \"Прочие доходы\" и \"Прочие расходы\", исключаемые из расчета проектной операционной прибыли (требуют заполнения в случае, если данные статьи отражены в  ОФР данной финансовой модели):"]
[null,null,"Положительные (отрицательные) курсовые разницы","тыс. руб."]
[null,null,"Отчисления в резервы (восстановление резервов)","тыс. руб."]
[null,null,"Доходы (расходы), связанные с обстоятельствами чрезвычайного характера","тыс. руб."]
[null,null,"Иные доходы (расходы) не связанные с реализацией инвестиционного проекта","тыс. руб."]
[]
[null,null,"Ранее понесенные операционные расходы на реализацию проекта (за 12 мес до объявления конкурса по СПИК 2.0 или в календарный год подачи заявк на заключение СПИК 1.0 (-)","тыс. руб.","Лист: Предпосылки",{"$f":"Предпосылки!F152","v":0},null,{"$f":"F85","v":0}]
[]
[null,null,"Проверка: выход на проектую операционную прибыль в течение срока СПИК",null,null,{"$f":"IF(COUNTIF(H87:AA87, 1) > 0, \"Верно\", \"Ошибка\")","v":"Ошибка"},null,{"$f":"IF(H75>0,1,0)","v":0},0,0,0,0,0,0,0,0,0,0,0,0,0,0,0,0,0,0,0]
[]
[null,"EBIT",null,"тыс. руб.",null,null,null,{"$f":"H69- SUM(H65:H66)","v":0},0,0,0,0,0,0,0,0,0,0,0,0,0,0,0,0,0,0,0]
[null,"Амотризация за период",null,"тыс. руб.","Лист: Капитальные вложения",null,null,{"$f":"'Капитальные вложения'!H51","v":0},{"$f":"'Капитальные вложения'!I51","v":0},{"$f":"'Капитальные вложения'!J51","v":0},{"$f":"'Капитальные вложения'!K51","v":0},{"$f":"'Капитальные вложения'!L51","v":0},{"$f":"'Капитальные вложения'!M51","v":0},{"$f":"'Капитальные вложения'!N51","v":0},{"$f":"'Капитальные вложения'!O51","v":0},{"$f":"'Капитальные вложения'!P51","v":0},{"$f":"'Капитальные вложения'!Q51","v":0},{"$f":"'Капитальные вложения'!R51","v":0},{"$f":"'Капитальные вложения'!S51","v":0},{"$f":"'Капитальные вложения'!T51","v":0},{"$f":"'Капитальные вложения'!U51","v":0},{"$f":"'Капитальные вложения'!V51","v":0},{"$f":"'Капитальные вложения'!W51","v":0},{"$f":"'Капитальные вложения'!X51","v":0},{"$f":"'Капитальные вложения'!Y51","v":0},{"$f":"'Капитальные вложения'!Z51","v":0},{"$f":"'Капитальные вложения'!AA51","v":0}]
[null,"EBITDA",null,"тыс. руб.",null,null,null,{"$f":"H89+H90","v":0},{"$f":"I89+I90","v":0},0,0,0,0,0,0,0,0,0,0,0,0,0,0,0,0,0,0]
[]
[null,"Отчет о движении денежных средств"]
[]
[null,"Денежный поток от операционной деятельности:"]
[]
[null,"Поступления - всего:",null,"тыс. руб.",null,null,null,{"$f":"SUM(H98:H100)","v":0},{"$f":"SUM(I98:I100)","v":0},0,0,0,0,0,0,0,0,0,0,0,0,0,0,0,0,0,0]
[null,null,"От продажи продукции, товаров, работ и услуг","тыс. руб.","Лист: Оборотный капитал",null,null,{"$f":"'Оборотный капитал'!H58","v":0},{"$f":"'Оборотный капитал'!I58","v":0},{"$f":"'Оборотный капитал'!J58","v":0},{"$f":"'Оборотный капитал'!K58","v":0},{"$f":"'Оборотный капитал'!L58","v":0},{"$f":"'Оборотный капитал'!M58","v":0},{"$f":"'Оборотный капитал'!N58","v":0},{"$f":"'Оборотный капитал'!O58","v":0},{"$f":"'Оборотный капитал'!P58","v":0},{"$f":"'Оборотный капитал'!Q58","v":0},{"$f":"'Оборотный капитал'!R58","v":0},{"$f":"'Оборотный капитал'!S58","v":0},{"$f":"'Оборотный капитал'!T58","v":0},{"$f":"'Оборотный капитал'!U58","v":0},{"$f":"'Оборотный капитал'!V58","v":0},{"$f":"'Оборотный капитал'!W58","v":0},{"$f":"'Оборотный капитал'!X58","v":0},{"$f":"'Оборотный капитал'!Y58","v":0},{"$f":"'Оборотный капитал'!Z58","v":0},{"$f":"'Оборотный капитал'!AA58","v":0}]
[null,null,"Возмещение НДС","тыс. руб.","Лист: Налоги",null,null,{"$f":"Налоги!H22","v":0},{"$f":"Налоги!I22","v":0},{"$f":"Налоги!J22","v":0},{"$f":"Налоги!K22","v":0},{"$f":"Налоги!L22","v":0},{"$f":"Налоги!M22","v":0},{"$f":"Налоги!N22","v":0},{"$f":"Налоги!O22","v":0},{"$f":"Налоги!P22","v":0},{"$f":"Налоги!Q22","v":0},{"$f":"Налоги!R22","v":0},{"$f":"Налоги!S22","v":0},{"$f":"Налоги!T22","v":0},{"$f":"Налоги!U22","v":0},{"$f":"Налоги!V22","v":0},{"$f":"Налоги!W22","v":0},{"$f":"Налоги!X22","v":0},{"$f":"Налоги!Y22","v":0},{"$f":"Налоги!Z22","v":0},{"$f":"Налоги!AA22","v":0}]
[null,null,"Получение государственных субсидий (на покрытие операционных расходов)","тыс. руб.","Лист: Предпосылки",null,null,{"$f":"Предпосылки!H233","v":0},{"$f":"Предпосылки!I233","v":0},{"$f":"Предпосылки!J233","v":0},{"$f":"Предпосылки!K233","v":0},{"$f":"Предпосылки!L233","v":0},{"$f":"Предпосылки!M233","v":0},{"$f":"Предпосылки!N233","v":0},{"$f":"Предпосылки!O233","v":0},{"$f":"Предпосылки!P233","v":0},{"$f":"Предпосылки!Q233","v":0},{"$f":"Предпосылки!R233","v":0},{"$f":"Предпосылки!S233","v":0},{"$f":"Предпосылки!T233","v":0},{"$f":"Предпосылки!U233","v":0},{"$f":"Предпосылки!V233","v":0},{"$f":"Предпосылки!W233","v":0},{"$f":"Предпосылки!X233","v":0},{"$f":"Предпосылки!Y233","v":0},{"$f":"Предпосылки!Z233","v":0},{"$f":"Предпосылки!AA233","v":0}]
[]
[null,"Платежи - всего:",null,"тыс. руб.",null,null,null,{"$f":"SUM(H103:H111)","v":0},0,0,0,0,0,0,0,0,0,0,0,0,0,0,0,0,0,0,0]
[null,null,"Платежи поставщикам (подрядчикам) за сырье, материалы, работы, услуги  (-)","тыс. руб.","Лист: Оборотный капитал",null,null,{"$f":"-('Оборотный капитал'!H74+'Оборотный капитал'!H88+'Оборотный капитал'!H95)","v":0},{"$f":"-('Оборотный капитал'!I74+'Оборотный капитал'!I88+'Оборотный капитал'!I95)","v":0},{"$f":"-('Оборотный капитал'!J74+'Оборотный капитал'!J88+'Оборотный капитал'!J95)","v":0},{"$f":"-('Оборотный капитал'!K74+'Оборотный капитал'!K88+'Оборотный капитал'!K95)","v":0},{"$f":"-('Оборотный капитал'!L74+'Оборотный капитал'!L88+'Оборотный капитал'!L95)","v":0},{"$f":"-('Оборотный капитал'!M74+'Оборотный капитал'!M88+'Оборотный капитал'!M95)","v":0},{"$f":"-('Оборотный капитал'!N74+'Оборотный капитал'!N88+'Оборотный капитал'!N95)","v":0},{"$f":"-('Оборотный капитал'!O74+'Оборотный капитал'!O88+'Оборотный капитал'!O95)","v":0},{"$f":"-('Оборотный капитал'!P74+'Оборотный капитал'!P88+'Оборотный капитал'!P95)","v":0},{"$f":"-('Оборотный капитал'!Q74+'Оборотный капитал'!Q88+'Оборотный капитал'!Q95)","v":0},{"$f":"-('Оборотный капитал'!R74+'Оборотный капитал'!R88+'Оборотный капитал'!R95)","v":0},{"$f":"-('Оборотный капитал'!S74+'Оборотный капитал'!S88+'Оборотный капитал'!S95)","v":0},{"$f":"-('Оборотный капитал'!T74+'Оборотный капитал'!T88+'Оборотный капитал'!T95)","v":0},{"$f":"-('Оборотный капитал'!U74+'Оборотный капитал'!U88+'Оборотный капитал'!U95)","v":0},{"$f":"-('Оборотный капитал'!V74+'Оборотный капитал'!V88+'Оборотный капитал'!V95)","v":0},{"$f":"-('Оборотный капитал'!W74+'Оборотный капитал'!W88+'Оборотный капитал'!W95)","v":0},{"$f":"-('Оборотный капитал'!X74+'Оборотный капитал'!X88+'Оборотный капитал'!X95)","v":0},{"$f":"-('Оборотный капитал'!Y74+'Оборотный капитал'!Y88+'Оборотный капитал'!Y95)","v":0},{"$f":"-('Оборотный капитал'!Z74+'Оборотный капитал'!Z88+'Оборотный капитал'!Z95)","v":0},{"$f":"-('Оборотный капитал'!AA74+'Оборотный капитал'!AA88+'Оборотный капитал'!AA95)","v":0}]
[null,null,"Оплата труда работников в том числе НДФЛ (-)","тыс. руб.","Лист: Операционные затраты",null,null,{"$f":"'Операционные затраты'!H156","v":0},{"$f":"'Операционные затраты'!I156","v":0},{"$f":"'Операционные затраты'!J156","v":0},{"$f":"'Операционные затраты'!K156","v":0},{"$f":"'Операционные затраты'!L156","v":0},{"$f":"'Операционные затраты'!M156","v":0},{"$f":"'Операционные затраты'!N156","v":0},{"$f":"'Операционные затраты'!O156","v":0},{"$f":"'Операционные затраты'!P156","v":0},{"$f":"'Операционные затраты'!Q156","v":0},{"$f":"'Операционные затраты'!R156","v":0},{"$f":"'Операционные затраты'!S156","v":0},{"$f":"'Операционные затраты'!T156","v":0},{"$f":"'Операционные затраты'!U156","v":0},{"$f":"'Операционные затраты'!V156","v":0},{"$f":"'Операционные затраты'!W156","v":0},{"$f":"'Операционные затраты'!X156","v":0},{"$f":"'Операционные затраты'!Y156","v":0},{"$f":"'Операционные затраты'!Z156","v":0},{"$f":"'Операционные затраты'!AA156","v":0}]
[null,null,"Погашение процентов по долговым обязательствам  (-)","тыс. руб.","Лист: Финансирование",null,null,{"$f":"Финансирование!H118","v":0},{"$f":"Финансирование!I118","v":0},{"$f":"Финансирование!J118","v":0},{"$f":"Финансирование!K118","v":0},{"$f":"Финансирование!L118","v":0},{"$f":"Финансирование!M118","v":0},{"$f":"Финансирование!N118","v":0},{"$f":"Финансирование!O118","v":0},{"$f":"Финансирование!P118","v":0},{"$f":"Финансирование!Q118","v":0},{"$f":"Финансирование!R118","v":0},{"$f":"Финансирование!S118","v":0},{"$f":"Финансирование!T118","v":0},{"$f":"Финансирование!U118","v":0},{"$f":"Финансирование!V118","v":0},{"$f":"Финансирование!W118","v":0},{"$f":"Финансирование!X118","v":0},{"$f":"Финансирование!Y118","v":0},{"$f":"Финансирование!Z118","v":0},{"$f":"Финансирование!AA118","v":0}]
[null,null,"Уплата НДС  (-)","тыс. руб.","Лист: Налоги",null,null,{"$f":"Налоги!H27","v":0},{"$f":"Налоги!I27","v":0},{"$f":"Налоги!J27","v":0},{"$f":"Налоги!K27","v":0},{"$f":"Налоги!L27","v":0},{"$f":"Налоги!M27","v":0},{"$f":"Налоги!N27","v":0},{"$f":"Налоги!O27","v":0},{"$f":"Налоги!P27","v":0},{"$f":"Налоги!Q27","v":0},{"$f":"Налоги!R27","v":0},{"$f":"Налоги!S27","v":0},{"$f":"Налоги!T27","v":0},{"$f":"Налоги!U27","v":0},{"$f":"Налоги!V27","v":0},{"$f":"Налоги!W27","v":0},{"$f":"Налоги!X27","v":0},{"$f":"Налоги!Y27","v":0},{"$f":"Налоги!Z27","v":0},{"$f":"Налоги!AA27","v":0}]
[null,null,"Уплата налога на имущество  (-)","тыс. руб.","Лист: Налоги",null,null,{"$f":"Налоги!H168","v":0},{"$f":"Налоги!I168","v":0},{"$f":"Налоги!J168","v":0},{"$f":"Налоги!K168","v":0},{"$f":"Налоги!L168","v":0},{"$f":"Налоги!M168","v":0},{"$f":"Налоги!N168","v":0},{"$f":"Налоги!O168","v":0},{"$f":"Налоги!P168","v":0},{"$f":"Налоги!Q168","v":0},{"$f":"Налоги!R168","v":0},{"$f":"Налоги!S168","v":0},{"$f":"Налоги!T168","v":0},{"$f":"Налоги!U168","v":0},{"$f":"Налоги!V168","v":0},{"$f":"Налоги!W168","v":0},{"$f":"Налоги!X168","v":0},{"$f":"Налоги!Y168","v":0},{"$f":"Налоги!Z168","v":0},{"$f":"Налоги!AA168","v":0}]
[null,null,"Уплата налога на прибыль  (-)","тыс. руб.","Лист: Налоги",null,null,{"$f":"Налоги!H165+Налоги!H167","v":0},{"$f":"Налоги!I165+Налоги!I167","v":0},{"$f":"Налоги!J165+Налоги!J167","v":0},{"$f":"Налоги!K165+Налоги!K167","v":0},{"$f":"Налоги!L165+Налоги!L167","v":0},{"$f":"Налоги!M165+Налоги!M167","v":0},{"$f":"Налоги!N165+Налоги!N167","v":0},{"$f":"Налоги!O165+Налоги!O167","v":0},{"$f":"Налоги!P165+Налоги!P167","v":0},{"$f":"Налоги!Q165+Налоги!Q167","v":0},{"$f":"Налоги!R165+Налоги!R167","v":0},{"$f":"Налоги!S165+Налоги!S167","v":0},{"$f":"Налоги!T165+Налоги!T167","v":0},{"$f":"Налоги!U165+Налоги!U167","v":0},{"$f":"Налоги!V165+Налоги!V167","v":0},{"$f":"Налоги!W165+Налоги!W167","v":0},{"$f":"Налоги!X165+Налоги!X167","v":0},{"$f":"Налоги!Y165+Налоги!Y167","v":0},{"$f":"Налоги!Z165+Налоги!Z167","v":0},{"$f":"Налоги!AA165+Налоги!AA167","v":0}]
[null,null,"Уплата транспортного налога (-)","тыс. руб.","Лист: Налоги",null,null,{"$f":"Налоги!H170","v":0},{"$f":"Налоги!I170","v":0},{"$f":"Налоги!J170","v":0},{"$f":"Налоги!K170","v":0},{"$f":"Налоги!L170","v":0},{"$f":"Налоги!M170","v":0},{"$f":"Налоги!N170","v":0},{"$f":"Налоги!O170","v":0},{"$f":"Налоги!P170","v":0},{"$f":"Налоги!Q170","v":0},{"$f":"Налоги!R170","v":0},{"$f":"Налоги!S170","v":0},{"$f":"Налоги!T170","v":0},{"$f":"Налоги!U170","v":0},{"$f":"Налоги!V170","v":0},{"$f":"Налоги!W170","v":0},{"$f":"Налоги!X170","v":0},{"$f":"Налоги!Y170","v":0},{"$f":"Налоги!Z170","v":0},{"$f":"Налоги!AA170","v":0}]
[null,null,"Уплата земельного налога (-)","тыс. руб.","Лист: Налоги",null,null,{"$f":"Налоги!H173","v":0},{"$f":"Налоги!I173","v":0},{"$f":"Налоги!J173","v":0},{"$f":"Налоги!K173","v":0},{"$f":"Налоги!L173","v":0},{"$f":"Налоги!M173","v":0},{"$f":"Налоги!N173","v":0},{"$f":"Налоги!O173","v":0},{"$f":"Налоги!P173","v":0},{"$f":"Налоги!Q173","v":0},{"$f":"Налоги!R173","v":0},{"$f":"Налоги!S173","v":0},{"$f":"Налоги!T173","v":0},{"$f":"Налоги!U173","v":0},{"$f":"Налоги!V173","v":0},{"$f":"Налоги!W173","v":0},{"$f":"Налоги!X173","v":0},{"$f":"Налоги!Y173","v":0},{"$f":"Налоги!Z173","v":0},{"$f":"Налоги!AA173","v":0}]
[null,null,"Уплата страховых взносов  (-)","тыс. руб.","Лист: Операционные затраты",null,null,{"$f":"'Операционные затраты'!H192","v":0},{"$f":"'Операционные затраты'!I192","v":0},{"$f":"'Операционные затраты'!J192","v":0},{"$f":"'Операционные затраты'!K192","v":0},{"$f":"'Операционные затраты'!L192","v":0},{"$f":"'Операционные затраты'!M192","v":0},{"$f":"'Операционные затраты'!N192","v":0},{"$f":"'Операционные затраты'!O192","v":0},{"$f":"'Операционные затраты'!P192","v":0},{"$f":"'Операционные затраты'!Q192","v":0},{"$f":"'Операционные затраты'!R192","v":0},{"$f":"'Операционные затраты'!S192","v":0},{"$f":"'Операционные затраты'!T192","v":0},{"$f":"'Операционные затраты'!U192","v":0},{"$f":"'Операционные затраты'!V192","v":0},{"$f":"'Операционные затраты'!W192","v":0},{"$f":"'Операционные затраты'!X192","v":0},{"$f":"'Операционные затраты'!Y192","v":0},{"$f":"'Операционные затраты'!Z192","v":0},{"$f":"'Операционные затраты'!AA192","v":0}]
[null,"Итого операционный денежный поток",null,"тыс. руб.",null,null,null,{"$f":"H97+H102","v":0},0,0,0,0,0,0,0,0,0,0,0,0,0,0,0,0,0,0,0]
[]
[null,"Денежный поток от инвестиционной деятельности:"]
[]
[null,"Поступления  -всего:",null,"тыс. руб.",null,null,null,{"$f":"H117","v":0},{"$f":"I117","v":0},0,0,0,0,0,0,0,0,0,0,0,0,0,0,0,0,0,0]
[null,null,"Получение государственных субсидий (на покрытие инвестиционных расходов)","тыс. руб.","Лист: Предпосылки",null,null,{"$f":"Предпосылки!H234","v":0},{"$f":"Предпосылки!I234","v":0},{"$f":"Предпосылки!J234","v":0},{"$f":"Предпосылки!K234","v":0},{"$f":"Предпосылки!L234","v":0},{"$f":"Предпосылки!M234","v":0},{"$f":"Предпосылки!N234","v":0},{"$f":"Предпосылки!O234","v":0},{"$f":"Предпосылки!P234","v":0},{"$f":"Предпосылки!Q234","v":0},{"$f":"Предпосылки!R234","v":0},{"$f":"Предпосылки!S234","v":0},{"$f":"Предпосылки!T234","v":0},{"$f":"Предпосылки!U234","v":0},{"$f":"Предпосылки!V234","v":0},{"$f":"Предпосылки!W234","v":0},{"$f":"Предпосылки!X234","v":0},{"$f":"Предпосылки!Y234","v":0},{"$f":"Предпосылки!Z234","v":0},{"$f":"Предпосылки!AA234","v":0}]
[]
[null,"Платежи - всего:",null,"тыс. руб.",null,null,null,{"$f":"H120","v":0},{"$f":"I120","v":0},0,0,0,0,0,0,0,0,0,0,0,0,0,0,0,0,0,0]
[null,null,"Платежи в связи с приобретением, созданием, модернизацией, реконструкцией и подготовкой к использованию внеоборотных активов   (-)","тыс. руб.","Лист: Оборотный капитал",null,null,{"$f":"-'Капитальные вложения'!H27","v":0},{"$f":"-'Капитальные вложения'!I27","v":0},{"$f":"-'Капитальные вложения'!J27","v":0},{"$f":"-'Капитальные вложения'!K27","v":0},{"$f":"-'Капитальные вложения'!L27","v":0},{"$f":"-'Капитальные вложения'!M27","v":0},{"$f":"-'Капитальные вложения'!N27","v":0},{"$f":"-'Капитальные вложения'!O27","v":0},{"$f":"-'Капитальные вложения'!P27","v":0},{"$f":"-'Капитальные вложения'!Q27","v":0},{"$f":"-'Капитальные вложения'!R27","v":0},{"$f":"-'Капитальные вложения'!S27","v":0},{"$f":"-'Капитальные вложения'!T27","v":0},{"$f":"-'Капитальные вложения'!U27","v":0},{"$f":"-'Капитальные вложения'!V27","v":0},{"$f":"-'Капитальные вложения'!W27","v":0},{"$f":"-'Капитальные вложения'!X27","v":0},{"$f":"-'Капитальные вложения'!Y27","v":0},{"$f":"-'Капитальные вложения'!Z27","v":0},{"$f":"-'Капитальные вложения'!AA27","v":0}]
[null,"Итого инвестиционный денежный поток",null,"тыс. руб.",null,null,null,{"$f":"SUM(H116,H119)","v":0},{"$f":"SUM(I116,I119)","v":0},0,0,0,0,0,0,0,0,0,0,0,0,0,0,0,0,0,0]
[]
[null,"Денежный поток от финансовой деятельности"]
[]
[null,"Поступления - всего:",null,"тыс. руб.",null,null,null,{"$f":"SUM(H126:H127)","v":0},{"$f":"SUM(I126:I127)","v":0},0,0,0,0,0,0,0,0,0,0,0,0,0,0,0,0,0,0]
[null,null,"Получение кредитов и займов","тыс. руб.","Лист: Финансирование",null,null,{"$f":"Финансирование!H44+Финансирование!H96","v":0},{"$f":"Финансирование!I44+Финансирование!I96","v":0},{"$f":"Финансирование!J44+Финансирование!J96","v":0},{"$f":"Финансирование!K44+Финансирование!K96","v":0},{"$f":"Финансирование!L44+Финансирование!L96","v":0},{"$f":"Финансирование!M44+Финансирование!M96","v":0},{"$f":"Финансирование!N44+Финансирование!N96","v":0},{"$f":"Финансирование!O44+Финансирование!O96","v":0},{"$f":"Финансирование!P44+Финансирование!P96","v":0},{"$f":"Финансирование!Q44+Финансирование!Q96","v":0},{"$f":"Финансирование!R44+Финансирование!R96","v":0},{"$f":"Финансирование!S44+Финансирование!S96","v":0},{"$f":"Финансирование!T44+Финансирование!T96","v":0},{"$f":"Финансирование!U44+Финансирование!U96","v":0},{"$f":"Финансирование!V44+Финансирование!V96","v":0},{"$f":"Финансирование!W44+Финансирование!W96","v":0},{"$f":"Финансирование!X44+Финансирование!X96","v":0},{"$f":"Финансирование!Y44+Финансирование!Y96","v":0},{"$f":"Финансирование!Z44+Финансирование!Z96","v":0},{"$f":"Финансирование!AA44+Финансирование!AA96","v":0}]
[null,null,"Получение денежных вкладов от собственников (участников)","тыс. руб.","Лист: Предпосылки",null,null,{"$f":"SUM(Предпосылки!H217:H218)","v":0},{"$f":"SUM(Предпосылки!I217:I218)","v":0},{"$f":"SUM(Предпосылки!J217:J218)","v":0},{"$f":"SUM(Предпосылки!K217:K218)","v":0},{"$f":"SUM(Предпосылки!L217:L218)","v":0},{"$f":"SUM(Предпосылки!M217:M218)","v":0},{"$f":"SUM(Предпосылки!N217:N218)","v":0},{"$f":"SUM(Предпосылки!O217:O218)","v":0},{"$f":"SUM(Предпосылки!P217:P218)","v":0},{"$f":"SUM(Предпосылки!Q217:Q218)","v":0},{"$f":"SUM(Предпосылки!R217:R218)","v":0},{"$f":"SUM(Предпосылки!S217:S218)","v":0},{"$f":"SUM(Предпосылки!T217:T218)","v":0},{"$f":"SUM(Предпосылки!U217:U218)","v":0},{"$f":"SUM(Предпосылки!V217:V218)","v":0},{"$f":"SUM(Предпосылки!W217:W218)","v":0},{"$f":"SUM(Предпосылки!X217:X218)","v":0},{"$f":"SUM(Предпосылки!Y217:Y218)","v":0},{"$f":"SUM(Предпосылки!Z217:Z218)","v":0},{"$f":"SUM(Предпосылки!AA217:AA218)","v":0}]
[]
[null,"Платежи - всего:",null,"тыс. руб.",null,null,null,{"$f":"H130","v":0},{"$f":"I130","v":0},0,0,0,0,0,0,0,0,0,0,0,0,0,0,0,0,0,0]
[null,null,"Погашение кредитов и займов  (-)","тыс. руб.","Лист: Финансирование",null,null,{"$f":"Финансирование!H45+Финансирование!H97","v":0},{"$f":"Финансирование!I45+Финансирование!I97","v":0},{"$f":"Финансирование!J45+Финансирование!J97","v":0},{"$f":"Финансирование!K45+Финансирование!K97","v":0},{"$f":"Финансирование!L45+Финансирование!L97","v":0},{"$f":"Финансирование!M45+Финансирование!M97","v":0},{"$f":"Финансирование!N45+Финансирование!N97","v":0},{"$f":"Финансирование!O45+Финансирование!O97","v":0},{"$f":"Финансирование!P45+Финансирование!P97","v":0},{"$f":"Финансирование!Q45+Финансирование!Q97","v":0},{"$f":"Финансирование!R45+Финансирование!R97","v":0},{"$f":"Финансирование!S45+Финансирование!S97","v":0},{"$f":"Финансирование!T45+Финансирование!T97","v":0},{"$f":"Финансирование!U45+Финансирование!U97","v":0},{"$f":"Финансирование!V45+Финансирование!V97","v":0},{"$f":"Финансирование!W45+Финансирование!W97","v":0},{"$f":"Финансирование!X45+Финансирование!X97","v":0},{"$f":"Финансирование!Y45+Финансирование!Y97","v":0},{"$f":"Финансирование!Z45+Финансирование!Z97","v":0},{"$f":"Финансирование!AA45+Финансирование!AA97","v":0}]
[null,"Итого финансовый денежный поток",null,"тыс. руб.",null,null,null,{"$f":"SUM(H125,H129)","v":0},{"$f":"SUM(I125,I129)","v":0},0,0,0,0,0,0,0,0,0,0,0,0,0,0,0,0,0,0]
[]
[null,null,"Остаток денежных средств на начало периода","тыс. руб.",null,null,null,{"$f":"Предпосылки!F212","v":0},{"$f":"H135","v":0},{"$f":"I135","v":0},{"$f":"J135","v":0},0,0,0,0,0,0,0,0,0,0,0,0,0,0,0,0]
[null,null,"Изменение денежных средств за период","тыс. руб.",null,null,null,{"$f":"ROUND(SUM(H112,H121,H131),3)","v":0},{"$f":"ROUND(SUM(I112,I121,I131),3)","v":0},0,0,0,0,0,0,0,0,0,0,0,0,0,0,0,0,0,0]
[null,null,"Остаток денежных средств на конец периода","тыс. руб.",null,null,null,{"$f":"SUM(H133:H134)","v":0},{"$f":"SUM(I133:I134)","v":0},0,0,0,0,0,0,0,0,0,0,0,0,0,0,0,0,0,0]
[]
[null,null,"Проверка: положительные остатки денежных средств",null,null,{"$f":"IF(COUNTIF(H137:AA137, \"Ошибка\") = 0, \"Верно\", \"Ошибка\")","v":"Верно"},null,{"$f":"IF(H135<0,\"Ошибка\", \"Верно\")","v":"Верно"},{"$f":"IF(I135<0,\"Ошибка\", \"Верно\")","v":"Верно"},"Верно","Верно","Верно","Верно","Верно","Верно","Верно","Верно","Верно","Верно","Верно","Верно","Верно","Верно","Верно","Верно","Верно","Верно"]

{"sheet":"Эффективность (Без СПИК)","index":15,"n_rows":108,"n_cols":27,"rows_kept":108,"cut":false,"hidden":false,"merged":[[1,2,2,2],[1,3,2,3],[1,4,2,4],[1,5,2,5]]}
[null,null,null,null,{"$f":"\"Лист:  \" & RIGHT(CELL(\"filename\",A1),LEN(CELL(\"filename\",A1))-SEARCH(\"]\",CELL(\"filename\",A1)))","v":"Лист:  Эффективность (Без СПИК)"}]
[null,null,"Параметр","Ед. изм.","Источник","Итоговое значение",null,{"$f":"Предпосылки!H2","v":2023},{"$f":"Предпосылки!I2","v":2024},{"$f":"Предпосылки!J2","v":2025},{"$f":"Предпосылки!K2","v":2026},{"$f":"Предпосылки!L2","v":2027},{"$f":"Предпосылки!M2","v":2028},{"$f":"Предпосылки!N2","v":2029},{"$f":"Предпосылки!O2","v":2030},{"$f":"Предпосылки!P2","v":2031},{"$f":"Предпосылки!Q2","v":2032},{"$f":"Предпосылки!R2","v":2033},{"$f":"Предпосылки!S2","v":2034},{"$f":"Предпосылки!T2","v":2035},{"$f":"Предпосылки!U2","v":2036},{"$f":"Предпосылки!V2","v":2037},{"$f":"Предпосылки!W2","v":2038},{"$f":"Предпосылки!X2","v":2039},{"$f":"Предпосылки!Y2","v":2040},{"$f":"Предпосылки!Z2","v":2041},{"$f":"Предпосылки!AA2","v":2042}]
[null,null,null,null,null,null,null,1,2,3,4,5,6,7,8,9,10,11,12,13,14,15,16,17,18,19,20]
[]
[null,null,"Дата оценки",null,"Лист: Предпосылки",{"$f":"Предпосылки!F7","v":"2023-08-30"}]
[]
[null,"Дисконтирование"]
[]
[null,null,"Ставка дисконтирования для проекта","%","Лист: WACC",{"$f":"WACC!D20","v":0.22129706066895843}]
[null,null,"Корректировка с учетом даты оценки","х",null,null,null,{"$f":"IF(H2>YEAR($F$5),One, (DATE(H2,12,31)-F5)/Предпосылки!H12)","v":0.33698630136986302},{"$f":"IF(I2>YEAR($F$5),One, (DATE(I2,12,31)-G5)/Предпосылки!I12)","v":1},{"$f":"IF(J2>YEAR($F$5),One, (DATE(J2,12,31)-H5)/Предпосылки!J12)","v":1},{"$f":"IF(K2>YEAR($F$5),One, (DATE(K2,12,31)-I5)/Предпосылки!K12)","v":1},{"$f":"IF(L2>YEAR($F$5),One, (DATE(L2,12,31)-J5)/Предпосылки!L12)","v":1},{"$f":"IF(M2>YEAR($F$5),One, (DATE(M2,12,31)-K5)/Предпосылки!M12)","v":1},{"$f":"IF(N2>YEAR($F$5),One, (DATE(N2,12,31)-L5)/Предпосылки!N12)","v":1},{"$f":"IF(O2>YEAR($F$5),One, (DATE(O2,12,31)-M5)/Предпосылки!O12)","v":1},{"$f":"IF(P2>YEAR($F$5),One, (DATE(P2,12,31)-N5)/Предпосылки!P12)","v":1},{"$f":"IF(Q2>YEAR($F$5),One, (DATE(Q2,12,31)-O5)/Предпосылки!Q12)","v":1},{"$f":"IF(R2>YEAR($F$5),One, (DATE(R2,12,31)-P5)/Предпосылки!R12)","v":1},{"$f":"IF(S2>YEAR($F$5),One, (DATE(S2,12,31)-Q5)/Предпосылки!S12)","v":1},{"$f":"IF(T2>YEAR($F$5),One, (DATE(T2,12,31)-R5)/Предпосылки!T12)","v":1},{"$f":"IF(U2>YEAR($F$5),One, (DATE(U2,12,31)-S5)/Предпосылки!U12)","v":1},{"$f":"IF(V2>YEAR($F$5),One, (DATE(V2,12,31)-T5)/Предпосылки!V12)","v":1},{"$f":"IF(W2>YEAR($F$5),One, (DATE(W2,12,31)-U5)/Предпосылки!W12)","v":1},{"$f":"IF(X2>YEAR($F$5),One, (DATE(X2,12,31)-V5)/Предпосылки!X12)","v":1},{"$f":"IF(Y2>YEAR($F$5),One, (DATE(Y2,12,31)-W5)/Предпосылки!Y12)","v":1},{"$f":"IF(Z2>YEAR($F$5),One, (DATE(Z2,12,31)-X5)/Предпосылки!Z12)","v":1},{"$f":"IF(AA2>YEAR($F$5),One, (DATE(AA2,12,31)-Y5)/Предпосылки!AA12)","v":1}]
[null,null,"Ставка дисконтирования с учетом корректировки","%",null,null,null,{"$f":"$F$9*H10","v":7.4574077978854486E-2},{"$f":"$F$9*I10","v":0.22129706066895843},0.22129706066895843,0.22129706066895843,0.22129706066895843,0.22129706066895843,0.22129706066895843,0.22129706066895843,0.22129706066895843,0.22129706066895843,0.22129706066895843,0.22129706066895843,0.22129706066895843,0.22129706066895843,0.22129706066895843,0.22129706066895843,0.22129706066895843,0.22129706066895843,0.22129706066895843,0.22129706066895843]
[]
[null,null,"Дисконт-фактор за период","х",null,null,null,{"$f":"One/ (One+H11)","v":0.93060126844012525},0.81880161035698862,0.81880161035698862,0.81880161035698862,0.81880161035698862,0.81880161035698862,0.81880161035698862,0.81880161035698862,0.81880161035698862,0.81880161035698862,0.81880161035698862,0.81880161035698862,0.81880161035698862,0.81880161035698862,0.81880161035698862,0.81880161035698862,0.81880161035698862,0.81880161035698862,0.81880161035698862,0.81880161035698862]
[null,null,"Дисконт-фактор накопленный","х",null,null,null,{"$f":"H13^($H3-0.5)","v":0.96467676889211196},{"$f":"PRODUCT($H$13:H$13)*I13^($H3-0.5)","v":0.84207928558340395},{"$f":"PRODUCT($H$13:I$13)*J13^($H3-0.5)","v":0.68949587508395371},{"$f":"PRODUCT($H$13:J$13)*K13^($H3-0.5)","v":0.56456033285324236},{"$f":"PRODUCT($H$13:K$13)*L13^($H3-0.5)","v":0.46226290968391243},{"$f":"PRODUCT($H$13:L$13)*M13^($H3-0.5)","v":0.37850161485749467},{"$f":"PRODUCT($H$13:M$13)*N13^($H3-0.5)","v":0.30991773176803727},{"$f":"PRODUCT($H$13:N$13)*O13^($H3-0.5)","v":0.25376113784985421},{"$f":"PRODUCT($H$13:O$13)*P13^($H3-0.5)","v":0.20778002831748238},{"$f":"PRODUCT($H$13:P$13)*Q13^($H3-0.5)","v":0.17013062178637528},{"$f":"PRODUCT($H$13:Q$13)*R13^($H3-0.5)","v":0.13930322708971984},{"$f":"PRODUCT($H$13:R$13)*S13^($H3-0.5)","v":0.11406170666898791},{"$f":"PRODUCT($H$13:S$13)*T13^($H3-0.5)","v":9.3393909100633762E-2},{"$f":"PRODUCT($H$13:T$13)*U13^($H3-0.5)","v":7.6471083169133147E-2},{"$f":"PRODUCT($H$13:U$13)*V13^($H3-0.5)","v":6.2614646044629421E-2},{"$f":"PRODUCT($H$13:V$13)*W13^($H3-0.5)","v":5.1268973013275418E-2},{"$f":"PRODUCT($H$13:W$13)*X13^($H3-0.5)","v":4.1979117664618905E-2},{"$f":"PRODUCT($H$13:X$13)*Y13^($H3-0.5)","v":3.4372569145155463E-2},{"$f":"PRODUCT($H$13:Y$13)*Z13^($H3-0.5)","v":2.8144314968160236E-2},{"$f":"PRODUCT($H$13:Z$13)*AA13^($H3-0.5)","v":2.30446104183239E-2}]
[]
[null,null,"Справочно: расчет дисконт-фактора при фиксированной ставке дисконтирования"]
[null,null,"Дисконт-фактор ","х",null,null,null,{"$f":"One/(One+H11)^(H$3-0.5)","v":0.96467676889211207},0.74091439423856298,0.60666189913920809,0.49673573995741266,0.4067280237989998,0.3330295608639367,0.27268514073187211,0.22327503235167898,0.18281795604206347,0.14969163680941475,0.12256775327652229,0.10035867376065452,8.2173843688515574E-2,6.7284075541380009E-2,5.5092309404663246E-2,4.5109671658823736E-2,3.6935871796919879E-2,3.0243151307257275E-2,2.4763140992652331E-2,2.0276099722280887E-2]
[]
[null,null,"Ставка дисконтирования для расчета LLCR (средневзвшенная стоимость долга)",null,"Лист: WACC",{"$f":"WACC!D18","v":0}]
[]
[null,null,"Ставка дисконтирования для расчета бюджетной эффективности","%","Лист: Предпосылки",{"$f":"Предпосылки!F15","v":7.4999999999999997E-2}]
[null,null,"Ставка дисконтирования с учетом корректировки на дату оценки","%",null,null,null,{"$f":"$F$21*H10","v":2.5273972602739725E-2},7.4999999999999997E-2,7.4999999999999997E-2,7.4999999999999997E-2,7.4999999999999997E-2,7.4999999999999997E-2,7.4999999999999997E-2,7.4999999999999997E-2,7.4999999999999997E-2,7.4999999999999997E-2,7.4999999999999997E-2,7.4999999999999997E-2,7.4999999999999997E-2,7.4999999999999997E-2,7.4999999999999997E-2,7.4999999999999997E-2,7.4999999999999997E-2,7.4999999999999997E-2,7.4999999999999997E-2,7.4999999999999997E-2]
[]
[null,null,"Дисконт-фактор за период","х",null,null,null,{"$f":"One/ (One+H22)","v":0.97534905471307365},0.93023255813953487,0.93023255813953487,0.93023255813953487,0.93023255813953487,0.93023255813953487,0.93023255813953487,0.93023255813953487,0.93023255813953487,0.93023255813953487,0.93023255813953487,0.93023255813953487,0.93023255813953487,0.93023255813953487,0.93023255813953487,0.93023255813953487,0.93023255813953487,0.93023255813953487,0.93023255813953487,0.93023255813953487]
[null,null,"Дисконт-фактор накопленный","х",null,null,null,{"$f":"H24^($H3-0.5)","v":0.98759761781460043},{"$f":"PRODUCT($H$24:H$24)*I24^($H3-0.5)","v":0.94071016149215259},{"$f":"PRODUCT($H$24:I$24)*J24^($H3-0.5)","v":0.87507921999270011},{"$f":"PRODUCT($H$24:J$24)*K24^($H3-0.5)","v":0.81402718138855823},{"$f":"PRODUCT($H$24:K$24)*L24^($H3-0.5)","v":0.7572345873381936},{"$f":"PRODUCT($H$24:L$24)*M24^($H3-0.5)","v":0.70440426729134298},{"$f":"PRODUCT($H$24:M$24)*N24^($H3-0.5)","v":0.65525978352683067},{"$f":"PRODUCT($H$24:N$24)*O24^($H3-0.5)","v":0.60954398467612159},{"$f":"PRODUCT($H$24:O$24)*P24^($H3-0.5)","v":0.56701766016383404},{"$f":"PRODUCT($H$24:P$24)*Q24^($H3-0.5)","v":0.52745828852449683},{"$f":"PRODUCT($H$24:Q$24)*R24^($H3-0.5)","v":0.49065887304604355},{"$f":"PRODUCT($H$24:R$24)*S24^($H3-0.5)","v":0.45642685864748239},{"$f":"PRODUCT($H$24:S$24)*T24^($H3-0.5)","v":0.42458312432323941},{"$f":"PRODUCT($H$24:T$24)*U24^($H3-0.5)","v":0.39496104588208314},{"$f":"PRODUCT($H$24:U$24)*V24^($H3-0.5)","v":0.36740562407635646},{"$f":"PRODUCT($H$24:V$24)*W24^($H3-0.5)","v":0.34177267355940133},{"$f":"PRODUCT($H$24:W$24)*X24^($H3-0.5)","v":0.31792806842735005},{"$f":"PRODUCT($H$24:X$24)*Y24^($H3-0.5)","v":0.29574704039753497},{"$f":"PRODUCT($H$24:Y$24)*Z24^($H3-0.5)","v":0.27511352595119526},{"$f":"PRODUCT($H$24:Z$24)*AA24^($H3-0.5)","v":0.25591955902436769}]
[]
[null,null,"Справочно: расчет дисконт-фактора при фиксированной ставке дисконтирования"]
[null,null,"Дисконт-фактор","х",null,null,null,{"$f":"One/(One+H22)^(H$3-0.5)","v":0.98759761781460054},0.8971959482240226,0.8346008820688583,0.77637291355242632,0.72220736144411757,0.67182080134336519,0.6249495826449909,0.5813484489720846,0.54078925485775309,0.50305977196070062,0.46796257856809359,0.43531402657497087,0.40494328053485662,0.37669142375335496,0.350410626747307,0.3259633737184251,0.30322174299388382,0.28206673766872914,0.26238766294765509,0.2440815469280512]
[]
[null,"Расчет свободного денежного потока"]
[]
[null,null,"Эффективная ставка налога на прибыль","%",null,null,null,{"$f":"-'Отчетность (Без СПИК)'!H70/'Отчетность (Без СПИК)'!H69","v":{"$error":"#DIV/0!"}},{"$f":"-'Отчетность (Без СПИК)'!I70/'Отчетность (Без СПИК)'!I69","v":{"$error":"#DIV/0!"}},{"$f":"-'Отчетность (Без СПИК)'!J70/'Отчетность (Без СПИК)'!J69","v":{"$error":"#DIV/0!"}},{"$f":"-'Отчетность (Без СПИК)'!K70/'Отчетность (Без СПИК)'!K69","v":{"$error":"#DIV/0!"}},{"$f":"-'Отчетность (Без СПИК)'!L70/'Отчетность (Без СПИК)'!L69","v":{"$error":"#DIV/0!"}},{"$f":"-'Отчетность (Без СПИК)'!M70/'Отчетность (Без СПИК)'!M69","v":{"$error":"#DIV/0!"}},{"$f":"-'Отчетность (Без СПИК)'!N70/'Отчетность (Без СПИК)'!N69","v":{"$error":"#DIV/0!"}},{"$f":"-'Отчетность (Без СПИК)'!O70/'Отчетность (Без СПИК)'!O69","v":{"$error":"#DIV/0!"}},{"$f":"-'Отчетность (Без СПИК)'!P70/'Отчетность (Без СПИК)'!P69","v":{"$error":"#DIV/0!"}},{"$f":"-'Отчетность (Без СПИК)'!Q70/'Отчетность (Без СПИК)'!Q69","v":{"$error":"#DIV/0!"}},{"$f":"-'Отчетность (Без СПИК)'!R70/'Отчетность (Без СПИК)'!R69","v":{"$error":"#DIV/0!"}},{"$f":"-'Отчетность (Без СПИК)'!S70/'Отчетность (Без СПИК)'!S69","v":{"$error":"#DIV/0!"}},{"$f":"-'Отчетность (Без СПИК)'!T70/'Отчетность (Без СПИК)'!T69","v":{"$error":"#DIV/0!"}},{"$f":"-'Отчетность (Без СПИК)'!U70/'Отчетность (Без СПИК)'!U69","v":{"$error":"#DIV/0!"}},{"$f":"-'Отчетность (Без СПИК)'!V70/'Отчетность (Без СПИК)'!V69","v":{"$error":"#DIV/0!"}},{"$f":"-'Отчетность (Без СПИК)'!W70/'Отчетность (Без СПИК)'!W69","v":{"$error":"#DIV/0!"}},{"$f":"-'Отчетность (Без СПИК)'!X70/'Отчетность (Без СПИК)'!X69","v":{"$error":"#DIV/0!"}},{"$f":"-'Отчетность (Без СПИК)'!Y70/'Отчетность (Без СПИК)'!Y69","v":{"$error":"#DIV/0!"}},{"$f":"-'Отчетность (Без СПИК)'!Z70/'Отчетность (Без СПИК)'!Z69","v":{"$error":"#DIV/0!"}},{"$f":"-'Отчетность (Без СПИК)'!AA70/'Отчетность (Без СПИК)'!AA69","v":{"$error":"#DIV/0!"}}]
[]
[null,null,"EBIT","тыс. руб.","Лист: Отчетность (Без СПИК)",null,null,{"$f":"'Отчетность (Без СПИК)'!H89","v":0},{"$f":"'Отчетность (Без СПИК)'!I89","v":0},{"$f":"'Отчетность (Без СПИК)'!J89","v":0},{"$f":"'Отчетность (Без СПИК)'!K89","v":0},{"$f":"'Отчетность (Без СПИК)'!L89","v":0},{"$f":"'Отчетность (Без СПИК)'!M89","v":0},{"$f":"'Отчетность (Без СПИК)'!N89","v":0},{"$f":"'Отчетность (Без СПИК)'!O89","v":0},{"$f":"'Отчетность (Без СПИК)'!P89","v":0},{"$f":"'Отчетность (Без СПИК)'!Q89","v":0},{"$f":"'Отчетность (Без СПИК)'!R89","v":0},{"$f":"'Отчетность (Без СПИК)'!S89","v":0},{"$f":"'Отчетность (Без СПИК)'!T89","v":0},{"$f":"'Отчетность (Без СПИК)'!U89","v":0},{"$f":"'Отчетность (Без СПИК)'!V89","v":0},{"$f":"'Отчетность (Без СПИК)'!W89","v":0},{"$f":"'Отчетность (Без СПИК)'!X89","v":0},{"$f":"'Отчетность (Без СПИК)'!Y89","v":0},{"$f":"'Отчетность (Без СПИК)'!Z89","v":0},{"$f":"'Отчетность (Без СПИК)'!AA89","v":0}]
[null,null,"Амортизация","тыс. руб.","Лист: Отчетность (Без СПИК)",null,null,{"$f":"'Отчетность (Без СПИК)'!H90","v":0},{"$f":"'Отчетность (Без СПИК)'!I90","v":0},{"$f":"'Отчетность (Без СПИК)'!J90","v":0},{"$f":"'Отчетность (Без СПИК)'!K90","v":0},{"$f":"'Отчетность (Без СПИК)'!L90","v":0},{"$f":"'Отчетность (Без СПИК)'!M90","v":0},{"$f":"'Отчетность (Без СПИК)'!N90","v":0},{"$f":"'Отчетность (Без СПИК)'!O90","v":0},{"$f":"'Отчетность (Без СПИК)'!P90","v":0},{"$f":"'Отчетность (Без СПИК)'!Q90","v":0},{"$f":"'Отчетность (Без СПИК)'!R90","v":0},{"$f":"'Отчетность (Без СПИК)'!S90","v":0},{"$f":"'Отчетность (Без СПИК)'!T90","v":0},{"$f":"'Отчетность (Без СПИК)'!U90","v":0},{"$f":"'Отчетность (Без СПИК)'!V90","v":0},{"$f":"'Отчетность (Без СПИК)'!W90","v":0},{"$f":"'Отчетность (Без СПИК)'!X90","v":0},{"$f":"'Отчетность (Без СПИК)'!Y90","v":0},{"$f":"'Отчетность (Без СПИК)'!Z90","v":0},{"$f":"'Отчетность (Без СПИК)'!AA90","v":0}]
[null,null,"Капитальные вложения (-)","тыс. руб.","Лист: Отчетность (Без СПИК)",null,null,{"$f":"'Отчетность (Без СПИК)'!H120","v":0},{"$f":"'Отчетность (Без СПИК)'!I120","v":0},{"$f":"'Отчетность (Без СПИК)'!J120","v":0},{"$f":"'Отчетность (Без СПИК)'!K120","v":0},{"$f":"'Отчетность (Без СПИК)'!L120","v":0},{"$f":"'Отчетность (Без СПИК)'!M120","v":0},{"$f":"'Отчетность (Без СПИК)'!N120","v":0},{"$f":"'Отчетность (Без СПИК)'!O120","v":0},{"$f":"'Отчетность (Без СПИК)'!P120","v":0},{"$f":"'Отчетность (Без СПИК)'!Q120","v":0},{"$f":"'Отчетность (Без СПИК)'!R120","v":0},{"$f":"'Отчетность (Без СПИК)'!S120","v":0},{"$f":"'Отчетность (Без СПИК)'!T120","v":0},{"$f":"'Отчетность (Без СПИК)'!U120","v":0},{"$f":"'Отчетность (Без СПИК)'!V120","v":0},{"$f":"'Отчетность (Без СПИК)'!W120","v":0},{"$f":"'Отчетность (Без СПИК)'!X120","v":0},{"$f":"'Отчетность (Без СПИК)'!Y120","v":0},{"$f":"'Отчетность (Без СПИК)'!Z120","v":0},{"$f":"'Отчетность (Без СПИК)'!AA120","v":0}]
[null,null,"Изменение в чистом оборотном капитале (-)","тыс. руб.","Лист: Отчетность (Без СПИК)",null,null,{"$f":"-('Отчетность (Без СПИК)'!H47-'Отчетность (Без СПИК)'!G47)","v":0},{"$f":"-('Отчетность (Без СПИК)'!I47-'Отчетность (Без СПИК)'!H47)","v":0},{"$f":"-('Отчетность (Без СПИК)'!J47-'Отчетность (Без СПИК)'!I47)","v":0},{"$f":"-('Отчетность (Без СПИК)'!K47-'Отчетность (Без СПИК)'!J47)","v":0},{"$f":"-('Отчетность (Без СПИК)'!L47-'Отчетность (Без СПИК)'!K47)","v":0},{"$f":"-('Отчетность (Без СПИК)'!M47-'Отчетность (Без СПИК)'!L47)","v":0},{"$f":"-('Отчетность (Без СПИК)'!N47-'Отчетность (Без СПИК)'!M47)","v":0},{"$f":"-('Отчетность (Без СПИК)'!O47-'Отчетность (Без СПИК)'!N47)","v":0},{"$f":"-('Отчетность (Без СПИК)'!P47-'Отчетность (Без СПИК)'!O47)","v":0},{"$f":"-('Отчетность (Без СПИК)'!Q47-'Отчетность (Без СПИК)'!P47)","v":0},{"$f":"-('Отчетность (Без СПИК)'!R47-'Отчетность (Без СПИК)'!Q47)","v":0},{"$f":"-('Отчетность (Без СПИК)'!S47-'Отчетность (Без СПИК)'!R47)","v":0},{"$f":"-('Отчетность (Без СПИК)'!T47-'Отчетность (Без СПИК)'!S47)","v":0},{"$f":"-('Отчетность (Без СПИК)'!U47-'Отчетность (Без СПИК)'!T47)","v":0},{"$f":"-('Отчетность (Без СПИК)'!V47-'Отчетность (Без СПИК)'!U47)","v":0},{"$f":"-('Отчетность (Без СПИК)'!W47-'Отчетность (Без СПИК)'!V47)","v":0},{"$f":"-('Отчетность (Без СПИК)'!X47-'Отчетность (Без СПИК)'!W47)","v":0},{"$f":"-('Отчетность (Без СПИК)'!Y47-'Отчетность (Без СПИК)'!X47)","v":0},{"$f":"-('Отчетность (Без СПИК)'!Z47-'Отчетность (Без СПИК)'!Y47)","v":0},{"$f":"-('Отчетность (Без СПИК)'!AA47-'Отчетность (Без СПИК)'!Z47)","v":0}]
[]
[null,null,"FCFF","тыс. руб.",null,null,null,{"$f":"H34*(One-H32)+SUM(H35:H37)","v":{"$error":"#DIV/0!"}},{"$error":"#DIV/0!"},{"$error":"#DIV/0!"},{"$error":"#DIV/0!"},{"$error":"#DIV/0!"},{"$error":"#DIV/0!"},{"$error":"#DIV/0!"},{"$error":"#DIV/0!"},{"$error":"#DIV/0!"},{"$error":"#DIV/0!"},{"$error":"#DIV/0!"},{"$error":"#DIV/0!"},{"$error":"#DIV/0!"},{"$error":"#DIV/0!"},{"$error":"#DIV/0!"},{"$error":"#DIV/0!"},{"$error":"#DIV/0!"},{"$error":"#DIV/0!"},{"$error":"#DIV/0!"},{"$error":"#DIV/0!"}]
[null,null,"FCFF накопительным итогом","тыс. руб.",null,null,null,{"$f":"SUM($H39:H39)","v":{"$error":"#DIV/0!"}},{"$f":"SUM($H39:I39)","v":{"$error":"#DIV/0!"}},{"$f":"SUM($H39:J39)","v":{"$error":"#DIV/0!"}},{"$f":"SUM($H39:K39)","v":{"$error":"#DIV/0!"}},{"$f":"SUM($H39:L39)","v":{"$error":"#DIV/0!"}},{"$f":"SUM($H39:M39)","v":{"$error":"#DIV/0!"}},{"$f":"SUM($H39:N39)","v":{"$error":"#DIV/0!"}},{"$f":"SUM($H39:O39)","v":{"$error":"#DIV/0!"}},{"$f":"SUM($H39:P39)","v":{"$error":"#DIV/0!"}},{"$f":"SUM($H39:Q39)","v":{"$error":"#DIV/0!"}},{"$f":"SUM($H39:R39)","v":{"$error":"#DIV/0!"}},{"$f":"SUM($H39:S39)","v":{"$error":"#DIV/0!"}},{"$f":"SUM($H39:T39)","v":{"$error":"#DIV/0!"}},{"$f":"SUM($H39:U39)","v":{"$error":"#DIV/0!"}},{"$f":"SUM($H39:V39)","v":{"$error":"#DIV/0!"}},{"$f":"SUM($H39:W39)","v":{"$error":"#DIV/0!"}},{"$f":"SUM($H39:X39)","v":{"$error":"#DIV/0!"}},{"$f":"SUM($H39:Y39)","v":{"$error":"#DIV/0!"}},{"$f":"SUM($H39:Z39)","v":{"$error":"#DIV/0!"}},{"$f":"SUM($H39:AA39)","v":{"$error":"#DIV/0!"}}]
[]
[null,"Показатели эффективности инвестиционного проекта"]
[]
[null,null,"Дисконтированные потоки проекта","тыс. руб.",null,null,null,{"$f":"H39*H14","v":{"$error":"#DIV/0!"}},{"$f":"I39*I14","v":{"$error":"#DIV/0!"}},{"$error":"#DIV/0!"},{"$error":"#DIV/0!"},{"$error":"#DIV/0!"},{"$error":"#DIV/0!"},{"$error":"#DIV/0!"},{"$error":"#DIV/0!"},{"$error":"#DIV/0!"},{"$error":"#DIV/0!"},{"$error":"#DIV/0!"},{"$error":"#DIV/0!"},{"$error":"#DIV/0!"},{"$error":"#DIV/0!"},{"$error":"#DIV/0!"},{"$error":"#DIV/0!"},{"$error":"#DIV/0!"},{"$error":"#DIV/0!"},{"$error":"#DIV/0!"},{"$error":"#DIV/0!"}]
[null,null,"Дисконтированные потоки прогнозного периода (в течение срока действия СПИК)","тыс. руб.",null,null,null,{"$f":"H44*Предпосылки!H8","v":{"$error":"#DIV/0!"}},{"$f":"I44*Предпосылки!I8","v":{"$error":"#DIV/0!"}},{"$f":"J44*Предпосылки!J8","v":{"$error":"#DIV/0!"}},{"$f":"K44*Предпосылки!K8","v":{"$error":"#DIV/0!"}},{"$f":"L44*Предпосылки!L8","v":{"$error":"#DIV/0!"}},{"$f":"M44*Предпосылки!M8","v":{"$error":"#DIV/0!"}},{"$f":"N44*Предпосылки!N8","v":{"$error":"#DIV/0!"}},{"$f":"O44*Предпосылки!O8","v":{"$error":"#DIV/0!"}},{"$f":"P44*Предпосылки!P8","v":{"$error":"#DIV/0!"}},{"$f":"Q44*Предпосылки!Q8","v":{"$error":"#DIV/0!"}},{"$f":"R44*Предпосылки!R8","v":{"$error":"#DIV/0!"}},{"$f":"S44*Предпосылки!S8","v":{"$error":"#DIV/0!"}},{"$f":"T44*Предпосылки!T8","v":{"$error":"#DIV/0!"}},{"$f":"U44*Предпосылки!U8","v":{"$error":"#DIV/0!"}},{"$f":"V44*Предпосылки!V8","v":{"$error":"#DIV/0!"}},{"$f":"W44*Предпосылки!W8","v":{"$error":"#DIV/0!"}},{"$f":"X44*Предпосылки!X8","v":{"$error":"#DIV/0!"}},{"$f":"Y44*Предпосылки!Y8","v":{"$error":"#DIV/0!"}},{"$f":"Z44*Предпосылки!Z8","v":{"$error":"#DIV/0!"}},{"$f":"AA44*Предпосылки!AA8","v":{"$error":"#DIV/0!"}}]
[]
[null,null,"Терминальная стоимость","тыс. руб.",null,{"$f":"INDEX(H39:AA39,,MATCH(Предпосылки!F8,H3:AA3,0))*(One+Предпосылки!F16)/(Предпосылки!F14-Предпосылки!F16)","v":{"$error":"#DIV/0!"}}]
[null,null,"Дисконтированная терминальная стоимость","тыс. руб.",null,{"$f":"F47*INDEX(H14:AA14,,MATCH(Предпосылки!F8,H3:AA3,0))","v":{"$error":"#DIV/0!"}}]
[]
[null,null,"NPV (чистая приведенная стоимость)","тыс. руб.",null,{"$f":"SUM(H45:AA45,F48)","v":{"$error":"#DIV/0!"}}]
[null,null,"NPV (чистая приведенная стоимость) за срок действия СПИК","тыс. руб.",null,{"$f":"SUM(H45:AA45)","v":{"$error":"#DIV/0!"}}]
[null,null,"IRR (внутренняя норма доходности) за срок действия СПИК","%",null,{"$f":"IRR(H39:AA39,F9)","v":{"$error":"#VALUE!"}}]
[null,null,"PBP (простой период окупаемости)","лет",null,{"$f":" SUM(H53:V53)","v":{"$error":"#DIV/0!"}},null,{"$f":"IF(H40>0,0,1)","v":{"$error":"#DIV/0!"}},{"$error":"#DIV/0!"},{"$error":"#DIV/0!"},{"$error":"#DIV/0!"},{"$error":"#DIV/0!"},{"$error":"#DIV/0!"},{"$error":"#DIV/0!"},{"$error":"#DIV/0!"},{"$error":"#DIV/0!"},{"$error":"#DIV/0!"},{"$error":"#DIV/0!"},{"$error":"#DIV/0!"},{"$error":"#DIV/0!"},{"$error":"#DIV/0!"},{"$error":"#DIV/0!"},{"$error":"#DIV/0!"},{"$error":"#DIV/0!"},{"$error":"#DIV/0!"},{"$error":"#DIV/0!"},{"$error":"#DIV/0!"}]
[null,null,"DPBP (дисконтированный период окупаемости)","лет",null,{"$f":" SUM(H54:V54)","v":{"$error":"#DIV/0!"}},null,{"$f":"IF(SUM($H44:H44)>0,0,1)","v":{"$error":"#DIV/0!"}},{"$f":"IF(SUM($H44:I44)>0,0,1)","v":{"$error":"#DIV/0!"}},{"$f":"IF(SUM($H44:J44)>0,0,1)","v":{"$error":"#DIV/0!"}},{"$f":"IF(SUM($H44:K44)>0,0,1)","v":{"$error":"#DIV/0!"}},{"$f":"IF(SUM($H44:L44)>0,0,1)","v":{"$error":"#DIV/0!"}},{"$f":"IF(SUM($H44:M44)>0,0,1)","v":{"$error":"#DIV/0!"}},{"$f":"IF(SUM($H44:N44)>0,0,1)","v":{"$error":"#DIV/0!"}},{"$f":"IF(SUM($H44:O44)>0,0,1)","v":{"$error":"#DIV/0!"}},{"$f":"IF(SUM($H44:P44)>0,0,1)","v":{"$error":"#DIV/0!"}},{"$f":"IF(SUM($H44:Q44)>0,0,1)","v":{"$error":"#DIV/0!"}},{"$f":"IF(SUM($H44:R44)>0,0,1)","v":{"$error":"#DIV/0!"}},{"$f":"IF(SUM($H44:S44)>0,0,1)","v":{"$error":"#DIV/0!"}},{"$f":"IF(SUM($H44:T44)>0,0,1)","v":{"$error":"#DIV/0!"}},{"$f":"IF(SUM($H44:U44)>0,0,1)","v":{"$error":"#DIV/0!"}},{"$f":"IF(SUM($H44:V44)>0,0,1)","v":{"$error":"#DIV/0!"}},{"$f":"IF(SUM($H44:W44)>0,0,1)","v":{"$error":"#DIV/0!"}},{"$f":"IF(SUM($H44:X44)>0,0,1)","v":{"$error":"#DIV/0!"}},{"$f":"IF(SUM($H44:Y44)>0,0,1)","v":{"$error":"#DIV/0!"}},{"$f":"IF(SUM($H44:Z44)>0,0,1)","v":{"$error":"#DIV/0!"}},{"$f":"IF(SUM($H44:AA44)>0,0,1)","v":{"$error":"#DIV/0!"}}]
[]
[]
[null,null,"Инвестиции по проекту","тыс. руб.","Лист: Отчетность (Без СПИК)",null,null,{"$f":"'Отчетность (Без СПИК)'!H120","v":0},{"$f":"'Отчетность (Без СПИК)'!I120","v":0},{"$f":"'Отчетность (Без СПИК)'!J120","v":0},{"$f":"'Отчетность (Без СПИК)'!K120","v":0},{"$f":"'Отчетность (Без СПИК)'!L120","v":0},{"$f":"'Отчетность (Без СПИК)'!M120","v":0},{"$f":"'Отчетность (Без СПИК)'!N120","v":0},{"$f":"'Отчетность (Без СПИК)'!O120","v":0},{"$f":"'Отчетность (Без СПИК)'!P120","v":0},{"$f":"'Отчетность (Без СПИК)'!Q120","v":0},{"$f":"'Отчетность (Без СПИК)'!R120","v":0},{"$f":"'Отчетность (Без СПИК)'!S120","v":0},{"$f":"'Отчетность (Без СПИК)'!T120","v":0},{"$f":"'Отчетность (Без СПИК)'!U120","v":0},{"$f":"'Отчетность (Без СПИК)'!V120","v":0},{"$f":"'Отчетность (Без СПИК)'!W120","v":0},{"$f":"'Отчетность (Без СПИК)'!X120","v":0},{"$f":"'Отчетность (Без СПИК)'!Y120","v":0},{"$f":"'Отчетность (Без СПИК)'!Z120","v":0},{"$f":"'Отчетность (Без СПИК)'!AA120","v":0}]
[null,null,"Дисконтированные инвестиции по проекту","тыс. руб.",null,null,null,{"$f":"H57*H14","v":0},{"$f":"I57*I14","v":0},0,0,0,0,0,0,0,0,0,0,0,0,0,0,0,0,0,0]
[null,null,"PI (индекс прибыльности)","х",null,{"$f":"One+F51/-SUM(H58:AA58)","v":{"$error":"#DIV/0!"}}]
[]
[null,"Показатели бюдженой эффективности инвестиционного проекта"]
[]
[null,null,"Денежный поток бюджета","тыс. руб.","Лист: Налоги",{"$f":"SUM(H63:AA63)","v":0},null,{"$f":"-Налоги!H175-Налоги!H180","v":0},{"$f":"-Налоги!I175-Налоги!I180","v":0},{"$f":"-Налоги!J175-Налоги!J180","v":0},{"$f":"-Налоги!K175-Налоги!K180","v":0},{"$f":"-Налоги!L175-Налоги!L180","v":0},{"$f":"-Налоги!M175-Налоги!M180","v":0},{"$f":"-Налоги!N175-Налоги!N180","v":0},{"$f":"-Налоги!O175-Налоги!O180","v":0},{"$f":"-Налоги!P175-Налоги!P180","v":0},{"$f":"-Налоги!Q175-Налоги!Q180","v":0},{"$f":"-Налоги!R175-Налоги!R180","v":0},{"$f":"-Налоги!S175-Налоги!S180","v":0},{"$f":"-Налоги!T175-Налоги!T180","v":0},{"$f":"-Налоги!U175-Налоги!U180","v":0},{"$f":"-Налоги!V175-Налоги!V180","v":0},{"$f":"-Налоги!W175-Налоги!W180","v":0},{"$f":"-Налоги!X175-Налоги!X180","v":0},{"$f":"-Налоги!Y175-Налоги!Y180","v":0},{"$f":"-Налоги!Z175-Налоги!Z180","v":0},{"$f":"-Налоги!AA175-Налоги!AA180","v":0}]
[null,null,"Дисконтированный денежный поток бюджета","тыс. руб.",null,null,null,{"$f":"H63*H25","v":0},{"$f":"I63*I25","v":0},0,0,0,0,0,0,0,0,0,0,0,0,0,0,0,0,0,0]
[null,null,"Дисконтированные потоки прогнозного периода (в течение срока действия СПИК)","тыс. руб.",null,null,null,{"$f":"H64*Предпосылки!H8","v":0},{"$f":"I64*Предпосылки!I8","v":0},{"$f":"J64*Предпосылки!J8","v":0},{"$f":"K64*Предпосылки!K8","v":0},{"$f":"L64*Предпосылки!L8","v":0},{"$f":"M64*Предпосылки!M8","v":0},{"$f":"N64*Предпосылки!N8","v":0},{"$f":"O64*Предпосылки!O8","v":0},{"$f":"P64*Предпосылки!P8","v":0},{"$f":"Q64*Предпосылки!Q8","v":0},{"$f":"R64*Предпосылки!R8","v":0},{"$f":"S64*Предпосылки!S8","v":0},{"$f":"T64*Предпосылки!T8","v":0},{"$f":"U64*Предпосылки!U8","v":0},{"$f":"V64*Предпосылки!V8","v":0},{"$f":"W64*Предпосылки!W8","v":0},{"$f":"X64*Предпосылки!X8","v":0},{"$f":"Y64*Предпосылки!Y8","v":0},{"$f":"Z64*Предпосылки!Z8","v":0},{"$f":"AA64*Предпосылки!AA8","v":0}]
[]
[null,null,"BNPV (чистая приведенная стоимость) за срок действия СПИК","тыс. руб.",null,{"$f":"SUM(H65:AA65)","v":0}]
[null,null,"Расходы бюджета","тыс. руб.","Лист: Налоги",null,null,{"$f":"Налоги!H180","v":0},{"$f":"Налоги!I180","v":0},{"$f":"Налоги!J180","v":0},{"$f":"Налоги!K180","v":0},{"$f":"Налоги!L180","v":0},{"$f":"Налоги!M180","v":0},{"$f":"Налоги!N180","v":0},{"$f":"Налоги!O180","v":0},{"$f":"Налоги!P180","v":0},{"$f":"Налоги!Q180","v":0},{"$f":"Налоги!R180","v":0},{"$f":"Налоги!S180","v":0},{"$f":"Налоги!T180","v":0},{"$f":"Налоги!U180","v":0},{"$f":"Налоги!V180","v":0},{"$f":"Налоги!W180","v":0},{"$f":"Налоги!X180","v":0},{"$f":"Налоги!Y180","v":0},{"$f":"Налоги!Z180","v":0},{"$f":"Налоги!AA180","v":0}]
[null,null,"Дисконтированные расходы бюджета","тыс. руб.",null,null,null,{"$f":"H68*H25","v":0},{"$f":"I68*I25","v":0},0,0,0,0,0,0,0,0,0,0,0,0,0,0,0,0,0,0]
[null,null,"Дисконтированные расходы бюджета ( в течение срока действия СПИК)","тыс. руб.",null,{"$f":"SUM(H70:AA70)","v":0},null,{"$f":"H69*Предпосылки!H8","v":0},{"$f":"I69*Предпосылки!I8","v":0},{"$f":"J69*Предпосылки!J8","v":0},{"$f":"K69*Предпосылки!K8","v":0},{"$f":"L69*Предпосылки!L8","v":0},{"$f":"M69*Предпосылки!M8","v":0},{"$f":"N69*Предпосылки!N8","v":0},{"$f":"O69*Предпосылки!O8","v":0},{"$f":"P69*Предпосылки!P8","v":0},{"$f":"Q69*Предпосылки!Q8","v":0},{"$f":"R69*Предпосылки!R8","v":0},{"$f":"S69*Предпосылки!S8","v":0},{"$f":"T69*Предпосылки!T8","v":0},{"$f":"U69*Предпосылки!U8","v":0},{"$f":"V69*Предпосылки!V8","v":0},{"$f":"W69*Предпосылки!W8","v":0},{"$f":"X69*Предпосылки!X8","v":0},{"$f":"Y69*Предпосылки!Y8","v":0},{"$f":"Z69*Предпосылки!Z8","v":0},{"$f":"AA69*Предпосылки!AA8","v":0}]
[null,null,"BPI (индекс  бюджетной прибыльности)","тыс. руб.",null,{"$f":"IF(F70=0, \"-\",F67/F70)","v":"-"}]
[]
[null,"Показатели финансовой устойчивости"]
[]
[null,null,"ICR (коэффициент покрытия процентных выплат)","х",null,null,null,{"$f":"IFERROR(-'Отчетность (Без СПИК)'!H89/'Отчетность (Без СПИК)'!H105,)","v":0},{"$f":"IFERROR(-'Отчетность (Без СПИК)'!I89/'Отчетность (Без СПИК)'!I105,)","v":0},{"$f":"IFERROR(-'Отчетность (Без СПИК)'!J89/'Отчетность (Без СПИК)'!J105,)","v":0},{"$f":"IFERROR(-'Отчетность (Без СПИК)'!K89/'Отчетность (Без СПИК)'!K105,)","v":0},{"$f":"IFERROR(-'Отчетность (Без СПИК)'!L89/'Отчетность (Без СПИК)'!L105,)","v":0},{"$f":"IFERROR(-'Отчетность (Без СПИК)'!M89/'Отчетность (Без СПИК)'!M105,)","v":0},{"$f":"IFERROR(-'Отчетность (Без СПИК)'!N89/'Отчетность (Без СПИК)'!N105,)","v":0},{"$f":"IFERROR(-'Отчетность (Без СПИК)'!O89/'Отчетность (Без СПИК)'!O105,)","v":0},{"$f":"IFERROR(-'Отчетность (Без СПИК)'!P89/'Отчетность (Без СПИК)'!P105,)","v":0},{"$f":"IFERROR(-'Отчетность (Без СПИК)'!Q89/'Отчетность (Без СПИК)'!Q105,)","v":0},{"$f":"IFERROR(-'Отчетность (Без СПИК)'!R89/'Отчетность (Без СПИК)'!R105,)","v":0},{"$f":"IFERROR(-'Отчетность (Без СПИК)'!S89/'Отчетность (Без СПИК)'!S105,)","v":0},{"$f":"IFERROR(-'Отчетность (Без СПИК)'!T89/'Отчетность (Без СПИК)'!T105,)","v":0},{"$f":"IFERROR(-'Отчетность (Без СПИК)'!U89/'Отчетность (Без СПИК)'!U105,)","v":0},{"$f":"IFERROR(-'Отчетность (Без СПИК)'!V89/'Отчетность (Без СПИК)'!V105,)","v":0},{"$f":"IFERROR(-'Отчетность (Без СПИК)'!W89/'Отчетность (Без СПИК)'!W105,)","v":0},{"$f":"IFERROR(-'Отчетность (Без СПИК)'!X89/'Отчетность (Без СПИК)'!X105,)","v":0},{"$f":"IFERROR(-'Отчетность (Без СПИК)'!Y89/'Отчетность (Без СПИК)'!Y105,)","v":0},{"$f":"IFERROR(-'Отчетность (Без СПИК)'!Z89/'Отчетность (Без СПИК)'!Z105,)","v":0},{"$f":"IFERROR(-'Отчетность (Без СПИК)'!AA89/'Отчетность (Без СПИК)'!AA105,)","v":0}]
[]
[null,null,"CFADS (с дофинансированием)","тыс. руб.",null,null,null,{"$f":"H39+H32*'Отчетность (Без СПИК)'!H66+'Отчетность (Без СПИК)'!H116+'Отчетность (Без СПИК)'!H126+'Отчетность (Без СПИК)'!H127","v":{"$error":"#DIV/0!"}},{"$f":"I39+I32*'Отчетность (Без СПИК)'!I66+'Отчетность (Без СПИК)'!I116+'Отчетность (Без СПИК)'!I126+'Отчетность (Без СПИК)'!I127","v":{"$error":"#DIV/0!"}},{"$f":"J39+J32*'Отчетность (Без СПИК)'!J66+'Отчетность (Без СПИК)'!J116+'Отчетность (Без СПИК)'!J126+'Отчетность (Без СПИК)'!J127","v":{"$error":"#DIV/0!"}},{"$f":"K39+K32*'Отчетность (Без СПИК)'!K66+'Отчетность (Без СПИК)'!K116+'Отчетность (Без СПИК)'!K126+'Отчетность (Без СПИК)'!K127","v":{"$error":"#DIV/0!"}},{"$f":"L39+L32*'Отчетность (Без СПИК)'!L66+'Отчетность (Без СПИК)'!L116+'Отчетность (Без СПИК)'!L126+'Отчетность (Без СПИК)'!L127","v":{"$error":"#DIV/0!"}},{"$f":"M39+M32*'Отчетность (Без СПИК)'!M66+'Отчетность (Без СПИК)'!M116+'Отчетность (Без СПИК)'!M126+'Отчетность (Без СПИК)'!M127","v":{"$error":"#DIV/0!"}},{"$f":"N39+N32*'Отчетность (Без СПИК)'!N66+'Отчетность (Без СПИК)'!N116+'Отчетность (Без СПИК)'!N126+'Отчетность (Без СПИК)'!N127","v":{"$error":"#DIV/0!"}},{"$f":"O39+O32*'Отчетность (Без СПИК)'!O66+'Отчетность (Без СПИК)'!O116+'Отчетность (Без СПИК)'!O126+'Отчетность (Без СПИК)'!O127","v":{"$error":"#DIV/0!"}},{"$f":"P39+P32*'Отчетность (Без СПИК)'!P66+'Отчетность (Без СПИК)'!P116+'Отчетность (Без СПИК)'!P126+'Отчетность (Без СПИК)'!P127","v":{"$error":"#DIV/0!"}},{"$f":"Q39+Q32*'Отчетность (Без СПИК)'!Q66+'Отчетность (Без СПИК)'!Q116+'Отчетность (Без СПИК)'!Q126+'Отчетность (Без СПИК)'!Q127","v":{"$error":"#DIV/0!"}},{"$f":"R39+R32*'Отчетность (Без СПИК)'!R66+'Отчетность (Без СПИК)'!R116+'Отчетность (Без СПИК)'!R126+'Отчетность (Без СПИК)'!R127","v":{"$error":"#DIV/0!"}},{"$f":"S39+S32*'Отчетность (Без СПИК)'!S66+'Отчетность (Без СПИК)'!S116+'Отчетность (Без СПИК)'!S126+'Отчетность (Без СПИК)'!S127","v":{"$error":"#DIV/0!"}},{"$f":"T39+T32*'Отчетность (Без СПИК)'!T66+'Отчетность (Без СПИК)'!T116+'Отчетность (Без СПИК)'!T126+'Отчетность (Без СПИК)'!T127","v":{"$error":"#DIV/0!"}},{"$f":"U39+U32*'Отчетность (Без СПИК)'!U66+'Отчетность (Без СПИК)'!U116+'Отчетность (Без СПИК)'!U126+'Отчетность (Без СПИК)'!U127","v":{"$error":"#DIV/0!"}},{"$f":"V39+V32*'Отчетность (Без СПИК)'!V66+'Отчетность (Без СПИК)'!V116+'Отчетность (Без СПИК)'!V126+'Отчетность (Без СПИК)'!V127","v":{"$error":"#DIV/0!"}},{"$f":"W39+W32*'Отчетность (Без СПИК)'!W66+'Отчетность (Без СПИК)'!W116+'Отчетность (Без СПИК)'!W126+'Отчетность (Без СПИК)'!W127","v":{"$error":"#DIV/0!"}},{"$f":"X39+X32*'Отчетность (Без СПИК)'!X66+'Отчетность (Без СПИК)'!X116+'Отчетность (Без СПИК)'!X126+'Отчетность (Без СПИК)'!X127","v":{"$error":"#DIV/0!"}},{"$f":"Y39+Y32*'Отчетность (Без СПИК)'!Y66+'Отчетность (Без СПИК)'!Y116+'Отчетность (Без СПИК)'!Y126+'Отчетность (Без СПИК)'!Y127","v":{"$error":"#DIV/0!"}},{"$f":"Z39+Z32*'Отчетность (Без СПИК)'!Z66+'Отчетность (Без СПИК)'!Z116+'Отчетность (Без СПИК)'!Z126+'Отчетность (Без СПИК)'!Z127","v":{"$error":"#DIV/0!"}},{"$f":"AA39+AA32*'Отчетность (Без СПИК)'!AA66+'Отчетность (Без СПИК)'!AA116+'Отчетность (Без СПИК)'!AA126+'Отчетность (Без СПИК)'!AA127","v":{"$error":"#DIV/0!"}}]
[null,null,"NPV(CFADS) упрощенно","тыс. руб.",null,null,null,{"$f":"NPV($F$19,H77:$AA77)","v":{"$error":"#DIV/0!"}},{"$f":"NPV($F$19,I77:$AA77)","v":{"$error":"#DIV/0!"}},{"$f":"NPV($F$19,J77:$AA77)","v":{"$error":"#DIV/0!"}},{"$f":"NPV($F$19,K77:$AA77)","v":{"$error":"#DIV/0!"}},{"$f":"NPV($F$19,L77:$AA77)","v":{"$error":"#DIV/0!"}},{"$f":"NPV($F$19,M77:$AA77)","v":{"$error":"#DIV/0!"}},{"$f":"NPV($F$19,N77:$AA77)","v":{"$error":"#DIV/0!"}},{"$f":"NPV($F$19,O77:$AA77)","v":{"$error":"#DIV/0!"}},{"$f":"NPV($F$19,P77:$AA77)","v":{"$error":"#DIV/0!"}},{"$f":"NPV($F$19,Q77:$AA77)","v":{"$error":"#DIV/0!"}},{"$f":"NPV($F$19,R77:$AA77)","v":{"$error":"#DIV/0!"}},{"$f":"NPV($F$19,S77:$AA77)","v":{"$error":"#DIV/0!"}},{"$f":"NPV($F$19,T77:$AA77)","v":{"$error":"#DIV/0!"}},{"$f":"NPV($F$19,U77:$AA77)","v":{"$error":"#DIV/0!"}},{"$f":"NPV($F$19,V77:$AA77)","v":{"$error":"#DIV/0!"}},{"$f":"NPV($F$19,W77:$AA77)","v":{"$error":"#DIV/0!"}},{"$f":"NPV($F$19,X77:$AA77)","v":{"$error":"#DIV/0!"}},{"$f":"NPV($F$19,Y77:$AA77)","v":{"$error":"#DIV/0!"}},{"$f":"NPV($F$19,Z77:$AA77)","v":{"$error":"#DIV/0!"}},{"$f":"NPV($F$19,AA77:$AA77)","v":{"$error":"#DIV/0!"}}]
[]
[null,null,"DSCR (коэффициент покрытия выплат по обслуживанию долга)","х",null,null,null,{"$f":"IFERROR(-H77/('Отчетность (Без СПИК)'!H105+'Отчетность (Без СПИК)'!H130),)","v":0},{"$f":"IFERROR(-I77/('Отчетность (Без СПИК)'!I105+'Отчетность (Без СПИК)'!I130),)","v":0},{"$f":"IFERROR(-J77/('Отчетность (Без СПИК)'!J105+'Отчетность (Без СПИК)'!J130),)","v":0},{"$f":"IFERROR(-K77/('Отчетность (Без СПИК)'!K105+'Отчетность (Без СПИК)'!K130),)","v":0},{"$f":"IFERROR(-L77/('Отчетность (Без СПИК)'!L105+'Отчетность (Без СПИК)'!L130),)","v":0},{"$f":"IFERROR(-M77/('Отчетность (Без СПИК)'!M105+'Отчетность (Без СПИК)'!M130),)","v":0},{"$f":"IFERROR(-N77/('Отчетность (Без СПИК)'!N105+'Отчетность (Без СПИК)'!N130),)","v":0},{"$f":"IFERROR(-O77/('Отчетность (Без СПИК)'!O105+'Отчетность (Без СПИК)'!O130),)","v":0},{"$f":"IFERROR(-P77/('Отчетность (Без СПИК)'!P105+'Отчетность (Без СПИК)'!P130),)","v":0},{"$f":"IFERROR(-Q77/('Отчетность (Без СПИК)'!Q105+'Отчетность (Без СПИК)'!Q130),)","v":0},{"$f":"IFERROR(-R77/('Отчетность (Без СПИК)'!R105+'Отчетность (Без СПИК)'!R130),)","v":0},{"$f":"IFERROR(-S77/('Отчетность (Без СПИК)'!S105+'Отчетность (Без СПИК)'!S130),)","v":0},{"$f":"IFERROR(-T77/('Отчетность (Без СПИК)'!T105+'Отчетность (Без СПИК)'!T130),)","v":0},{"$f":"IFERROR(-U77/('Отчетность (Без СПИК)'!U105+'Отчетность (Без СПИК)'!U130),)","v":0},{"$f":"IFERROR(-V77/('Отчетность (Без СПИК)'!V105+'Отчетность (Без СПИК)'!V130),)","v":0},{"$f":"IFERROR(-W77/('Отчетность (Без СПИК)'!W105+'Отчетность (Без СПИК)'!W130),)","v":0},{"$f":"IFERROR(-X77/('Отчетность (Без СПИК)'!X105+'Отчетность (Без СПИК)'!X130),)","v":0},{"$f":"IFERROR(-Y77/('Отчетность (Без СПИК)'!Y105+'Отчетность (Без СПИК)'!Y130),)","v":0},{"$f":"IFERROR(-Z77/('Отчетность (Без СПИК)'!Z105+'Отчетность (Без СПИК)'!Z130),)","v":0},{"$f":"IFERROR(-AA77/('Отчетность (Без СПИК)'!AA105+'Отчетность (Без СПИК)'!AA130),)","v":0}]
[null,null,"LLCR (Коэффициент покрытия долга денежными потоками, доступными для обслуживания долга)","х",null,null,null,{"$f":"IFERROR(H78/('Отчетность (Без СПИК)'!G48),)","v":0},{"$f":"IFERROR(I78/('Отчетность (Без СПИК)'!H48),)","v":0},{"$f":"IFERROR(J78/('Отчетность (Без СПИК)'!I48),)","v":0},{"$f":"IFERROR(K78/('Отчетность (Без СПИК)'!J48),)","v":0},{"$f":"IFERROR(L78/('Отчетность (Без СПИК)'!K48),)","v":0},{"$f":"IFERROR(M78/('Отчетность (Без СПИК)'!L48),)","v":0},{"$f":"IFERROR(N78/('Отчетность (Без СПИК)'!M48),)","v":0},{"$f":"IFERROR(O78/('Отчетность (Без СПИК)'!N48),)","v":0},{"$f":"IFERROR(P78/('Отчетность (Без СПИК)'!O48),)","v":0},{"$f":"IFERROR(Q78/('Отчетность (Без СПИК)'!P48),)","v":0},{"$f":"IFERROR(R78/('Отчетность (Без СПИК)'!Q48),)","v":0},{"$f":"IFERROR(S78/('Отчетность (Без СПИК)'!R48),)","v":0},{"$f":"IFERROR(T78/('Отчетность (Без СПИК)'!S48),)","v":0},{"$f":"IFERROR(U78/('Отчетность (Без СПИК)'!T48),)","v":0},{"$f":"IFERROR(V78/('Отчетность (Без СПИК)'!U48),)","v":0},{"$f":"IFERROR(W78/('Отчетность (Без СПИК)'!V48),)","v":0},{"$f":"IFERROR(X78/('Отчетность (Без СПИК)'!W48),)","v":0},{"$f":"IFERROR(Y78/('Отчетность (Без СПИК)'!X48),)","v":0},{"$f":"IFERROR(Z78/('Отчетность (Без СПИК)'!Y48),)","v":0},{"$f":"IFERROR(AA78/('Отчетность (Без СПИК)'!Z48),)","v":0}]
[]
[null," ","Долг / Собственный капитал","х",null,null,null,{"$f":"'Отчетность (Без СПИК)'!H48/'Отчетность (Без СПИК)'!H26","v":{"$error":"#DIV/0!"}},{"$f":"'Отчетность (Без СПИК)'!I48/'Отчетность (Без СПИК)'!I26","v":{"$error":"#DIV/0!"}},{"$f":"'Отчетность (Без СПИК)'!J48/'Отчетность (Без СПИК)'!J26","v":{"$error":"#DIV/0!"}},{"$f":"'Отчетность (Без СПИК)'!K48/'Отчетность (Без СПИК)'!K26","v":{"$error":"#DIV/0!"}},{"$f":"'Отчетность (Без СПИК)'!L48/'Отчетность (Без СПИК)'!L26","v":{"$error":"#DIV/0!"}},{"$f":"'Отчетность (Без СПИК)'!M48/'Отчетность (Без СПИК)'!M26","v":{"$error":"#DIV/0!"}},{"$f":"'Отчетность (Без СПИК)'!N48/'Отчетность (Без СПИК)'!N26","v":{"$error":"#DIV/0!"}},{"$f":"'Отчетность (Без СПИК)'!O48/'Отчетность (Без СПИК)'!O26","v":{"$error":"#DIV/0!"}},{"$f":"'Отчетность (Без СПИК)'!P48/'Отчетность (Без СПИК)'!P26","v":{"$error":"#DIV/0!"}},{"$f":"'Отчетность (Без СПИК)'!Q48/'Отчетность (Без СПИК)'!Q26","v":{"$error":"#DIV/0!"}},{"$f":"'Отчетность (Без СПИК)'!R48/'Отчетность (Без СПИК)'!R26","v":{"$error":"#DIV/0!"}},{"$f":"'Отчетность (Без СПИК)'!S48/'Отчетность (Без СПИК)'!S26","v":{"$error":"#DIV/0!"}},{"$f":"'Отчетность (Без СПИК)'!T48/'Отчетность (Без СПИК)'!T26","v":{"$error":"#DIV/0!"}},{"$f":"'Отчетность (Без СПИК)'!U48/'Отчетность (Без СПИК)'!U26","v":{"$error":"#DIV/0!"}},{"$f":"'Отчетность (Без СПИК)'!V48/'Отчетность (Без СПИК)'!V26","v":{"$error":"#DIV/0!"}},{"$f":"'Отчетность (Без СПИК)'!W48/'Отчетность (Без СПИК)'!W26","v":{"$error":"#DIV/0!"}},{"$f":"'Отчетность (Без СПИК)'!X48/'Отчетность (Без СПИК)'!X26","v":{"$error":"#DIV/0!"}},{"$f":"'Отчетность (Без СПИК)'!Y48/'Отчетность (Без СПИК)'!Y26","v":{"$error":"#DIV/0!"}},{"$f":"'Отчетность (Без СПИК)'!Z48/'Отчетность (Без СПИК)'!Z26","v":{"$error":"#DIV/0!"}},{"$f":"'Отчетность (Без СПИК)'!AA48/'Отчетность (Без СПИК)'!AA26","v":{"$error":"#DIV/0!"}}]
[null,null,"Долг / EBIT","х",null,null,null,{"$f":"AVERAGE('Отчетность (Без СПИК)'!G48:H48)/'Отчетность (Без СПИК)'!H89","v":{"$error":"#DIV/0!"}},{"$f":"AVERAGE('Отчетность (Без СПИК)'!H48:I48)/'Отчетность (Без СПИК)'!I89","v":{"$error":"#DIV/0!"}},{"$f":"AVERAGE('Отчетность (Без СПИК)'!I48:J48)/'Отчетность (Без СПИК)'!J89","v":{"$error":"#DIV/0!"}},{"$f":"AVERAGE('Отчетность (Без СПИК)'!J48:K48)/'Отчетность (Без СПИК)'!K89","v":{"$error":"#DIV/0!"}},{"$f":"AVERAGE('Отчетность (Без СПИК)'!K48:L48)/'Отчетность (Без СПИК)'!L89","v":{"$error":"#DIV/0!"}},{"$f":"AVERAGE('Отчетность (Без СПИК)'!L48:M48)/'Отчетность (Без СПИК)'!M89","v":{"$error":"#DIV/0!"}},{"$f":"AVERAGE('Отчетность (Без СПИК)'!M48:N48)/'Отчетность (Без СПИК)'!N89","v":{"$error":"#DIV/0!"}},{"$f":"AVERAGE('Отчетность (Без СПИК)'!N48:O48)/'Отчетность (Без СПИК)'!O89","v":{"$error":"#DIV/0!"}},{"$f":"AVERAGE('Отчетность (Без СПИК)'!O48:P48)/'Отчетность (Без СПИК)'!P89","v":{"$error":"#DIV/0!"}},{"$f":"AVERAGE('Отчетность (Без СПИК)'!P48:Q48)/'Отчетность (Без СПИК)'!Q89","v":{"$error":"#DIV/0!"}},{"$f":"AVERAGE('Отчетность (Без СПИК)'!Q48:R48)/'Отчетность (Без СПИК)'!R89","v":{"$error":"#DIV/0!"}},{"$f":"AVERAGE('Отчетность (Без СПИК)'!R48:S48)/'Отчетность (Без СПИК)'!S89","v":{"$error":"#DIV/0!"}},{"$f":"AVERAGE('Отчетность (Без СПИК)'!S48:T48)/'Отчетность (Без СПИК)'!T89","v":{"$error":"#DIV/0!"}},{"$f":"AVERAGE('Отчетность (Без СПИК)'!T48:U48)/'Отчетность (Без СПИК)'!U89","v":{"$error":"#DIV/0!"}},{"$f":"AVERAGE('Отчетность (Без СПИК)'!U48:V48)/'Отчетность (Без СПИК)'!V89","v":{"$error":"#DIV/0!"}},{"$f":"AVERAGE('Отчетность (Без СПИК)'!V48:W48)/'Отчетность (Без СПИК)'!W89","v":{"$error":"#DIV/0!"}},{"$f":"AVERAGE('Отчетность (Без СПИК)'!W48:X48)/'Отчетность (Без СПИК)'!X89","v":{"$error":"#DIV/0!"}},{"$f":"AVERAGE('Отчетность (Без СПИК)'!X48:Y48)/'Отчетность (Без СПИК)'!Y89","v":{"$error":"#DIV/0!"}},{"$f":"AVERAGE('Отчетность (Без СПИК)'!Y48:Z48)/'Отчетность (Без СПИК)'!Z89","v":{"$error":"#DIV/0!"}},{"$f":"AVERAGE('Отчетность (Без СПИК)'!Z48:AA48)/'Отчетность (Без СПИК)'!AA89","v":{"$error":"#DIV/0!"}}]
[null,null,"Чистый долг / EBITDA","х",null,null,null,{"$f":"AVERAGE('Отчетность (Без СПИК)'!G49:H49)/'Отчетность (Без СПИК)'!H91","v":{"$error":"#DIV/0!"}},{"$f":"AVERAGE('Отчетность (Без СПИК)'!H49:I49)/'Отчетность (Без СПИК)'!I91","v":{"$error":"#DIV/0!"}},{"$f":"AVERAGE('Отчетность (Без СПИК)'!I49:J49)/'Отчетность (Без СПИК)'!J91","v":{"$error":"#DIV/0!"}},{"$f":"AVERAGE('Отчетность (Без СПИК)'!J49:K49)/'Отчетность (Без СПИК)'!K91","v":{"$error":"#DIV/0!"}},{"$f":"AVERAGE('Отчетность (Без СПИК)'!K49:L49)/'Отчетность (Без СПИК)'!L91","v":{"$error":"#DIV/0!"}},{"$f":"AVERAGE('Отчетность (Без СПИК)'!L49:M49)/'Отчетность (Без СПИК)'!M91","v":{"$error":"#DIV/0!"}},{"$f":"AVERAGE('Отчетность (Без СПИК)'!M49:N49)/'Отчетность (Без СПИК)'!N91","v":{"$error":"#DIV/0!"}},{"$f":"AVERAGE('Отчетность (Без СПИК)'!N49:O49)/'Отчетность (Без СПИК)'!O91","v":{"$error":"#DIV/0!"}},{"$f":"AVERAGE('Отчетность (Без СПИК)'!O49:P49)/'Отчетность (Без СПИК)'!P91","v":{"$error":"#DIV/0!"}},{"$f":"AVERAGE('Отчетность (Без СПИК)'!P49:Q49)/'Отчетность (Без СПИК)'!Q91","v":{"$error":"#DIV/0!"}},{"$f":"AVERAGE('Отчетность (Без СПИК)'!Q49:R49)/'Отчетность (Без СПИК)'!R91","v":{"$error":"#DIV/0!"}},{"$f":"AVERAGE('Отчетность (Без СПИК)'!R49:S49)/'Отчетность (Без СПИК)'!S91","v":{"$error":"#DIV/0!"}},{"$f":"AVERAGE('Отчетность (Без СПИК)'!S49:T49)/'Отчетность (Без СПИК)'!T91","v":{"$error":"#DIV/0!"}},{"$f":"AVERAGE('Отчетность (Без СПИК)'!T49:U49)/'Отчетность (Без СПИК)'!U91","v":{"$error":"#DIV/0!"}},{"$f":"AVERAGE('Отчетность (Без СПИК)'!U49:V49)/'Отчетность (Без СПИК)'!V91","v":{"$error":"#DIV/0!"}},{"$f":"AVERAGE('Отчетность (Без СПИК)'!V49:W49)/'Отчетность (Без СПИК)'!W91","v":{"$error":"#DIV/0!"}},{"$f":"AVERAGE('Отчетность (Без СПИК)'!W49:X49)/'Отчетность (Без СПИК)'!X91","v":{"$error":"#DIV/0!"}},{"$f":"AVERAGE('Отчетность (Без СПИК)'!X49:Y49)/'Отчетность (Без СПИК)'!Y91","v":{"$error":"#DIV/0!"}},{"$f":"AVERAGE('Отчетность (Без СПИК)'!Y49:Z49)/'Отчетность (Без СПИК)'!Z91","v":{"$error":"#DIV/0!"}},{"$f":"AVERAGE('Отчетность (Без СПИК)'!Z49:AA49)/'Отчетность (Без СПИК)'!AA91","v":{"$error":"#DIV/0!"}}]
[]
[null,"Показатели ликвидности (платежеспособности)"]
[]
[null,null,"Коэффициент  текущей ликвидности","х",null,null,null,{"$f":"'Отчетность (Без СПИК)'!H18/'Отчетность (Без СПИК)'!H34","v":{"$error":"#DIV/0!"}},{"$f":"'Отчетность (Без СПИК)'!I18/'Отчетность (Без СПИК)'!I34","v":{"$error":"#DIV/0!"}},{"$f":"'Отчетность (Без СПИК)'!J18/'Отчетность (Без СПИК)'!J34","v":{"$error":"#DIV/0!"}},{"$f":"'Отчетность (Без СПИК)'!K18/'Отчетность (Без СПИК)'!K34","v":{"$error":"#DIV/0!"}},{"$f":"'Отчетность (Без СПИК)'!L18/'Отчетность (Без СПИК)'!L34","v":{"$error":"#DIV/0!"}},{"$f":"'Отчетность (Без СПИК)'!M18/'Отчетность (Без СПИК)'!M34","v":{"$error":"#DIV/0!"}},{"$f":"'Отчетность (Без СПИК)'!N18/'Отчетность (Без СПИК)'!N34","v":{"$error":"#DIV/0!"}},{"$f":"'Отчетность (Без СПИК)'!O18/'Отчетность (Без СПИК)'!O34","v":{"$error":"#DIV/0!"}},{"$f":"'Отчетность (Без СПИК)'!P18/'Отчетность (Без СПИК)'!P34","v":{"$error":"#DIV/0!"}},{"$f":"'Отчетность (Без СПИК)'!Q18/'Отчетность (Без СПИК)'!Q34","v":{"$error":"#DIV/0!"}},{"$f":"'Отчетность (Без СПИК)'!R18/'Отчетность (Без СПИК)'!R34","v":{"$error":"#DIV/0!"}},{"$f":"'Отчетность (Без СПИК)'!S18/'Отчетность (Без СПИК)'!S34","v":{"$error":"#DIV/0!"}},{"$f":"'Отчетность (Без СПИК)'!T18/'Отчетность (Без СПИК)'!T34","v":{"$error":"#DIV/0!"}},{"$f":"'Отчетность (Без СПИК)'!U18/'Отчетность (Без СПИК)'!U34","v":{"$error":"#DIV/0!"}},{"$f":"'Отчетность (Без СПИК)'!V18/'Отчетность (Без СПИК)'!V34","v":{"$error":"#DIV/0!"}},{"$f":"'Отчетность (Без СПИК)'!W18/'Отчетность (Без СПИК)'!W34","v":{"$error":"#DIV/0!"}},{"$f":"'Отчетность (Без СПИК)'!X18/'Отчетность (Без СПИК)'!X34","v":{"$error":"#DIV/0!"}},{"$f":"'Отчетность (Без СПИК)'!Y18/'Отчетность (Без СПИК)'!Y34","v":{"$error":"#DIV/0!"}},{"$f":"'Отчетность (Без СПИК)'!Z18/'Отчетность (Без СПИК)'!Z34","v":{"$error":"#DIV/0!"}},{"$f":"'Отчетность (Без СПИК)'!AA18/'Отчетность (Без СПИК)'!AA34","v":{"$error":"#DIV/0!"}}]
[null,null,"Коэффициент быстрой ликвидности","х",null,null,null,{"$f":"('Отчетность (Без СПИК)'!H18-'Отчетность (Без СПИК)'!H19)/'Отчетность (Без СПИК)'!H34","v":{"$error":"#DIV/0!"}},{"$f":"('Отчетность (Без СПИК)'!I18-'Отчетность (Без СПИК)'!I19)/'Отчетность (Без СПИК)'!I34","v":{"$error":"#DIV/0!"}},{"$f":"('Отчетность (Без СПИК)'!J18-'Отчетность (Без СПИК)'!J19)/'Отчетность (Без СПИК)'!J34","v":{"$error":"#DIV/0!"}},{"$f":"('Отчетность (Без СПИК)'!K18-'Отчетность (Без СПИК)'!K19)/'Отчетность (Без СПИК)'!K34","v":{"$error":"#DIV/0!"}},{"$f":"('Отчетность (Без СПИК)'!L18-'Отчетность (Без СПИК)'!L19)/'Отчетность (Без СПИК)'!L34","v":{"$error":"#DIV/0!"}},{"$f":"('Отчетность (Без СПИК)'!M18-'Отчетность (Без СПИК)'!M19)/'Отчетность (Без СПИК)'!M34","v":{"$error":"#DIV/0!"}},{"$f":"('Отчетность (Без СПИК)'!N18-'Отчетность (Без СПИК)'!N19)/'Отчетность (Без СПИК)'!N34","v":{"$error":"#DIV/0!"}},{"$f":"('Отчетность (Без СПИК)'!O18-'Отчетность (Без СПИК)'!O19)/'Отчетность (Без СПИК)'!O34","v":{"$error":"#DIV/0!"}},{"$f":"('Отчетность (Без СПИК)'!P18-'Отчетность (Без СПИК)'!P19)/'Отчетность (Без СПИК)'!P34","v":{"$error":"#DIV/0!"}},{"$f":"('Отчетность (Без СПИК)'!Q18-'Отчетность (Без СПИК)'!Q19)/'Отчетность (Без СПИК)'!Q34","v":{"$error":"#DIV/0!"}},{"$f":"('Отчетность (Без СПИК)'!R18-'Отчетность (Без СПИК)'!R19)/'Отчетность (Без СПИК)'!R34","v":{"$error":"#DIV/0!"}},{"$f":"('Отчетность (Без СПИК)'!S18-'Отчетность (Без СПИК)'!S19)/'Отчетность (Без СПИК)'!S34","v":{"$error":"#DIV/0!"}},{"$f":"('Отчетность (Без СПИК)'!T18-'Отчетность (Без СПИК)'!T19)/'Отчетность (Без СПИК)'!T34","v":{"$error":"#DIV/0!"}},{"$f":"('Отчетность (Без СПИК)'!U18-'Отчетность (Без СПИК)'!U19)/'Отчетность (Без СПИК)'!U34","v":{"$error":"#DIV/0!"}},{"$f":"('Отчетность (Без СПИК)'!V18-'Отчетность (Без СПИК)'!V19)/'Отчетность (Без СПИК)'!V34","v":{"$error":"#DIV/0!"}},{"$f":"('Отчетность (Без СПИК)'!W18-'Отчетность (Без СПИК)'!W19)/'Отчетность (Без СПИК)'!W34","v":{"$error":"#DIV/0!"}},{"$f":"('Отчетность (Без СПИК)'!X18-'Отчетность (Без СПИК)'!X19)/'Отчетность (Без СПИК)'!X34","v":{"$error":"#DIV/0!"}},{"$f":"('Отчетность (Без СПИК)'!Y18-'Отчетность (Без СПИК)'!Y19)/'Отчетность (Без СПИК)'!Y34","v":{"$error":"#DIV/0!"}},{"$f":"('Отчетность (Без СПИК)'!Z18-'Отчетность (Без СПИК)'!Z19)/'Отчетность (Без СПИК)'!Z34","v":{"$error":"#DIV/0!"}},{"$f":"('Отчетность (Без СПИК)'!AA18-'Отчетность (Без СПИК)'!AA19)/'Отчетность (Без СПИК)'!AA34","v":{"$error":"#DIV/0!"}}]
[]
[null,"Показатели рентабельности"]
[]
[null,null,"ROA (рентабельность активов)","%",null,null,null,{"$f":"'Отчетность (Без СПИК)'!H71/AVERAGE('Отчетность (Без СПИК)'!G23:H23)","v":{"$error":"#DIV/0!"}},{"$f":"'Отчетность (Без СПИК)'!I71/AVERAGE('Отчетность (Без СПИК)'!H23:I23)","v":{"$error":"#DIV/0!"}},{"$f":"'Отчетность (Без СПИК)'!J71/AVERAGE('Отчетность (Без СПИК)'!I23:J23)","v":{"$error":"#DIV/0!"}},{"$f":"'Отчетность (Без СПИК)'!K71/AVERAGE('Отчетность (Без СПИК)'!J23:K23)","v":{"$error":"#DIV/0!"}},{"$f":"'Отчетность (Без СПИК)'!L71/AVERAGE('Отчетность (Без СПИК)'!K23:L23)","v":{"$error":"#DIV/0!"}},{"$f":"'Отчетность (Без СПИК)'!M71/AVERAGE('Отчетность (Без СПИК)'!L23:M23)","v":{"$error":"#DIV/0!"}},{"$f":"'Отчетность (Без СПИК)'!N71/AVERAGE('Отчетность (Без СПИК)'!M23:N23)","v":{"$error":"#DIV/0!"}},{"$f":"'Отчетность (Без СПИК)'!O71/AVERAGE('Отчетность (Без СПИК)'!N23:O23)","v":{"$error":"#DIV/0!"}},{"$f":"'Отчетность (Без СПИК)'!P71/AVERAGE('Отчетность (Без СПИК)'!O23:P23)","v":{"$error":"#DIV/0!"}},{"$f":"'Отчетность (Без СПИК)'!Q71/AVERAGE('Отчетность (Без СПИК)'!P23:Q23)","v":{"$error":"#DIV/0!"}},{"$f":"'Отчетность (Без СПИК)'!R71/AVERAGE('Отчетность (Без СПИК)'!Q23:R23)","v":{"$error":"#DIV/0!"}},{"$f":"'Отчетность (Без СПИК)'!S71/AVERAGE('Отчетность (Без СПИК)'!R23:S23)","v":{"$error":"#DIV/0!"}},{"$f":"'Отчетность (Без СПИК)'!T71/AVERAGE('Отчетность (Без СПИК)'!S23:T23)","v":{"$error":"#DIV/0!"}},{"$f":"'Отчетность (Без СПИК)'!U71/AVERAGE('Отчетность (Без СПИК)'!T23:U23)","v":{"$error":"#DIV/0!"}},{"$f":"'Отчетность (Без СПИК)'!V71/AVERAGE('Отчетность (Без СПИК)'!U23:V23)","v":{"$error":"#DIV/0!"}},{"$f":"'Отчетность (Без СПИК)'!W71/AVERAGE('Отчетность (Без СПИК)'!V23:W23)","v":{"$error":"#DIV/0!"}},{"$f":"'Отчетность (Без СПИК)'!X71/AVERAGE('Отчетность (Без СПИК)'!W23:X23)","v":{"$error":"#DIV/0!"}},{"$f":"'Отчетность (Без СПИК)'!Y71/AVERAGE('Отчетность (Без СПИК)'!X23:Y23)","v":{"$error":"#DIV/0!"}},{"$f":"'Отчетность (Без СПИК)'!Z71/AVERAGE('Отчетность (Без СПИК)'!Y23:Z23)","v":{"$error":"#DIV/0!"}},{"$f":"'Отчетность (Без СПИК)'!AA71/AVERAGE('Отчетность (Без СПИК)'!Z23:AA23)","v":{"$error":"#DIV/0!"}}]
[null,null,"ROE (рентабельность собственного капитала)","%",null,null,null,{"$f":"'Отчетность (Без СПИК)'!H71/AVERAGE('Отчетность (Без СПИК)'!G26:H26)","v":{"$error":"#DIV/0!"}},{"$f":"'Отчетность (Без СПИК)'!I71/AVERAGE('Отчетность (Без СПИК)'!H26:I26)","v":{"$error":"#DIV/0!"}},{"$f":"'Отчетность (Без СПИК)'!J71/AVERAGE('Отчетность (Без СПИК)'!I26:J26)","v":{"$error":"#DIV/0!"}},{"$f":"'Отчетность (Без СПИК)'!K71/AVERAGE('Отчетность (Без СПИК)'!J26:K26)","v":{"$error":"#DIV/0!"}},{"$f":"'Отчетность (Без СПИК)'!L71/AVERAGE('Отчетность (Без СПИК)'!K26:L26)","v":{"$error":"#DIV/0!"}},{"$f":"'Отчетность (Без СПИК)'!M71/AVERAGE('Отчетность (Без СПИК)'!L26:M26)","v":{"$error":"#DIV/0!"}},{"$f":"'Отчетность (Без СПИК)'!N71/AVERAGE('Отчетность (Без СПИК)'!M26:N26)","v":{"$error":"#DIV/0!"}},{"$f":"'Отчетность (Без СПИК)'!O71/AVERAGE('Отчетность (Без СПИК)'!N26:O26)","v":{"$error":"#DIV/0!"}},{"$f":"'Отчетность (Без СПИК)'!P71/AVERAGE('Отчетность (Без СПИК)'!O26:P26)","v":{"$error":"#DIV/0!"}},{"$f":"'Отчетность (Без СПИК)'!Q71/AVERAGE('Отчетность (Без СПИК)'!P26:Q26)","v":{"$error":"#DIV/0!"}},{"$f":"'Отчетность (Без СПИК)'!R71/AVERAGE('Отчетность (Без СПИК)'!Q26:R26)","v":{"$error":"#DIV/0!"}},{"$f":"'Отчетность (Без СПИК)'!S71/AVERAGE('Отчетность (Без СПИК)'!R26:S26)","v":{"$error":"#DIV/0!"}},{"$f":"'Отчетность (Без СПИК)'!T71/AVERAGE('Отчетность (Без СПИК)'!S26:T26)","v":{"$error":"#DIV/0!"}},{"$f":"'Отчетность (Без СПИК)'!U71/AVERAGE('Отчетность (Без СПИК)'!T26:U26)","v":{"$error":"#DIV/0!"}},{"$f":"'Отчетность (Без СПИК)'!V71/AVERAGE('Отчетность (Без СПИК)'!U26:V26)","v":{"$error":"#DIV/0!"}},{"$f":"'Отчетность (Без СПИК)'!W71/AVERAGE('Отчетность (Без СПИК)'!V26:W26)","v":{"$error":"#DIV/0!"}},{"$f":"'Отчетность (Без СПИК)'!X71/AVERAGE('Отчетность (Без СПИК)'!W26:X26)","v":{"$error":"#DIV/0!"}},{"$f":"'Отчетность (Без СПИК)'!Y71/AVERAGE('Отчетность (Без СПИК)'!X26:Y26)","v":{"$error":"#DIV/0!"}},{"$f":"'Отчетность (Без СПИК)'!Z71/AVERAGE('Отчетность (Без СПИК)'!Y26:Z26)","v":{"$error":"#DIV/0!"}},{"$f":"'Отчетность (Без СПИК)'!AA71/AVERAGE('Отчетность (Без СПИК)'!Z26:AA26)","v":{"$error":"#DIV/0!"}}]
[null,null,"ROIC (Рентабельность инвестированного капитала)","%",null,null,null,{"$f":"'Отчетность (Без СПИК)'!H71/(AVERAGE('Отчетность (Без СПИК)'!G26:H26)+AVERAGE('Отчетность (Без СПИК)'!G31:H31))","v":{"$error":"#DIV/0!"}},{"$f":"'Отчетность (Без СПИК)'!I71/(AVERAGE('Отчетность (Без СПИК)'!H26:I26)+AVERAGE('Отчетность (Без СПИК)'!H31:I31))","v":{"$error":"#DIV/0!"}},{"$f":"'Отчетность (Без СПИК)'!J71/(AVERAGE('Отчетность (Без СПИК)'!I26:J26)+AVERAGE('Отчетность (Без СПИК)'!I31:J31))","v":{"$error":"#DIV/0!"}},{"$f":"'Отчетность (Без СПИК)'!K71/(AVERAGE('Отчетность (Без СПИК)'!J26:K26)+AVERAGE('Отчетность (Без СПИК)'!J31:K31))","v":{"$error":"#DIV/0!"}},{"$f":"'Отчетность (Без СПИК)'!L71/(AVERAGE('Отчетность (Без СПИК)'!K26:L26)+AVERAGE('Отчетность (Без СПИК)'!K31:L31))","v":{"$error":"#DIV/0!"}},{"$f":"'Отчетность (Без СПИК)'!M71/(AVERAGE('Отчетность (Без СПИК)'!L26:M26)+AVERAGE('Отчетность (Без СПИК)'!L31:M31))","v":{"$error":"#DIV/0!"}},{"$f":"'Отчетность (Без СПИК)'!N71/(AVERAGE('Отчетность (Без СПИК)'!M26:N26)+AVERAGE('Отчетность (Без СПИК)'!M31:N31))","v":{"$error":"#DIV/0!"}},{"$f":"'Отчетность (Без СПИК)'!O71/(AVERAGE('Отчетность (Без СПИК)'!N26:O26)+AVERAGE('Отчетность (Без СПИК)'!N31:O31))","v":{"$error":"#DIV/0!"}},{"$f":"'Отчетность (Без СПИК)'!P71/(AVERAGE('Отчетность (Без СПИК)'!O26:P26)+AVERAGE('Отчетность (Без СПИК)'!O31:P31))","v":{"$error":"#DIV/0!"}},{"$f":"'Отчетность (Без СПИК)'!Q71/(AVERAGE('Отчетность (Без СПИК)'!P26:Q26)+AVERAGE('Отчетность (Без СПИК)'!P31:Q31))","v":{"$error":"#DIV/0!"}},{"$f":"'Отчетность (Без СПИК)'!R71/(AVERAGE('Отчетность (Без СПИК)'!Q26:R26)+AVERAGE('Отчетность (Без СПИК)'!Q31:R31))","v":{"$error":"#DIV/0!"}},{"$f":"'Отчетность (Без СПИК)'!S71/(AVERAGE('Отчетность (Без СПИК)'!R26:S26)+AVERAGE('Отчетность (Без СПИК)'!R31:S31))","v":{"$error":"#DIV/0!"}},{"$f":"'Отчетность (Без СПИК)'!T71/(AVERAGE('Отчетность (Без СПИК)'!S26:T26)+AVERAGE('Отчетность (Без СПИК)'!S31:T31))","v":{"$error":"#DIV/0!"}},{"$f":"'Отчетность (Без СПИК)'!U71/(AVERAGE('Отчетность (Без СПИК)'!T26:U26)+AVERAGE('Отчетность (Без СПИК)'!T31:U31))","v":{"$error":"#DIV/0!"}},{"$f":"'Отчетность (Без СПИК)'!V71/(AVERAGE('Отчетность (Без СПИК)'!U26:V26)+AVERAGE('Отчетность (Без СПИК)'!U31:V31))","v":{"$error":"#DIV/0!"}},{"$f":"'Отчетность (Без СПИК)'!W71/(AVERAGE('Отчетность (Без СПИК)'!V26:W26)+AVERAGE('Отчетность (Без СПИК)'!V31:W31))","v":{"$error":"#DIV/0!"}},{"$f":"'Отчетность (Без СПИК)'!X71/(AVERAGE('Отчетность (Без СПИК)'!W26:X26)+AVERAGE('Отчетность (Без СПИК)'!W31:X31))","v":{"$error":"#DIV/0!"}},{"$f":"'Отчетность (Без СПИК)'!Y71/(AVERAGE('Отчетность (Без СПИК)'!X26:Y26)+AVERAGE('Отчетность (Без СПИК)'!X31:Y31))","v":{"$error":"#DIV/0!"}},{"$f":"'Отчетность (Без СПИК)'!Z71/(AVERAGE('Отчетность (Без СПИК)'!Y26:Z26)+AVERAGE('Отчетность (Без СПИК)'!Y31:Z31))","v":{"$error":"#DIV/0!"}},{"$f":"'Отчетность (Без СПИК)'!AA71/(AVERAGE('Отчетность (Без СПИК)'!Z26:AA26)+AVERAGE('Отчетность (Без СПИК)'!Z31:AA31))","v":{"$error":"#DIV/0!"}}]
[]
[null,null,"Рентабельность по валовой прибыли","%",null,null,null,{"$f":"IFERROR('Отчетность (Без СПИК)'!H55/'Отчетность (Без СПИК)'!H$53,\"-\")","v":"-"},{"$f":"IFERROR('Отчетность (Без СПИК)'!I55/'Отчетность (Без СПИК)'!I$53,\"-\")","v":"-"},{"$f":"IFERROR('Отчетность (Без СПИК)'!J55/'Отчетность (Без СПИК)'!J$53,\"-\")","v":"-"},{"$f":"IFERROR('Отчетность (Без СПИК)'!K55/'Отчетность (Без СПИК)'!K$53,\"-\")","v":"-"},{"$f":"IFERROR('Отчетность (Без СПИК)'!L55/'Отчетность (Без СПИК)'!L$53,\"-\")","v":"-"},{"$f":"IFERROR('Отчетность (Без СПИК)'!M55/'Отчетность (Без СПИК)'!M$53,\"-\")","v":"-"},{"$f":"IFERROR('Отчетность (Без СПИК)'!N55/'Отчетность (Без СПИК)'!N$53,\"-\")","v":"-"},{"$f":"IFERROR('Отчетность (Без СПИК)'!O55/'Отчетность (Без СПИК)'!O$53,\"-\")","v":"-"},{"$f":"IFERROR('Отчетность (Без СПИК)'!P55/'Отчетность (Без СПИК)'!P$53,\"-\")","v":"-"},{"$f":"IFERROR('Отчетность (Без СПИК)'!Q55/'Отчетность (Без СПИК)'!Q$53,\"-\")","v":"-"},{"$f":"IFERROR('Отчетность (Без СПИК)'!R55/'Отчетность (Без СПИК)'!R$53,\"-\")","v":"-"},{"$f":"IFERROR('Отчетность (Без СПИК)'!S55/'Отчетность (Без СПИК)'!S$53,\"-\")","v":"-"},{"$f":"IFERROR('Отчетность (Без СПИК)'!T55/'Отчетность (Без СПИК)'!T$53,\"-\")","v":"-"},{"$f":"IFERROR('Отчетность (Без СПИК)'!U55/'Отчетность (Без СПИК)'!U$53,\"-\")","v":"-"},{"$f":"IFERROR('Отчетность (Без СПИК)'!V55/'Отчетность (Без СПИК)'!V$53,\"-\")","v":"-"},{"$f":"IFERROR('Отчетность (Без СПИК)'!W55/'Отчетность (Без СПИК)'!W$53,\"-\")","v":"-"},{"$f":"IFERROR('Отчетность (Без СПИК)'!X55/'Отчетность (Без СПИК)'!X$53,\"-\")","v":"-"},{"$f":"IFERROR('Отчетность (Без СПИК)'!Y55/'Отчетность (Без СПИК)'!Y$53,\"-\")","v":"-"},{"$f":"IFERROR('Отчетность (Без СПИК)'!Z55/'Отчетность (Без СПИК)'!Z$53,\"-\")","v":"-"},{"$f":"IFERROR('Отчетность (Без СПИК)'!AA55/'Отчетность (Без СПИК)'!AA$53,\"-\")","v":"-"}]
[null,null,"ROS (рентабельность продаж)","%",null,null,null,{"$f":"IFERROR('Отчетность (Без СПИК)'!H64/'Отчетность (Без СПИК)'!H$53,\"-\")","v":"-"},{"$f":"IFERROR('Отчетность (Без СПИК)'!I64/'Отчетность (Без СПИК)'!I$53,\"-\")","v":"-"},{"$f":"IFERROR('Отчетность (Без СПИК)'!J64/'Отчетность (Без СПИК)'!J$53,\"-\")","v":"-"},{"$f":"IFERROR('Отчетность (Без СПИК)'!K64/'Отчетность (Без СПИК)'!K$53,\"-\")","v":"-"},{"$f":"IFERROR('Отчетность (Без СПИК)'!L64/'Отчетность (Без СПИК)'!L$53,\"-\")","v":"-"},{"$f":"IFERROR('Отчетность (Без СПИК)'!M64/'Отчетность (Без СПИК)'!M$53,\"-\")","v":"-"},{"$f":"IFERROR('Отчетность (Без СПИК)'!N64/'Отчетность (Без СПИК)'!N$53,\"-\")","v":"-"},{"$f":"IFERROR('Отчетность (Без СПИК)'!O64/'Отчетность (Без СПИК)'!O$53,\"-\")","v":"-"},{"$f":"IFERROR('Отчетность (Без СПИК)'!P64/'Отчетность (Без СПИК)'!P$53,\"-\")","v":"-"},{"$f":"IFERROR('Отчетность (Без СПИК)'!Q64/'Отчетность (Без СПИК)'!Q$53,\"-\")","v":"-"},{"$f":"IFERROR('Отчетность (Без СПИК)'!R64/'Отчетность (Без СПИК)'!R$53,\"-\")","v":"-"},{"$f":"IFERROR('Отчетность (Без СПИК)'!S64/'Отчетность (Без СПИК)'!S$53,\"-\")","v":"-"},{"$f":"IFERROR('Отчетность (Без СПИК)'!T64/'Отчетность (Без СПИК)'!T$53,\"-\")","v":"-"},{"$f":"IFERROR('Отчетность (Без СПИК)'!U64/'Отчетность (Без СПИК)'!U$53,\"-\")","v":"-"},{"$f":"IFERROR('Отчетность (Без СПИК)'!V64/'Отчетность (Без СПИК)'!V$53,\"-\")","v":"-"},{"$f":"IFERROR('Отчетность (Без СПИК)'!W64/'Отчетность (Без СПИК)'!W$53,\"-\")","v":"-"},{"$f":"IFERROR('Отчетность (Без СПИК)'!X64/'Отчетность (Без СПИК)'!X$53,\"-\")","v":"-"},{"$f":"IFERROR('Отчетность (Без СПИК)'!Y64/'Отчетность (Без СПИК)'!Y$53,\"-\")","v":"-"},{"$f":"IFERROR('Отчетность (Без СПИК)'!Z64/'Отчетность (Без СПИК)'!Z$53,\"-\")","v":"-"},{"$f":"IFERROR('Отчетность (Без СПИК)'!AA64/'Отчетность (Без СПИК)'!AA$53,\"-\")","v":"-"}]
[null,null,"Рентабельность по EBIT","%",null,null,null,{"$f":"IFERROR('Отчетность (Без СПИК)'!H89/'Отчетность (Без СПИК)'!H$53,\"-\")","v":"-"},{"$f":"IFERROR('Отчетность (Без СПИК)'!I89/'Отчетность (Без СПИК)'!I$53,\"-\")","v":"-"},{"$f":"IFERROR('Отчетность (Без СПИК)'!J89/'Отчетность (Без СПИК)'!J$53,\"-\")","v":"-"},{"$f":"IFERROR('Отчетность (Без СПИК)'!K89/'Отчетность (Без СПИК)'!K$53,\"-\")","v":"-"},{"$f":"IFERROR('Отчетность (Без СПИК)'!L89/'Отчетность (Без СПИК)'!L$53,\"-\")","v":"-"},{"$f":"IFERROR('Отчетность (Без СПИК)'!M89/'Отчетность (Без СПИК)'!M$53,\"-\")","v":"-"},{"$f":"IFERROR('Отчетность (Без СПИК)'!N89/'Отчетность (Без СПИК)'!N$53,\"-\")","v":"-"},{"$f":"IFERROR('Отчетность (Без СПИК)'!O89/'Отчетность (Без СПИК)'!O$53,\"-\")","v":"-"},{"$f":"IFERROR('Отчетность (Без СПИК)'!P89/'Отчетность (Без СПИК)'!P$53,\"-\")","v":"-"},{"$f":"IFERROR('Отчетность (Без СПИК)'!Q89/'Отчетность (Без СПИК)'!Q$53,\"-\")","v":"-"},{"$f":"IFERROR('Отчетность (Без СПИК)'!R89/'Отчетность (Без СПИК)'!R$53,\"-\")","v":"-"},{"$f":"IFERROR('Отчетность (Без СПИК)'!S89/'Отчетность (Без СПИК)'!S$53,\"-\")","v":"-"},{"$f":"IFERROR('Отчетность (Без СПИК)'!T89/'Отчетность (Без СПИК)'!T$53,\"-\")","v":"-"},{"$f":"IFERROR('Отчетность (Без СПИК)'!U89/'Отчетность (Без СПИК)'!U$53,\"-\")","v":"-"},{"$f":"IFERROR('Отчетность (Без СПИК)'!V89/'Отчетность (Без СПИК)'!V$53,\"-\")","v":"-"},{"$f":"IFERROR('Отчетность (Без СПИК)'!W89/'Отчетность (Без СПИК)'!W$53,\"-\")","v":"-"},{"$f":"IFERROR('Отчетность (Без СПИК)'!X89/'Отчетность (Без СПИК)'!X$53,\"-\")","v":"-"},{"$f":"IFERROR('Отчетность (Без СПИК)'!Y89/'Отчетность (Без СПИК)'!Y$53,\"-\")","v":"-"},{"$f":"IFERROR('Отчетность (Без СПИК)'!Z89/'Отчетность (Без СПИК)'!Z$53,\"-\")","v":"-"},{"$f":"IFERROR('Отчетность (Без СПИК)'!AA89/'Отчетность (Без СПИК)'!AA$53,\"-\")","v":"-"}]
[null,null,"Рентабельность по EBITDA","%",null,null,null,{"$f":"IFERROR('Отчетность (Без СПИК)'!H91/'Отчетность (Без СПИК)'!H$53,\"-\")","v":"-"},{"$f":"IFERROR('Отчетность (Без СПИК)'!I91/'Отчетность (Без СПИК)'!I$53,\"-\")","v":"-"},{"$f":"IFERROR('Отчетность (Без СПИК)'!J91/'Отчетность (Без СПИК)'!J$53,\"-\")","v":"-"},{"$f":"IFERROR('Отчетность (Без СПИК)'!K91/'Отчетность (Без СПИК)'!K$53,\"-\")","v":"-"},{"$f":"IFERROR('Отчетность (Без СПИК)'!L91/'Отчетность (Без СПИК)'!L$53,\"-\")","v":"-"},{"$f":"IFERROR('Отчетность (Без СПИК)'!M91/'Отчетность (Без СПИК)'!M$53,\"-\")","v":"-"},{"$f":"IFERROR('Отчетность (Без СПИК)'!N91/'Отчетность (Без СПИК)'!N$53,\"-\")","v":"-"},{"$f":"IFERROR('Отчетность (Без СПИК)'!O91/'Отчетность (Без СПИК)'!O$53,\"-\")","v":"-"},{"$f":"IFERROR('Отчетность (Без СПИК)'!P91/'Отчетность (Без СПИК)'!P$53,\"-\")","v":"-"},{"$f":"IFERROR('Отчетность (Без СПИК)'!Q91/'Отчетность (Без СПИК)'!Q$53,\"-\")","v":"-"},{"$f":"IFERROR('Отчетность (Без СПИК)'!R91/'Отчетность (Без СПИК)'!R$53,\"-\")","v":"-"},{"$f":"IFERROR('Отчетность (Без СПИК)'!S91/'Отчетность (Без СПИК)'!S$53,\"-\")","v":"-"},{"$f":"IFERROR('Отчетность (Без СПИК)'!T91/'Отчетность (Без СПИК)'!T$53,\"-\")","v":"-"},{"$f":"IFERROR('Отчетность (Без СПИК)'!U91/'Отчетность (Без СПИК)'!U$53,\"-\")","v":"-"},{"$f":"IFERROR('Отчетность (Без СПИК)'!V91/'Отчетность (Без СПИК)'!V$53,\"-\")","v":"-"},{"$f":"IFERROR('Отчетность (Без СПИК)'!W91/'Отчетность (Без СПИК)'!W$53,\"-\")","v":"-"},{"$f":"IFERROR('Отчетность (Без СПИК)'!X91/'Отчетность (Без СПИК)'!X$53,\"-\")","v":"-"},{"$f":"IFERROR('Отчетность (Без СПИК)'!Y91/'Отчетность (Без СПИК)'!Y$53,\"-\")","v":"-"},{"$f":"IFERROR('Отчетность (Без СПИК)'!Z91/'Отчетность (Без СПИК)'!Z$53,\"-\")","v":"-"},{"$f":"IFERROR('Отчетность (Без СПИК)'!AA91/'Отчетность (Без СПИК)'!AA$53,\"-\")","v":"-"}]
[null,null,"Рентабельность по чистой прибыли","%",null,null,null,{"$f":"IFERROR('Отчетность (Без СПИК)'!H71/'Отчетность (Без СПИК)'!H$53,\"-\")","v":"-"},{"$f":"IFERROR('Отчетность (Без СПИК)'!I71/'Отчетность (Без СПИК)'!I$53,\"-\")","v":"-"},{"$f":"IFERROR('Отчетность (Без СПИК)'!J71/'Отчетность (Без СПИК)'!J$53,\"-\")","v":"-"},{"$f":"IFERROR('Отчетность (Без СПИК)'!K71/'Отчетность (Без СПИК)'!K$53,\"-\")","v":"-"},{"$f":"IFERROR('Отчетность (Без СПИК)'!L71/'Отчетность (Без СПИК)'!L$53,\"-\")","v":"-"},{"$f":"IFERROR('Отчетность (Без СПИК)'!M71/'Отчетность (Без СПИК)'!M$53,\"-\")","v":"-"},{"$f":"IFERROR('Отчетность (Без СПИК)'!N71/'Отчетность (Без СПИК)'!N$53,\"-\")","v":"-"},{"$f":"IFERROR('Отчетность (Без СПИК)'!O71/'Отчетность (Без СПИК)'!O$53,\"-\")","v":"-"},{"$f":"IFERROR('Отчетность (Без СПИК)'!P71/'Отчетность (Без СПИК)'!P$53,\"-\")","v":"-"},{"$f":"IFERROR('Отчетность (Без СПИК)'!Q71/'Отчетность (Без СПИК)'!Q$53,\"-\")","v":"-"},{"$f":"IFERROR('Отчетность (Без СПИК)'!R71/'Отчетность (Без СПИК)'!R$53,\"-\")","v":"-"},{"$f":"IFERROR('Отчетность (Без СПИК)'!S71/'Отчетность (Без СПИК)'!S$53,\"-\")","v":"-"},{"$f":"IFERROR('Отчетность (Без СПИК)'!T71/'Отчетность (Без СПИК)'!T$53,\"-\")","v":"-"},{"$f":"IFERROR('Отчетность (Без СПИК)'!U71/'Отчетность (Без СПИК)'!U$53,\"-\")","v":"-"},{"$f":"IFERROR('Отчетность (Без СПИК)'!V71/'Отчетность (Без СПИК)'!V$53,\"-\")","v":"-"},{"$f":"IFERROR('Отчетность (Без СПИК)'!W71/'Отчетность (Без СПИК)'!W$53,\"-\")","v":"-"},{"$f":"IFERROR('Отчетность (Без СПИК)'!X71/'Отчетность (Без СПИК)'!X$53,\"-\")","v":"-"},{"$f":"IFERROR('Отчетность (Без СПИК)'!Y71/'Отчетность (Без СПИК)'!Y$53,\"-\")","v":"-"},{"$f":"IFERROR('Отчетность (Без СПИК)'!Z71/'Отчетность (Без СПИК)'!Z$53,\"-\")","v":"-"},{"$f":"IFERROR('Отчетность (Без СПИК)'!AA71/'Отчетность (Без СПИК)'!AA$53,\"-\")","v":"-"}]
[]
[null,"Показатели оборачиваемости"]
[]
[null,null,"Оборачиваемость дебиторской задолженности","х",null,null,null,{"$f":"IFERROR('Отчетность (Без СПИК)'!H53/AVERAGE('Отчетность (Без СПИК)'!G22:H22),\"-\")","v":"-"},{"$f":"IFERROR('Отчетность (Без СПИК)'!I53/AVERAGE('Отчетность (Без СПИК)'!H22:I22),\"-\")","v":"-"},{"$f":"IFERROR('Отчетность (Без СПИК)'!J53/AVERAGE('Отчетность (Без СПИК)'!I22:J22),\"-\")","v":"-"},{"$f":"IFERROR('Отчетность (Без СПИК)'!K53/AVERAGE('Отчетность (Без СПИК)'!J22:K22),\"-\")","v":"-"},{"$f":"IFERROR('Отчетность (Без СПИК)'!L53/AVERAGE('Отчетность (Без СПИК)'!K22:L22),\"-\")","v":"-"},{"$f":"IFERROR('Отчетность (Без СПИК)'!M53/AVERAGE('Отчетность (Без СПИК)'!L22:M22),\"-\")","v":"-"},{"$f":"IFERROR('Отчетность (Без СПИК)'!N53/AVERAGE('Отчетность (Без СПИК)'!M22:N22),\"-\")","v":"-"},{"$f":"IFERROR('Отчетность (Без СПИК)'!O53/AVERAGE('Отчетность (Без СПИК)'!N22:O22),\"-\")","v":"-"},{"$f":"IFERROR('Отчетность (Без СПИК)'!P53/AVERAGE('Отчетность (Без СПИК)'!O22:P22),\"-\")","v":"-"},{"$f":"IFERROR('Отчетность (Без СПИК)'!Q53/AVERAGE('Отчетность (Без СПИК)'!P22:Q22),\"-\")","v":"-"},{"$f":"IFERROR('Отчетность (Без СПИК)'!R53/AVERAGE('Отчетность (Без СПИК)'!Q22:R22),\"-\")","v":"-"},{"$f":"IFERROR('Отчетность (Без СПИК)'!S53/AVERAGE('Отчетность (Без СПИК)'!R22:S22),\"-\")","v":"-"},{"$f":"IFERROR('Отчетность (Без СПИК)'!T53/AVERAGE('Отчетность (Без СПИК)'!S22:T22),\"-\")","v":"-"},{"$f":"IFERROR('Отчетность (Без СПИК)'!U53/AVERAGE('Отчетность (Без СПИК)'!T22:U22),\"-\")","v":"-"},{"$f":"IFERROR('Отчетность (Без СПИК)'!V53/AVERAGE('Отчетность (Без СПИК)'!U22:V22),\"-\")","v":"-"},{"$f":"IFERROR('Отчетность (Без СПИК)'!W53/AVERAGE('Отчетность (Без СПИК)'!V22:W22),\"-\")","v":"-"},{"$f":"IFERROR('Отчетность (Без СПИК)'!X53/AVERAGE('Отчетность (Без СПИК)'!W22:X22),\"-\")","v":"-"},{"$f":"IFERROR('Отчетность (Без СПИК)'!Y53/AVERAGE('Отчетность (Без СПИК)'!X22:Y22),\"-\")","v":"-"},{"$f":"IFERROR('Отчетность (Без СПИК)'!Z53/AVERAGE('Отчетность (Без СПИК)'!Y22:Z22),\"-\")","v":"-"},{"$f":"IFERROR('Отчетность (Без СПИК)'!AA53/AVERAGE('Отчетность (Без СПИК)'!Z22:AA22),\"-\")","v":"-"}]
[null,null,"Оборачиваемость кредиторской задолженности","х",null,null,null,{"$f":"IFERROR(-'Отчетность (Без СПИК)'!H54/AVERAGE('Отчетность (Без СПИК)'!G36:H36),\"-\")","v":"-"},{"$f":"IFERROR(-'Отчетность (Без СПИК)'!I54/AVERAGE('Отчетность (Без СПИК)'!H36:I36),\"-\")","v":"-"},{"$f":"IFERROR(-'Отчетность (Без СПИК)'!J54/AVERAGE('Отчетность (Без СПИК)'!I36:J36),\"-\")","v":"-"},{"$f":"IFERROR(-'Отчетность (Без СПИК)'!K54/AVERAGE('Отчетность (Без СПИК)'!J36:K36),\"-\")","v":"-"},{"$f":"IFERROR(-'Отчетность (Без СПИК)'!L54/AVERAGE('Отчетность (Без СПИК)'!K36:L36),\"-\")","v":"-"},{"$f":"IFERROR(-'Отчетность (Без СПИК)'!M54/AVERAGE('Отчетность (Без СПИК)'!L36:M36),\"-\")","v":"-"},{"$f":"IFERROR(-'Отчетность (Без СПИК)'!N54/AVERAGE('Отчетность (Без СПИК)'!M36:N36),\"-\")","v":"-"},{"$f":"IFERROR(-'Отчетность (Без СПИК)'!O54/AVERAGE('Отчетность (Без СПИК)'!N36:O36),\"-\")","v":"-"},{"$f":"IFERROR(-'Отчетность (Без СПИК)'!P54/AVERAGE('Отчетность (Без СПИК)'!O36:P36),\"-\")","v":"-"},{"$f":"IFERROR(-'Отчетность (Без СПИК)'!Q54/AVERAGE('Отчетность (Без СПИК)'!P36:Q36),\"-\")","v":"-"},{"$f":"IFERROR(-'Отчетность (Без СПИК)'!R54/AVERAGE('Отчетность (Без СПИК)'!Q36:R36),\"-\")","v":"-"},{"$f":"IFERROR(-'Отчетность (Без СПИК)'!S54/AVERAGE('Отчетность (Без СПИК)'!R36:S36),\"-\")","v":"-"},{"$f":"IFERROR(-'Отчетность (Без СПИК)'!T54/AVERAGE('Отчетность (Без СПИК)'!S36:T36),\"-\")","v":"-"},{"$f":"IFERROR(-'Отчетность (Без СПИК)'!U54/AVERAGE('Отчетность (Без СПИК)'!T36:U36),\"-\")","v":"-"},{"$f":"IFERROR(-'Отчетность (Без СПИК)'!V54/AVERAGE('Отчетность (Без СПИК)'!U36:V36),\"-\")","v":"-"},{"$f":"IFERROR(-'Отчетность (Без СПИК)'!W54/AVERAGE('Отчетность (Без СПИК)'!V36:W36),\"-\")","v":"-"},{"$f":"IFERROR(-'Отчетность (Без СПИК)'!X54/AVERAGE('Отчетность (Без СПИК)'!W36:X36),\"-\")","v":"-"},{"$f":"IFERROR(-'Отчетность (Без СПИК)'!Y54/AVERAGE('Отчетность (Без СПИК)'!X36:Y36),\"-\")","v":"-"},{"$f":"IFERROR(-'Отчетность (Без СПИК)'!Z54/AVERAGE('Отчетность (Без СПИК)'!Y36:Z36),\"-\")","v":"-"},{"$f":"IFERROR(-'Отчетность (Без СПИК)'!AA54/AVERAGE('Отчетность (Без СПИК)'!Z36:AA36),\"-\")","v":"-"}]
[null,null,"Оборачиваемость запасов","х",null,null,null,{"$f":"IFERROR(-'Отчетность (Без СПИК)'!H54/AVERAGE('Отчетность (Без СПИК)'!G19:H19),\"-\")","v":"-"},{"$f":"IFERROR(-'Отчетность (Без СПИК)'!I54/AVERAGE('Отчетность (Без СПИК)'!H19:I19),\"-\")","v":"-"},{"$f":"IFERROR(-'Отчетность (Без СПИК)'!J54/AVERAGE('Отчетность (Без СПИК)'!I19:J19),\"-\")","v":"-"},{"$f":"IFERROR(-'Отчетность (Без СПИК)'!K54/AVERAGE('Отчетность (Без СПИК)'!J19:K19),\"-\")","v":"-"},{"$f":"IFERROR(-'Отчетность (Без СПИК)'!L54/AVERAGE('Отчетность (Без СПИК)'!K19:L19),\"-\")","v":"-"},{"$f":"IFERROR(-'Отчетность (Без СПИК)'!M54/AVERAGE('Отчетность (Без СПИК)'!L19:M19),\"-\")","v":"-"},{"$f":"IFERROR(-'Отчетность (Без СПИК)'!N54/AVERAGE('Отчетность (Без СПИК)'!M19:N19),\"-\")","v":"-"},{"$f":"IFERROR(-'Отчетность (Без СПИК)'!O54/AVERAGE('Отчетность (Без СПИК)'!N19:O19),\"-\")","v":"-"},{"$f":"IFERROR(-'Отчетность (Без СПИК)'!P54/AVERAGE('Отчетность (Без СПИК)'!O19:P19),\"-\")","v":"-"},{"$f":"IFERROR(-'Отчетность (Без СПИК)'!Q54/AVERAGE('Отчетность (Без СПИК)'!P19:Q19),\"-\")","v":"-"},{"$f":"IFERROR(-'Отчетность (Без СПИК)'!R54/AVERAGE('Отчетность (Без СПИК)'!Q19:R19),\"-\")","v":"-"},{"$f":"IFERROR(-'Отчетность (Без СПИК)'!S54/AVERAGE('Отчетность (Без СПИК)'!R19:S19),\"-\")","v":"-"},{"$f":"IFERROR(-'Отчетность (Без СПИК)'!T54/AVERAGE('Отчетность (Без СПИК)'!S19:T19),\"-\")","v":"-"},{"$f":"IFERROR(-'Отчетность (Без СПИК)'!U54/AVERAGE('Отчетность (Без СПИК)'!T19:U19),\"-\")","v":"-"},{"$f":"IFERROR(-'Отчетность (Без СПИК)'!V54/AVERAGE('Отчетность (Без СПИК)'!U19:V19),\"-\")","v":"-"},{"$f":"IFERROR(-'Отчетность (Без СПИК)'!W54/AVERAGE('Отчетность (Без СПИК)'!V19:W19),\"-\")","v":"-"},{"$f":"IFERROR(-'Отчетность (Без СПИК)'!X54/AVERAGE('Отчетность (Без СПИК)'!W19:X19),\"-\")","v":"-"},{"$f":"IFERROR(-'Отчетность (Без СПИК)'!Y54/AVERAGE('Отчетность (Без СПИК)'!X19:Y19),\"-\")","v":"-"},{"$f":"IFERROR(-'Отчетность (Без СПИК)'!Z54/AVERAGE('Отчетность (Без СПИК)'!Y19:Z19),\"-\")","v":"-"},{"$f":"IFERROR(-'Отчетность (Без СПИК)'!AA54/AVERAGE('Отчетность (Без СПИК)'!Z19:AA19),\"-\")","v":"-"}]